{"text_format":"1","workbook":"xlsx","n_sheets":4,"sheets":["Control","Auction Result","CapacitySteps","Licence Info"],"not_rendered":{"charts":0,"images":0,"macros":1,"external_links":0,"defined_names":59,"comments":1,"pivot_tables":0},"unopened":[],"bounds":{"document_bytes":16777216,"sheet_cells":100000,"rows_first":2000,"rows_last":500,"rows_between":2000,"halvings":0,"cell_chars":16384,"cell_head_chars":4096},"cells_cut":0,"cells_raw":0,"read":"whole","date_system":"1900"}

{"sheet":"Control","index":0,"n_rows":222,"n_cols":79,"rows_kept":222,"cut":false,"hidden":false,"merged":[[23,1,24,9],[26,1,29,5]]}
["Control",null,null,null,null,null,null,null,null,"Version 4.0.2",null,null,null,null,null,null,null,null,null,null,null,null,null,null,null,null,null,null,null,null,null,null,null,null,null,null,null,null,null,null,null,null,null,null,null,null,null,null,null,null,null,null,null,null,null,null,null,null,null,null,null,null,null,null,null,null,null,null,null,null,null,null,null,null,null,null,null,null,"Avonmouth"]
[null,null,null,null,null,null,null,null,null,null,null,null,null,null,null,null,null,null,null,null,null,null,null,null,null,null,null,null,null,null,null,null,null,null,null,null,null,null,null,null,null,null,null,null,null,null,null,null,null,null,null,null,null,null,null,null,null,null,null,null,null,null,null,null,null,null,null,null,null,null,null,null,null,null,null,null,null,null,"Bacton"]
[null,null,null,null,null,null,null,null,null,null,null,null,null,null,null,null,null,null,null,null,null,null,null,null,null,null,null,null,null,null,null,null,null,null,null,null,null,null,null,null,null,null,null,null,null,null,null,null,null,null,null,null,null,null,null,null,null,null,null,null,null,null,null,null,null,null,null,null,null,null,null,null,null,null,null,null,null,null,"Barrow"]
[null,"First quarter of auctions, starting","2020-10-01","ending",{"$f":"DATE(YEAR(First_quarter),MONTH(First_quarter)+2,1)","v":"2020-12-01"},null,null,null,null,null,null,null,null,null,null,null,null,null,null,null,null,null,null,null,null,null,null,null,null,null,null,null,null,null,null,null,null,null,null,null,null,null,null,null,null,null,null,null,null,null,null,null,null,null,null,null,null,null,null,null,null,null,null,null,null,null,null,null,null,null,null,null,null,null,null,null,null,null,"Barton Stacey"]
[null,"Last quarter of auctions, starting","2034-07-01","ending",{"$f":"DATE(YEAR(Last_quarter),MONTH(Last_quarter)+2,1)","v":"2034-09-01"},null,null,null,null,null,null,null,null,null,null,null,null,null,null,null,null,null,null,null,null,null,null,null,null,null,null,null,null,null,null,null,null,null,null,null,null,null,null,null,null,null,null,null,null,null,null,null,null,null,null,null,null,null,null,null,null,null,null,null,null,null,null,null,null,null,null,null,null,null,null,null,null,null,"Burton Point"]
[null,null,null,null,null,null,null,null,null,null,null,null,null,null,null,null,null,null,null,null,null,null,null,null,null,null,null,null,null,null,null,null,null,null,null,null,null,null,null,null,null,null,null,null,null,null,null,null,null,null,null,null,null,null,null,null,null,null,null,null,null,null,null,null,null,null,null,null,null,null,null,null,null,null,null,null,null,null,"Canonbie"]
[null,"No. of quarters of bids",{"$f":"DATEDIF(First_quarter,Last_quarter,\"m\")/3+1","v":56},null,null,null,null,null,null,null,null,null,null,null,null,null,null,null,null,null,null,null,null,null,null,null,null,null,null,null,null,null,null,null,null,null,null,null,null,null,null,null,null,null,null,null,null,null,null,null,null,null,null,null,null,null,null,null,null,null,null,null,null,null,null,null,null,null,null,null,null,null,null,null,null,null,null,null,"Caythorpe"]
[null,null,null,null,null,null,null,null,null,null,null,null,null,null,null,null,null,null,null,null,null,null,null,null,null,null,null,null,null,null,null,null,null,null,null,null,null,null,null,null,null,null,null,null,null,null,null,null,null,null,null,null,null,null,null,null,null,null,null,null,null,null,null,null,null,null,null,null,null,null,null,null,null,null,null,null,null,null,"Cheshire"]
[null,"Long-Term Baseline quantity offered",0.9,null,null,null,null,null,null,null,null,null,null,null,null,null,null,null,null,null,null,null,null,null,null,null,null,null,null,null,null,null,null,null,null,null,null,null,null,null,null,null,null,null,null,null,null,null,null,null,null,null,null,null,null,null,null,null,null,null,null,null,null,null,null,null,null,null,null,null,null,null,null,null,null,null,null,null,"Dynevor Arms"]
[null,null,null,null,null,null,null,null,null,null,null,null,null,null,null,null,null,null,null,null,null,null,null,null,null,null,null,null,null,null,null,null,null,null,null,null,null,null,null,null,null,null,null,null,null,null,null,null,null,null,null,null,null,null,null,null,null,null,null,null,null,null,null,null,null,null,null,null,null,null,null,null,null,null,null,null,null,null,"Easington"]
[null,"Annual Discount Factor",7.85E-2,null,null,null,null,null,null,null,null,null,null,null,null,null,null,null,null,null,null,null,null,null,null,null,null,null,null,null,null,null,null,null,null,null,null,null,null,null,null,null,null,null,null,null,null,null,null,null,null,null,null,null,null,null,null,null,null,null,null,null,null,null,null,null,null,null,null,null,null,null,null,null,null,null,null,null,"Fleetwood"]
[null,"Inflation assumption",0,null,null,null,null,null,null,null,null,null,null,null,null,null,null,null,null,null,null,null,null,null,null,null,null,null,null,null,null,null,null,null,null,null,null,null,null,null,null,null,null,null,null,null,null,null,null,null,null,null,null,null,null,null,null,null,null,null,null,null,null,null,null,null,null,null,null,null,null,null,null,null,null,null,null,null,"Garton"]
[null,"Quarterly Discounting Factor",{"$f":"((1+Annual_RoR)^(1/4)-1)","v":1.907239484965717E-2},null,{"$f":"((1+Annual_RoR)^(1/4)-1)","v":1.907239484965717E-2},null,null,null,null,null,null,null,null,null,null,null,null,null,null,null,null,null,null,null,null,null,null,null,null,null,null,null,null,null,null,null,null,null,null,null,null,null,null,null,null,null,null,null,null,null,null,null,null,null,null,null,null,null,null,null,null,null,null,null,null,null,null,null,null,null,null,null,null,null,null,null,null,null,"Glenmavis"]
[null,null,null,null,null,null,null,null,null,null,null,null,null,null,null,null,null,null,null,null,null,null,null,null,null,null,null,null,null,null,null,null,null,null,null,null,null,null,null,null,null,null,null,null,null,null,null,null,null,null,null,null,null,null,null,null,null,null,null,null,null,null,null,null,null,null,null,null,null,null,null,null,null,null,null,null,null,null,"Hatfield Moor (Onshore)"]
[null,"Price Base for Prices","2019-04-01",null,null,null,null,null,null,null,null,null,null,null,null,null,null,null,null,null,null,null,null,null,null,null,null,null,null,null,null,null,null,null,null,null,null,null,null,null,null,null,null,null,null,null,null,null,null,null,null,null,null,null,null,null,null,null,null,null,null,null,null,null,null,null,null,null,null,null,null,null,null,null,null,null,null,null,"Hatfield Moor (Storage)"]
[null,null,null,null,null,null,null,null,null,null,null,null,null,null,null,null,null,null,null,null,null,null,null,null,null,null,null,null,null,null,null,null,null,null,null,null,null,null,null,null,null,null,null,null,null,null,null,null,null,null,null,null,null,null,null,null,null,null,null,null,null,null,null,null,null,null,null,null,null,null,null,null,null,null,null,null,null,null,"Hole House Farm"]
[null,"RIt",{"$f":"HLOOKUP(Prices_Price_Base,C158:T162,3,FALSE)","v":284.11666666666662},null,null,null,null,null,null,null,null,null,null,null,null,null,null,null,null,null,null,null,null,null,null,null,null,null,null,null,null,null,null,null,null,null,null,null,null,null,null,null,null,null,null,null,null,null,null,null,null,null,null,null,null,null,null,null,null,null,null,null,null,null,null,null,null,null,null,null,null,null,null,null,null,null,null,null,"Hornsea"]
[null,"Assume 2016/17 prices",{"$f":"Q160","v":259.65000000000003},null,null,null,null,null,null,null,null,null,null,null,null,null,null,null,null,null,null,null,null,null,null,null,null,null,null,null,null,null,null,null,null,null,null,null,null,null,null,null,null,null,null,null,null,null,null,null,null,null,null,null,null,null,null,null,null,null,null,null,null,null,null,null,null,null,null,null,null,null,null,null,null,null,null,null,"Isle of Grain"]
[null,null,null,null,null,null,null,null,null,null,null,null,null,null,null,null,null,null,null,null,null,null,null,null,null,null,null,null,null,null,null,null,null,null,null,null,null,null,null,null,null,null,null,null,null,null,null,null,null,null,null,null,null,null,null,null,null,null,null,null,null,null,null,null,null,null,null,null,null,null,null,null,null,null,null,null,null,null,"Milford Haven"]
[null,"Choose Single ASEP to examine","Avonmouth",null,null,null,null,null,null,null,null,null,null,null,null,null,null,null,null,null,null,null,null,null,null,null,null,null,null,null,null,null,null,null,null,null,null,null,null,null,null,null,null,null,null,null,null,null,null,null,null,null,null,null,null,null,null,null,null,null,null,null,null,null,null,null,null,null,null,null,null,null,null,null,null,null,null,null,"Partington"]
[null,null,null,null,null,null,null,null,null,null,null,null,null,null,null,null,null,null,null,null,null,null,null,null,null,null,null,null,null,null,null,null,null,null,null,null,null,null,null,null,null,null,null,null,null,null,null,null,null,null,null,null,null,null,null,null,null,null,null,null,null,null,null,null,null,null,null,null,null,null,null,null,null,null,null,null,null,null,"St. Fergus"]
[null,"First quarter for release of obligated","2020-10-01",null,null,null,null,null,null,null,null,null,null,null,null,null,null,null,null,null,null,null,null,null,null,null,null,null,null,null,null,null,null,null,null,null,null,null,null,null,null,null,null,null,null,null,null,null,null,null,null,null,null,null,null,null,null,null,null,null,null,null,null,null,null,null,null,null,null,null,null,null,null,null,null,null,null,null,"Teesside"]
[null,null,null,null,null,null,null,null,null,null,null,null,null,null,null,null,null,null,null,null,null,null,null,null,null,null,null,null,null,null,null,null,null,null,null,null,null,null,null,null,null,null,null,null,null,null,null,null,null,null,null,null,null,null,null,null,null,null,null,null,null,null,null,null,null,null,null,null,null,null,null,null,null,null,null,null,null,null,"Theddlethorpe"]
[null,"Completed!",null,null,null,null,null,null,null,null,null,null,null,null,null,null,null,null,null,null,null,null,null,null,null,null,null,null,null,null,null,null,null,null,null,null,null,null,null,null,null,null,null,null,null,null,null,null,null,null,null,null,null,null,null,null,null,null,null,null,null,null,null,null,null,null,null,null,null,null,null,null,null,null,null,null,null,null,"Wytch Farm"]
[null,null,null,null,null,null,null,null,null,null,null,null,null,null,null,null,null,null,null,null,null,null,null,null,null,null,null,null,null,null,null,null,null,null,null,null,null,null,null,null,null,null,null,null,null,null,null,null,null,null,null,null,null,null,null,null,null,null,null,null,null,null,null,null,null,null,null,null,null,null,null,null,null,null,null,null,null,null,"Murrow"]
[]
[null,"Please note that whilst the model below is provided by National Grid in good faith, National Grid makes no\nrepresentation or warranty as to the accuracy thereof and all warranties as may be implied\nare expressly excluded. Recipients of such information use it entirely at their own risk."]
[]
[]
[]
[]
[]
[]
[]
[null,"Long-Term Obligated Entry Capacity (GWh/day) already sold in previous auctions"]
[]
[]
[null,"ASEPs"]
[null,"From",{"$f":"First_quarter","v":"2020-10-01"},{"$f":"DATE(YEAR(C39),MONTH(C39)+3,1)","v":"2021-01-01"},{"$f":"DATE(YEAR(D39),MONTH(D39)+3,1)","v":"2021-04-01"},"2021-07-01",{"$f":"DATE(YEAR(F39),MONTH(F39)+3,1)","v":"2021-10-01"},"2022-01-01","2022-04-01","2022-07-01","2022-10-01","2023-01-01","2023-04-01","2023-07-01","2023-10-01","2024-01-01","2024-04-01","2024-07-01","2024-10-01",{"$f":"DATE(YEAR(S39),MONTH(S39)+3,1)","v":"2025-01-01"},"2025-04-01","2025-07-01","2025-10-01","2026-01-01","2026-04-01","2026-07-01","2026-10-01","2027-01-01","2027-04-01","2027-07-01","2027-10-01","2028-01-01","2028-04-01","2028-07-01","2028-10-01","2029-01-01","2029-04-01",{"$f":"DATE(YEAR(AK39),MONTH(AK39)+3,1)","v":"2029-07-01"},"2029-10-01","2030-01-01","2030-04-01","2030-07-01","2030-10-01","2031-01-01","2031-04-01","2031-07-01","2031-10-01","2032-01-01","2032-04-01","2032-07-01","2032-10-01","2033-01-01","2033-04-01","2033-07-01",{"$f":"DATE(YEAR(BB39),MONTH(BB39)+3,1)","v":"2033-10-01"},"2034-01-01","2034-04-01","2034-07-01","2034-10-01","2035-01-01","2035-04-01","2035-07-01"]
[null,"To",{"$f":"DATE(YEAR(C39),MONTH(C39)+2,1)","v":"2020-12-01"},{"$f":"DATE(YEAR(D39),MONTH(D39)+2,1)","v":"2021-03-01"},{"$f":"DATE(YEAR(E39),MONTH(E39)+2,1)","v":"2021-06-01"},"2021-09-01","2021-12-01","2022-03-01","2022-06-01","2022-09-01","2022-12-01","2023-03-01","2023-06-01","2023-09-01","2023-12-01","2024-03-01","2024-06-01","2024-09-01","2024-12-01",{"$f":"DATE(YEAR(T39),MONTH(T39)+2,1)","v":"2025-03-01"},"2025-06-01","2025-09-01","2025-12-01","2026-03-01","2026-06-01","2026-09-01","2026-12-01","2027-03-01","2027-06-01","2027-09-01","2027-12-01","2028-03-01","2028-06-01","2028-09-01","2028-12-01","2029-03-01","2029-06-01","2029-09-01","2029-12-01","2030-03-01","2030-06-01","2030-09-01","2030-12-01","2031-03-01","2031-06-01","2031-09-01","2031-12-01","2032-03-01","2032-06-01","2032-09-01","2032-12-01","2033-03-01","2033-06-01","2033-09-01","2033-12-01",{"$f":"DATE(YEAR(BD39),MONTH(BD39)+2,1)","v":"2034-03-01"},"2034-06-01","2034-09-01","2034-12-01","2035-03-01","2035-06-01","2035-09-01"]
[null,"Bacton",373.88647900000001,485.6,49.6,46.1,340,485.6,9.8000000000000007,9.8000000000000007,315,485.6,7.8,7.8,313,485.6,0.315,0.315,305,485.6,305,0.31526999999999999,305.5,485.6,0,0,305.58333299999998,305.58333299999998,0,0,0,0,0,0,0,0,0,0,0,0,0,0,0,0,0,0,0,0,0,0,0,0,0,0,0,0,0,0,0,0,0,0]
[null,"Barrow",57.9,86.3,15.2,20.5,17.399999999999999,74.099999999999994,9.6999999999999993,13.9,12.8,70,7.4,10.9,10.1,59.54,0.9,1.5,1.5,60.3,0.9,1.5573980000000001,1.4,0,0,0,0,0,0,0,0,0,0,0,0,0,0,0,0,0,0,0,0,0,0,0,0,0,0,0,0,0,0,0,0,0,0,0,0,0,0,0]
[null,"Easington",1045.4137270000001,1300.95,234.96507299999999,233.66507300000001,1021.941357,1300.95,187.417551,186.917551,994.18610100000001,1263.7226760000001,42.473436,41.973436,1002.016213,1268.8735569999999,38.752000000000002,38.752000000000002,882.20799999999997,1013.169,35.708145999999999,35.208145999999999,821.64061200000003,875.24061200000006,32.522171,32.122171000000002,758.77676099999996,759.66564900000003,29.481204999999999,29.481204999999999,634.6,635.48888899999997,20.6,20.6,482,482,0,0,0,0,0,0,0,0,0,0,0,0,0,0,0,0,0,0,0,0,0,0,0,0,0,0]
[null,"St. Fergus",123.268367,118.774128,21.774128000000001,21.774128000000001,98.722536000000005,90.116104000000007,13.216104,13.216104,45.836668000000003,42.936667999999997,9.6,9.6,34.812775000000002,34.447591000000003,10.732068999999999,10.732068999999999,29.401496000000002,24.169426999999999,4.2485580000000001,4.2485580000000001,6.9649049999999999,6.4751570000000003,3.75881,3.75881,3.75881,2.7521179999999998,2.7521179999999998,2.7521179999999998,0,0,0,0,0,0,0,0,0,0,0,0,0,0,0,0,0,0,0,0,0,0,0,0,0,0,0,0,0,0,0,0]
[null,"Teesside",90.791940999999994,78.862831999999997,79.927338000000006,76.652698999999998,76.545995000000005,43.636026999999999,43.959425000000003,43.272239999999996,42.140884999999997,31.997084000000001,31.543614999999999,30.399384000000001,30.571100000000001,2.8394170000000001,2.749965,2.669009,2.5923509999999998,2.517455,1.222869,1.1130279999999999,1.0349980000000001,0.84565900000000005,0.79804399999999998,0.77385700000000002,0.72135000000000005,0,0,0,0,0,0,0,0,0,0,0,0,0,0,0,0,0,0,0,0,0,0,0,0,0,0,0,0,0,0,0,0,0,0,0]
[null,"Theddlethorpe",9.1999999999999993,8.8000000000000007,8.3000000000000007,7.9,0,0,0,0,0,0,0,0,0,0,0,0,0,0,0,0,0,0,0,0,0,0,0,0,0,0,0,0,0,0,0,0,0,0,0,0,0,0,0,0,0,0,0,0,0,0,0,0,0,0,0,0,0,0,0,0]
[null,"Glenmavis",0,0,0,0,0,0,0,0,0,0,0,0,0,0,0,0,0,0,0,0,0,0,0,0,0,0,0,0,0,0,0,0,0,0,0,0,0,0,0,0,0,0,0,0,0,0,0,0,0,0,0,0,0,0,0,0,0,0,0,0]
[null,"Partington",0,0,0,0,0,0,0,0,0,0,0,0,0,0,0,0,0,0,0,0,0,0,0,0,0,0,0,0,0,0,0,0,0,0,0,0,0,0,0,0,0,0,0,0,0,0,0,0,0,0,0,0,0,0,0,0,0,0,0,0]
[null,"Avonmouth",0,0,0,0,0,0,0,0,0,0,0,0,0,0,0,0,0,0,0,0,0,0,0,0,0,0,0,0,0,0,0,0,0,0,0,0,0,0,0,0,0,0,0,0,0,0,0,0,0,0,0,0,0,0,0,0,0,0,0,0]
[null,"Isle of Grain",664.3,664.3,622.6,622.6,664.3,664.3,622.6,622.6,664.3,664.3,582.6,582.6,664.3,664.3,582.6,582.6,664.3,664.3,522.6,522.6,492.6,492.6,522.6,422.6,422.6,422.6,422.6,422.6,422.6,422.6,422.6,422.6,422.6,422.6,422.6,422.6,350,350,350,350,0,0,0,0,0,0,0,0,0,0,0,0,0,0,0,0,0,0,0,0]
[null,"Dynevor Arms",0,0,0,0,0,0,0,0,0,0,0,0,0,0,0,0,0,0,0,0,0,0,0,0,0,0,0,0,0,0,0,0,0,0,0,0,0,0,0,0,0,0,0,0,0,0,0,0,0,0,0,0,0,0,0,0,0,0,0,0]
[null,"Hornsea",0,205.79,0,0,0,205.79,0,0,0,205.79,0,0,0,205.79,0,0,0,0,0,0,0,0,0,0,0,0,0,0,0,0,0,0,0,0,0,0,0,0,0,0,0,0,0,0,0,0,0,0,0,0,0,0,0,0,0,0,0,0,0,0]
[null,"Hatfield Moor (Storage)",0,22,0,0,0,22,0,0,0,22,0,0,0,0,0,0,0,22,0,0,0,22,0,0,0,0,0,0,0,0,0,0,0,0,0,0,0,0,0,0,0,0,0,0,0,0,0,0,0,0,0,0,0,0,0,0,0,0,0,0]
[null,"Hatfield Moor (Onshore)",0,0,0,0,0,0,0,0,0,0,0,0,0,0,0,0,0,0,0,0,0,0,0,0,0,0,0,0,0,0,0,0,0,0,0,0,0,0,0,0,0,0,0,0,0,0,0,0,0,0,0,0,0,0,0,0,0,0,0,0]
[null,"Cheshire",514.11,514.11,514.11,514.11,514.11,514.11,514.11,514.11,514.11,514.11,514.11,514.11,514.11,514.11,514.11,514.11,514.11,514.11,514.11,514.11,514.11,514.11,514.11,514.11,514.11,514.11,514.11,514.11,514.11,514.11,514.11,514.11,514.11,514.11,514.11,514.11,514.11,514.11,514.11,514.11,514.11,514.11,514.11,514.11,514.11,514.11,514.11,514.11,514.11,514.11,514.11,514.11,234,234,234,234,0,0,0,0]
[null,"Hole House Farm",283.44,283.44,283.44,283.44,283.44,283.44,283.44,283.44,283.44,283.44,283.44,283.44,283.44,283.44,283.44,283.44,283.44,283.44,283.44,283.44,283.44,283.44,283.44,283.44,283.44,283.44,283.44,283.44,118.44,118.44,118.44,118.44,118.44,118.44,118.44,118.44,118.44,118.44,118.44,118.44,0,0,0,0,0,0,0,0,0,0,0,0,0,0,0,0,0,0,0,0]
[null,"Wytch Farm",0,0,0,0,0,0,0,0,0,0,0,0,0,0,0,0,0,0,0,0,0,0,0,0,0,0,0,0,0,0,0,0,0,0,0,0,0,0,0,0,0,0,0,0,0,0,0,0,0,0,0,0,0,0,0,0,0,0,0,0]
[null,"Burton Point",13,12.4,11.9,8.5,8.3000000000000007,8.1,7,8.5484120000000008,5,0,0,0,0,0,0,0,0,0,0,0,0,0,0,0,0,0,0,0,0,0,0,0,0,0,0,0,0,0,0,0,0,0,0,0,0,0,0,0,0,0,0,0,0,0,0,0,0,0,0,0]
[null,"Garton",420,420,420,420,420,420,420,420,420,420,420,420,420,420,420,140,140,140,0,0,0,0,0,0,0,0,0,0,0,0,0,0,0,0,0,0,0,0,0,0,0,0,0,0,0,0,0,0,0,0,0,0,0,0,0,0,0,0,0,0]
[null,"Milford Haven",950,950,903,903,950,950,350,350,800,800,350,350,800,800,0,0,769.5,800,0,0,650,800,0,0,650,800,0,0,650,800,0,0,0,800,0,0,0,800,0,0,0,650,0,0,0,0,0,0,0,0,0,0,0,0,0,0,0,0,0,0]
[null,"Barton Stacey",90,90,90,90,90,90,72,72,72,72,0,0,0,0,0,0,0,0,0,0,0,0,0,0,0,0,0,0,0,0,0,0,0,0,0,0,0,0,0,0,0,0,0,0,0,0,0,0,0,0,0,0,0,0,0,0,0,0,0,0]
[null,"Fleetwood",0,0,0,0,0,0,0,0,0,0,0,0,0,0,0,0,0,0,0,0,0,350,0,0,0,0,0,0,0,0,0,0,0,0,0,0,0,0,0,0,0,0,0,0,0,0,0,0,0,0,0,0,0,0,0,0,0,0,0,0]
[null,"Caythorpe",90,90,90,90,90,90,90,90,90,90,90,90,90,90,90,90,90,90,90,90,90,90,0,0,0,0,0,0,0,0,0,0,0,0,0,0,0,0,0,0,0,0,0,0,0,0,0,0,0,0,0,0,0,0,0,0,0,0,0,0]
[null,"Canonbie",0,0,0,0,0,0,0,0,0,0,0,0,0,0,0,0,0,0,0,0,0,0,0,0,0,0,0,0,0,0,0,0,0,0,0,0,0,0,0,0,0,0,0,0,0,0,0,0,0,0,0,0,0,0,0,0,0,0,0,0]
[null,"Murrow",0,0,0,0,0,0,0,0,0,0,0,0,0,0,0,0,0,0,0,0,0,0,0,0,0,0,0,0,0,0,0,0,0,0,0,0,0,0,0,0,0,0,0,0,0,0,0,0,0,0,0,0,0,0,0,0,0,0,0,0]
[null,"Prices (p/kWh/day) from IECR","Bacton","Easington","Theddlethorpe","St. Fergus","Teesside","Barrow","Hatfield Moor (Storage)","Hatfield Moor (Onshore)","Wytch Farm","Burton Point","Hole House Farm","Cheshire","Hornsea","Glenmavis","Partington","Avonmouth","Dynevor Arms","Isle of Grain","Barton Stacey","Garton","Milford Haven","Fleetwood","Caythorpe","Canonbie","Murrow"]
[null,"Step Size (GWh/d)",{"$f":"C69*C70","v":12.14},{"$f":"D69*D70","v":35.178750000000001},15.267500000000002,41.767500000000005,11.12725,8.5002499999999994,2.5300000000000002,2.5300000000000002,0.33,7.3500000000000005,14.999999000000001,13.567500000000003,14.999999000000001,9.9,14.996250000000002,15.001433333333335,4.9000000000000004,17.492000000000001,15.000000000000036,10.5,23.75,16.25,9,5,{"$f":"15","v":15}]
[null,"No. of price steps",20,20,20,20,20,20,5,5,5,5,10,20,8,5,8,6,5,20,6,20,20,20,5,20,20]
[null,"Step Interval (% for existing GWh/d for new)",2.5000000000000001E-2,2.5000000000000001E-2,2.5000000000000001E-2,2.5000000000000001E-2,2.5000000000000001E-2,2.5000000000000001E-2,0.1,0.1,0.1,0.1,5.0573159136884691E-2,2.5000000000000001E-2,6.4350060060060069E-2,0.1,{"$f":"0.558/8","v":6.9750000000000006E-2},8.3666666666666667E-2,0.1,2.5000000000000001E-2,8.6906141367323497E-2,2.5000000000000001E-2,2.5000000000000001E-2,2.5000000000000001E-2,0.1,2.5000000000000001E-2,2.5000000000000001E-2]
[null,"Baseline from IECR statement (GWh)",485.6,1407.15,610.70000000000005,1670.7,445.09,340.01,25.3,25.3,3.3,73.5,296.60000000000002,542.70000000000005,233.1,99,215,179.3,49,699.68,172.6,420,950,650,90,200,600]
[null,"Price Schedule",{"$f":"IF(C75>C76,\"Descending\",\"Ascending\")","v":"Ascending"},{"$f":"IF(D75>D76,\"Descending\",\"Ascending\")","v":"Ascending"},"Ascending","Ascending","Ascending","Ascending","Ascending","Ascending","Ascending","Ascending","Ascending","Ascending","Ascending","Ascending","Ascending","Ascending","Ascending","Ascending","Ascending","Ascending","Ascending","Ascending",{"$f":"IF(Y75>Y76,\"Descending\",\"Ascending\")","v":"Ascending"},{"$f":"IF(Z75>Z76,\"Descending\",\"Ascending\")","v":"Ascending"},{"$f":"IF(AA75>AA76,\"Descending\",\"Ascending\")","v":"Ascending"}]
[]
[]
[null,"Baseline",1.04E-2,1.6400000000000001E-2,1.7100000000000001E-2,5.3199999999999997E-2,9.1000000000000004E-3,1E-4,3.8E-3,null,1E-4,1E-4,1E-4,5.9999999999999995E-4,1.34E-2,1.2500000000000001E-2,1E-4,1E-4,9.5999999999999992E-3,1E-4,1E-4,1.37E-2,2.4E-2,1E-4,1.29E-2,1E-4,1E-4]
[null,{"$f":"\"p\"& ROW(B75)-ROW(B$74)","v":"p1"},1.0499999999999999E-2,1.6500000000000001E-2,1.72E-2,5.33E-2,9.1999999999999998E-3,2.0000000000000001E-4,3.8999999999999998E-3,null,2.0000000000000001E-4,6.0000000000000006E-4,4.1000000000000003E-3,1.0999999999999998E-3,1.35E-2,1.26E-2,2.0000000000000001E-4,6.9999999999999999E-4,9.6999999999999986E-3,2.0000000000000001E-4,2.0000000000000001E-4,1.38E-2,2.41E-2,2.0000000000000001E-4,1.2999999999999999E-2,1.9E-3,2.0000000000000001E-4]
[null,{"$f":"\"p\"& ROW(B76)-ROW(B$74)","v":"p2"},1.0599999999999998E-2,1.7000000000000001E-2,1.7299999999999999E-2,5.3800000000000001E-2,9.2999999999999992E-3,8.0000000000000004E-4,4.0000000000000001E-3,null,3.0000000000000003E-4,7.000000000000001E-4,4.2000000000000006E-3,1.7000000000000001E-3,1.41E-2,1.5800000000000002E-2,2.3E-3,1E-3,9.7999999999999979E-3,8.6999999999999994E-3,1.23E-2,1.44E-2,2.4500000000000001E-2,4.1000000000000003E-3,1.3099999999999999E-2,2.3E-3,3.0000000000000003E-4]
[null,"p3",1.0799999999999999E-2,1.7900000000000003E-2,1.7399999999999999E-2,5.5E-2,9.3999999999999986E-3,9.0000000000000008E-4,4.1000000000000003E-3,null,4.0000000000000002E-4,8.0000000000000015E-4,4.3000000000000009E-3,1.8000000000000002E-3,1.46E-2,1.61E-2,2.3999999999999998E-3,1.5E-3,9.8999999999999973E-3,8.7999999999999988E-3,1.32E-2,1.4499999999999999E-2,2.46E-2,4.2000000000000006E-3,1.3199999999999998E-2,2.3999999999999998E-3,4.0000000000000002E-4]
[null,"p4",1.14E-2,1.8000000000000002E-2,1.7499999999999998E-2,5.5100000000000003E-2,9.499999999999998E-3,1E-3,4.2000000000000006E-3,null,5.0000000000000001E-4,9.0000000000000019E-4,4.4000000000000011E-3,1.9000000000000002E-3,1.47E-2,1.6199999999999999E-2,2.6999999999999997E-3,1.6000000000000001E-3,9.9999999999999967E-3,8.8999999999999982E-3,1.3699999999999999E-2,1.4599999999999998E-2,2.47E-2,4.3000000000000009E-3,1.3299999999999998E-2,2.4999999999999996E-3,5.0000000000000001E-4]
[null,"p5",1.2199999999999999E-2,1.8100000000000002E-2,1.7599999999999998E-2,5.5799999999999995E-2,9.5999999999999974E-3,1.1000000000000001E-3,4.3000000000000009E-3,null,6.0000000000000006E-4,1.0000000000000002E-3,5.0000000000000001E-3,2E-3,1.4799999999999999E-2,1.6299999999999999E-2,5.2000000000000006E-3,2E-3,1.0099999999999996E-2,8.9999999999999976E-3,1.3799999999999998E-2,1.4699999999999998E-2,2.4799999999999999E-2,4.4000000000000011E-3,1.3399999999999997E-2,2.5999999999999994E-3,6.0000000000000006E-4]
[null,"p6",1.2299999999999998E-2,1.8200000000000001E-2,1.7699999999999997E-2,5.5899999999999998E-2,9.6999999999999968E-3,1.2000000000000001E-3,null,null,null,null,7.0000000000000001E-3,2.5999999999999999E-3,1.4899999999999998E-2,null,5.8000000000000005E-3,4.4000000000000003E-3,null,9.099999999999997E-3,1.41E-2,1.4799999999999997E-2,2.5500000000000002E-2,4.5000000000000014E-3,null,2.6999999999999993E-3,7.000000000000001E-4]
[null,"p7",1.2399999999999998E-2,1.83E-2,1.7799999999999996E-2,5.6000000000000001E-2,9.7999999999999962E-3,1.3000000000000002E-3,null,null,null,null,1.18E-2,2.6999999999999997E-3,1.5100000000000001E-2,null,7.2000000000000007E-3,null,null,9.1999999999999964E-3,null,1.4899999999999997E-2,2.63E-2,4.6000000000000017E-3,null,2.7999999999999991E-3,8.0000000000000015E-4]
[null,"p8",1.26E-2,1.84E-2,1.7899999999999996E-2,5.91E-2,9.8999999999999956E-3,1.4000000000000002E-3,null,null,null,null,1.1899999999999999E-2,2.7999999999999995E-3,1.52E-2,null,7.3000000000000009E-3,null,null,9.2999999999999958E-3,null,1.4999999999999996E-2,2.64E-2,4.7000000000000019E-3,null,2.8999999999999989E-3,9.0000000000000019E-4]
[null,"p9",1.2699999999999999E-2,1.8499999999999999E-2,1.7999999999999995E-2,5.9200000000000003E-2,9.999999999999995E-3,1.5000000000000002E-3,null,null,null,null,1.1999999999999999E-2,2.8999999999999994E-3,null,null,null,null,null,0.01,null,1.5099999999999995E-2,2.92E-2,6.0000000000000001E-3,null,2.9999999999999988E-3,1.0000000000000002E-3]
[null,"p10",1.5099999999999999E-2,1.8599999999999998E-2,1.8099999999999995E-2,5.9300000000000005E-2,1.0099999999999994E-2,1.6000000000000003E-3,null,null,null,null,1.2099999999999998E-2,2.9999999999999992E-3,null,null,null,null,null,1.06E-2,null,1.5199999999999995E-2,2.93E-2,6.1000000000000004E-3,null,3.0999999999999986E-3,1.1000000000000003E-3]
[null,"p11",1.5199999999999998E-2,1.8699999999999998E-2,1.8199999999999994E-2,5.9400000000000008E-2,1.0199999999999994E-2,1.7000000000000003E-3,null,null,null,null,null,3.099999999999999E-3,null,null,null,null,null,1.0699999999999999E-2,null,1.5299999999999994E-2,2.9399999999999999E-2,6.8999999999999999E-3,null,3.1999999999999984E-3,1.2000000000000003E-3]
[null,"p12",1.5299999999999998E-2,1.8799999999999997E-2,1.8299999999999993E-2,5.9500000000000011E-2,1.0800000000000001E-2,1.8000000000000004E-3,null,null,null,null,null,3.1999999999999989E-3,null,null,null,null,null,1.0999999999999999E-2,null,1.5399999999999994E-2,2.9499999999999998E-2,7.0000000000000001E-3,null,3.2999999999999982E-3,1.3000000000000004E-3]
[null,"p13",1.5399999999999997E-2,1.9700000000000002E-2,1.8399999999999993E-2,5.9600000000000014E-2,1.26E-2,1.9000000000000004E-3,null,null,null,null,null,3.2999999999999987E-3,null,null,null,null,null,1.35E-2,null,1.5499999999999993E-2,3.2100000000000004E-2,8.0000000000000002E-3,null,3.3999999999999981E-3,1.4000000000000004E-3]
[null,"p14",1.5499999999999996E-2,1.9900000000000001E-2,1.8499999999999992E-2,5.9700000000000017E-2,1.29E-2,4.2000000000000006E-3,null,null,null,null,null,3.3999999999999985E-3,null,null,null,null,null,1.3599999999999999E-2,null,1.5599999999999992E-2,3.2899999999999999E-2,8.0999999999999996E-3,null,3.8E-3,1.5000000000000005E-3]
[null,"p15",1.5599999999999996E-2,0.02,1.8599999999999992E-2,5.980000000000002E-2,1.32E-2,4.3000000000000009E-3,null,null,null,null,null,3.4999999999999983E-3,null,null,null,null,null,1.3699999999999999E-2,null,1.5699999999999992E-2,3.3000000000000002E-2,8.199999999999999E-3,null,3.8999999999999998E-3,1.6000000000000005E-3]
[null,"p16",1.6E-2,2.01E-2,1.8699999999999991E-2,5.9900000000000023E-2,1.34E-2,4.4000000000000011E-3,null,null,null,null,null,3.5999999999999982E-3,null,null,null,null,null,1.38E-2,null,1.5799999999999991E-2,3.3100000000000004E-2,8.2999999999999984E-3,null,5.3E-3,1.7000000000000006E-3]
[null,"p17",1.7999999999999999E-2,2.0199999999999999E-2,1.879999999999999E-2,6.0000000000000026E-2,1.35E-2,4.5000000000000014E-3,null,null,null,null,null,3.699999999999998E-3,null,null,null,null,null,1.4799999999999999E-2,null,1.5899999999999991E-2,3.3200000000000007E-2,8.3999999999999977E-3,null,5.4000000000000003E-3,1.8000000000000006E-3]
[null,"p18",1.8700000000000001E-2,2.0299999999999999E-2,1.889999999999999E-2,6.0100000000000028E-2,1.3899999999999999E-2,4.6000000000000017E-3,null,null,null,null,null,3.7999999999999978E-3,null,null,null,null,null,1.6500000000000001E-2,null,1.599999999999999E-2,3.330000000000001E-2,8.4999999999999971E-3,null,5.5000000000000005E-3,1.9000000000000006E-3]
[null,"p19",1.89E-2,2.0399999999999998E-2,1.8999999999999989E-2,6.0200000000000031E-2,1.3999999999999999E-2,4.7000000000000019E-3,null,null,null,null,null,4.5999999999999999E-3,null,null,null,null,null,1.7299999999999999E-2,null,1.6099999999999989E-2,3.4500000000000003E-2,8.5999999999999965E-3,null,5.6000000000000008E-3,2.0000000000000005E-3]
[null,"p20",1.9E-2,2.0499999999999997E-2,1.9099999999999989E-2,6.0300000000000034E-2,1.4099999999999998E-2,4.8000000000000022E-3,null,null,null,null,null,4.8999999999999998E-3,null,null,null,null,null,1.7399999999999999E-2,null,1.6199999999999989E-2,3.5200000000000002E-2,8.6999999999999959E-3,null,5.8000000000000005E-3,2.1000000000000003E-3]
[]
[]
[null,"Long-Term Obligated Entry Capacity (GWh/day) offered"]
[null,"(based on licence info sheet and %age given in Long-Term Obligated quantity offered above less the amount already sold in previous auctions)"]
[]
[null,"ASEPs"]
[null,"From",{"$f":"First_quarter","v":"2020-10-01"},{"$f":"DATE(YEAR(C101),MONTH(C101)+3,1)","v":"2021-01-01"},{"$f":"DATE(YEAR(D101),MONTH(D101)+3,1)","v":"2021-04-01"},"2021-07-01","2021-10-01","2022-01-01","2022-04-01","2022-07-01","2022-10-01","2023-01-01","2023-04-01","2023-07-01","2023-10-01","2024-01-01","2024-04-01","2024-07-01","2024-10-01","2025-01-01","2025-04-01","2025-07-01","2025-10-01","2026-01-01","2026-04-01","2026-07-01","2026-10-01","2027-01-01","2027-04-01","2027-07-01","2027-10-01","2028-01-01","2028-04-01","2028-07-01","2028-10-01","2029-01-01","2029-04-01","2029-07-01","2029-10-01","2030-01-01","2030-04-01","2030-07-01","2030-10-01","2031-01-01","2031-04-01","2031-07-01","2031-10-01","2032-01-01","2032-04-01","2032-07-01","2032-10-01","2033-01-01","2033-04-01","2033-07-01","2033-10-01","2034-01-01","2034-04-01","2034-07-01","2034-10-01","2035-01-01","2035-04-01","2035-07-01","2035-10-01"]
[null,"To",{"$f":"DATE(YEAR(C101),MONTH(C101)+2,1)","v":"2020-12-01"},"2021-03-01","2021-06-01","2021-09-01","2021-12-01","2022-03-01","2022-06-01","2022-09-01","2022-12-01","2023-03-01","2023-06-01","2023-09-01","2023-12-01","2024-03-01","2024-06-01","2024-09-01","2024-12-01","2025-03-01","2025-06-01","2025-09-01","2025-12-01","2026-03-01","2026-06-01","2026-09-01","2026-12-01","2027-03-01","2027-06-01","2027-09-01","2027-12-01","2028-03-01","2028-06-01","2028-09-01",{"$f":"DATE(YEAR(AI101),MONTH(AI101)+2,1)","v":"2028-12-01"},"2029-03-01","2029-06-01","2029-09-01","2029-12-01","2030-03-01","2030-06-01","2030-09-01","2030-12-01","2031-03-01","2031-06-01","2031-09-01","2031-12-01","2032-03-01","2032-06-01","2032-09-01","2032-12-01","2033-03-01","2033-06-01","2033-09-01","2033-12-01","2034-03-01","2034-06-01","2034-09-01","2034-12-01","2035-03-01","2035-06-01","2035-09-01","2035-12-01"]
[null,{"$f":"B41","v":"Bacton"},{"$f":"MAX(0,OFFSET(Licence_IBEC,MATCH($B103,'Licence Info'!$B$40:$B$64,FALSE),MATCH(Control!C$101,'Licence Info'!$C$37:$DW$37,FALSE))*$C$9+OFFSET(Licence_Subst,MATCH($B103,'Licence Info'!$B$74:$B$98,FALSE),MATCH(Control!C$101,'Licence Info'!$C$71:$DW$71,FALSE))*$C$9+OFFSET(Licence_OIEC,MATCH($B103,'Licence Info'!$B$108:$B$132,FALSE),MATCH(Control!C$101,'Licence Info'!$C$105:$DW$105,FALSE))-C41)","v":63.153521000000012},{"$f":"MAX(0,OFFSET(Licence_IBEC,MATCH($B103,'Licence Info'!$B$40:$B$64,FALSE),MATCH(Control!D$101,'Licence Info'!$C$37:$DW$37,FALSE))*$C$9+OFFSET(Licence_Subst,MATCH($B103,'Licence Info'!$B$74:$B$98,FALSE),MATCH(Control!D$101,'Licence Info'!$C$71:$DW$71,FALSE))*$C$9+OFFSET(Licence_OIEC,MATCH($B103,'Licence Info'!$B$108:$B$132,FALSE),MATCH(Control!D$101,'Licence Info'!$C$105:$DW$105,FALSE))-D41)","v":0},{"$f":"MAX(0,OFFSET(Licence_IBEC,MATCH($B103,'Licence Info'!$B$40:$B$64,FALSE),MATCH(Control!E$101,'Licence Info'!$C$37:$DW$37,FALSE))*$C$9+OFFSET(Licence_Subst,MATCH($B103,'Licence Info'!$B$74:$B$98,FALSE),MATCH(Control!E$101,'Licence Info'!$C$71:$DW$71,FALSE))*$C$9+OFFSET(Licence_OIEC,MATCH($B103,'Licence Info'!$B$108:$B$132,FALSE),MATCH(Control!E$101,'Licence Info'!$C$105:$DW$105,FALSE))-E41)","v":387.44},{"$f":"MAX(0,OFFSET(Licence_IBEC,MATCH($B103,'Licence Info'!$B$40:$B$64,FALSE),MATCH(Control!F$101,'Licence Info'!$C$37:$DW$37,FALSE))*$C$9+OFFSET(Licence_Subst,MATCH($B103,'Licence Info'!$B$74:$B$98,FALSE),MATCH(Control!F$101,'Licence Info'!$C$71:$DW$71,FALSE))*$C$9+OFFSET(Licence_OIEC,MATCH($B103,'Licence Info'!$B$108:$B$132,FALSE),MATCH(Control!F$101,'Licence Info'!$C$105:$DW$105,FALSE))-F41)","v":390.94},{"$f":"MAX(0,OFFSET(Licence_IBEC,MATCH($B103,'Licence Info'!$B$40:$B$64,FALSE),MATCH(Control!G$101,'Licence Info'!$C$37:$DW$37,FALSE))*$C$9+OFFSET(Licence_Subst,MATCH($B103,'Licence Info'!$B$74:$B$98,FALSE),MATCH(Control!G$101,'Licence Info'!$C$71:$DW$71,FALSE))*$C$9+OFFSET(Licence_OIEC,MATCH($B103,'Licence Info'!$B$108:$B$132,FALSE),MATCH(Control!G$101,'Licence Info'!$C$105:$DW$105,FALSE))-G41)","v":97.04000000000002},{"$f":"MAX(0,OFFSET(Licence_IBEC,MATCH($B103,'Licence Info'!$B$40:$B$64,FALSE),MATCH(Control!H$101,'Licence Info'!$C$37:$DW$37,FALSE))*$C$9+OFFSET(Licence_Subst,MATCH($B103,'Licence Info'!$B$74:$B$98,FALSE),MATCH(Control!H$101,'Licence Info'!$C$71:$DW$71,FALSE))*$C$9+OFFSET(Licence_OIEC,MATCH($B103,'Licence Info'!$B$108:$B$132,FALSE),MATCH(Control!H$101,'Licence Info'!$C$105:$DW$105,FALSE))-H41)","v":0},{"$f":"MAX(0,OFFSET(Licence_IBEC,MATCH($B103,'Licence Info'!$B$40:$B$64,FALSE),MATCH(Control!I$101,'Licence Info'!$C$37:$DW$37,FALSE))*$C$9+OFFSET(Licence_Subst,MATCH($B103,'Licence Info'!$B$74:$B$98,FALSE),MATCH(Control!I$101,'Licence Info'!$C$71:$DW$71,FALSE))*$C$9+OFFSET(Licence_OIEC,MATCH($B103,'Licence Info'!$B$108:$B$132,FALSE),MATCH(Control!I$101,'Licence Info'!$C$105:$DW$105,FALSE))-I41)","v":427.24},{"$f":"MAX(0,OFFSET(Licence_IBEC,MATCH($B103,'Licence Info'!$B$40:$B$64,FALSE),MATCH(Control!J$101,'Licence Info'!$C$37:$DW$37,FALSE))*$C$9+OFFSET(Licence_Subst,MATCH($B103,'Licence Info'!$B$74:$B$98,FALSE),MATCH(Control!J$101,'Licence Info'!$C$71:$DW$71,FALSE))*$C$9+OFFSET(Licence_OIEC,MATCH($B103,'Licence Info'!$B$108:$B$132,FALSE),MATCH(Control!J$101,'Licence Info'!$C$105:$DW$105,FALSE))-J41)","v":427.24},{"$f":"MAX(0,OFFSET(Licence_IBEC,MATCH($B103,'Licence Info'!$B$40:$B$64,FALSE),MATCH(Control!K$101,'Licence Info'!$C$37:$DW$37,FALSE))*$C$9+OFFSET(Licence_Subst,MATCH($B103,'Licence Info'!$B$74:$B$98,FALSE),MATCH(Control!K$101,'Licence Info'!$C$71:$DW$71,FALSE))*$C$9+OFFSET(Licence_OIEC,MATCH($B103,'Licence Info'!$B$108:$B$132,FALSE),MATCH(Control!K$101,'Licence Info'!$C$105:$DW$105,FALSE))-K41)","v":122.04000000000002},{"$f":"MAX(0,OFFSET(Licence_IBEC,MATCH($B103,'Licence Info'!$B$40:$B$64,FALSE),MATCH(Control!L$101,'Licence Info'!$C$37:$DW$37,FALSE))*$C$9+OFFSET(Licence_Subst,MATCH($B103,'Licence Info'!$B$74:$B$98,FALSE),MATCH(Control!L$101,'Licence Info'!$C$71:$DW$71,FALSE))*$C$9+OFFSET(Licence_OIEC,MATCH($B103,'Licence Info'!$B$108:$B$132,FALSE),MATCH(Control!L$101,'Licence Info'!$C$105:$DW$105,FALSE))-L41)","v":0},{"$f":"MAX(0,OFFSET(Licence_IBEC,MATCH($B103,'Licence Info'!$B$40:$B$64,FALSE),MATCH(Control!M$101,'Licence Info'!$C$37:$DW$37,FALSE))*$C$9+OFFSET(Licence_Subst,MATCH($B103,'Licence Info'!$B$74:$B$98,FALSE),MATCH(Control!M$101,'Licence Info'!$C$71:$DW$71,FALSE))*$C$9+OFFSET(Licence_OIEC,MATCH($B103,'Licence Info'!$B$108:$B$132,FALSE),MATCH(Control!M$101,'Licence Info'!$C$105:$DW$105,FALSE))-M41)","v":429.24},{"$f":"MAX(0,OFFSET(Licence_IBEC,MATCH($B103,'Licence Info'!$B$40:$B$64,FALSE),MATCH(Control!N$101,'Licence Info'!$C$37:$DW$37,FALSE))*$C$9+OFFSET(Licence_Subst,MATCH($B103,'Licence Info'!$B$74:$B$98,FALSE),MATCH(Control!N$101,'Licence Info'!$C$71:$DW$71,FALSE))*$C$9+OFFSET(Licence_OIEC,MATCH($B103,'Licence Info'!$B$108:$B$132,FALSE),MATCH(Control!N$101,'Licence Info'!$C$105:$DW$105,FALSE))-N41)","v":429.24},{"$f":"MAX(0,OFFSET(Licence_IBEC,MATCH($B103,'Licence Info'!$B$40:$B$64,FALSE),MATCH(Control!O$101,'Licence Info'!$C$37:$DW$37,FALSE))*$C$9+OFFSET(Licence_Subst,MATCH($B103,'Licence Info'!$B$74:$B$98,FALSE),MATCH(Control!O$101,'Licence Info'!$C$71:$DW$71,FALSE))*$C$9+OFFSET(Licence_OIEC,MATCH($B103,'Licence Info'!$B$108:$B$132,FALSE),MATCH(Control!O$101,'Licence Info'!$C$105:$DW$105,FALSE))-O41)","v":124.04000000000002},{"$f":"MAX(0,OFFSET(Licence_IBEC,MATCH($B103,'Licence Info'!$B$40:$B$64,FALSE),MATCH(Control!P$101,'Licence Info'!$C$37:$DW$37,FALSE))*$C$9+OFFSET(Licence_Subst,MATCH($B103,'Licence Info'!$B$74:$B$98,FALSE),MATCH(Control!P$101,'Licence Info'!$C$71:$DW$71,FALSE))*$C$9+OFFSET(Licence_OIEC,MATCH($B103,'Licence Info'!$B$108:$B$132,FALSE),MATCH(Control!P$101,'Licence Info'!$C$105:$DW$105,FALSE))-P41)","v":0},{"$f":"MAX(0,OFFSET(Licence_IBEC,MATCH($B103,'Licence Info'!$B$40:$B$64,FALSE),MATCH(Control!Q$101,'Licence Info'!$C$37:$DW$37,FALSE))*$C$9+OFFSET(Licence_Subst,MATCH($B103,'Licence Info'!$B$74:$B$98,FALSE),MATCH(Control!Q$101,'Licence Info'!$C$71:$DW$71,FALSE))*$C$9+OFFSET(Licence_OIEC,MATCH($B103,'Licence Info'!$B$108:$B$132,FALSE),MATCH(Control!Q$101,'Licence Info'!$C$105:$DW$105,FALSE))-Q41)","v":436.72500000000002},{"$f":"MAX(0,OFFSET(Licence_IBEC,MATCH($B103,'Licence Info'!$B$40:$B$64,FALSE),MATCH(Control!R$101,'Licence Info'!$C$37:$DW$37,FALSE))*$C$9+OFFSET(Licence_Subst,MATCH($B103,'Licence Info'!$B$74:$B$98,FALSE),MATCH(Control!R$101,'Licence Info'!$C$71:$DW$71,FALSE))*$C$9+OFFSET(Licence_OIEC,MATCH($B103,'Licence Info'!$B$108:$B$132,FALSE),MATCH(Control!R$101,'Licence Info'!$C$105:$DW$105,FALSE))-R41)","v":436.72500000000002},{"$f":"MAX(0,OFFSET(Licence_IBEC,MATCH($B103,'Licence Info'!$B$40:$B$64,FALSE),MATCH(Control!S$101,'Licence Info'!$C$37:$DW$37,FALSE))*$C$9+OFFSET(Licence_Subst,MATCH($B103,'Licence Info'!$B$74:$B$98,FALSE),MATCH(Control!S$101,'Licence Info'!$C$71:$DW$71,FALSE))*$C$9+OFFSET(Licence_OIEC,MATCH($B103,'Licence Info'!$B$108:$B$132,FALSE),MATCH(Control!S$101,'Licence Info'!$C$105:$DW$105,FALSE))-S41)","v":132.04000000000002},{"$f":"MAX(0,OFFSET(Licence_IBEC,MATCH($B103,'Licence Info'!$B$40:$B$64,FALSE),MATCH(Control!T$101,'Licence Info'!$C$37:$DW$37,FALSE))*$C$9+OFFSET(Licence_Subst,MATCH($B103,'Licence Info'!$B$74:$B$98,FALSE),MATCH(Control!T$101,'Licence Info'!$C$71:$DW$71,FALSE))*$C$9+OFFSET(Licence_OIEC,MATCH($B103,'Licence Info'!$B$108:$B$132,FALSE),MATCH(Control!T$101,'Licence Info'!$C$105:$DW$105,FALSE))-T41)","v":0},{"$f":"MAX(0,OFFSET(Licence_IBEC,MATCH($B103,'Licence Info'!$B$40:$B$64,FALSE),MATCH(Control!U$101,'Licence Info'!$C$37:$DW$37,FALSE))*$C$9+OFFSET(Licence_Subst,MATCH($B103,'Licence Info'!$B$74:$B$98,FALSE),MATCH(Control!U$101,'Licence Info'!$C$71:$DW$71,FALSE))*$C$9+OFFSET(Licence_OIEC,MATCH($B103,'Licence Info'!$B$108:$B$132,FALSE),MATCH(Control!U$101,'Licence Info'!$C$105:$DW$105,FALSE))-U41)","v":132.04000000000002},{"$f":"MAX(0,OFFSET(Licence_IBEC,MATCH($B103,'Licence Info'!$B$40:$B$64,FALSE),MATCH(Control!V$101,'Licence Info'!$C$37:$DW$37,FALSE))*$C$9+OFFSET(Licence_Subst,MATCH($B103,'Licence Info'!$B$74:$B$98,FALSE),MATCH(Control!V$101,'Licence Info'!$C$71:$DW$71,FALSE))*$C$9+OFFSET(Licence_OIEC,MATCH($B103,'Licence Info'!$B$108:$B$132,FALSE),MATCH(Control!V$101,'Licence Info'!$C$105:$DW$105,FALSE))-V41)","v":436.72473000000002},{"$f":"MAX(0,OFFSET(Licence_IBEC,MATCH($B103,'Licence Info'!$B$40:$B$64,FALSE),MATCH(Control!W$101,'Licence Info'!$C$37:$DW$37,FALSE))*$C$9+OFFSET(Licence_Subst,MATCH($B103,'Licence Info'!$B$74:$B$98,FALSE),MATCH(Control!W$101,'Licence Info'!$C$71:$DW$71,FALSE))*$C$9+OFFSET(Licence_OIEC,MATCH($B103,'Licence Info'!$B$108:$B$132,FALSE),MATCH(Control!W$101,'Licence Info'!$C$105:$DW$105,FALSE))-W41)","v":131.54000000000002},{"$f":"MAX(0,OFFSET(Licence_IBEC,MATCH($B103,'Licence Info'!$B$40:$B$64,FALSE),MATCH(Control!X$101,'Licence Info'!$C$37:$DW$37,FALSE))*$C$9+OFFSET(Licence_Subst,MATCH($B103,'Licence Info'!$B$74:$B$98,FALSE),MATCH(Control!X$101,'Licence Info'!$C$71:$DW$71,FALSE))*$C$9+OFFSET(Licence_OIEC,MATCH($B103,'Licence Info'!$B$108:$B$132,FALSE),MATCH(Control!X$101,'Licence Info'!$C$105:$DW$105,FALSE))-X41)","v":0},{"$f":"MAX(0,OFFSET(Licence_IBEC,MATCH($B103,'Licence Info'!$B$40:$B$64,FALSE),MATCH(Control!Y$101,'Licence Info'!$C$37:$DW$37,FALSE))*$C$9+OFFSET(Licence_Subst,MATCH($B103,'Licence Info'!$B$74:$B$98,FALSE),MATCH(Control!Y$101,'Licence Info'!$C$71:$DW$71,FALSE))*$C$9+OFFSET(Licence_OIEC,MATCH($B103,'Licence Info'!$B$108:$B$132,FALSE),MATCH(Control!Y$101,'Licence Info'!$C$105:$DW$105,FALSE))-Y41)","v":437.04},{"$f":"MAX(0,OFFSET(Licence_IBEC,MATCH($B103,'Licence Info'!$B$40:$B$64,FALSE),MATCH(Control!Z$101,'Licence Info'!$C$37:$DW$37,FALSE))*$C$9+OFFSET(Licence_Subst,MATCH($B103,'Licence Info'!$B$74:$B$98,FALSE),MATCH(Control!Z$101,'Licence Info'!$C$71:$DW$71,FALSE))*$C$9+OFFSET(Licence_OIEC,MATCH($B103,'Licence Info'!$B$108:$B$132,FALSE),MATCH(Control!Z$101,'Licence Info'!$C$105:$DW$105,FALSE))-Z41)","v":437.04},{"$f":"MAX(0,OFFSET(Licence_IBEC,MATCH($B103,'Licence Info'!$B$40:$B$64,FALSE),MATCH(Control!AA$101,'Licence Info'!$C$37:$DW$37,FALSE))*$C$9+OFFSET(Licence_Subst,MATCH($B103,'Licence Info'!$B$74:$B$98,FALSE),MATCH(Control!AA$101,'Licence Info'!$C$71:$DW$71,FALSE))*$C$9+OFFSET(Licence_OIEC,MATCH($B103,'Licence Info'!$B$108:$B$132,FALSE),MATCH(Control!AA$101,'Licence Info'!$C$105:$DW$105,FALSE))-AA41)","v":131.45666700000004},{"$f":"MAX(0,OFFSET(Licence_IBEC,MATCH($B103,'Licence Info'!$B$40:$B$64,FALSE),MATCH(Control!AB$101,'Licence Info'!$C$37:$DW$37,FALSE))*$C$9+OFFSET(Licence_Subst,MATCH($B103,'Licence Info'!$B$74:$B$98,FALSE),MATCH(Control!AB$101,'Licence Info'!$C$71:$DW$71,FALSE))*$C$9+OFFSET(Licence_OIEC,MATCH($B103,'Licence Info'!$B$108:$B$132,FALSE),MATCH(Control!AB$101,'Licence Info'!$C$105:$DW$105,FALSE))-AB41)","v":131.45666700000004},{"$f":"MAX(0,OFFSET(Licence_IBEC,MATCH($B103,'Licence Info'!$B$40:$B$64,FALSE),MATCH(Control!AC$101,'Licence Info'!$C$37:$DW$37,FALSE))*$C$9+OFFSET(Licence_Subst,MATCH($B103,'Licence Info'!$B$74:$B$98,FALSE),MATCH(Control!AC$101,'Licence Info'!$C$71:$DW$71,FALSE))*$C$9+OFFSET(Licence_OIEC,MATCH($B103,'Licence Info'!$B$108:$B$132,FALSE),MATCH(Control!AC$101,'Licence Info'!$C$105:$DW$105,FALSE))-AC41)","v":437.04},{"$f":"MAX(0,OFFSET(Licence_IBEC,MATCH($B103,'Licence Info'!$B$40:$B$64,FALSE),MATCH(Control!AD$101,'Licence Info'!$C$37:$DW$37,FALSE))*$C$9+OFFSET(Licence_Subst,MATCH($B103,'Licence Info'!$B$74:$B$98,FALSE),MATCH(Control!AD$101,'Licence Info'!$C$71:$DW$71,FALSE))*$C$9+OFFSET(Licence_OIEC,MATCH($B103,'Licence Info'!$B$108:$B$132,FALSE),MATCH(Control!AD$101,'Licence Info'!$C$105:$DW$105,FALSE))-AD41)","v":437.04},{"$f":"MAX(0,OFFSET(Licence_IBEC,MATCH($B103,'Licence Info'!$B$40:$B$64,FALSE),MATCH(Control!AE$101,'Licence Info'!$C$37:$DW$37,FALSE))*$C$9+OFFSET(Licence_Subst,MATCH($B103,'Licence Info'!$B$74:$B$98,FALSE),MATCH(Control!AE$101,'Licence Info'!$C$71:$DW$71,FALSE))*$C$9+OFFSET(Licence_OIEC,MATCH($B103,'Licence Info'!$B$108:$B$132,FALSE),MATCH(Control!AE$101,'Licence Info'!$C$105:$DW$105,FALSE))-AE41)","v":437.04},{"$f":"MAX(0,OFFSET(Licence_IBEC,MATCH($B103,'Licence Info'!$B$40:$B$64,FALSE),MATCH(Control!AF$101,'Licence Info'!$C$37:$DW$37,FALSE))*$C$9+OFFSET(Licence_Subst,MATCH($B103,'Licence Info'!$B$74:$B$98,FALSE),MATCH(Control!AF$101,'Licence Info'!$C$71:$DW$71,FALSE))*$C$9+OFFSET(Licence_OIEC,MATCH($B103,'Licence Info'!$B$108:$B$132,FALSE),MATCH(Control!AF$101,'Licence Info'!$C$105:$DW$105,FALSE))-AF41)","v":437.04},{"$f":"MAX(0,OFFSET(Licence_IBEC,MATCH($B103,'Licence Info'!$B$40:$B$64,FALSE),MATCH(Control!AG$101,'Licence Info'!$C$37:$DW$37,FALSE))*$C$9+OFFSET(Licence_Subst,MATCH($B103,'Licence Info'!$B$74:$B$98,FALSE),MATCH(Control!AG$101,'Licence Info'!$C$71:$DW$71,FALSE))*$C$9+OFFSET(Licence_OIEC,MATCH($B103,'Licence Info'!$B$108:$B$132,FALSE),MATCH(Control!AG$101,'Licence Info'!$C$105:$DW$105,FALSE))-AG41)","v":437.04},{"$f":"MAX(0,OFFSET(Licence_IBEC,MATCH($B103,'Licence Info'!$B$40:$B$64,FALSE),MATCH(Control!AH$101,'Licence Info'!$C$37:$DW$37,FALSE))*$C$9+OFFSET(Licence_Subst,MATCH($B103,'Licence Info'!$B$74:$B$98,FALSE),MATCH(Control!AH$101,'Licence Info'!$C$71:$DW$71,FALSE))*$C$9+OFFSET(Licence_OIEC,MATCH($B103,'Licence Info'!$B$108:$B$132,FALSE),MATCH(Control!AH$101,'Licence Info'!$C$105:$DW$105,FALSE))-AH41)","v":437.04},{"$f":"MAX(0,OFFSET(Licence_IBEC,MATCH($B103,'Licence Info'!$B$40:$B$64,FALSE),MATCH(Control!AI$101,'Licence Info'!$C$37:$DW$37,FALSE))*$C$9+OFFSET(Licence_Subst,MATCH($B103,'Licence Info'!$B$74:$B$98,FALSE),MATCH(Control!AI$101,'Licence Info'!$C$71:$DW$71,FALSE))*$C$9+OFFSET(Licence_OIEC,MATCH($B103,'Licence Info'!$B$108:$B$132,FALSE),MATCH(Control!AI$101,'Licence Info'!$C$105:$DW$105,FALSE))-AI41)","v":437.04},{"$f":"MAX(0,OFFSET(Licence_IBEC,MATCH($B103,'Licence Info'!$B$40:$B$64,FALSE),MATCH(Control!AJ$101,'Licence Info'!$C$37:$DW$37,FALSE))*$C$9+OFFSET(Licence_Subst,MATCH($B103,'Licence Info'!$B$74:$B$98,FALSE),MATCH(Control!AJ$101,'Licence Info'!$C$71:$DW$71,FALSE))*$C$9+OFFSET(Licence_OIEC,MATCH($B103,'Licence Info'!$B$108:$B$132,FALSE),MATCH(Control!AJ$101,'Licence Info'!$C$105:$DW$105,FALSE))-AJ41)","v":437.04},{"$f":"MAX(0,OFFSET(Licence_IBEC,MATCH($B103,'Licence Info'!$B$40:$B$64,FALSE),MATCH(Control!AK$101,'Licence Info'!$C$37:$DW$37,FALSE))*$C$9+OFFSET(Licence_Subst,MATCH($B103,'Licence Info'!$B$74:$B$98,FALSE),MATCH(Control!AK$101,'Licence Info'!$C$71:$DW$71,FALSE))*$C$9+OFFSET(Licence_OIEC,MATCH($B103,'Licence Info'!$B$108:$B$132,FALSE),MATCH(Control!AK$101,'Licence Info'!$C$105:$DW$105,FALSE))-AK41)","v":437.04},{"$f":"MAX(0,OFFSET(Licence_IBEC,MATCH($B103,'Licence Info'!$B$40:$B$64,FALSE),MATCH(Control!AL$101,'Licence Info'!$C$37:$DW$37,FALSE))*$C$9+OFFSET(Licence_Subst,MATCH($B103,'Licence Info'!$B$74:$B$98,FALSE),MATCH(Control!AL$101,'Licence Info'!$C$71:$DW$71,FALSE))*$C$9+OFFSET(Licence_OIEC,MATCH($B103,'Licence Info'!$B$108:$B$132,FALSE),MATCH(Control!AL$101,'Licence Info'!$C$105:$DW$105,FALSE))-AL41)","v":437.04},{"$f":"MAX(0,OFFSET(Licence_IBEC,MATCH($B103,'Licence Info'!$B$40:$B$64,FALSE),MATCH(Control!AM$101,'Licence Info'!$C$37:$DW$37,FALSE))*$C$9+OFFSET(Licence_Subst,MATCH($B103,'Licence Info'!$B$74:$B$98,FALSE),MATCH(Control!AM$101,'Licence Info'!$C$71:$DW$71,FALSE))*$C$9+OFFSET(Licence_OIEC,MATCH($B103,'Licence Info'!$B$108:$B$132,FALSE),MATCH(Control!AM$101,'Licence Info'!$C$105:$DW$105,FALSE))-AM41)","v":437.04},{"$f":"MAX(0,OFFSET(Licence_IBEC,MATCH($B103,'Licence Info'!$B$40:$B$64,FALSE),MATCH(Control!AN$101,'Licence Info'!$C$37:$DW$37,FALSE))*$C$9+OFFSET(Licence_Subst,MATCH($B103,'Licence Info'!$B$74:$B$98,FALSE),MATCH(Control!AN$101,'Licence Info'!$C$71:$DW$71,FALSE))*$C$9+OFFSET(Licence_OIEC,MATCH($B103,'Licence Info'!$B$108:$B$132,FALSE),MATCH(Control!AN$101,'Licence Info'!$C$105:$DW$105,FALSE))-AN41)","v":437.04},{"$f":"MAX(0,OFFSET(Licence_IBEC,MATCH($B103,'Licence Info'!$B$40:$B$64,FALSE),MATCH(Control!AO$101,'Licence Info'!$C$37:$DW$37,FALSE))*$C$9+OFFSET(Licence_Subst,MATCH($B103,'Licence Info'!$B$74:$B$98,FALSE),MATCH(Control!AO$101,'Licence Info'!$C$71:$DW$71,FALSE))*$C$9+OFFSET(Licence_OIEC,MATCH($B103,'Licence Info'!$B$108:$B$132,FALSE),MATCH(Control!AO$101,'Licence Info'!$C$105:$DW$105,FALSE))-AO41)","v":437.04},{"$f":"MAX(0,OFFSET(Licence_IBEC,MATCH($B103,'Licence Info'!$B$40:$B$64,FALSE),MATCH(Control!AP$101,'Licence Info'!$C$37:$DW$37,FALSE))*$C$9+OFFSET(Licence_Subst,MATCH($B103,'Licence Info'!$B$74:$B$98,FALSE),MATCH(Control!AP$101,'Licence Info'!$C$71:$DW$71,FALSE))*$C$9+OFFSET(Licence_OIEC,MATCH($B103,'Licence Info'!$B$108:$B$132,FALSE),MATCH(Control!AP$101,'Licence Info'!$C$105:$DW$105,FALSE))-AP41)","v":437.04},{"$f":"MAX(0,OFFSET(Licence_IBEC,MATCH($B103,'Licence Info'!$B$40:$B$64,FALSE),MATCH(Control!AQ$101,'Licence Info'!$C$37:$DW$37,FALSE))*$C$9+OFFSET(Licence_Subst,MATCH($B103,'Licence Info'!$B$74:$B$98,FALSE),MATCH(Control!AQ$101,'Licence Info'!$C$71:$DW$71,FALSE))*$C$9+OFFSET(Licence_OIEC,MATCH($B103,'Licence Info'!$B$108:$B$132,FALSE),MATCH(Control!AQ$101,'Licence Info'!$C$105:$DW$105,FALSE))-AQ41)","v":437.04},{"$f":"MAX(0,OFFSET(Licence_IBEC,MATCH($B103,'Licence Info'!$B$40:$B$64,FALSE),MATCH(Control!AR$101,'Licence Info'!$C$37:$DW$37,FALSE))*$C$9+OFFSET(Licence_Subst,MATCH($B103,'Licence Info'!$B$74:$B$98,FALSE),MATCH(Control!AR$101,'Licence Info'!$C$71:$DW$71,FALSE))*$C$9+OFFSET(Licence_OIEC,MATCH($B103,'Licence Info'!$B$108:$B$132,FALSE),MATCH(Control!AR$101,'Licence Info'!$C$105:$DW$105,FALSE))-AR41)","v":437.04},{"$f":"MAX(0,OFFSET(Licence_IBEC,MATCH($B103,'Licence Info'!$B$40:$B$64,FALSE),MATCH(Control!AS$101,'Licence Info'!$C$37:$DW$37,FALSE))*$C$9+OFFSET(Licence_Subst,MATCH($B103,'Licence Info'!$B$74:$B$98,FALSE),MATCH(Control!AS$101,'Licence Info'!$C$71:$DW$71,FALSE))*$C$9+OFFSET(Licence_OIEC,MATCH($B103,'Licence Info'!$B$108:$B$132,FALSE),MATCH(Control!AS$101,'Licence Info'!$C$105:$DW$105,FALSE))-AS41)","v":437.04},{"$f":"MAX(0,OFFSET(Licence_IBEC,MATCH($B103,'Licence Info'!$B$40:$B$64,FALSE),MATCH(Control!AT$101,'Licence Info'!$C$37:$DW$37,FALSE))*$C$9+OFFSET(Licence_Subst,MATCH($B103,'Licence Info'!$B$74:$B$98,FALSE),MATCH(Control!AT$101,'Licence Info'!$C$71:$DW$71,FALSE))*$C$9+OFFSET(Licence_OIEC,MATCH($B103,'Licence Info'!$B$108:$B$132,FALSE),MATCH(Control!AT$101,'Licence Info'!$C$105:$DW$105,FALSE))-AT41)","v":437.04},{"$f":"MAX(0,OFFSET(Licence_IBEC,MATCH($B103,'Licence Info'!$B$40:$B$64,FALSE),MATCH(Control!AU$101,'Licence Info'!$C$37:$DW$37,FALSE))*$C$9+OFFSET(Licence_Subst,MATCH($B103,'Licence Info'!$B$74:$B$98,FALSE),MATCH(Control!AU$101,'Licence Info'!$C$71:$DW$71,FALSE))*$C$9+OFFSET(Licence_OIEC,MATCH($B103,'Licence Info'!$B$108:$B$132,FALSE),MATCH(Control!AU$101,'Licence Info'!$C$105:$DW$105,FALSE))-AU41)","v":437.04},{"$f":"MAX(0,OFFSET(Licence_IBEC,MATCH($B103,'Licence Info'!$B$40:$B$64,FALSE),MATCH(Control!AV$101,'Licence Info'!$C$37:$DW$37,FALSE))*$C$9+OFFSET(Licence_Subst,MATCH($B103,'Licence Info'!$B$74:$B$98,FALSE),MATCH(Control!AV$101,'Licence Info'!$C$71:$DW$71,FALSE))*$C$9+OFFSET(Licence_OIEC,MATCH($B103,'Licence Info'!$B$108:$B$132,FALSE),MATCH(Control!AV$101,'Licence Info'!$C$105:$DW$105,FALSE))-AV41)","v":437.04},{"$f":"MAX(0,OFFSET(Licence_IBEC,MATCH($B103,'Licence Info'!$B$40:$B$64,FALSE),MATCH(Control!AW$101,'Licence Info'!$C$37:$DW$37,FALSE))*$C$9+OFFSET(Licence_Subst,MATCH($B103,'Licence Info'!$B$74:$B$98,FALSE),MATCH(Control!AW$101,'Licence Info'!$C$71:$DW$71,FALSE))*$C$9+OFFSET(Licence_OIEC,MATCH($B103,'Licence Info'!$B$108:$B$132,FALSE),MATCH(Control!AW$101,'Licence Info'!$C$105:$DW$105,FALSE))-AW41)","v":437.04},{"$f":"MAX(0,OFFSET(Licence_IBEC,MATCH($B103,'Licence Info'!$B$40:$B$64,FALSE),MATCH(Control!AX$101,'Licence Info'!$C$37:$DW$37,FALSE))*$C$9+OFFSET(Licence_Subst,MATCH($B103,'Licence Info'!$B$74:$B$98,FALSE),MATCH(Control!AX$101,'Licence Info'!$C$71:$DW$71,FALSE))*$C$9+OFFSET(Licence_OIEC,MATCH($B103,'Licence Info'!$B$108:$B$132,FALSE),MATCH(Control!AX$101,'Licence Info'!$C$105:$DW$105,FALSE))-AX41)","v":437.04},{"$f":"MAX(0,OFFSET(Licence_IBEC,MATCH($B103,'Licence Info'!$B$40:$B$64,FALSE),MATCH(Control!AY$101,'Licence Info'!$C$37:$DW$37,FALSE))*$C$9+OFFSET(Licence_Subst,MATCH($B103,'Licence Info'!$B$74:$B$98,FALSE),MATCH(Control!AY$101,'Licence Info'!$C$71:$DW$71,FALSE))*$C$9+OFFSET(Licence_OIEC,MATCH($B103,'Licence Info'!$B$108:$B$132,FALSE),MATCH(Control!AY$101,'Licence Info'!$C$105:$DW$105,FALSE))-AY41)","v":437.04},{"$f":"MAX(0,OFFSET(Licence_IBEC,MATCH($B103,'Licence Info'!$B$40:$B$64,FALSE),MATCH(Control!AZ$101,'Licence Info'!$C$37:$DW$37,FALSE))*$C$9+OFFSET(Licence_Subst,MATCH($B103,'Licence Info'!$B$74:$B$98,FALSE),MATCH(Control!AZ$101,'Licence Info'!$C$71:$DW$71,FALSE))*$C$9+OFFSET(Licence_OIEC,MATCH($B103,'Licence Info'!$B$108:$B$132,FALSE),MATCH(Control!AZ$101,'Licence Info'!$C$105:$DW$105,FALSE))-AZ41)","v":437.04},{"$f":"MAX(0,OFFSET(Licence_IBEC,MATCH($B103,'Licence Info'!$B$40:$B$64,FALSE),MATCH(Control!BA$101,'Licence Info'!$C$37:$DW$37,FALSE))*$C$9+OFFSET(Licence_Subst,MATCH($B103,'Licence Info'!$B$74:$B$98,FALSE),MATCH(Control!BA$101,'Licence Info'!$C$71:$DW$71,FALSE))*$C$9+OFFSET(Licence_OIEC,MATCH($B103,'Licence Info'!$B$108:$B$132,FALSE),MATCH(Control!BA$101,'Licence Info'!$C$105:$DW$105,FALSE))-BA41)","v":437.04},{"$f":"MAX(0,OFFSET(Licence_IBEC,MATCH($B103,'Licence Info'!$B$40:$B$64,FALSE),MATCH(Control!BB$101,'Licence Info'!$C$37:$DW$37,FALSE))*$C$9+OFFSET(Licence_Subst,MATCH($B103,'Licence Info'!$B$74:$B$98,FALSE),MATCH(Control!BB$101,'Licence Info'!$C$71:$DW$71,FALSE))*$C$9+OFFSET(Licence_OIEC,MATCH($B103,'Licence Info'!$B$108:$B$132,FALSE),MATCH(Control!BB$101,'Licence Info'!$C$105:$DW$105,FALSE))-BB41)","v":437.04},{"$f":"MAX(0,OFFSET(Licence_IBEC,MATCH($B103,'Licence Info'!$B$40:$B$64,FALSE),MATCH(Control!BC$101,'Licence Info'!$C$37:$DW$37,FALSE))*$C$9+OFFSET(Licence_Subst,MATCH($B103,'Licence Info'!$B$74:$B$98,FALSE),MATCH(Control!BC$101,'Licence Info'!$C$71:$DW$71,FALSE))*$C$9+OFFSET(Licence_OIEC,MATCH($B103,'Licence Info'!$B$108:$B$132,FALSE),MATCH(Control!BC$101,'Licence Info'!$C$105:$DW$105,FALSE))-BC41)","v":437.04},{"$f":"MAX(0,OFFSET(Licence_IBEC,MATCH($B103,'Licence Info'!$B$40:$B$64,FALSE),MATCH(Control!BD$101,'Licence Info'!$C$37:$DW$37,FALSE))*$C$9+OFFSET(Licence_Subst,MATCH($B103,'Licence Info'!$B$74:$B$98,FALSE),MATCH(Control!BD$101,'Licence Info'!$C$71:$DW$71,FALSE))*$C$9+OFFSET(Licence_OIEC,MATCH($B103,'Licence Info'!$B$108:$B$132,FALSE),MATCH(Control!BD$101,'Licence Info'!$C$105:$DW$105,FALSE))-BD41)","v":437.04},{"$f":"MAX(0,OFFSET(Licence_IBEC,MATCH($B103,'Licence Info'!$B$40:$B$64,FALSE),MATCH(Control!BE$101,'Licence Info'!$C$37:$DW$37,FALSE))*$C$9+OFFSET(Licence_Subst,MATCH($B103,'Licence Info'!$B$74:$B$98,FALSE),MATCH(Control!BE$101,'Licence Info'!$C$71:$DW$71,FALSE))*$C$9+OFFSET(Licence_OIEC,MATCH($B103,'Licence Info'!$B$108:$B$132,FALSE),MATCH(Control!BE$101,'Licence Info'!$C$105:$DW$105,FALSE))-BE41)","v":437.04},{"$f":"MAX(0,OFFSET(Licence_IBEC,MATCH($B103,'Licence Info'!$B$40:$B$64,FALSE),MATCH(Control!BF$101,'Licence Info'!$C$37:$DW$37,FALSE))*$C$9+OFFSET(Licence_Subst,MATCH($B103,'Licence Info'!$B$74:$B$98,FALSE),MATCH(Control!BF$101,'Licence Info'!$C$71:$DW$71,FALSE))*$C$9+OFFSET(Licence_OIEC,MATCH($B103,'Licence Info'!$B$108:$B$132,FALSE),MATCH(Control!BF$101,'Licence Info'!$C$105:$DW$105,FALSE))-BF41)","v":437.04},{"$f":"MAX(0,OFFSET(Licence_IBEC,MATCH($B103,'Licence Info'!$B$40:$B$64,FALSE),MATCH(Control!BG$101,'Licence Info'!$C$37:$DW$37,FALSE))*$C$9+OFFSET(Licence_Subst,MATCH($B103,'Licence Info'!$B$74:$B$98,FALSE),MATCH(Control!BG$101,'Licence Info'!$C$71:$DW$71,FALSE))*$C$9+OFFSET(Licence_OIEC,MATCH($B103,'Licence Info'!$B$108:$B$132,FALSE),MATCH(Control!BG$101,'Licence Info'!$C$105:$DW$105,FALSE))-BG41)","v":437.04},{"$f":"MAX(0,OFFSET(Licence_IBEC,MATCH($B103,'Licence Info'!$B$40:$B$64,FALSE),MATCH(Control!BH$101,'Licence Info'!$C$37:$DW$37,FALSE))*$C$9+OFFSET(Licence_Subst,MATCH($B103,'Licence Info'!$B$74:$B$98,FALSE),MATCH(Control!BH$101,'Licence Info'!$C$71:$DW$71,FALSE))*$C$9+OFFSET(Licence_OIEC,MATCH($B103,'Licence Info'!$B$108:$B$132,FALSE),MATCH(Control!BH$101,'Licence Info'!$C$105:$DW$105,FALSE))-BH41)","v":437.04},{"$f":"MAX(0,OFFSET(Licence_IBEC,MATCH($B103,'Licence Info'!$B$40:$B$64,FALSE),MATCH(Control!BI$101,'Licence Info'!$C$37:$DW$37,FALSE))*$C$9+OFFSET(Licence_Subst,MATCH($B103,'Licence Info'!$B$74:$B$98,FALSE),MATCH(Control!BI$101,'Licence Info'!$C$71:$DW$71,FALSE))*$C$9+OFFSET(Licence_OIEC,MATCH($B103,'Licence Info'!$B$108:$B$132,FALSE),MATCH(Control!BI$101,'Licence Info'!$C$105:$DW$105,FALSE))-BI41)","v":437.04},{"$f":"MAX(0,OFFSET(Licence_IBEC,MATCH($B103,'Licence Info'!$B$40:$B$64,FALSE),MATCH(Control!BJ$101,'Licence Info'!$C$37:$DW$37,FALSE))*$C$9+OFFSET(Licence_Subst,MATCH($B103,'Licence Info'!$B$74:$B$98,FALSE),MATCH(Control!BJ$101,'Licence Info'!$C$71:$DW$71,FALSE))*$C$9+OFFSET(Licence_OIEC,MATCH($B103,'Licence Info'!$B$108:$B$132,FALSE),MATCH(Control!BJ$101,'Licence Info'!$C$105:$DW$105,FALSE))-BJ41)","v":437.04},{"$f":"MAX(0,OFFSET(Licence_IBEC,MATCH($B103,'Licence Info'!$B$40:$B$64,FALSE),MATCH(Control!BK$101,'Licence Info'!$C$37:$DW$37,FALSE))*$C$9+OFFSET(Licence_Subst,MATCH($B103,'Licence Info'!$B$74:$B$98,FALSE),MATCH(Control!BK$101,'Licence Info'!$C$71:$DW$71,FALSE))*$C$9+OFFSET(Licence_OIEC,MATCH($B103,'Licence Info'!$B$108:$B$132,FALSE),MATCH(Control!BK$101,'Licence Info'!$C$105:$DW$105,FALSE))-BK41)","v":{"$error":"#N/A"}}]
[null,{"$f":"B42","v":"Barrow"},{"$f":"MAX(0,OFFSET(Licence_IBEC,MATCH($B104,'Licence Info'!$B$40:$B$64,FALSE),MATCH(Control!C$101,'Licence Info'!$C$37:$DW$37,FALSE))*$C$9+OFFSET(Licence_Subst,MATCH($B104,'Licence Info'!$B$74:$B$98,FALSE),MATCH(Control!C$101,'Licence Info'!$C$71:$DW$71,FALSE))*$C$9+OFFSET(Licence_OIEC,MATCH($B104,'Licence Info'!$B$108:$B$132,FALSE),MATCH(Control!C$101,'Licence Info'!$C$105:$DW$105,FALSE))-C42)","v":248.10900000000007},{"$f":"MAX(0,OFFSET(Licence_IBEC,MATCH($B104,'Licence Info'!$B$40:$B$64,FALSE),MATCH(Control!D$101,'Licence Info'!$C$37:$DW$37,FALSE))*$C$9+OFFSET(Licence_Subst,MATCH($B104,'Licence Info'!$B$74:$B$98,FALSE),MATCH(Control!D$101,'Licence Info'!$C$71:$DW$71,FALSE))*$C$9+OFFSET(Licence_OIEC,MATCH($B104,'Licence Info'!$B$108:$B$132,FALSE),MATCH(Control!D$101,'Licence Info'!$C$105:$DW$105,FALSE))-D42)","v":219.70900000000006},{"$f":"MAX(0,OFFSET(Licence_IBEC,MATCH($B104,'Licence Info'!$B$40:$B$64,FALSE),MATCH(Control!E$101,'Licence Info'!$C$37:$DW$37,FALSE))*$C$9+OFFSET(Licence_Subst,MATCH($B104,'Licence Info'!$B$74:$B$98,FALSE),MATCH(Control!E$101,'Licence Info'!$C$71:$DW$71,FALSE))*$C$9+OFFSET(Licence_OIEC,MATCH($B104,'Licence Info'!$B$108:$B$132,FALSE),MATCH(Control!E$101,'Licence Info'!$C$105:$DW$105,FALSE))-E42)","v":290.80900000000008},{"$f":"MAX(0,OFFSET(Licence_IBEC,MATCH($B104,'Licence Info'!$B$40:$B$64,FALSE),MATCH(Control!F$101,'Licence Info'!$C$37:$DW$37,FALSE))*$C$9+OFFSET(Licence_Subst,MATCH($B104,'Licence Info'!$B$74:$B$98,FALSE),MATCH(Control!F$101,'Licence Info'!$C$71:$DW$71,FALSE))*$C$9+OFFSET(Licence_OIEC,MATCH($B104,'Licence Info'!$B$108:$B$132,FALSE),MATCH(Control!F$101,'Licence Info'!$C$105:$DW$105,FALSE))-F42)","v":285.50900000000007},{"$f":"MAX(0,OFFSET(Licence_IBEC,MATCH($B104,'Licence Info'!$B$40:$B$64,FALSE),MATCH(Control!G$101,'Licence Info'!$C$37:$DW$37,FALSE))*$C$9+OFFSET(Licence_Subst,MATCH($B104,'Licence Info'!$B$74:$B$98,FALSE),MATCH(Control!G$101,'Licence Info'!$C$71:$DW$71,FALSE))*$C$9+OFFSET(Licence_OIEC,MATCH($B104,'Licence Info'!$B$108:$B$132,FALSE),MATCH(Control!G$101,'Licence Info'!$C$105:$DW$105,FALSE))-G42)","v":288.60900000000009},{"$f":"MAX(0,OFFSET(Licence_IBEC,MATCH($B104,'Licence Info'!$B$40:$B$64,FALSE),MATCH(Control!H$101,'Licence Info'!$C$37:$DW$37,FALSE))*$C$9+OFFSET(Licence_Subst,MATCH($B104,'Licence Info'!$B$74:$B$98,FALSE),MATCH(Control!H$101,'Licence Info'!$C$71:$DW$71,FALSE))*$C$9+OFFSET(Licence_OIEC,MATCH($B104,'Licence Info'!$B$108:$B$132,FALSE),MATCH(Control!H$101,'Licence Info'!$C$105:$DW$105,FALSE))-H42)","v":231.90900000000008},{"$f":"MAX(0,OFFSET(Licence_IBEC,MATCH($B104,'Licence Info'!$B$40:$B$64,FALSE),MATCH(Control!I$101,'Licence Info'!$C$37:$DW$37,FALSE))*$C$9+OFFSET(Licence_Subst,MATCH($B104,'Licence Info'!$B$74:$B$98,FALSE),MATCH(Control!I$101,'Licence Info'!$C$71:$DW$71,FALSE))*$C$9+OFFSET(Licence_OIEC,MATCH($B104,'Licence Info'!$B$108:$B$132,FALSE),MATCH(Control!I$101,'Licence Info'!$C$105:$DW$105,FALSE))-I42)","v":296.30900000000008},{"$f":"MAX(0,OFFSET(Licence_IBEC,MATCH($B104,'Licence Info'!$B$40:$B$64,FALSE),MATCH(Control!J$101,'Licence Info'!$C$37:$DW$37,FALSE))*$C$9+OFFSET(Licence_Subst,MATCH($B104,'Licence Info'!$B$74:$B$98,FALSE),MATCH(Control!J$101,'Licence Info'!$C$71:$DW$71,FALSE))*$C$9+OFFSET(Licence_OIEC,MATCH($B104,'Licence Info'!$B$108:$B$132,FALSE),MATCH(Control!J$101,'Licence Info'!$C$105:$DW$105,FALSE))-J42)","v":292.10900000000009},{"$f":"MAX(0,OFFSET(Licence_IBEC,MATCH($B104,'Licence Info'!$B$40:$B$64,FALSE),MATCH(Control!K$101,'Licence Info'!$C$37:$DW$37,FALSE))*$C$9+OFFSET(Licence_Subst,MATCH($B104,'Licence Info'!$B$74:$B$98,FALSE),MATCH(Control!K$101,'Licence Info'!$C$71:$DW$71,FALSE))*$C$9+OFFSET(Licence_OIEC,MATCH($B104,'Licence Info'!$B$108:$B$132,FALSE),MATCH(Control!K$101,'Licence Info'!$C$105:$DW$105,FALSE))-K42)","v":293.20900000000006},{"$f":"MAX(0,OFFSET(Licence_IBEC,MATCH($B104,'Licence Info'!$B$40:$B$64,FALSE),MATCH(Control!L$101,'Licence Info'!$C$37:$DW$37,FALSE))*$C$9+OFFSET(Licence_Subst,MATCH($B104,'Licence Info'!$B$74:$B$98,FALSE),MATCH(Control!L$101,'Licence Info'!$C$71:$DW$71,FALSE))*$C$9+OFFSET(Licence_OIEC,MATCH($B104,'Licence Info'!$B$108:$B$132,FALSE),MATCH(Control!L$101,'Licence Info'!$C$105:$DW$105,FALSE))-L42)","v":236.00900000000007},{"$f":"MAX(0,OFFSET(Licence_IBEC,MATCH($B104,'Licence Info'!$B$40:$B$64,FALSE),MATCH(Control!M$101,'Licence Info'!$C$37:$DW$37,FALSE))*$C$9+OFFSET(Licence_Subst,MATCH($B104,'Licence Info'!$B$74:$B$98,FALSE),MATCH(Control!M$101,'Licence Info'!$C$71:$DW$71,FALSE))*$C$9+OFFSET(Licence_OIEC,MATCH($B104,'Licence Info'!$B$108:$B$132,FALSE),MATCH(Control!M$101,'Licence Info'!$C$105:$DW$105,FALSE))-M42)","v":298.60900000000009},{"$f":"MAX(0,OFFSET(Licence_IBEC,MATCH($B104,'Licence Info'!$B$40:$B$64,FALSE),MATCH(Control!N$101,'Licence Info'!$C$37:$DW$37,FALSE))*$C$9+OFFSET(Licence_Subst,MATCH($B104,'Licence Info'!$B$74:$B$98,FALSE),MATCH(Control!N$101,'Licence Info'!$C$71:$DW$71,FALSE))*$C$9+OFFSET(Licence_OIEC,MATCH($B104,'Licence Info'!$B$108:$B$132,FALSE),MATCH(Control!N$101,'Licence Info'!$C$105:$DW$105,FALSE))-N42)","v":295.10900000000009},{"$f":"MAX(0,OFFSET(Licence_IBEC,MATCH($B104,'Licence Info'!$B$40:$B$64,FALSE),MATCH(Control!O$101,'Licence Info'!$C$37:$DW$37,FALSE))*$C$9+OFFSET(Licence_Subst,MATCH($B104,'Licence Info'!$B$74:$B$98,FALSE),MATCH(Control!O$101,'Licence Info'!$C$71:$DW$71,FALSE))*$C$9+OFFSET(Licence_OIEC,MATCH($B104,'Licence Info'!$B$108:$B$132,FALSE),MATCH(Control!O$101,'Licence Info'!$C$105:$DW$105,FALSE))-O42)","v":295.90900000000005},{"$f":"MAX(0,OFFSET(Licence_IBEC,MATCH($B104,'Licence Info'!$B$40:$B$64,FALSE),MATCH(Control!P$101,'Licence Info'!$C$37:$DW$37,FALSE))*$C$9+OFFSET(Licence_Subst,MATCH($B104,'Licence Info'!$B$74:$B$98,FALSE),MATCH(Control!P$101,'Licence Info'!$C$71:$DW$71,FALSE))*$C$9+OFFSET(Licence_OIEC,MATCH($B104,'Licence Info'!$B$108:$B$132,FALSE),MATCH(Control!P$101,'Licence Info'!$C$105:$DW$105,FALSE))-P42)","v":246.46900000000008},{"$f":"MAX(0,OFFSET(Licence_IBEC,MATCH($B104,'Licence Info'!$B$40:$B$64,FALSE),MATCH(Control!Q$101,'Licence Info'!$C$37:$DW$37,FALSE))*$C$9+OFFSET(Licence_Subst,MATCH($B104,'Licence Info'!$B$74:$B$98,FALSE),MATCH(Control!Q$101,'Licence Info'!$C$71:$DW$71,FALSE))*$C$9+OFFSET(Licence_OIEC,MATCH($B104,'Licence Info'!$B$108:$B$132,FALSE),MATCH(Control!Q$101,'Licence Info'!$C$105:$DW$105,FALSE))-Q42)","v":305.10900000000009},{"$f":"MAX(0,OFFSET(Licence_IBEC,MATCH($B104,'Licence Info'!$B$40:$B$64,FALSE),MATCH(Control!R$101,'Licence Info'!$C$37:$DW$37,FALSE))*$C$9+OFFSET(Licence_Subst,MATCH($B104,'Licence Info'!$B$74:$B$98,FALSE),MATCH(Control!R$101,'Licence Info'!$C$71:$DW$71,FALSE))*$C$9+OFFSET(Licence_OIEC,MATCH($B104,'Licence Info'!$B$108:$B$132,FALSE),MATCH(Control!R$101,'Licence Info'!$C$105:$DW$105,FALSE))-R42)","v":304.50900000000007},{"$f":"MAX(0,OFFSET(Licence_IBEC,MATCH($B104,'Licence Info'!$B$40:$B$64,FALSE),MATCH(Control!S$101,'Licence Info'!$C$37:$DW$37,FALSE))*$C$9+OFFSET(Licence_Subst,MATCH($B104,'Licence Info'!$B$74:$B$98,FALSE),MATCH(Control!S$101,'Licence Info'!$C$71:$DW$71,FALSE))*$C$9+OFFSET(Licence_OIEC,MATCH($B104,'Licence Info'!$B$108:$B$132,FALSE),MATCH(Control!S$101,'Licence Info'!$C$105:$DW$105,FALSE))-S42)","v":304.50900000000007},{"$f":"MAX(0,OFFSET(Licence_IBEC,MATCH($B104,'Licence Info'!$B$40:$B$64,FALSE),MATCH(Control!T$101,'Licence Info'!$C$37:$DW$37,FALSE))*$C$9+OFFSET(Licence_Subst,MATCH($B104,'Licence Info'!$B$74:$B$98,FALSE),MATCH(Control!T$101,'Licence Info'!$C$71:$DW$71,FALSE))*$C$9+OFFSET(Licence_OIEC,MATCH($B104,'Licence Info'!$B$108:$B$132,FALSE),MATCH(Control!T$101,'Licence Info'!$C$105:$DW$105,FALSE))-T42)","v":245.70900000000006},{"$f":"MAX(0,OFFSET(Licence_IBEC,MATCH($B104,'Licence Info'!$B$40:$B$64,FALSE),MATCH(Control!U$101,'Licence Info'!$C$37:$DW$37,FALSE))*$C$9+OFFSET(Licence_Subst,MATCH($B104,'Licence Info'!$B$74:$B$98,FALSE),MATCH(Control!U$101,'Licence Info'!$C$71:$DW$71,FALSE))*$C$9+OFFSET(Licence_OIEC,MATCH($B104,'Licence Info'!$B$108:$B$132,FALSE),MATCH(Control!U$101,'Licence Info'!$C$105:$DW$105,FALSE))-U42)","v":305.10900000000009},{"$f":"MAX(0,OFFSET(Licence_IBEC,MATCH($B104,'Licence Info'!$B$40:$B$64,FALSE),MATCH(Control!V$101,'Licence Info'!$C$37:$DW$37,FALSE))*$C$9+OFFSET(Licence_Subst,MATCH($B104,'Licence Info'!$B$74:$B$98,FALSE),MATCH(Control!V$101,'Licence Info'!$C$71:$DW$71,FALSE))*$C$9+OFFSET(Licence_OIEC,MATCH($B104,'Licence Info'!$B$108:$B$132,FALSE),MATCH(Control!V$101,'Licence Info'!$C$105:$DW$105,FALSE))-V42)","v":304.45160200000009},{"$f":"MAX(0,OFFSET(Licence_IBEC,MATCH($B104,'Licence Info'!$B$40:$B$64,FALSE),MATCH(Control!W$101,'Licence Info'!$C$37:$DW$37,FALSE))*$C$9+OFFSET(Licence_Subst,MATCH($B104,'Licence Info'!$B$74:$B$98,FALSE),MATCH(Control!W$101,'Licence Info'!$C$71:$DW$71,FALSE))*$C$9+OFFSET(Licence_OIEC,MATCH($B104,'Licence Info'!$B$108:$B$132,FALSE),MATCH(Control!W$101,'Licence Info'!$C$105:$DW$105,FALSE))-W42)","v":304.60900000000009},{"$f":"MAX(0,OFFSET(Licence_IBEC,MATCH($B104,'Licence Info'!$B$40:$B$64,FALSE),MATCH(Control!X$101,'Licence Info'!$C$37:$DW$37,FALSE))*$C$9+OFFSET(Licence_Subst,MATCH($B104,'Licence Info'!$B$74:$B$98,FALSE),MATCH(Control!X$101,'Licence Info'!$C$71:$DW$71,FALSE))*$C$9+OFFSET(Licence_OIEC,MATCH($B104,'Licence Info'!$B$108:$B$132,FALSE),MATCH(Control!X$101,'Licence Info'!$C$105:$DW$105,FALSE))-X42)","v":306.00900000000007},{"$f":"MAX(0,OFFSET(Licence_IBEC,MATCH($B104,'Licence Info'!$B$40:$B$64,FALSE),MATCH(Control!Y$101,'Licence Info'!$C$37:$DW$37,FALSE))*$C$9+OFFSET(Licence_Subst,MATCH($B104,'Licence Info'!$B$74:$B$98,FALSE),MATCH(Control!Y$101,'Licence Info'!$C$71:$DW$71,FALSE))*$C$9+OFFSET(Licence_OIEC,MATCH($B104,'Licence Info'!$B$108:$B$132,FALSE),MATCH(Control!Y$101,'Licence Info'!$C$105:$DW$105,FALSE))-Y42)","v":306.00900000000007},{"$f":"MAX(0,OFFSET(Licence_IBEC,MATCH($B104,'Licence Info'!$B$40:$B$64,FALSE),MATCH(Control!Z$101,'Licence Info'!$C$37:$DW$37,FALSE))*$C$9+OFFSET(Licence_Subst,MATCH($B104,'Licence Info'!$B$74:$B$98,FALSE),MATCH(Control!Z$101,'Licence Info'!$C$71:$DW$71,FALSE))*$C$9+OFFSET(Licence_OIEC,MATCH($B104,'Licence Info'!$B$108:$B$132,FALSE),MATCH(Control!Z$101,'Licence Info'!$C$105:$DW$105,FALSE))-Z42)","v":306.00900000000007},{"$f":"MAX(0,OFFSET(Licence_IBEC,MATCH($B104,'Licence Info'!$B$40:$B$64,FALSE),MATCH(Control!AA$101,'Licence Info'!$C$37:$DW$37,FALSE))*$C$9+OFFSET(Licence_Subst,MATCH($B104,'Licence Info'!$B$74:$B$98,FALSE),MATCH(Control!AA$101,'Licence Info'!$C$71:$DW$71,FALSE))*$C$9+OFFSET(Licence_OIEC,MATCH($B104,'Licence Info'!$B$108:$B$132,FALSE),MATCH(Control!AA$101,'Licence Info'!$C$105:$DW$105,FALSE))-AA42)","v":306.00900000000007},{"$f":"MAX(0,OFFSET(Licence_IBEC,MATCH($B104,'Licence Info'!$B$40:$B$64,FALSE),MATCH(Control!AB$101,'Licence Info'!$C$37:$DW$37,FALSE))*$C$9+OFFSET(Licence_Subst,MATCH($B104,'Licence Info'!$B$74:$B$98,FALSE),MATCH(Control!AB$101,'Licence Info'!$C$71:$DW$71,FALSE))*$C$9+OFFSET(Licence_OIEC,MATCH($B104,'Licence Info'!$B$108:$B$132,FALSE),MATCH(Control!AB$101,'Licence Info'!$C$105:$DW$105,FALSE))-AB42)","v":306.00900000000007},{"$f":"MAX(0,OFFSET(Licence_IBEC,MATCH($B104,'Licence Info'!$B$40:$B$64,FALSE),MATCH(Control!AC$101,'Licence Info'!$C$37:$DW$37,FALSE))*$C$9+OFFSET(Licence_Subst,MATCH($B104,'Licence Info'!$B$74:$B$98,FALSE),MATCH(Control!AC$101,'Licence Info'!$C$71:$DW$71,FALSE))*$C$9+OFFSET(Licence_OIEC,MATCH($B104,'Licence Info'!$B$108:$B$132,FALSE),MATCH(Control!AC$101,'Licence Info'!$C$105:$DW$105,FALSE))-AC42)","v":306.00900000000007},{"$f":"MAX(0,OFFSET(Licence_IBEC,MATCH($B104,'Licence Info'!$B$40:$B$64,FALSE),MATCH(Control!AD$101,'Licence Info'!$C$37:$DW$37,FALSE))*$C$9+OFFSET(Licence_Subst,MATCH($B104,'Licence Info'!$B$74:$B$98,FALSE),MATCH(Control!AD$101,'Licence Info'!$C$71:$DW$71,FALSE))*$C$9+OFFSET(Licence_OIEC,MATCH($B104,'Licence Info'!$B$108:$B$132,FALSE),MATCH(Control!AD$101,'Licence Info'!$C$105:$DW$105,FALSE))-AD42)","v":306.00900000000007},{"$f":"MAX(0,OFFSET(Licence_IBEC,MATCH($B104,'Licence Info'!$B$40:$B$64,FALSE),MATCH(Control!AE$101,'Licence Info'!$C$37:$DW$37,FALSE))*$C$9+OFFSET(Licence_Subst,MATCH($B104,'Licence Info'!$B$74:$B$98,FALSE),MATCH(Control!AE$101,'Licence Info'!$C$71:$DW$71,FALSE))*$C$9+OFFSET(Licence_OIEC,MATCH($B104,'Licence Info'!$B$108:$B$132,FALSE),MATCH(Control!AE$101,'Licence Info'!$C$105:$DW$105,FALSE))-AE42)","v":306.00900000000007},{"$f":"MAX(0,OFFSET(Licence_IBEC,MATCH($B104,'Licence Info'!$B$40:$B$64,FALSE),MATCH(Control!AF$101,'Licence Info'!$C$37:$DW$37,FALSE))*$C$9+OFFSET(Licence_Subst,MATCH($B104,'Licence Info'!$B$74:$B$98,FALSE),MATCH(Control!AF$101,'Licence Info'!$C$71:$DW$71,FALSE))*$C$9+OFFSET(Licence_OIEC,MATCH($B104,'Licence Info'!$B$108:$B$132,FALSE),MATCH(Control!AF$101,'Licence Info'!$C$105:$DW$105,FALSE))-AF42)","v":306.00900000000007},{"$f":"MAX(0,OFFSET(Licence_IBEC,MATCH($B104,'Licence Info'!$B$40:$B$64,FALSE),MATCH(Control!AG$101,'Licence Info'!$C$37:$DW$37,FALSE))*$C$9+OFFSET(Licence_Subst,MATCH($B104,'Licence Info'!$B$74:$B$98,FALSE),MATCH(Control!AG$101,'Licence Info'!$C$71:$DW$71,FALSE))*$C$9+OFFSET(Licence_OIEC,MATCH($B104,'Licence Info'!$B$108:$B$132,FALSE),MATCH(Control!AG$101,'Licence Info'!$C$105:$DW$105,FALSE))-AG42)","v":306.00900000000007},{"$f":"MAX(0,OFFSET(Licence_IBEC,MATCH($B104,'Licence Info'!$B$40:$B$64,FALSE),MATCH(Control!AH$101,'Licence Info'!$C$37:$DW$37,FALSE))*$C$9+OFFSET(Licence_Subst,MATCH($B104,'Licence Info'!$B$74:$B$98,FALSE),MATCH(Control!AH$101,'Licence Info'!$C$71:$DW$71,FALSE))*$C$9+OFFSET(Licence_OIEC,MATCH($B104,'Licence Info'!$B$108:$B$132,FALSE),MATCH(Control!AH$101,'Licence Info'!$C$105:$DW$105,FALSE))-AH42)","v":306.00900000000007},{"$f":"MAX(0,OFFSET(Licence_IBEC,MATCH($B104,'Licence Info'!$B$40:$B$64,FALSE),MATCH(Control!AI$101,'Licence Info'!$C$37:$DW$37,FALSE))*$C$9+OFFSET(Licence_Subst,MATCH($B104,'Licence Info'!$B$74:$B$98,FALSE),MATCH(Control!AI$101,'Licence Info'!$C$71:$DW$71,FALSE))*$C$9+OFFSET(Licence_OIEC,MATCH($B104,'Licence Info'!$B$108:$B$132,FALSE),MATCH(Control!AI$101,'Licence Info'!$C$105:$DW$105,FALSE))-AI42)","v":306.00900000000007},{"$f":"MAX(0,OFFSET(Licence_IBEC,MATCH($B104,'Licence Info'!$B$40:$B$64,FALSE),MATCH(Control!AJ$101,'Licence Info'!$C$37:$DW$37,FALSE))*$C$9+OFFSET(Licence_Subst,MATCH($B104,'Licence Info'!$B$74:$B$98,FALSE),MATCH(Control!AJ$101,'Licence Info'!$C$71:$DW$71,FALSE))*$C$9+OFFSET(Licence_OIEC,MATCH($B104,'Licence Info'!$B$108:$B$132,FALSE),MATCH(Control!AJ$101,'Licence Info'!$C$105:$DW$105,FALSE))-AJ42)","v":306.00900000000007},{"$f":"MAX(0,OFFSET(Licence_IBEC,MATCH($B104,'Licence Info'!$B$40:$B$64,FALSE),MATCH(Control!AK$101,'Licence Info'!$C$37:$DW$37,FALSE))*$C$9+OFFSET(Licence_Subst,MATCH($B104,'Licence Info'!$B$74:$B$98,FALSE),MATCH(Control!AK$101,'Licence Info'!$C$71:$DW$71,FALSE))*$C$9+OFFSET(Licence_OIEC,MATCH($B104,'Licence Info'!$B$108:$B$132,FALSE),MATCH(Control!AK$101,'Licence Info'!$C$105:$DW$105,FALSE))-AK42)","v":306.00900000000007},{"$f":"MAX(0,OFFSET(Licence_IBEC,MATCH($B104,'Licence Info'!$B$40:$B$64,FALSE),MATCH(Control!AL$101,'Licence Info'!$C$37:$DW$37,FALSE))*$C$9+OFFSET(Licence_Subst,MATCH($B104,'Licence Info'!$B$74:$B$98,FALSE),MATCH(Control!AL$101,'Licence Info'!$C$71:$DW$71,FALSE))*$C$9+OFFSET(Licence_OIEC,MATCH($B104,'Licence Info'!$B$108:$B$132,FALSE),MATCH(Control!AL$101,'Licence Info'!$C$105:$DW$105,FALSE))-AL42)","v":306.00900000000007},{"$f":"MAX(0,OFFSET(Licence_IBEC,MATCH($B104,'Licence Info'!$B$40:$B$64,FALSE),MATCH(Control!AM$101,'Licence Info'!$C$37:$DW$37,FALSE))*$C$9+OFFSET(Licence_Subst,MATCH($B104,'Licence Info'!$B$74:$B$98,FALSE),MATCH(Control!AM$101,'Licence Info'!$C$71:$DW$71,FALSE))*$C$9+OFFSET(Licence_OIEC,MATCH($B104,'Licence Info'!$B$108:$B$132,FALSE),MATCH(Control!AM$101,'Licence Info'!$C$105:$DW$105,FALSE))-AM42)","v":306.00900000000007},{"$f":"MAX(0,OFFSET(Licence_IBEC,MATCH($B104,'Licence Info'!$B$40:$B$64,FALSE),MATCH(Control!AN$101,'Licence Info'!$C$37:$DW$37,FALSE))*$C$9+OFFSET(Licence_Subst,MATCH($B104,'Licence Info'!$B$74:$B$98,FALSE),MATCH(Control!AN$101,'Licence Info'!$C$71:$DW$71,FALSE))*$C$9+OFFSET(Licence_OIEC,MATCH($B104,'Licence Info'!$B$108:$B$132,FALSE),MATCH(Control!AN$101,'Licence Info'!$C$105:$DW$105,FALSE))-AN42)","v":306.00900000000007},{"$f":"MAX(0,OFFSET(Licence_IBEC,MATCH($B104,'Licence Info'!$B$40:$B$64,FALSE),MATCH(Control!AO$101,'Licence Info'!$C$37:$DW$37,FALSE))*$C$9+OFFSET(Licence_Subst,MATCH($B104,'Licence Info'!$B$74:$B$98,FALSE),MATCH(Control!AO$101,'Licence Info'!$C$71:$DW$71,FALSE))*$C$9+OFFSET(Licence_OIEC,MATCH($B104,'Licence Info'!$B$108:$B$132,FALSE),MATCH(Control!AO$101,'Licence Info'!$C$105:$DW$105,FALSE))-AO42)","v":306.00900000000007},{"$f":"MAX(0,OFFSET(Licence_IBEC,MATCH($B104,'Licence Info'!$B$40:$B$64,FALSE),MATCH(Control!AP$101,'Licence Info'!$C$37:$DW$37,FALSE))*$C$9+OFFSET(Licence_Subst,MATCH($B104,'Licence Info'!$B$74:$B$98,FALSE),MATCH(Control!AP$101,'Licence Info'!$C$71:$DW$71,FALSE))*$C$9+OFFSET(Licence_OIEC,MATCH($B104,'Licence Info'!$B$108:$B$132,FALSE),MATCH(Control!AP$101,'Licence Info'!$C$105:$DW$105,FALSE))-AP42)","v":306.00900000000007},{"$f":"MAX(0,OFFSET(Licence_IBEC,MATCH($B104,'Licence Info'!$B$40:$B$64,FALSE),MATCH(Control!AQ$101,'Licence Info'!$C$37:$DW$37,FALSE))*$C$9+OFFSET(Licence_Subst,MATCH($B104,'Licence Info'!$B$74:$B$98,FALSE),MATCH(Control!AQ$101,'Licence Info'!$C$71:$DW$71,FALSE))*$C$9+OFFSET(Licence_OIEC,MATCH($B104,'Licence Info'!$B$108:$B$132,FALSE),MATCH(Control!AQ$101,'Licence Info'!$C$105:$DW$105,FALSE))-AQ42)","v":306.00900000000007},{"$f":"MAX(0,OFFSET(Licence_IBEC,MATCH($B104,'Licence Info'!$B$40:$B$64,FALSE),MATCH(Control!AR$101,'Licence Info'!$C$37:$DW$37,FALSE))*$C$9+OFFSET(Licence_Subst,MATCH($B104,'Licence Info'!$B$74:$B$98,FALSE),MATCH(Control!AR$101,'Licence Info'!$C$71:$DW$71,FALSE))*$C$9+OFFSET(Licence_OIEC,MATCH($B104,'Licence Info'!$B$108:$B$132,FALSE),MATCH(Control!AR$101,'Licence Info'!$C$105:$DW$105,FALSE))-AR42)","v":306.00900000000007},{"$f":"MAX(0,OFFSET(Licence_IBEC,MATCH($B104,'Licence Info'!$B$40:$B$64,FALSE),MATCH(Control!AS$101,'Licence Info'!$C$37:$DW$37,FALSE))*$C$9+OFFSET(Licence_Subst,MATCH($B104,'Licence Info'!$B$74:$B$98,FALSE),MATCH(Control!AS$101,'Licence Info'!$C$71:$DW$71,FALSE))*$C$9+OFFSET(Licence_OIEC,MATCH($B104,'Licence Info'!$B$108:$B$132,FALSE),MATCH(Control!AS$101,'Licence Info'!$C$105:$DW$105,FALSE))-AS42)","v":306.00900000000007},{"$f":"MAX(0,OFFSET(Licence_IBEC,MATCH($B104,'Licence Info'!$B$40:$B$64,FALSE),MATCH(Control!AT$101,'Licence Info'!$C$37:$DW$37,FALSE))*$C$9+OFFSET(Licence_Subst,MATCH($B104,'Licence Info'!$B$74:$B$98,FALSE),MATCH(Control!AT$101,'Licence Info'!$C$71:$DW$71,FALSE))*$C$9+OFFSET(Licence_OIEC,MATCH($B104,'Licence Info'!$B$108:$B$132,FALSE),MATCH(Control!AT$101,'Licence Info'!$C$105:$DW$105,FALSE))-AT42)","v":306.00900000000007},{"$f":"MAX(0,OFFSET(Licence_IBEC,MATCH($B104,'Licence Info'!$B$40:$B$64,FALSE),MATCH(Control!AU$101,'Licence Info'!$C$37:$DW$37,FALSE))*$C$9+OFFSET(Licence_Subst,MATCH($B104,'Licence Info'!$B$74:$B$98,FALSE),MATCH(Control!AU$101,'Licence Info'!$C$71:$DW$71,FALSE))*$C$9+OFFSET(Licence_OIEC,MATCH($B104,'Licence Info'!$B$108:$B$132,FALSE),MATCH(Control!AU$101,'Licence Info'!$C$105:$DW$105,FALSE))-AU42)","v":306.00900000000007},{"$f":"MAX(0,OFFSET(Licence_IBEC,MATCH($B104,'Licence Info'!$B$40:$B$64,FALSE),MATCH(Control!AV$101,'Licence Info'!$C$37:$DW$37,FALSE))*$C$9+OFFSET(Licence_Subst,MATCH($B104,'Licence Info'!$B$74:$B$98,FALSE),MATCH(Control!AV$101,'Licence Info'!$C$71:$DW$71,FALSE))*$C$9+OFFSET(Licence_OIEC,MATCH($B104,'Licence Info'!$B$108:$B$132,FALSE),MATCH(Control!AV$101,'Licence Info'!$C$105:$DW$105,FALSE))-AV42)","v":306.00900000000007},{"$f":"MAX(0,OFFSET(Licence_IBEC,MATCH($B104,'Licence Info'!$B$40:$B$64,FALSE),MATCH(Control!AW$101,'Licence Info'!$C$37:$DW$37,FALSE))*$C$9+OFFSET(Licence_Subst,MATCH($B104,'Licence Info'!$B$74:$B$98,FALSE),MATCH(Control!AW$101,'Licence Info'!$C$71:$DW$71,FALSE))*$C$9+OFFSET(Licence_OIEC,MATCH($B104,'Licence Info'!$B$108:$B$132,FALSE),MATCH(Control!AW$101,'Licence Info'!$C$105:$DW$105,FALSE))-AW42)","v":306.00900000000007},{"$f":"MAX(0,OFFSET(Licence_IBEC,MATCH($B104,'Licence Info'!$B$40:$B$64,FALSE),MATCH(Control!AX$101,'Licence Info'!$C$37:$DW$37,FALSE))*$C$9+OFFSET(Licence_Subst,MATCH($B104,'Licence Info'!$B$74:$B$98,FALSE),MATCH(Control!AX$101,'Licence Info'!$C$71:$DW$71,FALSE))*$C$9+OFFSET(Licence_OIEC,MATCH($B104,'Licence Info'!$B$108:$B$132,FALSE),MATCH(Control!AX$101,'Licence Info'!$C$105:$DW$105,FALSE))-AX42)","v":306.00900000000007},{"$f":"MAX(0,OFFSET(Licence_IBEC,MATCH($B104,'Licence Info'!$B$40:$B$64,FALSE),MATCH(Control!AY$101,'Licence Info'!$C$37:$DW$37,FALSE))*$C$9+OFFSET(Licence_Subst,MATCH($B104,'Licence Info'!$B$74:$B$98,FALSE),MATCH(Control!AY$101,'Licence Info'!$C$71:$DW$71,FALSE))*$C$9+OFFSET(Licence_OIEC,MATCH($B104,'Licence Info'!$B$108:$B$132,FALSE),MATCH(Control!AY$101,'Licence Info'!$C$105:$DW$105,FALSE))-AY42)","v":306.00900000000007},{"$f":"MAX(0,OFFSET(Licence_IBEC,MATCH($B104,'Licence Info'!$B$40:$B$64,FALSE),MATCH(Control!AZ$101,'Licence Info'!$C$37:$DW$37,FALSE))*$C$9+OFFSET(Licence_Subst,MATCH($B104,'Licence Info'!$B$74:$B$98,FALSE),MATCH(Control!AZ$101,'Licence Info'!$C$71:$DW$71,FALSE))*$C$9+OFFSET(Licence_OIEC,MATCH($B104,'Licence Info'!$B$108:$B$132,FALSE),MATCH(Control!AZ$101,'Licence Info'!$C$105:$DW$105,FALSE))-AZ42)","v":306.00900000000007},{"$f":"MAX(0,OFFSET(Licence_IBEC,MATCH($B104,'Licence Info'!$B$40:$B$64,FALSE),MATCH(Control!BA$101,'Licence Info'!$C$37:$DW$37,FALSE))*$C$9+OFFSET(Licence_Subst,MATCH($B104,'Licence Info'!$B$74:$B$98,FALSE),MATCH(Control!BA$101,'Licence Info'!$C$71:$DW$71,FALSE))*$C$9+OFFSET(Licence_OIEC,MATCH($B104,'Licence Info'!$B$108:$B$132,FALSE),MATCH(Control!BA$101,'Licence Info'!$C$105:$DW$105,FALSE))-BA42)","v":306.00900000000007},{"$f":"MAX(0,OFFSET(Licence_IBEC,MATCH($B104,'Licence Info'!$B$40:$B$64,FALSE),MATCH(Control!BB$101,'Licence Info'!$C$37:$DW$37,FALSE))*$C$9+OFFSET(Licence_Subst,MATCH($B104,'Licence Info'!$B$74:$B$98,FALSE),MATCH(Control!BB$101,'Licence Info'!$C$71:$DW$71,FALSE))*$C$9+OFFSET(Licence_OIEC,MATCH($B104,'Licence Info'!$B$108:$B$132,FALSE),MATCH(Control!BB$101,'Licence Info'!$C$105:$DW$105,FALSE))-BB42)","v":306.00900000000007},{"$f":"MAX(0,OFFSET(Licence_IBEC,MATCH($B104,'Licence Info'!$B$40:$B$64,FALSE),MATCH(Control!BC$101,'Licence Info'!$C$37:$DW$37,FALSE))*$C$9+OFFSET(Licence_Subst,MATCH($B104,'Licence Info'!$B$74:$B$98,FALSE),MATCH(Control!BC$101,'Licence Info'!$C$71:$DW$71,FALSE))*$C$9+OFFSET(Licence_OIEC,MATCH($B104,'Licence Info'!$B$108:$B$132,FALSE),MATCH(Control!BC$101,'Licence Info'!$C$105:$DW$105,FALSE))-BC42)","v":306.00900000000007},{"$f":"MAX(0,OFFSET(Licence_IBEC,MATCH($B104,'Licence Info'!$B$40:$B$64,FALSE),MATCH(Control!BD$101,'Licence Info'!$C$37:$DW$37,FALSE))*$C$9+OFFSET(Licence_Subst,MATCH($B104,'Licence Info'!$B$74:$B$98,FALSE),MATCH(Control!BD$101,'Licence Info'!$C$71:$DW$71,FALSE))*$C$9+OFFSET(Licence_OIEC,MATCH($B104,'Licence Info'!$B$108:$B$132,FALSE),MATCH(Control!BD$101,'Licence Info'!$C$105:$DW$105,FALSE))-BD42)","v":306.00900000000007},{"$f":"MAX(0,OFFSET(Licence_IBEC,MATCH($B104,'Licence Info'!$B$40:$B$64,FALSE),MATCH(Control!BE$101,'Licence Info'!$C$37:$DW$37,FALSE))*$C$9+OFFSET(Licence_Subst,MATCH($B104,'Licence Info'!$B$74:$B$98,FALSE),MATCH(Control!BE$101,'Licence Info'!$C$71:$DW$71,FALSE))*$C$9+OFFSET(Licence_OIEC,MATCH($B104,'Licence Info'!$B$108:$B$132,FALSE),MATCH(Control!BE$101,'Licence Info'!$C$105:$DW$105,FALSE))-BE42)","v":306.00900000000007},{"$f":"MAX(0,OFFSET(Licence_IBEC,MATCH($B104,'Licence Info'!$B$40:$B$64,FALSE),MATCH(Control!BF$101,'Licence Info'!$C$37:$DW$37,FALSE))*$C$9+OFFSET(Licence_Subst,MATCH($B104,'Licence Info'!$B$74:$B$98,FALSE),MATCH(Control!BF$101,'Licence Info'!$C$71:$DW$71,FALSE))*$C$9+OFFSET(Licence_OIEC,MATCH($B104,'Licence Info'!$B$108:$B$132,FALSE),MATCH(Control!BF$101,'Licence Info'!$C$105:$DW$105,FALSE))-BF42)","v":306.00900000000007},{"$f":"MAX(0,OFFSET(Licence_IBEC,MATCH($B104,'Licence Info'!$B$40:$B$64,FALSE),MATCH(Control!BG$101,'Licence Info'!$C$37:$DW$37,FALSE))*$C$9+OFFSET(Licence_Subst,MATCH($B104,'Licence Info'!$B$74:$B$98,FALSE),MATCH(Control!BG$101,'Licence Info'!$C$71:$DW$71,FALSE))*$C$9+OFFSET(Licence_OIEC,MATCH($B104,'Licence Info'!$B$108:$B$132,FALSE),MATCH(Control!BG$101,'Licence Info'!$C$105:$DW$105,FALSE))-BG42)","v":306.00900000000007},{"$f":"MAX(0,OFFSET(Licence_IBEC,MATCH($B104,'Licence Info'!$B$40:$B$64,FALSE),MATCH(Control!BH$101,'Licence Info'!$C$37:$DW$37,FALSE))*$C$9+OFFSET(Licence_Subst,MATCH($B104,'Licence Info'!$B$74:$B$98,FALSE),MATCH(Control!BH$101,'Licence Info'!$C$71:$DW$71,FALSE))*$C$9+OFFSET(Licence_OIEC,MATCH($B104,'Licence Info'!$B$108:$B$132,FALSE),MATCH(Control!BH$101,'Licence Info'!$C$105:$DW$105,FALSE))-BH42)","v":306.00900000000007},{"$f":"MAX(0,OFFSET(Licence_IBEC,MATCH($B104,'Licence Info'!$B$40:$B$64,FALSE),MATCH(Control!BI$101,'Licence Info'!$C$37:$DW$37,FALSE))*$C$9+OFFSET(Licence_Subst,MATCH($B104,'Licence Info'!$B$74:$B$98,FALSE),MATCH(Control!BI$101,'Licence Info'!$C$71:$DW$71,FALSE))*$C$9+OFFSET(Licence_OIEC,MATCH($B104,'Licence Info'!$B$108:$B$132,FALSE),MATCH(Control!BI$101,'Licence Info'!$C$105:$DW$105,FALSE))-BI42)","v":306.00900000000007},{"$f":"MAX(0,OFFSET(Licence_IBEC,MATCH($B104,'Licence Info'!$B$40:$B$64,FALSE),MATCH(Control!BJ$101,'Licence Info'!$C$37:$DW$37,FALSE))*$C$9+OFFSET(Licence_Subst,MATCH($B104,'Licence Info'!$B$74:$B$98,FALSE),MATCH(Control!BJ$101,'Licence Info'!$C$71:$DW$71,FALSE))*$C$9+OFFSET(Licence_OIEC,MATCH($B104,'Licence Info'!$B$108:$B$132,FALSE),MATCH(Control!BJ$101,'Licence Info'!$C$105:$DW$105,FALSE))-BJ42)","v":306.00900000000007},{"$f":"MAX(0,OFFSET(Licence_IBEC,MATCH($B104,'Licence Info'!$B$40:$B$64,FALSE),MATCH(Control!BK$101,'Licence Info'!$C$37:$DW$37,FALSE))*$C$9+OFFSET(Licence_Subst,MATCH($B104,'Licence Info'!$B$74:$B$98,FALSE),MATCH(Control!BK$101,'Licence Info'!$C$71:$DW$71,FALSE))*$C$9+OFFSET(Licence_OIEC,MATCH($B104,'Licence Info'!$B$108:$B$132,FALSE),MATCH(Control!BK$101,'Licence Info'!$C$105:$DW$105,FALSE))-BK42)","v":{"$error":"#N/A"}}]
[null,{"$f":"B43","v":"Easington"},{"$f":"MAX(0,OFFSET(Licence_IBEC,MATCH($B105,'Licence Info'!$B$40:$B$64,FALSE),MATCH(Control!C$101,'Licence Info'!$C$37:$DW$37,FALSE))*$C$9+OFFSET(Licence_Subst,MATCH($B105,'Licence Info'!$B$74:$B$98,FALSE),MATCH(Control!C$101,'Licence Info'!$C$71:$DW$71,FALSE))*$C$9+OFFSET(Licence_OIEC,MATCH($B105,'Licence Info'!$B$108:$B$132,FALSE),MATCH(Control!C$101,'Licence Info'!$C$105:$DW$105,FALSE))-C43)","v":221.02127300000006},{"$f":"MAX(0,OFFSET(Licence_IBEC,MATCH($B105,'Licence Info'!$B$40:$B$64,FALSE),MATCH(Control!D$101,'Licence Info'!$C$37:$DW$37,FALSE))*$C$9+OFFSET(Licence_Subst,MATCH($B105,'Licence Info'!$B$74:$B$98,FALSE),MATCH(Control!D$101,'Licence Info'!$C$71:$DW$71,FALSE))*$C$9+OFFSET(Licence_OIEC,MATCH($B105,'Licence Info'!$B$108:$B$132,FALSE),MATCH(Control!D$101,'Licence Info'!$C$105:$DW$105,FALSE))-D43)","v":0},{"$f":"MAX(0,OFFSET(Licence_IBEC,MATCH($B105,'Licence Info'!$B$40:$B$64,FALSE),MATCH(Control!E$101,'Licence Info'!$C$37:$DW$37,FALSE))*$C$9+OFFSET(Licence_Subst,MATCH($B105,'Licence Info'!$B$74:$B$98,FALSE),MATCH(Control!E$101,'Licence Info'!$C$71:$DW$71,FALSE))*$C$9+OFFSET(Licence_OIEC,MATCH($B105,'Licence Info'!$B$108:$B$132,FALSE),MATCH(Control!E$101,'Licence Info'!$C$105:$DW$105,FALSE))-E43)","v":1031.4699270000001},{"$f":"MAX(0,OFFSET(Licence_IBEC,MATCH($B105,'Licence Info'!$B$40:$B$64,FALSE),MATCH(Control!F$101,'Licence Info'!$C$37:$DW$37,FALSE))*$C$9+OFFSET(Licence_Subst,MATCH($B105,'Licence Info'!$B$74:$B$98,FALSE),MATCH(Control!F$101,'Licence Info'!$C$71:$DW$71,FALSE))*$C$9+OFFSET(Licence_OIEC,MATCH($B105,'Licence Info'!$B$108:$B$132,FALSE),MATCH(Control!F$101,'Licence Info'!$C$105:$DW$105,FALSE))-F43)","v":1032.7699270000003},{"$f":"MAX(0,OFFSET(Licence_IBEC,MATCH($B105,'Licence Info'!$B$40:$B$64,FALSE),MATCH(Control!G$101,'Licence Info'!$C$37:$DW$37,FALSE))*$C$9+OFFSET(Licence_Subst,MATCH($B105,'Licence Info'!$B$74:$B$98,FALSE),MATCH(Control!G$101,'Licence Info'!$C$71:$DW$71,FALSE))*$C$9+OFFSET(Licence_OIEC,MATCH($B105,'Licence Info'!$B$108:$B$132,FALSE),MATCH(Control!G$101,'Licence Info'!$C$105:$DW$105,FALSE))-G43)","v":244.49364300000013},{"$f":"MAX(0,OFFSET(Licence_IBEC,MATCH($B105,'Licence Info'!$B$40:$B$64,FALSE),MATCH(Control!H$101,'Licence Info'!$C$37:$DW$37,FALSE))*$C$9+OFFSET(Licence_Subst,MATCH($B105,'Licence Info'!$B$74:$B$98,FALSE),MATCH(Control!H$101,'Licence Info'!$C$71:$DW$71,FALSE))*$C$9+OFFSET(Licence_OIEC,MATCH($B105,'Licence Info'!$B$108:$B$132,FALSE),MATCH(Control!H$101,'Licence Info'!$C$105:$DW$105,FALSE))-H43)","v":0},{"$f":"MAX(0,OFFSET(Licence_IBEC,MATCH($B105,'Licence Info'!$B$40:$B$64,FALSE),MATCH(Control!I$101,'Licence Info'!$C$37:$DW$37,FALSE))*$C$9+OFFSET(Licence_Subst,MATCH($B105,'Licence Info'!$B$74:$B$98,FALSE),MATCH(Control!I$101,'Licence Info'!$C$71:$DW$71,FALSE))*$C$9+OFFSET(Licence_OIEC,MATCH($B105,'Licence Info'!$B$108:$B$132,FALSE),MATCH(Control!I$101,'Licence Info'!$C$105:$DW$105,FALSE))-I43)","v":1079.0174490000002},{"$f":"MAX(0,OFFSET(Licence_IBEC,MATCH($B105,'Licence Info'!$B$40:$B$64,FALSE),MATCH(Control!J$101,'Licence Info'!$C$37:$DW$37,FALSE))*$C$9+OFFSET(Licence_Subst,MATCH($B105,'Licence Info'!$B$74:$B$98,FALSE),MATCH(Control!J$101,'Licence Info'!$C$71:$DW$71,FALSE))*$C$9+OFFSET(Licence_OIEC,MATCH($B105,'Licence Info'!$B$108:$B$132,FALSE),MATCH(Control!J$101,'Licence Info'!$C$105:$DW$105,FALSE))-J43)","v":1079.5174490000002},{"$f":"MAX(0,OFFSET(Licence_IBEC,MATCH($B105,'Licence Info'!$B$40:$B$64,FALSE),MATCH(Control!K$101,'Licence Info'!$C$37:$DW$37,FALSE))*$C$9+OFFSET(Licence_Subst,MATCH($B105,'Licence Info'!$B$74:$B$98,FALSE),MATCH(Control!K$101,'Licence Info'!$C$71:$DW$71,FALSE))*$C$9+OFFSET(Licence_OIEC,MATCH($B105,'Licence Info'!$B$108:$B$132,FALSE),MATCH(Control!K$101,'Licence Info'!$C$105:$DW$105,FALSE))-K43)","v":272.24889900000016},{"$f":"MAX(0,OFFSET(Licence_IBEC,MATCH($B105,'Licence Info'!$B$40:$B$64,FALSE),MATCH(Control!L$101,'Licence Info'!$C$37:$DW$37,FALSE))*$C$9+OFFSET(Licence_Subst,MATCH($B105,'Licence Info'!$B$74:$B$98,FALSE),MATCH(Control!L$101,'Licence Info'!$C$71:$DW$71,FALSE))*$C$9+OFFSET(Licence_OIEC,MATCH($B105,'Licence Info'!$B$108:$B$132,FALSE),MATCH(Control!L$101,'Licence Info'!$C$105:$DW$105,FALSE))-L43)","v":2.7123240000000806},{"$f":"MAX(0,OFFSET(Licence_IBEC,MATCH($B105,'Licence Info'!$B$40:$B$64,FALSE),MATCH(Control!M$101,'Licence Info'!$C$37:$DW$37,FALSE))*$C$9+OFFSET(Licence_Subst,MATCH($B105,'Licence Info'!$B$74:$B$98,FALSE),MATCH(Control!M$101,'Licence Info'!$C$71:$DW$71,FALSE))*$C$9+OFFSET(Licence_OIEC,MATCH($B105,'Licence Info'!$B$108:$B$132,FALSE),MATCH(Control!M$101,'Licence Info'!$C$105:$DW$105,FALSE))-M43)","v":1223.9615640000002},{"$f":"MAX(0,OFFSET(Licence_IBEC,MATCH($B105,'Licence Info'!$B$40:$B$64,FALSE),MATCH(Control!N$101,'Licence Info'!$C$37:$DW$37,FALSE))*$C$9+OFFSET(Licence_Subst,MATCH($B105,'Licence Info'!$B$74:$B$98,FALSE),MATCH(Control!N$101,'Licence Info'!$C$71:$DW$71,FALSE))*$C$9+OFFSET(Licence_OIEC,MATCH($B105,'Licence Info'!$B$108:$B$132,FALSE),MATCH(Control!N$101,'Licence Info'!$C$105:$DW$105,FALSE))-N43)","v":1224.4615640000002},{"$f":"MAX(0,OFFSET(Licence_IBEC,MATCH($B105,'Licence Info'!$B$40:$B$64,FALSE),MATCH(Control!O$101,'Licence Info'!$C$37:$DW$37,FALSE))*$C$9+OFFSET(Licence_Subst,MATCH($B105,'Licence Info'!$B$74:$B$98,FALSE),MATCH(Control!O$101,'Licence Info'!$C$71:$DW$71,FALSE))*$C$9+OFFSET(Licence_OIEC,MATCH($B105,'Licence Info'!$B$108:$B$132,FALSE),MATCH(Control!O$101,'Licence Info'!$C$105:$DW$105,FALSE))-O43)","v":264.41878700000018},{"$f":"MAX(0,OFFSET(Licence_IBEC,MATCH($B105,'Licence Info'!$B$40:$B$64,FALSE),MATCH(Control!P$101,'Licence Info'!$C$37:$DW$37,FALSE))*$C$9+OFFSET(Licence_Subst,MATCH($B105,'Licence Info'!$B$74:$B$98,FALSE),MATCH(Control!P$101,'Licence Info'!$C$71:$DW$71,FALSE))*$C$9+OFFSET(Licence_OIEC,MATCH($B105,'Licence Info'!$B$108:$B$132,FALSE),MATCH(Control!P$101,'Licence Info'!$C$105:$DW$105,FALSE))-P43)","v":0},{"$f":"MAX(0,OFFSET(Licence_IBEC,MATCH($B105,'Licence Info'!$B$40:$B$64,FALSE),MATCH(Control!Q$101,'Licence Info'!$C$37:$DW$37,FALSE))*$C$9+OFFSET(Licence_Subst,MATCH($B105,'Licence Info'!$B$74:$B$98,FALSE),MATCH(Control!Q$101,'Licence Info'!$C$71:$DW$71,FALSE))*$C$9+OFFSET(Licence_OIEC,MATCH($B105,'Licence Info'!$B$108:$B$132,FALSE),MATCH(Control!Q$101,'Licence Info'!$C$105:$DW$105,FALSE))-Q43)","v":1227.6830000000002},{"$f":"MAX(0,OFFSET(Licence_IBEC,MATCH($B105,'Licence Info'!$B$40:$B$64,FALSE),MATCH(Control!R$101,'Licence Info'!$C$37:$DW$37,FALSE))*$C$9+OFFSET(Licence_Subst,MATCH($B105,'Licence Info'!$B$74:$B$98,FALSE),MATCH(Control!R$101,'Licence Info'!$C$71:$DW$71,FALSE))*$C$9+OFFSET(Licence_OIEC,MATCH($B105,'Licence Info'!$B$108:$B$132,FALSE),MATCH(Control!R$101,'Licence Info'!$C$105:$DW$105,FALSE))-R43)","v":1227.6830000000002},{"$f":"MAX(0,OFFSET(Licence_IBEC,MATCH($B105,'Licence Info'!$B$40:$B$64,FALSE),MATCH(Control!S$101,'Licence Info'!$C$37:$DW$37,FALSE))*$C$9+OFFSET(Licence_Subst,MATCH($B105,'Licence Info'!$B$74:$B$98,FALSE),MATCH(Control!S$101,'Licence Info'!$C$71:$DW$71,FALSE))*$C$9+OFFSET(Licence_OIEC,MATCH($B105,'Licence Info'!$B$108:$B$132,FALSE),MATCH(Control!S$101,'Licence Info'!$C$105:$DW$105,FALSE))-S43)","v":384.2270000000002},{"$f":"MAX(0,OFFSET(Licence_IBEC,MATCH($B105,'Licence Info'!$B$40:$B$64,FALSE),MATCH(Control!T$101,'Licence Info'!$C$37:$DW$37,FALSE))*$C$9+OFFSET(Licence_Subst,MATCH($B105,'Licence Info'!$B$74:$B$98,FALSE),MATCH(Control!T$101,'Licence Info'!$C$71:$DW$71,FALSE))*$C$9+OFFSET(Licence_OIEC,MATCH($B105,'Licence Info'!$B$108:$B$132,FALSE),MATCH(Control!T$101,'Licence Info'!$C$105:$DW$105,FALSE))-T43)","v":253.26600000000019},{"$f":"MAX(0,OFFSET(Licence_IBEC,MATCH($B105,'Licence Info'!$B$40:$B$64,FALSE),MATCH(Control!U$101,'Licence Info'!$C$37:$DW$37,FALSE))*$C$9+OFFSET(Licence_Subst,MATCH($B105,'Licence Info'!$B$74:$B$98,FALSE),MATCH(Control!U$101,'Licence Info'!$C$71:$DW$71,FALSE))*$C$9+OFFSET(Licence_OIEC,MATCH($B105,'Licence Info'!$B$108:$B$132,FALSE),MATCH(Control!U$101,'Licence Info'!$C$105:$DW$105,FALSE))-U43)","v":1230.7268540000002},{"$f":"MAX(0,OFFSET(Licence_IBEC,MATCH($B105,'Licence Info'!$B$40:$B$64,FALSE),MATCH(Control!V$101,'Licence Info'!$C$37:$DW$37,FALSE))*$C$9+OFFSET(Licence_Subst,MATCH($B105,'Licence Info'!$B$74:$B$98,FALSE),MATCH(Control!V$101,'Licence Info'!$C$71:$DW$71,FALSE))*$C$9+OFFSET(Licence_OIEC,MATCH($B105,'Licence Info'!$B$108:$B$132,FALSE),MATCH(Control!V$101,'Licence Info'!$C$105:$DW$105,FALSE))-V43)","v":1231.2268540000002},{"$f":"MAX(0,OFFSET(Licence_IBEC,MATCH($B105,'Licence Info'!$B$40:$B$64,FALSE),MATCH(Control!W$101,'Licence Info'!$C$37:$DW$37,FALSE))*$C$9+OFFSET(Licence_Subst,MATCH($B105,'Licence Info'!$B$74:$B$98,FALSE),MATCH(Control!W$101,'Licence Info'!$C$71:$DW$71,FALSE))*$C$9+OFFSET(Licence_OIEC,MATCH($B105,'Licence Info'!$B$108:$B$132,FALSE),MATCH(Control!W$101,'Licence Info'!$C$105:$DW$105,FALSE))-W43)","v":444.79438800000014},{"$f":"MAX(0,OFFSET(Licence_IBEC,MATCH($B105,'Licence Info'!$B$40:$B$64,FALSE),MATCH(Control!X$101,'Licence Info'!$C$37:$DW$37,FALSE))*$C$9+OFFSET(Licence_Subst,MATCH($B105,'Licence Info'!$B$74:$B$98,FALSE),MATCH(Control!X$101,'Licence Info'!$C$71:$DW$71,FALSE))*$C$9+OFFSET(Licence_OIEC,MATCH($B105,'Licence Info'!$B$108:$B$132,FALSE),MATCH(Control!X$101,'Licence Info'!$C$105:$DW$105,FALSE))-X43)","v":391.19438800000012},{"$f":"MAX(0,OFFSET(Licence_IBEC,MATCH($B105,'Licence Info'!$B$40:$B$64,FALSE),MATCH(Control!Y$101,'Licence Info'!$C$37:$DW$37,FALSE))*$C$9+OFFSET(Licence_Subst,MATCH($B105,'Licence Info'!$B$74:$B$98,FALSE),MATCH(Control!Y$101,'Licence Info'!$C$71:$DW$71,FALSE))*$C$9+OFFSET(Licence_OIEC,MATCH($B105,'Licence Info'!$B$108:$B$132,FALSE),MATCH(Control!Y$101,'Licence Info'!$C$105:$DW$105,FALSE))-Y43)","v":1233.9128290000001},{"$f":"MAX(0,OFFSET(Licence_IBEC,MATCH($B105,'Licence Info'!$B$40:$B$64,FALSE),MATCH(Control!Z$101,'Licence Info'!$C$37:$DW$37,FALSE))*$C$9+OFFSET(Licence_Subst,MATCH($B105,'Licence Info'!$B$74:$B$98,FALSE),MATCH(Control!Z$101,'Licence Info'!$C$71:$DW$71,FALSE))*$C$9+OFFSET(Licence_OIEC,MATCH($B105,'Licence Info'!$B$108:$B$132,FALSE),MATCH(Control!Z$101,'Licence Info'!$C$105:$DW$105,FALSE))-Z43)","v":1234.3128290000002},{"$f":"MAX(0,OFFSET(Licence_IBEC,MATCH($B105,'Licence Info'!$B$40:$B$64,FALSE),MATCH(Control!AA$101,'Licence Info'!$C$37:$DW$37,FALSE))*$C$9+OFFSET(Licence_Subst,MATCH($B105,'Licence Info'!$B$74:$B$98,FALSE),MATCH(Control!AA$101,'Licence Info'!$C$71:$DW$71,FALSE))*$C$9+OFFSET(Licence_OIEC,MATCH($B105,'Licence Info'!$B$108:$B$132,FALSE),MATCH(Control!AA$101,'Licence Info'!$C$105:$DW$105,FALSE))-AA43)","v":507.65823900000021},{"$f":"MAX(0,OFFSET(Licence_IBEC,MATCH($B105,'Licence Info'!$B$40:$B$64,FALSE),MATCH(Control!AB$101,'Licence Info'!$C$37:$DW$37,FALSE))*$C$9+OFFSET(Licence_Subst,MATCH($B105,'Licence Info'!$B$74:$B$98,FALSE),MATCH(Control!AB$101,'Licence Info'!$C$71:$DW$71,FALSE))*$C$9+OFFSET(Licence_OIEC,MATCH($B105,'Licence Info'!$B$108:$B$132,FALSE),MATCH(Control!AB$101,'Licence Info'!$C$105:$DW$105,FALSE))-AB43)","v":506.76935100000014},{"$f":"MAX(0,OFFSET(Licence_IBEC,MATCH($B105,'Licence Info'!$B$40:$B$64,FALSE),MATCH(Control!AC$101,'Licence Info'!$C$37:$DW$37,FALSE))*$C$9+OFFSET(Licence_Subst,MATCH($B105,'Licence Info'!$B$74:$B$98,FALSE),MATCH(Control!AC$101,'Licence Info'!$C$71:$DW$71,FALSE))*$C$9+OFFSET(Licence_OIEC,MATCH($B105,'Licence Info'!$B$108:$B$132,FALSE),MATCH(Control!AC$101,'Licence Info'!$C$105:$DW$105,FALSE))-AC43)","v":1236.9537950000001},{"$f":"MAX(0,OFFSET(Licence_IBEC,MATCH($B105,'Licence Info'!$B$40:$B$64,FALSE),MATCH(Control!AD$101,'Licence Info'!$C$37:$DW$37,FALSE))*$C$9+OFFSET(Licence_Subst,MATCH($B105,'Licence Info'!$B$74:$B$98,FALSE),MATCH(Control!AD$101,'Licence Info'!$C$71:$DW$71,FALSE))*$C$9+OFFSET(Licence_OIEC,MATCH($B105,'Licence Info'!$B$108:$B$132,FALSE),MATCH(Control!AD$101,'Licence Info'!$C$105:$DW$105,FALSE))-AD43)","v":1236.9537950000001},{"$f":"MAX(0,OFFSET(Licence_IBEC,MATCH($B105,'Licence Info'!$B$40:$B$64,FALSE),MATCH(Control!AE$101,'Licence Info'!$C$37:$DW$37,FALSE))*$C$9+OFFSET(Licence_Subst,MATCH($B105,'Licence Info'!$B$74:$B$98,FALSE),MATCH(Control!AE$101,'Licence Info'!$C$71:$DW$71,FALSE))*$C$9+OFFSET(Licence_OIEC,MATCH($B105,'Licence Info'!$B$108:$B$132,FALSE),MATCH(Control!AE$101,'Licence Info'!$C$105:$DW$105,FALSE))-AE43)","v":631.83500000000015},{"$f":"MAX(0,OFFSET(Licence_IBEC,MATCH($B105,'Licence Info'!$B$40:$B$64,FALSE),MATCH(Control!AF$101,'Licence Info'!$C$37:$DW$37,FALSE))*$C$9+OFFSET(Licence_Subst,MATCH($B105,'Licence Info'!$B$74:$B$98,FALSE),MATCH(Control!AF$101,'Licence Info'!$C$71:$DW$71,FALSE))*$C$9+OFFSET(Licence_OIEC,MATCH($B105,'Licence Info'!$B$108:$B$132,FALSE),MATCH(Control!AF$101,'Licence Info'!$C$105:$DW$105,FALSE))-AF43)","v":630.9461110000002},{"$f":"MAX(0,OFFSET(Licence_IBEC,MATCH($B105,'Licence Info'!$B$40:$B$64,FALSE),MATCH(Control!AG$101,'Licence Info'!$C$37:$DW$37,FALSE))*$C$9+OFFSET(Licence_Subst,MATCH($B105,'Licence Info'!$B$74:$B$98,FALSE),MATCH(Control!AG$101,'Licence Info'!$C$71:$DW$71,FALSE))*$C$9+OFFSET(Licence_OIEC,MATCH($B105,'Licence Info'!$B$108:$B$132,FALSE),MATCH(Control!AG$101,'Licence Info'!$C$105:$DW$105,FALSE))-AG43)","v":1245.8350000000003},{"$f":"MAX(0,OFFSET(Licence_IBEC,MATCH($B105,'Licence Info'!$B$40:$B$64,FALSE),MATCH(Control!AH$101,'Licence Info'!$C$37:$DW$37,FALSE))*$C$9+OFFSET(Licence_Subst,MATCH($B105,'Licence Info'!$B$74:$B$98,FALSE),MATCH(Control!AH$101,'Licence Info'!$C$71:$DW$71,FALSE))*$C$9+OFFSET(Licence_OIEC,MATCH($B105,'Licence Info'!$B$108:$B$132,FALSE),MATCH(Control!AH$101,'Licence Info'!$C$105:$DW$105,FALSE))-AH43)","v":1245.8350000000003},{"$f":"MAX(0,OFFSET(Licence_IBEC,MATCH($B105,'Licence Info'!$B$40:$B$64,FALSE),MATCH(Control!AI$101,'Licence Info'!$C$37:$DW$37,FALSE))*$C$9+OFFSET(Licence_Subst,MATCH($B105,'Licence Info'!$B$74:$B$98,FALSE),MATCH(Control!AI$101,'Licence Info'!$C$71:$DW$71,FALSE))*$C$9+OFFSET(Licence_OIEC,MATCH($B105,'Licence Info'!$B$108:$B$132,FALSE),MATCH(Control!AI$101,'Licence Info'!$C$105:$DW$105,FALSE))-AI43)","v":784.43500000000017},{"$f":"MAX(0,OFFSET(Licence_IBEC,MATCH($B105,'Licence Info'!$B$40:$B$64,FALSE),MATCH(Control!AJ$101,'Licence Info'!$C$37:$DW$37,FALSE))*$C$9+OFFSET(Licence_Subst,MATCH($B105,'Licence Info'!$B$74:$B$98,FALSE),MATCH(Control!AJ$101,'Licence Info'!$C$71:$DW$71,FALSE))*$C$9+OFFSET(Licence_OIEC,MATCH($B105,'Licence Info'!$B$108:$B$132,FALSE),MATCH(Control!AJ$101,'Licence Info'!$C$105:$DW$105,FALSE))-AJ43)","v":784.43500000000017},{"$f":"MAX(0,OFFSET(Licence_IBEC,MATCH($B105,'Licence Info'!$B$40:$B$64,FALSE),MATCH(Control!AK$101,'Licence Info'!$C$37:$DW$37,FALSE))*$C$9+OFFSET(Licence_Subst,MATCH($B105,'Licence Info'!$B$74:$B$98,FALSE),MATCH(Control!AK$101,'Licence Info'!$C$71:$DW$71,FALSE))*$C$9+OFFSET(Licence_OIEC,MATCH($B105,'Licence Info'!$B$108:$B$132,FALSE),MATCH(Control!AK$101,'Licence Info'!$C$105:$DW$105,FALSE))-AK43)","v":1266.4350000000002},{"$f":"MAX(0,OFFSET(Licence_IBEC,MATCH($B105,'Licence Info'!$B$40:$B$64,FALSE),MATCH(Control!AL$101,'Licence Info'!$C$37:$DW$37,FALSE))*$C$9+OFFSET(Licence_Subst,MATCH($B105,'Licence Info'!$B$74:$B$98,FALSE),MATCH(Control!AL$101,'Licence Info'!$C$71:$DW$71,FALSE))*$C$9+OFFSET(Licence_OIEC,MATCH($B105,'Licence Info'!$B$108:$B$132,FALSE),MATCH(Control!AL$101,'Licence Info'!$C$105:$DW$105,FALSE))-AL43)","v":1266.4350000000002},{"$f":"MAX(0,OFFSET(Licence_IBEC,MATCH($B105,'Licence Info'!$B$40:$B$64,FALSE),MATCH(Control!AM$101,'Licence Info'!$C$37:$DW$37,FALSE))*$C$9+OFFSET(Licence_Subst,MATCH($B105,'Licence Info'!$B$74:$B$98,FALSE),MATCH(Control!AM$101,'Licence Info'!$C$71:$DW$71,FALSE))*$C$9+OFFSET(Licence_OIEC,MATCH($B105,'Licence Info'!$B$108:$B$132,FALSE),MATCH(Control!AM$101,'Licence Info'!$C$105:$DW$105,FALSE))-AM43)","v":1266.4350000000002},{"$f":"MAX(0,OFFSET(Licence_IBEC,MATCH($B105,'Licence Info'!$B$40:$B$64,FALSE),MATCH(Control!AN$101,'Licence Info'!$C$37:$DW$37,FALSE))*$C$9+OFFSET(Licence_Subst,MATCH($B105,'Licence Info'!$B$74:$B$98,FALSE),MATCH(Control!AN$101,'Licence Info'!$C$71:$DW$71,FALSE))*$C$9+OFFSET(Licence_OIEC,MATCH($B105,'Licence Info'!$B$108:$B$132,FALSE),MATCH(Control!AN$101,'Licence Info'!$C$105:$DW$105,FALSE))-AN43)","v":1266.4350000000002},{"$f":"MAX(0,OFFSET(Licence_IBEC,MATCH($B105,'Licence Info'!$B$40:$B$64,FALSE),MATCH(Control!AO$101,'Licence Info'!$C$37:$DW$37,FALSE))*$C$9+OFFSET(Licence_Subst,MATCH($B105,'Licence Info'!$B$74:$B$98,FALSE),MATCH(Control!AO$101,'Licence Info'!$C$71:$DW$71,FALSE))*$C$9+OFFSET(Licence_OIEC,MATCH($B105,'Licence Info'!$B$108:$B$132,FALSE),MATCH(Control!AO$101,'Licence Info'!$C$105:$DW$105,FALSE))-AO43)","v":1266.4350000000002},{"$f":"MAX(0,OFFSET(Licence_IBEC,MATCH($B105,'Licence Info'!$B$40:$B$64,FALSE),MATCH(Control!AP$101,'Licence Info'!$C$37:$DW$37,FALSE))*$C$9+OFFSET(Licence_Subst,MATCH($B105,'Licence Info'!$B$74:$B$98,FALSE),MATCH(Control!AP$101,'Licence Info'!$C$71:$DW$71,FALSE))*$C$9+OFFSET(Licence_OIEC,MATCH($B105,'Licence Info'!$B$108:$B$132,FALSE),MATCH(Control!AP$101,'Licence Info'!$C$105:$DW$105,FALSE))-AP43)","v":1266.4350000000002},{"$f":"MAX(0,OFFSET(Licence_IBEC,MATCH($B105,'Licence Info'!$B$40:$B$64,FALSE),MATCH(Control!AQ$101,'Licence Info'!$C$37:$DW$37,FALSE))*$C$9+OFFSET(Licence_Subst,MATCH($B105,'Licence Info'!$B$74:$B$98,FALSE),MATCH(Control!AQ$101,'Licence Info'!$C$71:$DW$71,FALSE))*$C$9+OFFSET(Licence_OIEC,MATCH($B105,'Licence Info'!$B$108:$B$132,FALSE),MATCH(Control!AQ$101,'Licence Info'!$C$105:$DW$105,FALSE))-AQ43)","v":1266.4350000000002},{"$f":"MAX(0,OFFSET(Licence_IBEC,MATCH($B105,'Licence Info'!$B$40:$B$64,FALSE),MATCH(Control!AR$101,'Licence Info'!$C$37:$DW$37,FALSE))*$C$9+OFFSET(Licence_Subst,MATCH($B105,'Licence Info'!$B$74:$B$98,FALSE),MATCH(Control!AR$101,'Licence Info'!$C$71:$DW$71,FALSE))*$C$9+OFFSET(Licence_OIEC,MATCH($B105,'Licence Info'!$B$108:$B$132,FALSE),MATCH(Control!AR$101,'Licence Info'!$C$105:$DW$105,FALSE))-AR43)","v":1266.4350000000002},{"$f":"MAX(0,OFFSET(Licence_IBEC,MATCH($B105,'Licence Info'!$B$40:$B$64,FALSE),MATCH(Control!AS$101,'Licence Info'!$C$37:$DW$37,FALSE))*$C$9+OFFSET(Licence_Subst,MATCH($B105,'Licence Info'!$B$74:$B$98,FALSE),MATCH(Control!AS$101,'Licence Info'!$C$71:$DW$71,FALSE))*$C$9+OFFSET(Licence_OIEC,MATCH($B105,'Licence Info'!$B$108:$B$132,FALSE),MATCH(Control!AS$101,'Licence Info'!$C$105:$DW$105,FALSE))-AS43)","v":1266.4350000000002},{"$f":"MAX(0,OFFSET(Licence_IBEC,MATCH($B105,'Licence Info'!$B$40:$B$64,FALSE),MATCH(Control!AT$101,'Licence Info'!$C$37:$DW$37,FALSE))*$C$9+OFFSET(Licence_Subst,MATCH($B105,'Licence Info'!$B$74:$B$98,FALSE),MATCH(Control!AT$101,'Licence Info'!$C$71:$DW$71,FALSE))*$C$9+OFFSET(Licence_OIEC,MATCH($B105,'Licence Info'!$B$108:$B$132,FALSE),MATCH(Control!AT$101,'Licence Info'!$C$105:$DW$105,FALSE))-AT43)","v":1266.4350000000002},{"$f":"MAX(0,OFFSET(Licence_IBEC,MATCH($B105,'Licence Info'!$B$40:$B$64,FALSE),MATCH(Control!AU$101,'Licence Info'!$C$37:$DW$37,FALSE))*$C$9+OFFSET(Licence_Subst,MATCH($B105,'Licence Info'!$B$74:$B$98,FALSE),MATCH(Control!AU$101,'Licence Info'!$C$71:$DW$71,FALSE))*$C$9+OFFSET(Licence_OIEC,MATCH($B105,'Licence Info'!$B$108:$B$132,FALSE),MATCH(Control!AU$101,'Licence Info'!$C$105:$DW$105,FALSE))-AU43)","v":1266.4350000000002},{"$f":"MAX(0,OFFSET(Licence_IBEC,MATCH($B105,'Licence Info'!$B$40:$B$64,FALSE),MATCH(Control!AV$101,'Licence Info'!$C$37:$DW$37,FALSE))*$C$9+OFFSET(Licence_Subst,MATCH($B105,'Licence Info'!$B$74:$B$98,FALSE),MATCH(Control!AV$101,'Licence Info'!$C$71:$DW$71,FALSE))*$C$9+OFFSET(Licence_OIEC,MATCH($B105,'Licence Info'!$B$108:$B$132,FALSE),MATCH(Control!AV$101,'Licence Info'!$C$105:$DW$105,FALSE))-AV43)","v":1266.4350000000002},{"$f":"MAX(0,OFFSET(Licence_IBEC,MATCH($B105,'Licence Info'!$B$40:$B$64,FALSE),MATCH(Control!AW$101,'Licence Info'!$C$37:$DW$37,FALSE))*$C$9+OFFSET(Licence_Subst,MATCH($B105,'Licence Info'!$B$74:$B$98,FALSE),MATCH(Control!AW$101,'Licence Info'!$C$71:$DW$71,FALSE))*$C$9+OFFSET(Licence_OIEC,MATCH($B105,'Licence Info'!$B$108:$B$132,FALSE),MATCH(Control!AW$101,'Licence Info'!$C$105:$DW$105,FALSE))-AW43)","v":1266.4350000000002},{"$f":"MAX(0,OFFSET(Licence_IBEC,MATCH($B105,'Licence Info'!$B$40:$B$64,FALSE),MATCH(Control!AX$101,'Licence Info'!$C$37:$DW$37,FALSE))*$C$9+OFFSET(Licence_Subst,MATCH($B105,'Licence Info'!$B$74:$B$98,FALSE),MATCH(Control!AX$101,'Licence Info'!$C$71:$DW$71,FALSE))*$C$9+OFFSET(Licence_OIEC,MATCH($B105,'Licence Info'!$B$108:$B$132,FALSE),MATCH(Control!AX$101,'Licence Info'!$C$105:$DW$105,FALSE))-AX43)","v":1266.4350000000002},{"$f":"MAX(0,OFFSET(Licence_IBEC,MATCH($B105,'Licence Info'!$B$40:$B$64,FALSE),MATCH(Control!AY$101,'Licence Info'!$C$37:$DW$37,FALSE))*$C$9+OFFSET(Licence_Subst,MATCH($B105,'Licence Info'!$B$74:$B$98,FALSE),MATCH(Control!AY$101,'Licence Info'!$C$71:$DW$71,FALSE))*$C$9+OFFSET(Licence_OIEC,MATCH($B105,'Licence Info'!$B$108:$B$132,FALSE),MATCH(Control!AY$101,'Licence Info'!$C$105:$DW$105,FALSE))-AY43)","v":1266.4350000000002},{"$f":"MAX(0,OFFSET(Licence_IBEC,MATCH($B105,'Licence Info'!$B$40:$B$64,FALSE),MATCH(Control!AZ$101,'Licence Info'!$C$37:$DW$37,FALSE))*$C$9+OFFSET(Licence_Subst,MATCH($B105,'Licence Info'!$B$74:$B$98,FALSE),MATCH(Control!AZ$101,'Licence Info'!$C$71:$DW$71,FALSE))*$C$9+OFFSET(Licence_OIEC,MATCH($B105,'Licence Info'!$B$108:$B$132,FALSE),MATCH(Control!AZ$101,'Licence Info'!$C$105:$DW$105,FALSE))-AZ43)","v":1266.4350000000002},{"$f":"MAX(0,OFFSET(Licence_IBEC,MATCH($B105,'Licence Info'!$B$40:$B$64,FALSE),MATCH(Control!BA$101,'Licence Info'!$C$37:$DW$37,FALSE))*$C$9+OFFSET(Licence_Subst,MATCH($B105,'Licence Info'!$B$74:$B$98,FALSE),MATCH(Control!BA$101,'Licence Info'!$C$71:$DW$71,FALSE))*$C$9+OFFSET(Licence_OIEC,MATCH($B105,'Licence Info'!$B$108:$B$132,FALSE),MATCH(Control!BA$101,'Licence Info'!$C$105:$DW$105,FALSE))-BA43)","v":1266.4350000000002},{"$f":"MAX(0,OFFSET(Licence_IBEC,MATCH($B105,'Licence Info'!$B$40:$B$64,FALSE),MATCH(Control!BB$101,'Licence Info'!$C$37:$DW$37,FALSE))*$C$9+OFFSET(Licence_Subst,MATCH($B105,'Licence Info'!$B$74:$B$98,FALSE),MATCH(Control!BB$101,'Licence Info'!$C$71:$DW$71,FALSE))*$C$9+OFFSET(Licence_OIEC,MATCH($B105,'Licence Info'!$B$108:$B$132,FALSE),MATCH(Control!BB$101,'Licence Info'!$C$105:$DW$105,FALSE))-BB43)","v":1266.4350000000002},{"$f":"MAX(0,OFFSET(Licence_IBEC,MATCH($B105,'Licence Info'!$B$40:$B$64,FALSE),MATCH(Control!BC$101,'Licence Info'!$C$37:$DW$37,FALSE))*$C$9+OFFSET(Licence_Subst,MATCH($B105,'Licence Info'!$B$74:$B$98,FALSE),MATCH(Control!BC$101,'Licence Info'!$C$71:$DW$71,FALSE))*$C$9+OFFSET(Licence_OIEC,MATCH($B105,'Licence Info'!$B$108:$B$132,FALSE),MATCH(Control!BC$101,'Licence Info'!$C$105:$DW$105,FALSE))-BC43)","v":1266.4350000000002},{"$f":"MAX(0,OFFSET(Licence_IBEC,MATCH($B105,'Licence Info'!$B$40:$B$64,FALSE),MATCH(Control!BD$101,'Licence Info'!$C$37:$DW$37,FALSE))*$C$9+OFFSET(Licence_Subst,MATCH($B105,'Licence Info'!$B$74:$B$98,FALSE),MATCH(Control!BD$101,'Licence Info'!$C$71:$DW$71,FALSE))*$C$9+OFFSET(Licence_OIEC,MATCH($B105,'Licence Info'!$B$108:$B$132,FALSE),MATCH(Control!BD$101,'Licence Info'!$C$105:$DW$105,FALSE))-BD43)","v":1266.4350000000002},{"$f":"MAX(0,OFFSET(Licence_IBEC,MATCH($B105,'Licence Info'!$B$40:$B$64,FALSE),MATCH(Control!BE$101,'Licence Info'!$C$37:$DW$37,FALSE))*$C$9+OFFSET(Licence_Subst,MATCH($B105,'Licence Info'!$B$74:$B$98,FALSE),MATCH(Control!BE$101,'Licence Info'!$C$71:$DW$71,FALSE))*$C$9+OFFSET(Licence_OIEC,MATCH($B105,'Licence Info'!$B$108:$B$132,FALSE),MATCH(Control!BE$101,'Licence Info'!$C$105:$DW$105,FALSE))-BE43)","v":1266.4350000000002},{"$f":"MAX(0,OFFSET(Licence_IBEC,MATCH($B105,'Licence Info'!$B$40:$B$64,FALSE),MATCH(Control!BF$101,'Licence Info'!$C$37:$DW$37,FALSE))*$C$9+OFFSET(Licence_Subst,MATCH($B105,'Licence Info'!$B$74:$B$98,FALSE),MATCH(Control!BF$101,'Licence Info'!$C$71:$DW$71,FALSE))*$C$9+OFFSET(Licence_OIEC,MATCH($B105,'Licence Info'!$B$108:$B$132,FALSE),MATCH(Control!BF$101,'Licence Info'!$C$105:$DW$105,FALSE))-BF43)","v":1266.4350000000002},{"$f":"MAX(0,OFFSET(Licence_IBEC,MATCH($B105,'Licence Info'!$B$40:$B$64,FALSE),MATCH(Control!BG$101,'Licence Info'!$C$37:$DW$37,FALSE))*$C$9+OFFSET(Licence_Subst,MATCH($B105,'Licence Info'!$B$74:$B$98,FALSE),MATCH(Control!BG$101,'Licence Info'!$C$71:$DW$71,FALSE))*$C$9+OFFSET(Licence_OIEC,MATCH($B105,'Licence Info'!$B$108:$B$132,FALSE),MATCH(Control!BG$101,'Licence Info'!$C$105:$DW$105,FALSE))-BG43)","v":1266.4350000000002},{"$f":"MAX(0,OFFSET(Licence_IBEC,MATCH($B105,'Licence Info'!$B$40:$B$64,FALSE),MATCH(Control!BH$101,'Licence Info'!$C$37:$DW$37,FALSE))*$C$9+OFFSET(Licence_Subst,MATCH($B105,'Licence Info'!$B$74:$B$98,FALSE),MATCH(Control!BH$101,'Licence Info'!$C$71:$DW$71,FALSE))*$C$9+OFFSET(Licence_OIEC,MATCH($B105,'Licence Info'!$B$108:$B$132,FALSE),MATCH(Control!BH$101,'Licence Info'!$C$105:$DW$105,FALSE))-BH43)","v":1266.4350000000002},{"$f":"MAX(0,OFFSET(Licence_IBEC,MATCH($B105,'Licence Info'!$B$40:$B$64,FALSE),MATCH(Control!BI$101,'Licence Info'!$C$37:$DW$37,FALSE))*$C$9+OFFSET(Licence_Subst,MATCH($B105,'Licence Info'!$B$74:$B$98,FALSE),MATCH(Control!BI$101,'Licence Info'!$C$71:$DW$71,FALSE))*$C$9+OFFSET(Licence_OIEC,MATCH($B105,'Licence Info'!$B$108:$B$132,FALSE),MATCH(Control!BI$101,'Licence Info'!$C$105:$DW$105,FALSE))-BI43)","v":1266.4350000000002},{"$f":"MAX(0,OFFSET(Licence_IBEC,MATCH($B105,'Licence Info'!$B$40:$B$64,FALSE),MATCH(Control!BJ$101,'Licence Info'!$C$37:$DW$37,FALSE))*$C$9+OFFSET(Licence_Subst,MATCH($B105,'Licence Info'!$B$74:$B$98,FALSE),MATCH(Control!BJ$101,'Licence Info'!$C$71:$DW$71,FALSE))*$C$9+OFFSET(Licence_OIEC,MATCH($B105,'Licence Info'!$B$108:$B$132,FALSE),MATCH(Control!BJ$101,'Licence Info'!$C$105:$DW$105,FALSE))-BJ43)","v":1266.4350000000002},{"$f":"MAX(0,OFFSET(Licence_IBEC,MATCH($B105,'Licence Info'!$B$40:$B$64,FALSE),MATCH(Control!BK$101,'Licence Info'!$C$37:$DW$37,FALSE))*$C$9+OFFSET(Licence_Subst,MATCH($B105,'Licence Info'!$B$74:$B$98,FALSE),MATCH(Control!BK$101,'Licence Info'!$C$71:$DW$71,FALSE))*$C$9+OFFSET(Licence_OIEC,MATCH($B105,'Licence Info'!$B$108:$B$132,FALSE),MATCH(Control!BK$101,'Licence Info'!$C$105:$DW$105,FALSE))-BK43)","v":{"$error":"#N/A"}}]
[null,"St. Fergus",{"$f":"MAX(0,OFFSET(Licence_IBEC,MATCH($B106,'Licence Info'!$B$40:$B$64,FALSE),MATCH(Control!C$101,'Licence Info'!$C$37:$DW$37,FALSE))*$C$9+OFFSET(Licence_Subst,MATCH($B106,'Licence Info'!$B$74:$B$98,FALSE),MATCH(Control!C$101,'Licence Info'!$C$71:$DW$71,FALSE))*$C$9+OFFSET(Licence_OIEC,MATCH($B106,'Licence Info'!$B$108:$B$132,FALSE),MATCH(Control!C$101,'Licence Info'!$C$105:$DW$105,FALSE))-C44)","v":1380.3616330000002},{"$f":"MAX(0,OFFSET(Licence_IBEC,MATCH($B106,'Licence Info'!$B$40:$B$64,FALSE),MATCH(Control!D$101,'Licence Info'!$C$37:$DW$37,FALSE))*$C$9+OFFSET(Licence_Subst,MATCH($B106,'Licence Info'!$B$74:$B$98,FALSE),MATCH(Control!D$101,'Licence Info'!$C$71:$DW$71,FALSE))*$C$9+OFFSET(Licence_OIEC,MATCH($B106,'Licence Info'!$B$108:$B$132,FALSE),MATCH(Control!D$101,'Licence Info'!$C$105:$DW$105,FALSE))-D44)","v":1384.8558720000001},{"$f":"MAX(0,OFFSET(Licence_IBEC,MATCH($B106,'Licence Info'!$B$40:$B$64,FALSE),MATCH(Control!E$101,'Licence Info'!$C$37:$DW$37,FALSE))*$C$9+OFFSET(Licence_Subst,MATCH($B106,'Licence Info'!$B$74:$B$98,FALSE),MATCH(Control!E$101,'Licence Info'!$C$71:$DW$71,FALSE))*$C$9+OFFSET(Licence_OIEC,MATCH($B106,'Licence Info'!$B$108:$B$132,FALSE),MATCH(Control!E$101,'Licence Info'!$C$105:$DW$105,FALSE))-E44)","v":1481.8558720000001},{"$f":"MAX(0,OFFSET(Licence_IBEC,MATCH($B106,'Licence Info'!$B$40:$B$64,FALSE),MATCH(Control!F$101,'Licence Info'!$C$37:$DW$37,FALSE))*$C$9+OFFSET(Licence_Subst,MATCH($B106,'Licence Info'!$B$74:$B$98,FALSE),MATCH(Control!F$101,'Licence Info'!$C$71:$DW$71,FALSE))*$C$9+OFFSET(Licence_OIEC,MATCH($B106,'Licence Info'!$B$108:$B$132,FALSE),MATCH(Control!F$101,'Licence Info'!$C$105:$DW$105,FALSE))-F44)","v":1481.8558720000001},{"$f":"MAX(0,OFFSET(Licence_IBEC,MATCH($B106,'Licence Info'!$B$40:$B$64,FALSE),MATCH(Control!G$101,'Licence Info'!$C$37:$DW$37,FALSE))*$C$9+OFFSET(Licence_Subst,MATCH($B106,'Licence Info'!$B$74:$B$98,FALSE),MATCH(Control!G$101,'Licence Info'!$C$71:$DW$71,FALSE))*$C$9+OFFSET(Licence_OIEC,MATCH($B106,'Licence Info'!$B$108:$B$132,FALSE),MATCH(Control!G$101,'Licence Info'!$C$105:$DW$105,FALSE))-G44)","v":1404.9074640000001},{"$f":"MAX(0,OFFSET(Licence_IBEC,MATCH($B106,'Licence Info'!$B$40:$B$64,FALSE),MATCH(Control!H$101,'Licence Info'!$C$37:$DW$37,FALSE))*$C$9+OFFSET(Licence_Subst,MATCH($B106,'Licence Info'!$B$74:$B$98,FALSE),MATCH(Control!H$101,'Licence Info'!$C$71:$DW$71,FALSE))*$C$9+OFFSET(Licence_OIEC,MATCH($B106,'Licence Info'!$B$108:$B$132,FALSE),MATCH(Control!H$101,'Licence Info'!$C$105:$DW$105,FALSE))-H44)","v":1413.5138960000002},{"$f":"MAX(0,OFFSET(Licence_IBEC,MATCH($B106,'Licence Info'!$B$40:$B$64,FALSE),MATCH(Control!I$101,'Licence Info'!$C$37:$DW$37,FALSE))*$C$9+OFFSET(Licence_Subst,MATCH($B106,'Licence Info'!$B$74:$B$98,FALSE),MATCH(Control!I$101,'Licence Info'!$C$71:$DW$71,FALSE))*$C$9+OFFSET(Licence_OIEC,MATCH($B106,'Licence Info'!$B$108:$B$132,FALSE),MATCH(Control!I$101,'Licence Info'!$C$105:$DW$105,FALSE))-I44)","v":1490.413896},{"$f":"MAX(0,OFFSET(Licence_IBEC,MATCH($B106,'Licence Info'!$B$40:$B$64,FALSE),MATCH(Control!J$101,'Licence Info'!$C$37:$DW$37,FALSE))*$C$9+OFFSET(Licence_Subst,MATCH($B106,'Licence Info'!$B$74:$B$98,FALSE),MATCH(Control!J$101,'Licence Info'!$C$71:$DW$71,FALSE))*$C$9+OFFSET(Licence_OIEC,MATCH($B106,'Licence Info'!$B$108:$B$132,FALSE),MATCH(Control!J$101,'Licence Info'!$C$105:$DW$105,FALSE))-J44)","v":1490.413896},{"$f":"MAX(0,OFFSET(Licence_IBEC,MATCH($B106,'Licence Info'!$B$40:$B$64,FALSE),MATCH(Control!K$101,'Licence Info'!$C$37:$DW$37,FALSE))*$C$9+OFFSET(Licence_Subst,MATCH($B106,'Licence Info'!$B$74:$B$98,FALSE),MATCH(Control!K$101,'Licence Info'!$C$71:$DW$71,FALSE))*$C$9+OFFSET(Licence_OIEC,MATCH($B106,'Licence Info'!$B$108:$B$132,FALSE),MATCH(Control!K$101,'Licence Info'!$C$105:$DW$105,FALSE))-K44)","v":1457.7933320000002},{"$f":"MAX(0,OFFSET(Licence_IBEC,MATCH($B106,'Licence Info'!$B$40:$B$64,FALSE),MATCH(Control!L$101,'Licence Info'!$C$37:$DW$37,FALSE))*$C$9+OFFSET(Licence_Subst,MATCH($B106,'Licence Info'!$B$74:$B$98,FALSE),MATCH(Control!L$101,'Licence Info'!$C$71:$DW$71,FALSE))*$C$9+OFFSET(Licence_OIEC,MATCH($B106,'Licence Info'!$B$108:$B$132,FALSE),MATCH(Control!L$101,'Licence Info'!$C$105:$DW$105,FALSE))-L44)","v":1460.6933320000001},{"$f":"MAX(0,OFFSET(Licence_IBEC,MATCH($B106,'Licence Info'!$B$40:$B$64,FALSE),MATCH(Control!M$101,'Licence Info'!$C$37:$DW$37,FALSE))*$C$9+OFFSET(Licence_Subst,MATCH($B106,'Licence Info'!$B$74:$B$98,FALSE),MATCH(Control!M$101,'Licence Info'!$C$71:$DW$71,FALSE))*$C$9+OFFSET(Licence_OIEC,MATCH($B106,'Licence Info'!$B$108:$B$132,FALSE),MATCH(Control!M$101,'Licence Info'!$C$105:$DW$105,FALSE))-M44)","v":1494.0300000000002},{"$f":"MAX(0,OFFSET(Licence_IBEC,MATCH($B106,'Licence Info'!$B$40:$B$64,FALSE),MATCH(Control!N$101,'Licence Info'!$C$37:$DW$37,FALSE))*$C$9+OFFSET(Licence_Subst,MATCH($B106,'Licence Info'!$B$74:$B$98,FALSE),MATCH(Control!N$101,'Licence Info'!$C$71:$DW$71,FALSE))*$C$9+OFFSET(Licence_OIEC,MATCH($B106,'Licence Info'!$B$108:$B$132,FALSE),MATCH(Control!N$101,'Licence Info'!$C$105:$DW$105,FALSE))-N44)","v":1494.0300000000002},{"$f":"MAX(0,OFFSET(Licence_IBEC,MATCH($B106,'Licence Info'!$B$40:$B$64,FALSE),MATCH(Control!O$101,'Licence Info'!$C$37:$DW$37,FALSE))*$C$9+OFFSET(Licence_Subst,MATCH($B106,'Licence Info'!$B$74:$B$98,FALSE),MATCH(Control!O$101,'Licence Info'!$C$71:$DW$71,FALSE))*$C$9+OFFSET(Licence_OIEC,MATCH($B106,'Licence Info'!$B$108:$B$132,FALSE),MATCH(Control!O$101,'Licence Info'!$C$105:$DW$105,FALSE))-O44)","v":1468.817225},{"$f":"MAX(0,OFFSET(Licence_IBEC,MATCH($B106,'Licence Info'!$B$40:$B$64,FALSE),MATCH(Control!P$101,'Licence Info'!$C$37:$DW$37,FALSE))*$C$9+OFFSET(Licence_Subst,MATCH($B106,'Licence Info'!$B$74:$B$98,FALSE),MATCH(Control!P$101,'Licence Info'!$C$71:$DW$71,FALSE))*$C$9+OFFSET(Licence_OIEC,MATCH($B106,'Licence Info'!$B$108:$B$132,FALSE),MATCH(Control!P$101,'Licence Info'!$C$105:$DW$105,FALSE))-P44)","v":1469.182409},{"$f":"MAX(0,OFFSET(Licence_IBEC,MATCH($B106,'Licence Info'!$B$40:$B$64,FALSE),MATCH(Control!Q$101,'Licence Info'!$C$37:$DW$37,FALSE))*$C$9+OFFSET(Licence_Subst,MATCH($B106,'Licence Info'!$B$74:$B$98,FALSE),MATCH(Control!Q$101,'Licence Info'!$C$71:$DW$71,FALSE))*$C$9+OFFSET(Licence_OIEC,MATCH($B106,'Licence Info'!$B$108:$B$132,FALSE),MATCH(Control!Q$101,'Licence Info'!$C$105:$DW$105,FALSE))-Q44)","v":1492.8979310000002},{"$f":"MAX(0,OFFSET(Licence_IBEC,MATCH($B106,'Licence Info'!$B$40:$B$64,FALSE),MATCH(Control!R$101,'Licence Info'!$C$37:$DW$37,FALSE))*$C$9+OFFSET(Licence_Subst,MATCH($B106,'Licence Info'!$B$74:$B$98,FALSE),MATCH(Control!R$101,'Licence Info'!$C$71:$DW$71,FALSE))*$C$9+OFFSET(Licence_OIEC,MATCH($B106,'Licence Info'!$B$108:$B$132,FALSE),MATCH(Control!R$101,'Licence Info'!$C$105:$DW$105,FALSE))-R44)","v":1492.8979310000002},{"$f":"MAX(0,OFFSET(Licence_IBEC,MATCH($B106,'Licence Info'!$B$40:$B$64,FALSE),MATCH(Control!S$101,'Licence Info'!$C$37:$DW$37,FALSE))*$C$9+OFFSET(Licence_Subst,MATCH($B106,'Licence Info'!$B$74:$B$98,FALSE),MATCH(Control!S$101,'Licence Info'!$C$71:$DW$71,FALSE))*$C$9+OFFSET(Licence_OIEC,MATCH($B106,'Licence Info'!$B$108:$B$132,FALSE),MATCH(Control!S$101,'Licence Info'!$C$105:$DW$105,FALSE))-S44)","v":1474.2285040000002},{"$f":"MAX(0,OFFSET(Licence_IBEC,MATCH($B106,'Licence Info'!$B$40:$B$64,FALSE),MATCH(Control!T$101,'Licence Info'!$C$37:$DW$37,FALSE))*$C$9+OFFSET(Licence_Subst,MATCH($B106,'Licence Info'!$B$74:$B$98,FALSE),MATCH(Control!T$101,'Licence Info'!$C$71:$DW$71,FALSE))*$C$9+OFFSET(Licence_OIEC,MATCH($B106,'Licence Info'!$B$108:$B$132,FALSE),MATCH(Control!T$101,'Licence Info'!$C$105:$DW$105,FALSE))-T44)","v":1479.4605730000001},{"$f":"MAX(0,OFFSET(Licence_IBEC,MATCH($B106,'Licence Info'!$B$40:$B$64,FALSE),MATCH(Control!U$101,'Licence Info'!$C$37:$DW$37,FALSE))*$C$9+OFFSET(Licence_Subst,MATCH($B106,'Licence Info'!$B$74:$B$98,FALSE),MATCH(Control!U$101,'Licence Info'!$C$71:$DW$71,FALSE))*$C$9+OFFSET(Licence_OIEC,MATCH($B106,'Licence Info'!$B$108:$B$132,FALSE),MATCH(Control!U$101,'Licence Info'!$C$105:$DW$105,FALSE))-U44)","v":1499.3814420000001},{"$f":"MAX(0,OFFSET(Licence_IBEC,MATCH($B106,'Licence Info'!$B$40:$B$64,FALSE),MATCH(Control!V$101,'Licence Info'!$C$37:$DW$37,FALSE))*$C$9+OFFSET(Licence_Subst,MATCH($B106,'Licence Info'!$B$74:$B$98,FALSE),MATCH(Control!V$101,'Licence Info'!$C$71:$DW$71,FALSE))*$C$9+OFFSET(Licence_OIEC,MATCH($B106,'Licence Info'!$B$108:$B$132,FALSE),MATCH(Control!V$101,'Licence Info'!$C$105:$DW$105,FALSE))-V44)","v":1499.3814420000001},{"$f":"MAX(0,OFFSET(Licence_IBEC,MATCH($B106,'Licence Info'!$B$40:$B$64,FALSE),MATCH(Control!W$101,'Licence Info'!$C$37:$DW$37,FALSE))*$C$9+OFFSET(Licence_Subst,MATCH($B106,'Licence Info'!$B$74:$B$98,FALSE),MATCH(Control!W$101,'Licence Info'!$C$71:$DW$71,FALSE))*$C$9+OFFSET(Licence_OIEC,MATCH($B106,'Licence Info'!$B$108:$B$132,FALSE),MATCH(Control!W$101,'Licence Info'!$C$105:$DW$105,FALSE))-W44)","v":1496.6650950000001},{"$f":"MAX(0,OFFSET(Licence_IBEC,MATCH($B106,'Licence Info'!$B$40:$B$64,FALSE),MATCH(Control!X$101,'Licence Info'!$C$37:$DW$37,FALSE))*$C$9+OFFSET(Licence_Subst,MATCH($B106,'Licence Info'!$B$74:$B$98,FALSE),MATCH(Control!X$101,'Licence Info'!$C$71:$DW$71,FALSE))*$C$9+OFFSET(Licence_OIEC,MATCH($B106,'Licence Info'!$B$108:$B$132,FALSE),MATCH(Control!X$101,'Licence Info'!$C$105:$DW$105,FALSE))-X44)","v":1497.154843},{"$f":"MAX(0,OFFSET(Licence_IBEC,MATCH($B106,'Licence Info'!$B$40:$B$64,FALSE),MATCH(Control!Y$101,'Licence Info'!$C$37:$DW$37,FALSE))*$C$9+OFFSET(Licence_Subst,MATCH($B106,'Licence Info'!$B$74:$B$98,FALSE),MATCH(Control!Y$101,'Licence Info'!$C$71:$DW$71,FALSE))*$C$9+OFFSET(Licence_OIEC,MATCH($B106,'Licence Info'!$B$108:$B$132,FALSE),MATCH(Control!Y$101,'Licence Info'!$C$105:$DW$105,FALSE))-Y44)","v":1499.8711900000001},{"$f":"MAX(0,OFFSET(Licence_IBEC,MATCH($B106,'Licence Info'!$B$40:$B$64,FALSE),MATCH(Control!Z$101,'Licence Info'!$C$37:$DW$37,FALSE))*$C$9+OFFSET(Licence_Subst,MATCH($B106,'Licence Info'!$B$74:$B$98,FALSE),MATCH(Control!Z$101,'Licence Info'!$C$71:$DW$71,FALSE))*$C$9+OFFSET(Licence_OIEC,MATCH($B106,'Licence Info'!$B$108:$B$132,FALSE),MATCH(Control!Z$101,'Licence Info'!$C$105:$DW$105,FALSE))-Z44)","v":1499.8711900000001},{"$f":"MAX(0,OFFSET(Licence_IBEC,MATCH($B106,'Licence Info'!$B$40:$B$64,FALSE),MATCH(Control!AA$101,'Licence Info'!$C$37:$DW$37,FALSE))*$C$9+OFFSET(Licence_Subst,MATCH($B106,'Licence Info'!$B$74:$B$98,FALSE),MATCH(Control!AA$101,'Licence Info'!$C$71:$DW$71,FALSE))*$C$9+OFFSET(Licence_OIEC,MATCH($B106,'Licence Info'!$B$108:$B$132,FALSE),MATCH(Control!AA$101,'Licence Info'!$C$105:$DW$105,FALSE))-AA44)","v":1499.8711900000001},{"$f":"MAX(0,OFFSET(Licence_IBEC,MATCH($B106,'Licence Info'!$B$40:$B$64,FALSE),MATCH(Control!AB$101,'Licence Info'!$C$37:$DW$37,FALSE))*$C$9+OFFSET(Licence_Subst,MATCH($B106,'Licence Info'!$B$74:$B$98,FALSE),MATCH(Control!AB$101,'Licence Info'!$C$71:$DW$71,FALSE))*$C$9+OFFSET(Licence_OIEC,MATCH($B106,'Licence Info'!$B$108:$B$132,FALSE),MATCH(Control!AB$101,'Licence Info'!$C$105:$DW$105,FALSE))-AB44)","v":1500.877882},{"$f":"MAX(0,OFFSET(Licence_IBEC,MATCH($B106,'Licence Info'!$B$40:$B$64,FALSE),MATCH(Control!AC$101,'Licence Info'!$C$37:$DW$37,FALSE))*$C$9+OFFSET(Licence_Subst,MATCH($B106,'Licence Info'!$B$74:$B$98,FALSE),MATCH(Control!AC$101,'Licence Info'!$C$71:$DW$71,FALSE))*$C$9+OFFSET(Licence_OIEC,MATCH($B106,'Licence Info'!$B$108:$B$132,FALSE),MATCH(Control!AC$101,'Licence Info'!$C$105:$DW$105,FALSE))-AC44)","v":1500.877882},{"$f":"MAX(0,OFFSET(Licence_IBEC,MATCH($B106,'Licence Info'!$B$40:$B$64,FALSE),MATCH(Control!AD$101,'Licence Info'!$C$37:$DW$37,FALSE))*$C$9+OFFSET(Licence_Subst,MATCH($B106,'Licence Info'!$B$74:$B$98,FALSE),MATCH(Control!AD$101,'Licence Info'!$C$71:$DW$71,FALSE))*$C$9+OFFSET(Licence_OIEC,MATCH($B106,'Licence Info'!$B$108:$B$132,FALSE),MATCH(Control!AD$101,'Licence Info'!$C$105:$DW$105,FALSE))-AD44)","v":1500.877882},{"$f":"MAX(0,OFFSET(Licence_IBEC,MATCH($B106,'Licence Info'!$B$40:$B$64,FALSE),MATCH(Control!AE$101,'Licence Info'!$C$37:$DW$37,FALSE))*$C$9+OFFSET(Licence_Subst,MATCH($B106,'Licence Info'!$B$74:$B$98,FALSE),MATCH(Control!AE$101,'Licence Info'!$C$71:$DW$71,FALSE))*$C$9+OFFSET(Licence_OIEC,MATCH($B106,'Licence Info'!$B$108:$B$132,FALSE),MATCH(Control!AE$101,'Licence Info'!$C$105:$DW$105,FALSE))-AE44)","v":1503.63},{"$f":"MAX(0,OFFSET(Licence_IBEC,MATCH($B106,'Licence Info'!$B$40:$B$64,FALSE),MATCH(Control!AF$101,'Licence Info'!$C$37:$DW$37,FALSE))*$C$9+OFFSET(Licence_Subst,MATCH($B106,'Licence Info'!$B$74:$B$98,FALSE),MATCH(Control!AF$101,'Licence Info'!$C$71:$DW$71,FALSE))*$C$9+OFFSET(Licence_OIEC,MATCH($B106,'Licence Info'!$B$108:$B$132,FALSE),MATCH(Control!AF$101,'Licence Info'!$C$105:$DW$105,FALSE))-AF44)","v":1503.63},{"$f":"MAX(0,OFFSET(Licence_IBEC,MATCH($B106,'Licence Info'!$B$40:$B$64,FALSE),MATCH(Control!AG$101,'Licence Info'!$C$37:$DW$37,FALSE))*$C$9+OFFSET(Licence_Subst,MATCH($B106,'Licence Info'!$B$74:$B$98,FALSE),MATCH(Control!AG$101,'Licence Info'!$C$71:$DW$71,FALSE))*$C$9+OFFSET(Licence_OIEC,MATCH($B106,'Licence Info'!$B$108:$B$132,FALSE),MATCH(Control!AG$101,'Licence Info'!$C$105:$DW$105,FALSE))-AG44)","v":1503.63},{"$f":"MAX(0,OFFSET(Licence_IBEC,MATCH($B106,'Licence Info'!$B$40:$B$64,FALSE),MATCH(Control!AH$101,'Licence Info'!$C$37:$DW$37,FALSE))*$C$9+OFFSET(Licence_Subst,MATCH($B106,'Licence Info'!$B$74:$B$98,FALSE),MATCH(Control!AH$101,'Licence Info'!$C$71:$DW$71,FALSE))*$C$9+OFFSET(Licence_OIEC,MATCH($B106,'Licence Info'!$B$108:$B$132,FALSE),MATCH(Control!AH$101,'Licence Info'!$C$105:$DW$105,FALSE))-AH44)","v":1503.63},{"$f":"MAX(0,OFFSET(Licence_IBEC,MATCH($B106,'Licence Info'!$B$40:$B$64,FALSE),MATCH(Control!AI$101,'Licence Info'!$C$37:$DW$37,FALSE))*$C$9+OFFSET(Licence_Subst,MATCH($B106,'Licence Info'!$B$74:$B$98,FALSE),MATCH(Control!AI$101,'Licence Info'!$C$71:$DW$71,FALSE))*$C$9+OFFSET(Licence_OIEC,MATCH($B106,'Licence Info'!$B$108:$B$132,FALSE),MATCH(Control!AI$101,'Licence Info'!$C$105:$DW$105,FALSE))-AI44)","v":1503.63},{"$f":"MAX(0,OFFSET(Licence_IBEC,MATCH($B106,'Licence Info'!$B$40:$B$64,FALSE),MATCH(Control!AJ$101,'Licence Info'!$C$37:$DW$37,FALSE))*$C$9+OFFSET(Licence_Subst,MATCH($B106,'Licence Info'!$B$74:$B$98,FALSE),MATCH(Control!AJ$101,'Licence Info'!$C$71:$DW$71,FALSE))*$C$9+OFFSET(Licence_OIEC,MATCH($B106,'Licence Info'!$B$108:$B$132,FALSE),MATCH(Control!AJ$101,'Licence Info'!$C$105:$DW$105,FALSE))-AJ44)","v":1503.63},{"$f":"MAX(0,OFFSET(Licence_IBEC,MATCH($B106,'Licence Info'!$B$40:$B$64,FALSE),MATCH(Control!AK$101,'Licence Info'!$C$37:$DW$37,FALSE))*$C$9+OFFSET(Licence_Subst,MATCH($B106,'Licence Info'!$B$74:$B$98,FALSE),MATCH(Control!AK$101,'Licence Info'!$C$71:$DW$71,FALSE))*$C$9+OFFSET(Licence_OIEC,MATCH($B106,'Licence Info'!$B$108:$B$132,FALSE),MATCH(Control!AK$101,'Licence Info'!$C$105:$DW$105,FALSE))-AK44)","v":1503.63},{"$f":"MAX(0,OFFSET(Licence_IBEC,MATCH($B106,'Licence Info'!$B$40:$B$64,FALSE),MATCH(Control!AL$101,'Licence Info'!$C$37:$DW$37,FALSE))*$C$9+OFFSET(Licence_Subst,MATCH($B106,'Licence Info'!$B$74:$B$98,FALSE),MATCH(Control!AL$101,'Licence Info'!$C$71:$DW$71,FALSE))*$C$9+OFFSET(Licence_OIEC,MATCH($B106,'Licence Info'!$B$108:$B$132,FALSE),MATCH(Control!AL$101,'Licence Info'!$C$105:$DW$105,FALSE))-AL44)","v":1503.63},{"$f":"MAX(0,OFFSET(Licence_IBEC,MATCH($B106,'Licence Info'!$B$40:$B$64,FALSE),MATCH(Control!AM$101,'Licence Info'!$C$37:$DW$37,FALSE))*$C$9+OFFSET(Licence_Subst,MATCH($B106,'Licence Info'!$B$74:$B$98,FALSE),MATCH(Control!AM$101,'Licence Info'!$C$71:$DW$71,FALSE))*$C$9+OFFSET(Licence_OIEC,MATCH($B106,'Licence Info'!$B$108:$B$132,FALSE),MATCH(Control!AM$101,'Licence Info'!$C$105:$DW$105,FALSE))-AM44)","v":1503.63},{"$f":"MAX(0,OFFSET(Licence_IBEC,MATCH($B106,'Licence Info'!$B$40:$B$64,FALSE),MATCH(Control!AN$101,'Licence Info'!$C$37:$DW$37,FALSE))*$C$9+OFFSET(Licence_Subst,MATCH($B106,'Licence Info'!$B$74:$B$98,FALSE),MATCH(Control!AN$101,'Licence Info'!$C$71:$DW$71,FALSE))*$C$9+OFFSET(Licence_OIEC,MATCH($B106,'Licence Info'!$B$108:$B$132,FALSE),MATCH(Control!AN$101,'Licence Info'!$C$105:$DW$105,FALSE))-AN44)","v":1503.63},{"$f":"MAX(0,OFFSET(Licence_IBEC,MATCH($B106,'Licence Info'!$B$40:$B$64,FALSE),MATCH(Control!AO$101,'Licence Info'!$C$37:$DW$37,FALSE))*$C$9+OFFSET(Licence_Subst,MATCH($B106,'Licence Info'!$B$74:$B$98,FALSE),MATCH(Control!AO$101,'Licence Info'!$C$71:$DW$71,FALSE))*$C$9+OFFSET(Licence_OIEC,MATCH($B106,'Licence Info'!$B$108:$B$132,FALSE),MATCH(Control!AO$101,'Licence Info'!$C$105:$DW$105,FALSE))-AO44)","v":1503.63},{"$f":"MAX(0,OFFSET(Licence_IBEC,MATCH($B106,'Licence Info'!$B$40:$B$64,FALSE),MATCH(Control!AP$101,'Licence Info'!$C$37:$DW$37,FALSE))*$C$9+OFFSET(Licence_Subst,MATCH($B106,'Licence Info'!$B$74:$B$98,FALSE),MATCH(Control!AP$101,'Licence Info'!$C$71:$DW$71,FALSE))*$C$9+OFFSET(Licence_OIEC,MATCH($B106,'Licence Info'!$B$108:$B$132,FALSE),MATCH(Control!AP$101,'Licence Info'!$C$105:$DW$105,FALSE))-AP44)","v":1503.63},{"$f":"MAX(0,OFFSET(Licence_IBEC,MATCH($B106,'Licence Info'!$B$40:$B$64,FALSE),MATCH(Control!AQ$101,'Licence Info'!$C$37:$DW$37,FALSE))*$C$9+OFFSET(Licence_Subst,MATCH($B106,'Licence Info'!$B$74:$B$98,FALSE),MATCH(Control!AQ$101,'Licence Info'!$C$71:$DW$71,FALSE))*$C$9+OFFSET(Licence_OIEC,MATCH($B106,'Licence Info'!$B$108:$B$132,FALSE),MATCH(Control!AQ$101,'Licence Info'!$C$105:$DW$105,FALSE))-AQ44)","v":1503.63},{"$f":"MAX(0,OFFSET(Licence_IBEC,MATCH($B106,'Licence Info'!$B$40:$B$64,FALSE),MATCH(Control!AR$101,'Licence Info'!$C$37:$DW$37,FALSE))*$C$9+OFFSET(Licence_Subst,MATCH($B106,'Licence Info'!$B$74:$B$98,FALSE),MATCH(Control!AR$101,'Licence Info'!$C$71:$DW$71,FALSE))*$C$9+OFFSET(Licence_OIEC,MATCH($B106,'Licence Info'!$B$108:$B$132,FALSE),MATCH(Control!AR$101,'Licence Info'!$C$105:$DW$105,FALSE))-AR44)","v":1503.63},{"$f":"MAX(0,OFFSET(Licence_IBEC,MATCH($B106,'Licence Info'!$B$40:$B$64,FALSE),MATCH(Control!AS$101,'Licence Info'!$C$37:$DW$37,FALSE))*$C$9+OFFSET(Licence_Subst,MATCH($B106,'Licence Info'!$B$74:$B$98,FALSE),MATCH(Control!AS$101,'Licence Info'!$C$71:$DW$71,FALSE))*$C$9+OFFSET(Licence_OIEC,MATCH($B106,'Licence Info'!$B$108:$B$132,FALSE),MATCH(Control!AS$101,'Licence Info'!$C$105:$DW$105,FALSE))-AS44)","v":1503.63},{"$f":"MAX(0,OFFSET(Licence_IBEC,MATCH($B106,'Licence Info'!$B$40:$B$64,FALSE),MATCH(Control!AT$101,'Licence Info'!$C$37:$DW$37,FALSE))*$C$9+OFFSET(Licence_Subst,MATCH($B106,'Licence Info'!$B$74:$B$98,FALSE),MATCH(Control!AT$101,'Licence Info'!$C$71:$DW$71,FALSE))*$C$9+OFFSET(Licence_OIEC,MATCH($B106,'Licence Info'!$B$108:$B$132,FALSE),MATCH(Control!AT$101,'Licence Info'!$C$105:$DW$105,FALSE))-AT44)","v":1503.63},{"$f":"MAX(0,OFFSET(Licence_IBEC,MATCH($B106,'Licence Info'!$B$40:$B$64,FALSE),MATCH(Control!AU$101,'Licence Info'!$C$37:$DW$37,FALSE))*$C$9+OFFSET(Licence_Subst,MATCH($B106,'Licence Info'!$B$74:$B$98,FALSE),MATCH(Control!AU$101,'Licence Info'!$C$71:$DW$71,FALSE))*$C$9+OFFSET(Licence_OIEC,MATCH($B106,'Licence Info'!$B$108:$B$132,FALSE),MATCH(Control!AU$101,'Licence Info'!$C$105:$DW$105,FALSE))-AU44)","v":1503.63},{"$f":"MAX(0,OFFSET(Licence_IBEC,MATCH($B106,'Licence Info'!$B$40:$B$64,FALSE),MATCH(Control!AV$101,'Licence Info'!$C$37:$DW$37,FALSE))*$C$9+OFFSET(Licence_Subst,MATCH($B106,'Licence Info'!$B$74:$B$98,FALSE),MATCH(Control!AV$101,'Licence Info'!$C$71:$DW$71,FALSE))*$C$9+OFFSET(Licence_OIEC,MATCH($B106,'Licence Info'!$B$108:$B$132,FALSE),MATCH(Control!AV$101,'Licence Info'!$C$105:$DW$105,FALSE))-AV44)","v":1503.63},{"$f":"MAX(0,OFFSET(Licence_IBEC,MATCH($B106,'Licence Info'!$B$40:$B$64,FALSE),MATCH(Control!AW$101,'Licence Info'!$C$37:$DW$37,FALSE))*$C$9+OFFSET(Licence_Subst,MATCH($B106,'Licence Info'!$B$74:$B$98,FALSE),MATCH(Control!AW$101,'Licence Info'!$C$71:$DW$71,FALSE))*$C$9+OFFSET(Licence_OIEC,MATCH($B106,'Licence Info'!$B$108:$B$132,FALSE),MATCH(Control!AW$101,'Licence Info'!$C$105:$DW$105,FALSE))-AW44)","v":1503.63},{"$f":"MAX(0,OFFSET(Licence_IBEC,MATCH($B106,'Licence Info'!$B$40:$B$64,FALSE),MATCH(Control!AX$101,'Licence Info'!$C$37:$DW$37,FALSE))*$C$9+OFFSET(Licence_Subst,MATCH($B106,'Licence Info'!$B$74:$B$98,FALSE),MATCH(Control!AX$101,'Licence Info'!$C$71:$DW$71,FALSE))*$C$9+OFFSET(Licence_OIEC,MATCH($B106,'Licence Info'!$B$108:$B$132,FALSE),MATCH(Control!AX$101,'Licence Info'!$C$105:$DW$105,FALSE))-AX44)","v":1503.63},{"$f":"MAX(0,OFFSET(Licence_IBEC,MATCH($B106,'Licence Info'!$B$40:$B$64,FALSE),MATCH(Control!AY$101,'Licence Info'!$C$37:$DW$37,FALSE))*$C$9+OFFSET(Licence_Subst,MATCH($B106,'Licence Info'!$B$74:$B$98,FALSE),MATCH(Control!AY$101,'Licence Info'!$C$71:$DW$71,FALSE))*$C$9+OFFSET(Licence_OIEC,MATCH($B106,'Licence Info'!$B$108:$B$132,FALSE),MATCH(Control!AY$101,'Licence Info'!$C$105:$DW$105,FALSE))-AY44)","v":1503.63},{"$f":"MAX(0,OFFSET(Licence_IBEC,MATCH($B106,'Licence Info'!$B$40:$B$64,FALSE),MATCH(Control!AZ$101,'Licence Info'!$C$37:$DW$37,FALSE))*$C$9+OFFSET(Licence_Subst,MATCH($B106,'Licence Info'!$B$74:$B$98,FALSE),MATCH(Control!AZ$101,'Licence Info'!$C$71:$DW$71,FALSE))*$C$9+OFFSET(Licence_OIEC,MATCH($B106,'Licence Info'!$B$108:$B$132,FALSE),MATCH(Control!AZ$101,'Licence Info'!$C$105:$DW$105,FALSE))-AZ44)","v":1503.63},{"$f":"MAX(0,OFFSET(Licence_IBEC,MATCH($B106,'Licence Info'!$B$40:$B$64,FALSE),MATCH(Control!BA$101,'Licence Info'!$C$37:$DW$37,FALSE))*$C$9+OFFSET(Licence_Subst,MATCH($B106,'Licence Info'!$B$74:$B$98,FALSE),MATCH(Control!BA$101,'Licence Info'!$C$71:$DW$71,FALSE))*$C$9+OFFSET(Licence_OIEC,MATCH($B106,'Licence Info'!$B$108:$B$132,FALSE),MATCH(Control!BA$101,'Licence Info'!$C$105:$DW$105,FALSE))-BA44)","v":1503.63},{"$f":"MAX(0,OFFSET(Licence_IBEC,MATCH($B106,'Licence Info'!$B$40:$B$64,FALSE),MATCH(Control!BB$101,'Licence Info'!$C$37:$DW$37,FALSE))*$C$9+OFFSET(Licence_Subst,MATCH($B106,'Licence Info'!$B$74:$B$98,FALSE),MATCH(Control!BB$101,'Licence Info'!$C$71:$DW$71,FALSE))*$C$9+OFFSET(Licence_OIEC,MATCH($B106,'Licence Info'!$B$108:$B$132,FALSE),MATCH(Control!BB$101,'Licence Info'!$C$105:$DW$105,FALSE))-BB44)","v":1503.63},{"$f":"MAX(0,OFFSET(Licence_IBEC,MATCH($B106,'Licence Info'!$B$40:$B$64,FALSE),MATCH(Control!BC$101,'Licence Info'!$C$37:$DW$37,FALSE))*$C$9+OFFSET(Licence_Subst,MATCH($B106,'Licence Info'!$B$74:$B$98,FALSE),MATCH(Control!BC$101,'Licence Info'!$C$71:$DW$71,FALSE))*$C$9+OFFSET(Licence_OIEC,MATCH($B106,'Licence Info'!$B$108:$B$132,FALSE),MATCH(Control!BC$101,'Licence Info'!$C$105:$DW$105,FALSE))-BC44)","v":1503.63},{"$f":"MAX(0,OFFSET(Licence_IBEC,MATCH($B106,'Licence Info'!$B$40:$B$64,FALSE),MATCH(Control!BD$101,'Licence Info'!$C$37:$DW$37,FALSE))*$C$9+OFFSET(Licence_Subst,MATCH($B106,'Licence Info'!$B$74:$B$98,FALSE),MATCH(Control!BD$101,'Licence Info'!$C$71:$DW$71,FALSE))*$C$9+OFFSET(Licence_OIEC,MATCH($B106,'Licence Info'!$B$108:$B$132,FALSE),MATCH(Control!BD$101,'Licence Info'!$C$105:$DW$105,FALSE))-BD44)","v":1503.63},{"$f":"MAX(0,OFFSET(Licence_IBEC,MATCH($B106,'Licence Info'!$B$40:$B$64,FALSE),MATCH(Control!BE$101,'Licence Info'!$C$37:$DW$37,FALSE))*$C$9+OFFSET(Licence_Subst,MATCH($B106,'Licence Info'!$B$74:$B$98,FALSE),MATCH(Control!BE$101,'Licence Info'!$C$71:$DW$71,FALSE))*$C$9+OFFSET(Licence_OIEC,MATCH($B106,'Licence Info'!$B$108:$B$132,FALSE),MATCH(Control!BE$101,'Licence Info'!$C$105:$DW$105,FALSE))-BE44)","v":1503.63},{"$f":"MAX(0,OFFSET(Licence_IBEC,MATCH($B106,'Licence Info'!$B$40:$B$64,FALSE),MATCH(Control!BF$101,'Licence Info'!$C$37:$DW$37,FALSE))*$C$9+OFFSET(Licence_Subst,MATCH($B106,'Licence Info'!$B$74:$B$98,FALSE),MATCH(Control!BF$101,'Licence Info'!$C$71:$DW$71,FALSE))*$C$9+OFFSET(Licence_OIEC,MATCH($B106,'Licence Info'!$B$108:$B$132,FALSE),MATCH(Control!BF$101,'Licence Info'!$C$105:$DW$105,FALSE))-BF44)","v":1503.63},{"$f":"MAX(0,OFFSET(Licence_IBEC,MATCH($B106,'Licence Info'!$B$40:$B$64,FALSE),MATCH(Control!BG$101,'Licence Info'!$C$37:$DW$37,FALSE))*$C$9+OFFSET(Licence_Subst,MATCH($B106,'Licence Info'!$B$74:$B$98,FALSE),MATCH(Control!BG$101,'Licence Info'!$C$71:$DW$71,FALSE))*$C$9+OFFSET(Licence_OIEC,MATCH($B106,'Licence Info'!$B$108:$B$132,FALSE),MATCH(Control!BG$101,'Licence Info'!$C$105:$DW$105,FALSE))-BG44)","v":1503.63},{"$f":"MAX(0,OFFSET(Licence_IBEC,MATCH($B106,'Licence Info'!$B$40:$B$64,FALSE),MATCH(Control!BH$101,'Licence Info'!$C$37:$DW$37,FALSE))*$C$9+OFFSET(Licence_Subst,MATCH($B106,'Licence Info'!$B$74:$B$98,FALSE),MATCH(Control!BH$101,'Licence Info'!$C$71:$DW$71,FALSE))*$C$9+OFFSET(Licence_OIEC,MATCH($B106,'Licence Info'!$B$108:$B$132,FALSE),MATCH(Control!BH$101,'Licence Info'!$C$105:$DW$105,FALSE))-BH44)","v":1503.63},{"$f":"MAX(0,OFFSET(Licence_IBEC,MATCH($B106,'Licence Info'!$B$40:$B$64,FALSE),MATCH(Control!BI$101,'Licence Info'!$C$37:$DW$37,FALSE))*$C$9+OFFSET(Licence_Subst,MATCH($B106,'Licence Info'!$B$74:$B$98,FALSE),MATCH(Control!BI$101,'Licence Info'!$C$71:$DW$71,FALSE))*$C$9+OFFSET(Licence_OIEC,MATCH($B106,'Licence Info'!$B$108:$B$132,FALSE),MATCH(Control!BI$101,'Licence Info'!$C$105:$DW$105,FALSE))-BI44)","v":1503.63},{"$f":"MAX(0,OFFSET(Licence_IBEC,MATCH($B106,'Licence Info'!$B$40:$B$64,FALSE),MATCH(Control!BJ$101,'Licence Info'!$C$37:$DW$37,FALSE))*$C$9+OFFSET(Licence_Subst,MATCH($B106,'Licence Info'!$B$74:$B$98,FALSE),MATCH(Control!BJ$101,'Licence Info'!$C$71:$DW$71,FALSE))*$C$9+OFFSET(Licence_OIEC,MATCH($B106,'Licence Info'!$B$108:$B$132,FALSE),MATCH(Control!BJ$101,'Licence Info'!$C$105:$DW$105,FALSE))-BJ44)","v":1503.63},{"$f":"MAX(0,OFFSET(Licence_IBEC,MATCH($B106,'Licence Info'!$B$40:$B$64,FALSE),MATCH(Control!BK$101,'Licence Info'!$C$37:$DW$37,FALSE))*$C$9+OFFSET(Licence_Subst,MATCH($B106,'Licence Info'!$B$74:$B$98,FALSE),MATCH(Control!BK$101,'Licence Info'!$C$71:$DW$71,FALSE))*$C$9+OFFSET(Licence_OIEC,MATCH($B106,'Licence Info'!$B$108:$B$132,FALSE),MATCH(Control!BK$101,'Licence Info'!$C$105:$DW$105,FALSE))-BK44)","v":{"$error":"#N/A"}}]
[null,"Teesside",{"$f":"MAX(0,OFFSET(Licence_IBEC,MATCH($B107,'Licence Info'!$B$40:$B$64,FALSE),MATCH(Control!C$101,'Licence Info'!$C$37:$DW$37,FALSE))*$C$9+OFFSET(Licence_Subst,MATCH($B107,'Licence Info'!$B$74:$B$98,FALSE),MATCH(Control!C$101,'Licence Info'!$C$71:$DW$71,FALSE))*$C$9+OFFSET(Licence_OIEC,MATCH($B107,'Licence Info'!$B$108:$B$132,FALSE),MATCH(Control!C$101,'Licence Info'!$C$105:$DW$105,FALSE))-C45)","v":309.78905900000001},{"$f":"MAX(0,OFFSET(Licence_IBEC,MATCH($B107,'Licence Info'!$B$40:$B$64,FALSE),MATCH(Control!D$101,'Licence Info'!$C$37:$DW$37,FALSE))*$C$9+OFFSET(Licence_Subst,MATCH($B107,'Licence Info'!$B$74:$B$98,FALSE),MATCH(Control!D$101,'Licence Info'!$C$71:$DW$71,FALSE))*$C$9+OFFSET(Licence_OIEC,MATCH($B107,'Licence Info'!$B$108:$B$132,FALSE),MATCH(Control!D$101,'Licence Info'!$C$105:$DW$105,FALSE))-D45)","v":321.71816799999999},{"$f":"MAX(0,OFFSET(Licence_IBEC,MATCH($B107,'Licence Info'!$B$40:$B$64,FALSE),MATCH(Control!E$101,'Licence Info'!$C$37:$DW$37,FALSE))*$C$9+OFFSET(Licence_Subst,MATCH($B107,'Licence Info'!$B$74:$B$98,FALSE),MATCH(Control!E$101,'Licence Info'!$C$71:$DW$71,FALSE))*$C$9+OFFSET(Licence_OIEC,MATCH($B107,'Licence Info'!$B$108:$B$132,FALSE),MATCH(Control!E$101,'Licence Info'!$C$105:$DW$105,FALSE))-E45)","v":320.653662},{"$f":"MAX(0,OFFSET(Licence_IBEC,MATCH($B107,'Licence Info'!$B$40:$B$64,FALSE),MATCH(Control!F$101,'Licence Info'!$C$37:$DW$37,FALSE))*$C$9+OFFSET(Licence_Subst,MATCH($B107,'Licence Info'!$B$74:$B$98,FALSE),MATCH(Control!F$101,'Licence Info'!$C$71:$DW$71,FALSE))*$C$9+OFFSET(Licence_OIEC,MATCH($B107,'Licence Info'!$B$108:$B$132,FALSE),MATCH(Control!F$101,'Licence Info'!$C$105:$DW$105,FALSE))-F45)","v":323.92830100000003},{"$f":"MAX(0,OFFSET(Licence_IBEC,MATCH($B107,'Licence Info'!$B$40:$B$64,FALSE),MATCH(Control!G$101,'Licence Info'!$C$37:$DW$37,FALSE))*$C$9+OFFSET(Licence_Subst,MATCH($B107,'Licence Info'!$B$74:$B$98,FALSE),MATCH(Control!G$101,'Licence Info'!$C$71:$DW$71,FALSE))*$C$9+OFFSET(Licence_OIEC,MATCH($B107,'Licence Info'!$B$108:$B$132,FALSE),MATCH(Control!G$101,'Licence Info'!$C$105:$DW$105,FALSE))-G45)","v":324.03500500000001},{"$f":"MAX(0,OFFSET(Licence_IBEC,MATCH($B107,'Licence Info'!$B$40:$B$64,FALSE),MATCH(Control!H$101,'Licence Info'!$C$37:$DW$37,FALSE))*$C$9+OFFSET(Licence_Subst,MATCH($B107,'Licence Info'!$B$74:$B$98,FALSE),MATCH(Control!H$101,'Licence Info'!$C$71:$DW$71,FALSE))*$C$9+OFFSET(Licence_OIEC,MATCH($B107,'Licence Info'!$B$108:$B$132,FALSE),MATCH(Control!H$101,'Licence Info'!$C$105:$DW$105,FALSE))-H45)","v":356.944973},{"$f":"MAX(0,OFFSET(Licence_IBEC,MATCH($B107,'Licence Info'!$B$40:$B$64,FALSE),MATCH(Control!I$101,'Licence Info'!$C$37:$DW$37,FALSE))*$C$9+OFFSET(Licence_Subst,MATCH($B107,'Licence Info'!$B$74:$B$98,FALSE),MATCH(Control!I$101,'Licence Info'!$C$71:$DW$71,FALSE))*$C$9+OFFSET(Licence_OIEC,MATCH($B107,'Licence Info'!$B$108:$B$132,FALSE),MATCH(Control!I$101,'Licence Info'!$C$105:$DW$105,FALSE))-I45)","v":356.62157500000001},{"$f":"MAX(0,OFFSET(Licence_IBEC,MATCH($B107,'Licence Info'!$B$40:$B$64,FALSE),MATCH(Control!J$101,'Licence Info'!$C$37:$DW$37,FALSE))*$C$9+OFFSET(Licence_Subst,MATCH($B107,'Licence Info'!$B$74:$B$98,FALSE),MATCH(Control!J$101,'Licence Info'!$C$71:$DW$71,FALSE))*$C$9+OFFSET(Licence_OIEC,MATCH($B107,'Licence Info'!$B$108:$B$132,FALSE),MATCH(Control!J$101,'Licence Info'!$C$105:$DW$105,FALSE))-J45)","v":357.30876000000001},{"$f":"MAX(0,OFFSET(Licence_IBEC,MATCH($B107,'Licence Info'!$B$40:$B$64,FALSE),MATCH(Control!K$101,'Licence Info'!$C$37:$DW$37,FALSE))*$C$9+OFFSET(Licence_Subst,MATCH($B107,'Licence Info'!$B$74:$B$98,FALSE),MATCH(Control!K$101,'Licence Info'!$C$71:$DW$71,FALSE))*$C$9+OFFSET(Licence_OIEC,MATCH($B107,'Licence Info'!$B$108:$B$132,FALSE),MATCH(Control!K$101,'Licence Info'!$C$105:$DW$105,FALSE))-K45)","v":358.44011499999999},{"$f":"MAX(0,OFFSET(Licence_IBEC,MATCH($B107,'Licence Info'!$B$40:$B$64,FALSE),MATCH(Control!L$101,'Licence Info'!$C$37:$DW$37,FALSE))*$C$9+OFFSET(Licence_Subst,MATCH($B107,'Licence Info'!$B$74:$B$98,FALSE),MATCH(Control!L$101,'Licence Info'!$C$71:$DW$71,FALSE))*$C$9+OFFSET(Licence_OIEC,MATCH($B107,'Licence Info'!$B$108:$B$132,FALSE),MATCH(Control!L$101,'Licence Info'!$C$105:$DW$105,FALSE))-L45)","v":368.58391600000004},{"$f":"MAX(0,OFFSET(Licence_IBEC,MATCH($B107,'Licence Info'!$B$40:$B$64,FALSE),MATCH(Control!M$101,'Licence Info'!$C$37:$DW$37,FALSE))*$C$9+OFFSET(Licence_Subst,MATCH($B107,'Licence Info'!$B$74:$B$98,FALSE),MATCH(Control!M$101,'Licence Info'!$C$71:$DW$71,FALSE))*$C$9+OFFSET(Licence_OIEC,MATCH($B107,'Licence Info'!$B$108:$B$132,FALSE),MATCH(Control!M$101,'Licence Info'!$C$105:$DW$105,FALSE))-M45)","v":369.03738500000003},{"$f":"MAX(0,OFFSET(Licence_IBEC,MATCH($B107,'Licence Info'!$B$40:$B$64,FALSE),MATCH(Control!N$101,'Licence Info'!$C$37:$DW$37,FALSE))*$C$9+OFFSET(Licence_Subst,MATCH($B107,'Licence Info'!$B$74:$B$98,FALSE),MATCH(Control!N$101,'Licence Info'!$C$71:$DW$71,FALSE))*$C$9+OFFSET(Licence_OIEC,MATCH($B107,'Licence Info'!$B$108:$B$132,FALSE),MATCH(Control!N$101,'Licence Info'!$C$105:$DW$105,FALSE))-N45)","v":370.18161600000002},{"$f":"MAX(0,OFFSET(Licence_IBEC,MATCH($B107,'Licence Info'!$B$40:$B$64,FALSE),MATCH(Control!O$101,'Licence Info'!$C$37:$DW$37,FALSE))*$C$9+OFFSET(Licence_Subst,MATCH($B107,'Licence Info'!$B$74:$B$98,FALSE),MATCH(Control!O$101,'Licence Info'!$C$71:$DW$71,FALSE))*$C$9+OFFSET(Licence_OIEC,MATCH($B107,'Licence Info'!$B$108:$B$132,FALSE),MATCH(Control!O$101,'Licence Info'!$C$105:$DW$105,FALSE))-O45)","v":370.00990000000002},{"$f":"MAX(0,OFFSET(Licence_IBEC,MATCH($B107,'Licence Info'!$B$40:$B$64,FALSE),MATCH(Control!P$101,'Licence Info'!$C$37:$DW$37,FALSE))*$C$9+OFFSET(Licence_Subst,MATCH($B107,'Licence Info'!$B$74:$B$98,FALSE),MATCH(Control!P$101,'Licence Info'!$C$71:$DW$71,FALSE))*$C$9+OFFSET(Licence_OIEC,MATCH($B107,'Licence Info'!$B$108:$B$132,FALSE),MATCH(Control!P$101,'Licence Info'!$C$105:$DW$105,FALSE))-P45)","v":397.74158299999999},{"$f":"MAX(0,OFFSET(Licence_IBEC,MATCH($B107,'Licence Info'!$B$40:$B$64,FALSE),MATCH(Control!Q$101,'Licence Info'!$C$37:$DW$37,FALSE))*$C$9+OFFSET(Licence_Subst,MATCH($B107,'Licence Info'!$B$74:$B$98,FALSE),MATCH(Control!Q$101,'Licence Info'!$C$71:$DW$71,FALSE))*$C$9+OFFSET(Licence_OIEC,MATCH($B107,'Licence Info'!$B$108:$B$132,FALSE),MATCH(Control!Q$101,'Licence Info'!$C$105:$DW$105,FALSE))-Q45)","v":397.83103500000004},{"$f":"MAX(0,OFFSET(Licence_IBEC,MATCH($B107,'Licence Info'!$B$40:$B$64,FALSE),MATCH(Control!R$101,'Licence Info'!$C$37:$DW$37,FALSE))*$C$9+OFFSET(Licence_Subst,MATCH($B107,'Licence Info'!$B$74:$B$98,FALSE),MATCH(Control!R$101,'Licence Info'!$C$71:$DW$71,FALSE))*$C$9+OFFSET(Licence_OIEC,MATCH($B107,'Licence Info'!$B$108:$B$132,FALSE),MATCH(Control!R$101,'Licence Info'!$C$105:$DW$105,FALSE))-R45)","v":397.911991},{"$f":"MAX(0,OFFSET(Licence_IBEC,MATCH($B107,'Licence Info'!$B$40:$B$64,FALSE),MATCH(Control!S$101,'Licence Info'!$C$37:$DW$37,FALSE))*$C$9+OFFSET(Licence_Subst,MATCH($B107,'Licence Info'!$B$74:$B$98,FALSE),MATCH(Control!S$101,'Licence Info'!$C$71:$DW$71,FALSE))*$C$9+OFFSET(Licence_OIEC,MATCH($B107,'Licence Info'!$B$108:$B$132,FALSE),MATCH(Control!S$101,'Licence Info'!$C$105:$DW$105,FALSE))-S45)","v":397.98864900000001},{"$f":"MAX(0,OFFSET(Licence_IBEC,MATCH($B107,'Licence Info'!$B$40:$B$64,FALSE),MATCH(Control!T$101,'Licence Info'!$C$37:$DW$37,FALSE))*$C$9+OFFSET(Licence_Subst,MATCH($B107,'Licence Info'!$B$74:$B$98,FALSE),MATCH(Control!T$101,'Licence Info'!$C$71:$DW$71,FALSE))*$C$9+OFFSET(Licence_OIEC,MATCH($B107,'Licence Info'!$B$108:$B$132,FALSE),MATCH(Control!T$101,'Licence Info'!$C$105:$DW$105,FALSE))-T45)","v":398.06354500000003},{"$f":"MAX(0,OFFSET(Licence_IBEC,MATCH($B107,'Licence Info'!$B$40:$B$64,FALSE),MATCH(Control!U$101,'Licence Info'!$C$37:$DW$37,FALSE))*$C$9+OFFSET(Licence_Subst,MATCH($B107,'Licence Info'!$B$74:$B$98,FALSE),MATCH(Control!U$101,'Licence Info'!$C$71:$DW$71,FALSE))*$C$9+OFFSET(Licence_OIEC,MATCH($B107,'Licence Info'!$B$108:$B$132,FALSE),MATCH(Control!U$101,'Licence Info'!$C$105:$DW$105,FALSE))-U45)","v":399.35813100000001},{"$f":"MAX(0,OFFSET(Licence_IBEC,MATCH($B107,'Licence Info'!$B$40:$B$64,FALSE),MATCH(Control!V$101,'Licence Info'!$C$37:$DW$37,FALSE))*$C$9+OFFSET(Licence_Subst,MATCH($B107,'Licence Info'!$B$74:$B$98,FALSE),MATCH(Control!V$101,'Licence Info'!$C$71:$DW$71,FALSE))*$C$9+OFFSET(Licence_OIEC,MATCH($B107,'Licence Info'!$B$108:$B$132,FALSE),MATCH(Control!V$101,'Licence Info'!$C$105:$DW$105,FALSE))-V45)","v":399.46797200000003},{"$f":"MAX(0,OFFSET(Licence_IBEC,MATCH($B107,'Licence Info'!$B$40:$B$64,FALSE),MATCH(Control!W$101,'Licence Info'!$C$37:$DW$37,FALSE))*$C$9+OFFSET(Licence_Subst,MATCH($B107,'Licence Info'!$B$74:$B$98,FALSE),MATCH(Control!W$101,'Licence Info'!$C$71:$DW$71,FALSE))*$C$9+OFFSET(Licence_OIEC,MATCH($B107,'Licence Info'!$B$108:$B$132,FALSE),MATCH(Control!W$101,'Licence Info'!$C$105:$DW$105,FALSE))-W45)","v":399.54600200000004},{"$f":"MAX(0,OFFSET(Licence_IBEC,MATCH($B107,'Licence Info'!$B$40:$B$64,FALSE),MATCH(Control!X$101,'Licence Info'!$C$37:$DW$37,FALSE))*$C$9+OFFSET(Licence_Subst,MATCH($B107,'Licence Info'!$B$74:$B$98,FALSE),MATCH(Control!X$101,'Licence Info'!$C$71:$DW$71,FALSE))*$C$9+OFFSET(Licence_OIEC,MATCH($B107,'Licence Info'!$B$108:$B$132,FALSE),MATCH(Control!X$101,'Licence Info'!$C$105:$DW$105,FALSE))-X45)","v":399.73534100000001},{"$f":"MAX(0,OFFSET(Licence_IBEC,MATCH($B107,'Licence Info'!$B$40:$B$64,FALSE),MATCH(Control!Y$101,'Licence Info'!$C$37:$DW$37,FALSE))*$C$9+OFFSET(Licence_Subst,MATCH($B107,'Licence Info'!$B$74:$B$98,FALSE),MATCH(Control!Y$101,'Licence Info'!$C$71:$DW$71,FALSE))*$C$9+OFFSET(Licence_OIEC,MATCH($B107,'Licence Info'!$B$108:$B$132,FALSE),MATCH(Control!Y$101,'Licence Info'!$C$105:$DW$105,FALSE))-Y45)","v":399.78295600000001},{"$f":"MAX(0,OFFSET(Licence_IBEC,MATCH($B107,'Licence Info'!$B$40:$B$64,FALSE),MATCH(Control!Z$101,'Licence Info'!$C$37:$DW$37,FALSE))*$C$9+OFFSET(Licence_Subst,MATCH($B107,'Licence Info'!$B$74:$B$98,FALSE),MATCH(Control!Z$101,'Licence Info'!$C$71:$DW$71,FALSE))*$C$9+OFFSET(Licence_OIEC,MATCH($B107,'Licence Info'!$B$108:$B$132,FALSE),MATCH(Control!Z$101,'Licence Info'!$C$105:$DW$105,FALSE))-Z45)","v":399.807143},{"$f":"MAX(0,OFFSET(Licence_IBEC,MATCH($B107,'Licence Info'!$B$40:$B$64,FALSE),MATCH(Control!AA$101,'Licence Info'!$C$37:$DW$37,FALSE))*$C$9+OFFSET(Licence_Subst,MATCH($B107,'Licence Info'!$B$74:$B$98,FALSE),MATCH(Control!AA$101,'Licence Info'!$C$71:$DW$71,FALSE))*$C$9+OFFSET(Licence_OIEC,MATCH($B107,'Licence Info'!$B$108:$B$132,FALSE),MATCH(Control!AA$101,'Licence Info'!$C$105:$DW$105,FALSE))-AA45)","v":399.85965000000004},{"$f":"MAX(0,OFFSET(Licence_IBEC,MATCH($B107,'Licence Info'!$B$40:$B$64,FALSE),MATCH(Control!AB$101,'Licence Info'!$C$37:$DW$37,FALSE))*$C$9+OFFSET(Licence_Subst,MATCH($B107,'Licence Info'!$B$74:$B$98,FALSE),MATCH(Control!AB$101,'Licence Info'!$C$71:$DW$71,FALSE))*$C$9+OFFSET(Licence_OIEC,MATCH($B107,'Licence Info'!$B$108:$B$132,FALSE),MATCH(Control!AB$101,'Licence Info'!$C$105:$DW$105,FALSE))-AB45)","v":400.58100000000002},{"$f":"MAX(0,OFFSET(Licence_IBEC,MATCH($B107,'Licence Info'!$B$40:$B$64,FALSE),MATCH(Control!AC$101,'Licence Info'!$C$37:$DW$37,FALSE))*$C$9+OFFSET(Licence_Subst,MATCH($B107,'Licence Info'!$B$74:$B$98,FALSE),MATCH(Control!AC$101,'Licence Info'!$C$71:$DW$71,FALSE))*$C$9+OFFSET(Licence_OIEC,MATCH($B107,'Licence Info'!$B$108:$B$132,FALSE),MATCH(Control!AC$101,'Licence Info'!$C$105:$DW$105,FALSE))-AC45)","v":400.58100000000002},{"$f":"MAX(0,OFFSET(Licence_IBEC,MATCH($B107,'Licence Info'!$B$40:$B$64,FALSE),MATCH(Control!AD$101,'Licence Info'!$C$37:$DW$37,FALSE))*$C$9+OFFSET(Licence_Subst,MATCH($B107,'Licence Info'!$B$74:$B$98,FALSE),MATCH(Control!AD$101,'Licence Info'!$C$71:$DW$71,FALSE))*$C$9+OFFSET(Licence_OIEC,MATCH($B107,'Licence Info'!$B$108:$B$132,FALSE),MATCH(Control!AD$101,'Licence Info'!$C$105:$DW$105,FALSE))-AD45)","v":400.58100000000002},{"$f":"MAX(0,OFFSET(Licence_IBEC,MATCH($B107,'Licence Info'!$B$40:$B$64,FALSE),MATCH(Control!AE$101,'Licence Info'!$C$37:$DW$37,FALSE))*$C$9+OFFSET(Licence_Subst,MATCH($B107,'Licence Info'!$B$74:$B$98,FALSE),MATCH(Control!AE$101,'Licence Info'!$C$71:$DW$71,FALSE))*$C$9+OFFSET(Licence_OIEC,MATCH($B107,'Licence Info'!$B$108:$B$132,FALSE),MATCH(Control!AE$101,'Licence Info'!$C$105:$DW$105,FALSE))-AE45)","v":400.58100000000002},{"$f":"MAX(0,OFFSET(Licence_IBEC,MATCH($B107,'Licence Info'!$B$40:$B$64,FALSE),MATCH(Control!AF$101,'Licence Info'!$C$37:$DW$37,FALSE))*$C$9+OFFSET(Licence_Subst,MATCH($B107,'Licence Info'!$B$74:$B$98,FALSE),MATCH(Control!AF$101,'Licence Info'!$C$71:$DW$71,FALSE))*$C$9+OFFSET(Licence_OIEC,MATCH($B107,'Licence Info'!$B$108:$B$132,FALSE),MATCH(Control!AF$101,'Licence Info'!$C$105:$DW$105,FALSE))-AF45)","v":400.58100000000002},{"$f":"MAX(0,OFFSET(Licence_IBEC,MATCH($B107,'Licence Info'!$B$40:$B$64,FALSE),MATCH(Control!AG$101,'Licence Info'!$C$37:$DW$37,FALSE))*$C$9+OFFSET(Licence_Subst,MATCH($B107,'Licence Info'!$B$74:$B$98,FALSE),MATCH(Control!AG$101,'Licence Info'!$C$71:$DW$71,FALSE))*$C$9+OFFSET(Licence_OIEC,MATCH($B107,'Licence Info'!$B$108:$B$132,FALSE),MATCH(Control!AG$101,'Licence Info'!$C$105:$DW$105,FALSE))-AG45)","v":400.58100000000002},{"$f":"MAX(0,OFFSET(Licence_IBEC,MATCH($B107,'Licence Info'!$B$40:$B$64,FALSE),MATCH(Control!AH$101,'Licence Info'!$C$37:$DW$37,FALSE))*$C$9+OFFSET(Licence_Subst,MATCH($B107,'Licence Info'!$B$74:$B$98,FALSE),MATCH(Control!AH$101,'Licence Info'!$C$71:$DW$71,FALSE))*$C$9+OFFSET(Licence_OIEC,MATCH($B107,'Licence Info'!$B$108:$B$132,FALSE),MATCH(Control!AH$101,'Licence Info'!$C$105:$DW$105,FALSE))-AH45)","v":400.58100000000002},{"$f":"MAX(0,OFFSET(Licence_IBEC,MATCH($B107,'Licence Info'!$B$40:$B$64,FALSE),MATCH(Control!AI$101,'Licence Info'!$C$37:$DW$37,FALSE))*$C$9+OFFSET(Licence_Subst,MATCH($B107,'Licence Info'!$B$74:$B$98,FALSE),MATCH(Control!AI$101,'Licence Info'!$C$71:$DW$71,FALSE))*$C$9+OFFSET(Licence_OIEC,MATCH($B107,'Licence Info'!$B$108:$B$132,FALSE),MATCH(Control!AI$101,'Licence Info'!$C$105:$DW$105,FALSE))-AI45)","v":400.58100000000002},{"$f":"MAX(0,OFFSET(Licence_IBEC,MATCH($B107,'Licence Info'!$B$40:$B$64,FALSE),MATCH(Control!AJ$101,'Licence Info'!$C$37:$DW$37,FALSE))*$C$9+OFFSET(Licence_Subst,MATCH($B107,'Licence Info'!$B$74:$B$98,FALSE),MATCH(Control!AJ$101,'Licence Info'!$C$71:$DW$71,FALSE))*$C$9+OFFSET(Licence_OIEC,MATCH($B107,'Licence Info'!$B$108:$B$132,FALSE),MATCH(Control!AJ$101,'Licence Info'!$C$105:$DW$105,FALSE))-AJ45)","v":400.58100000000002},{"$f":"MAX(0,OFFSET(Licence_IBEC,MATCH($B107,'Licence Info'!$B$40:$B$64,FALSE),MATCH(Control!AK$101,'Licence Info'!$C$37:$DW$37,FALSE))*$C$9+OFFSET(Licence_Subst,MATCH($B107,'Licence Info'!$B$74:$B$98,FALSE),MATCH(Control!AK$101,'Licence Info'!$C$71:$DW$71,FALSE))*$C$9+OFFSET(Licence_OIEC,MATCH($B107,'Licence Info'!$B$108:$B$132,FALSE),MATCH(Control!AK$101,'Licence Info'!$C$105:$DW$105,FALSE))-AK45)","v":400.58100000000002},{"$f":"MAX(0,OFFSET(Licence_IBEC,MATCH($B107,'Licence Info'!$B$40:$B$64,FALSE),MATCH(Control!AL$101,'Licence Info'!$C$37:$DW$37,FALSE))*$C$9+OFFSET(Licence_Subst,MATCH($B107,'Licence Info'!$B$74:$B$98,FALSE),MATCH(Control!AL$101,'Licence Info'!$C$71:$DW$71,FALSE))*$C$9+OFFSET(Licence_OIEC,MATCH($B107,'Licence Info'!$B$108:$B$132,FALSE),MATCH(Control!AL$101,'Licence Info'!$C$105:$DW$105,FALSE))-AL45)","v":400.58100000000002},{"$f":"MAX(0,OFFSET(Licence_IBEC,MATCH($B107,'Licence Info'!$B$40:$B$64,FALSE),MATCH(Control!AM$101,'Licence Info'!$C$37:$DW$37,FALSE))*$C$9+OFFSET(Licence_Subst,MATCH($B107,'Licence Info'!$B$74:$B$98,FALSE),MATCH(Control!AM$101,'Licence Info'!$C$71:$DW$71,FALSE))*$C$9+OFFSET(Licence_OIEC,MATCH($B107,'Licence Info'!$B$108:$B$132,FALSE),MATCH(Control!AM$101,'Licence Info'!$C$105:$DW$105,FALSE))-AM45)","v":400.58100000000002},{"$f":"MAX(0,OFFSET(Licence_IBEC,MATCH($B107,'Licence Info'!$B$40:$B$64,FALSE),MATCH(Control!AN$101,'Licence Info'!$C$37:$DW$37,FALSE))*$C$9+OFFSET(Licence_Subst,MATCH($B107,'Licence Info'!$B$74:$B$98,FALSE),MATCH(Control!AN$101,'Licence Info'!$C$71:$DW$71,FALSE))*$C$9+OFFSET(Licence_OIEC,MATCH($B107,'Licence Info'!$B$108:$B$132,FALSE),MATCH(Control!AN$101,'Licence Info'!$C$105:$DW$105,FALSE))-AN45)","v":400.58100000000002},{"$f":"MAX(0,OFFSET(Licence_IBEC,MATCH($B107,'Licence Info'!$B$40:$B$64,FALSE),MATCH(Control!AO$101,'Licence Info'!$C$37:$DW$37,FALSE))*$C$9+OFFSET(Licence_Subst,MATCH($B107,'Licence Info'!$B$74:$B$98,FALSE),MATCH(Control!AO$101,'Licence Info'!$C$71:$DW$71,FALSE))*$C$9+OFFSET(Licence_OIEC,MATCH($B107,'Licence Info'!$B$108:$B$132,FALSE),MATCH(Control!AO$101,'Licence Info'!$C$105:$DW$105,FALSE))-AO45)","v":400.58100000000002},{"$f":"MAX(0,OFFSET(Licence_IBEC,MATCH($B107,'Licence Info'!$B$40:$B$64,FALSE),MATCH(Control!AP$101,'Licence Info'!$C$37:$DW$37,FALSE))*$C$9+OFFSET(Licence_Subst,MATCH($B107,'Licence Info'!$B$74:$B$98,FALSE),MATCH(Control!AP$101,'Licence Info'!$C$71:$DW$71,FALSE))*$C$9+OFFSET(Licence_OIEC,MATCH($B107,'Licence Info'!$B$108:$B$132,FALSE),MATCH(Control!AP$101,'Licence Info'!$C$105:$DW$105,FALSE))-AP45)","v":400.58100000000002},{"$f":"MAX(0,OFFSET(Licence_IBEC,MATCH($B107,'Licence Info'!$B$40:$B$64,FALSE),MATCH(Control!AQ$101,'Licence Info'!$C$37:$DW$37,FALSE))*$C$9+OFFSET(Licence_Subst,MATCH($B107,'Licence Info'!$B$74:$B$98,FALSE),MATCH(Control!AQ$101,'Licence Info'!$C$71:$DW$71,FALSE))*$C$9+OFFSET(Licence_OIEC,MATCH($B107,'Licence Info'!$B$108:$B$132,FALSE),MATCH(Control!AQ$101,'Licence Info'!$C$105:$DW$105,FALSE))-AQ45)","v":400.58100000000002},{"$f":"MAX(0,OFFSET(Licence_IBEC,MATCH($B107,'Licence Info'!$B$40:$B$64,FALSE),MATCH(Control!AR$101,'Licence Info'!$C$37:$DW$37,FALSE))*$C$9+OFFSET(Licence_Subst,MATCH($B107,'Licence Info'!$B$74:$B$98,FALSE),MATCH(Control!AR$101,'Licence Info'!$C$71:$DW$71,FALSE))*$C$9+OFFSET(Licence_OIEC,MATCH($B107,'Licence Info'!$B$108:$B$132,FALSE),MATCH(Control!AR$101,'Licence Info'!$C$105:$DW$105,FALSE))-AR45)","v":400.58100000000002},{"$f":"MAX(0,OFFSET(Licence_IBEC,MATCH($B107,'Licence Info'!$B$40:$B$64,FALSE),MATCH(Control!AS$101,'Licence Info'!$C$37:$DW$37,FALSE))*$C$9+OFFSET(Licence_Subst,MATCH($B107,'Licence Info'!$B$74:$B$98,FALSE),MATCH(Control!AS$101,'Licence Info'!$C$71:$DW$71,FALSE))*$C$9+OFFSET(Licence_OIEC,MATCH($B107,'Licence Info'!$B$108:$B$132,FALSE),MATCH(Control!AS$101,'Licence Info'!$C$105:$DW$105,FALSE))-AS45)","v":400.58100000000002},{"$f":"MAX(0,OFFSET(Licence_IBEC,MATCH($B107,'Licence Info'!$B$40:$B$64,FALSE),MATCH(Control!AT$101,'Licence Info'!$C$37:$DW$37,FALSE))*$C$9+OFFSET(Licence_Subst,MATCH($B107,'Licence Info'!$B$74:$B$98,FALSE),MATCH(Control!AT$101,'Licence Info'!$C$71:$DW$71,FALSE))*$C$9+OFFSET(Licence_OIEC,MATCH($B107,'Licence Info'!$B$108:$B$132,FALSE),MATCH(Control!AT$101,'Licence Info'!$C$105:$DW$105,FALSE))-AT45)","v":400.58100000000002},{"$f":"MAX(0,OFFSET(Licence_IBEC,MATCH($B107,'Licence Info'!$B$40:$B$64,FALSE),MATCH(Control!AU$101,'Licence Info'!$C$37:$DW$37,FALSE))*$C$9+OFFSET(Licence_Subst,MATCH($B107,'Licence Info'!$B$74:$B$98,FALSE),MATCH(Control!AU$101,'Licence Info'!$C$71:$DW$71,FALSE))*$C$9+OFFSET(Licence_OIEC,MATCH($B107,'Licence Info'!$B$108:$B$132,FALSE),MATCH(Control!AU$101,'Licence Info'!$C$105:$DW$105,FALSE))-AU45)","v":400.58100000000002},{"$f":"MAX(0,OFFSET(Licence_IBEC,MATCH($B107,'Licence Info'!$B$40:$B$64,FALSE),MATCH(Control!AV$101,'Licence Info'!$C$37:$DW$37,FALSE))*$C$9+OFFSET(Licence_Subst,MATCH($B107,'Licence Info'!$B$74:$B$98,FALSE),MATCH(Control!AV$101,'Licence Info'!$C$71:$DW$71,FALSE))*$C$9+OFFSET(Licence_OIEC,MATCH($B107,'Licence Info'!$B$108:$B$132,FALSE),MATCH(Control!AV$101,'Licence Info'!$C$105:$DW$105,FALSE))-AV45)","v":400.58100000000002},{"$f":"MAX(0,OFFSET(Licence_IBEC,MATCH($B107,'Licence Info'!$B$40:$B$64,FALSE),MATCH(Control!AW$101,'Licence Info'!$C$37:$DW$37,FALSE))*$C$9+OFFSET(Licence_Subst,MATCH($B107,'Licence Info'!$B$74:$B$98,FALSE),MATCH(Control!AW$101,'Licence Info'!$C$71:$DW$71,FALSE))*$C$9+OFFSET(Licence_OIEC,MATCH($B107,'Licence Info'!$B$108:$B$132,FALSE),MATCH(Control!AW$101,'Licence Info'!$C$105:$DW$105,FALSE))-AW45)","v":400.58100000000002},{"$f":"MAX(0,OFFSET(Licence_IBEC,MATCH($B107,'Licence Info'!$B$40:$B$64,FALSE),MATCH(Control!AX$101,'Licence Info'!$C$37:$DW$37,FALSE))*$C$9+OFFSET(Licence_Subst,MATCH($B107,'Licence Info'!$B$74:$B$98,FALSE),MATCH(Control!AX$101,'Licence Info'!$C$71:$DW$71,FALSE))*$C$9+OFFSET(Licence_OIEC,MATCH($B107,'Licence Info'!$B$108:$B$132,FALSE),MATCH(Control!AX$101,'Licence Info'!$C$105:$DW$105,FALSE))-AX45)","v":400.58100000000002},{"$f":"MAX(0,OFFSET(Licence_IBEC,MATCH($B107,'Licence Info'!$B$40:$B$64,FALSE),MATCH(Control!AY$101,'Licence Info'!$C$37:$DW$37,FALSE))*$C$9+OFFSET(Licence_Subst,MATCH($B107,'Licence Info'!$B$74:$B$98,FALSE),MATCH(Control!AY$101,'Licence Info'!$C$71:$DW$71,FALSE))*$C$9+OFFSET(Licence_OIEC,MATCH($B107,'Licence Info'!$B$108:$B$132,FALSE),MATCH(Control!AY$101,'Licence Info'!$C$105:$DW$105,FALSE))-AY45)","v":400.58100000000002},{"$f":"MAX(0,OFFSET(Licence_IBEC,MATCH($B107,'Licence Info'!$B$40:$B$64,FALSE),MATCH(Control!AZ$101,'Licence Info'!$C$37:$DW$37,FALSE))*$C$9+OFFSET(Licence_Subst,MATCH($B107,'Licence Info'!$B$74:$B$98,FALSE),MATCH(Control!AZ$101,'Licence Info'!$C$71:$DW$71,FALSE))*$C$9+OFFSET(Licence_OIEC,MATCH($B107,'Licence Info'!$B$108:$B$132,FALSE),MATCH(Control!AZ$101,'Licence Info'!$C$105:$DW$105,FALSE))-AZ45)","v":400.58100000000002},{"$f":"MAX(0,OFFSET(Licence_IBEC,MATCH($B107,'Licence Info'!$B$40:$B$64,FALSE),MATCH(Control!BA$101,'Licence Info'!$C$37:$DW$37,FALSE))*$C$9+OFFSET(Licence_Subst,MATCH($B107,'Licence Info'!$B$74:$B$98,FALSE),MATCH(Control!BA$101,'Licence Info'!$C$71:$DW$71,FALSE))*$C$9+OFFSET(Licence_OIEC,MATCH($B107,'Licence Info'!$B$108:$B$132,FALSE),MATCH(Control!BA$101,'Licence Info'!$C$105:$DW$105,FALSE))-BA45)","v":400.58100000000002},{"$f":"MAX(0,OFFSET(Licence_IBEC,MATCH($B107,'Licence Info'!$B$40:$B$64,FALSE),MATCH(Control!BB$101,'Licence Info'!$C$37:$DW$37,FALSE))*$C$9+OFFSET(Licence_Subst,MATCH($B107,'Licence Info'!$B$74:$B$98,FALSE),MATCH(Control!BB$101,'Licence Info'!$C$71:$DW$71,FALSE))*$C$9+OFFSET(Licence_OIEC,MATCH($B107,'Licence Info'!$B$108:$B$132,FALSE),MATCH(Control!BB$101,'Licence Info'!$C$105:$DW$105,FALSE))-BB45)","v":400.58100000000002},{"$f":"MAX(0,OFFSET(Licence_IBEC,MATCH($B107,'Licence Info'!$B$40:$B$64,FALSE),MATCH(Control!BC$101,'Licence Info'!$C$37:$DW$37,FALSE))*$C$9+OFFSET(Licence_Subst,MATCH($B107,'Licence Info'!$B$74:$B$98,FALSE),MATCH(Control!BC$101,'Licence Info'!$C$71:$DW$71,FALSE))*$C$9+OFFSET(Licence_OIEC,MATCH($B107,'Licence Info'!$B$108:$B$132,FALSE),MATCH(Control!BC$101,'Licence Info'!$C$105:$DW$105,FALSE))-BC45)","v":400.58100000000002},{"$f":"MAX(0,OFFSET(Licence_IBEC,MATCH($B107,'Licence Info'!$B$40:$B$64,FALSE),MATCH(Control!BD$101,'Licence Info'!$C$37:$DW$37,FALSE))*$C$9+OFFSET(Licence_Subst,MATCH($B107,'Licence Info'!$B$74:$B$98,FALSE),MATCH(Control!BD$101,'Licence Info'!$C$71:$DW$71,FALSE))*$C$9+OFFSET(Licence_OIEC,MATCH($B107,'Licence Info'!$B$108:$B$132,FALSE),MATCH(Control!BD$101,'Licence Info'!$C$105:$DW$105,FALSE))-BD45)","v":400.58100000000002},{"$f":"MAX(0,OFFSET(Licence_IBEC,MATCH($B107,'Licence Info'!$B$40:$B$64,FALSE),MATCH(Control!BE$101,'Licence Info'!$C$37:$DW$37,FALSE))*$C$9+OFFSET(Licence_Subst,MATCH($B107,'Licence Info'!$B$74:$B$98,FALSE),MATCH(Control!BE$101,'Licence Info'!$C$71:$DW$71,FALSE))*$C$9+OFFSET(Licence_OIEC,MATCH($B107,'Licence Info'!$B$108:$B$132,FALSE),MATCH(Control!BE$101,'Licence Info'!$C$105:$DW$105,FALSE))-BE45)","v":400.58100000000002},{"$f":"MAX(0,OFFSET(Licence_IBEC,MATCH($B107,'Licence Info'!$B$40:$B$64,FALSE),MATCH(Control!BF$101,'Licence Info'!$C$37:$DW$37,FALSE))*$C$9+OFFSET(Licence_Subst,MATCH($B107,'Licence Info'!$B$74:$B$98,FALSE),MATCH(Control!BF$101,'Licence Info'!$C$71:$DW$71,FALSE))*$C$9+OFFSET(Licence_OIEC,MATCH($B107,'Licence Info'!$B$108:$B$132,FALSE),MATCH(Control!BF$101,'Licence Info'!$C$105:$DW$105,FALSE))-BF45)","v":400.58100000000002},{"$f":"MAX(0,OFFSET(Licence_IBEC,MATCH($B107,'Licence Info'!$B$40:$B$64,FALSE),MATCH(Control!BG$101,'Licence Info'!$C$37:$DW$37,FALSE))*$C$9+OFFSET(Licence_Subst,MATCH($B107,'Licence Info'!$B$74:$B$98,FALSE),MATCH(Control!BG$101,'Licence Info'!$C$71:$DW$71,FALSE))*$C$9+OFFSET(Licence_OIEC,MATCH($B107,'Licence Info'!$B$108:$B$132,FALSE),MATCH(Control!BG$101,'Licence Info'!$C$105:$DW$105,FALSE))-BG45)","v":400.58100000000002},{"$f":"MAX(0,OFFSET(Licence_IBEC,MATCH($B107,'Licence Info'!$B$40:$B$64,FALSE),MATCH(Control!BH$101,'Licence Info'!$C$37:$DW$37,FALSE))*$C$9+OFFSET(Licence_Subst,MATCH($B107,'Licence Info'!$B$74:$B$98,FALSE),MATCH(Control!BH$101,'Licence Info'!$C$71:$DW$71,FALSE))*$C$9+OFFSET(Licence_OIEC,MATCH($B107,'Licence Info'!$B$108:$B$132,FALSE),MATCH(Control!BH$101,'Licence Info'!$C$105:$DW$105,FALSE))-BH45)","v":400.58100000000002},{"$f":"MAX(0,OFFSET(Licence_IBEC,MATCH($B107,'Licence Info'!$B$40:$B$64,FALSE),MATCH(Control!BI$101,'Licence Info'!$C$37:$DW$37,FALSE))*$C$9+OFFSET(Licence_Subst,MATCH($B107,'Licence Info'!$B$74:$B$98,FALSE),MATCH(Control!BI$101,'Licence Info'!$C$71:$DW$71,FALSE))*$C$9+OFFSET(Licence_OIEC,MATCH($B107,'Licence Info'!$B$108:$B$132,FALSE),MATCH(Control!BI$101,'Licence Info'!$C$105:$DW$105,FALSE))-BI45)","v":400.58100000000002},{"$f":"MAX(0,OFFSET(Licence_IBEC,MATCH($B107,'Licence Info'!$B$40:$B$64,FALSE),MATCH(Control!BJ$101,'Licence Info'!$C$37:$DW$37,FALSE))*$C$9+OFFSET(Licence_Subst,MATCH($B107,'Licence Info'!$B$74:$B$98,FALSE),MATCH(Control!BJ$101,'Licence Info'!$C$71:$DW$71,FALSE))*$C$9+OFFSET(Licence_OIEC,MATCH($B107,'Licence Info'!$B$108:$B$132,FALSE),MATCH(Control!BJ$101,'Licence Info'!$C$105:$DW$105,FALSE))-BJ45)","v":400.58100000000002},{"$f":"MAX(0,OFFSET(Licence_IBEC,MATCH($B107,'Licence Info'!$B$40:$B$64,FALSE),MATCH(Control!BK$101,'Licence Info'!$C$37:$DW$37,FALSE))*$C$9+OFFSET(Licence_Subst,MATCH($B107,'Licence Info'!$B$74:$B$98,FALSE),MATCH(Control!BK$101,'Licence Info'!$C$71:$DW$71,FALSE))*$C$9+OFFSET(Licence_OIEC,MATCH($B107,'Licence Info'!$B$108:$B$132,FALSE),MATCH(Control!BK$101,'Licence Info'!$C$105:$DW$105,FALSE))-BK45)","v":{"$error":"#N/A"}}]
[null,"Theddlethorpe",{"$f":"MAX(0,OFFSET(Licence_IBEC,MATCH($B108,'Licence Info'!$B$40:$B$64,FALSE),MATCH(Control!C$101,'Licence Info'!$C$37:$DW$37,FALSE))*$C$9+OFFSET(Licence_Subst,MATCH($B108,'Licence Info'!$B$74:$B$98,FALSE),MATCH(Control!C$101,'Licence Info'!$C$71:$DW$71,FALSE))*$C$9+OFFSET(Licence_OIEC,MATCH($B108,'Licence Info'!$B$108:$B$132,FALSE),MATCH(Control!C$101,'Licence Info'!$C$105:$DW$105,FALSE))-C46)","v":540.43000000000006},{"$f":"MAX(0,OFFSET(Licence_IBEC,MATCH($B108,'Licence Info'!$B$40:$B$64,FALSE),MATCH(Control!D$101,'Licence Info'!$C$37:$DW$37,FALSE))*$C$9+OFFSET(Licence_Subst,MATCH($B108,'Licence Info'!$B$74:$B$98,FALSE),MATCH(Control!D$101,'Licence Info'!$C$71:$DW$71,FALSE))*$C$9+OFFSET(Licence_OIEC,MATCH($B108,'Licence Info'!$B$108:$B$132,FALSE),MATCH(Control!D$101,'Licence Info'!$C$105:$DW$105,FALSE))-D46)","v":540.83000000000015},{"$f":"MAX(0,OFFSET(Licence_IBEC,MATCH($B108,'Licence Info'!$B$40:$B$64,FALSE),MATCH(Control!E$101,'Licence Info'!$C$37:$DW$37,FALSE))*$C$9+OFFSET(Licence_Subst,MATCH($B108,'Licence Info'!$B$74:$B$98,FALSE),MATCH(Control!E$101,'Licence Info'!$C$71:$DW$71,FALSE))*$C$9+OFFSET(Licence_OIEC,MATCH($B108,'Licence Info'!$B$108:$B$132,FALSE),MATCH(Control!E$101,'Licence Info'!$C$105:$DW$105,FALSE))-E46)","v":541.33000000000015},{"$f":"MAX(0,OFFSET(Licence_IBEC,MATCH($B108,'Licence Info'!$B$40:$B$64,FALSE),MATCH(Control!F$101,'Licence Info'!$C$37:$DW$37,FALSE))*$C$9+OFFSET(Licence_Subst,MATCH($B108,'Licence Info'!$B$74:$B$98,FALSE),MATCH(Control!F$101,'Licence Info'!$C$71:$DW$71,FALSE))*$C$9+OFFSET(Licence_OIEC,MATCH($B108,'Licence Info'!$B$108:$B$132,FALSE),MATCH(Control!F$101,'Licence Info'!$C$105:$DW$105,FALSE))-F46)","v":541.73000000000013},{"$f":"MAX(0,OFFSET(Licence_IBEC,MATCH($B108,'Licence Info'!$B$40:$B$64,FALSE),MATCH(Control!G$101,'Licence Info'!$C$37:$DW$37,FALSE))*$C$9+OFFSET(Licence_Subst,MATCH($B108,'Licence Info'!$B$74:$B$98,FALSE),MATCH(Control!G$101,'Licence Info'!$C$71:$DW$71,FALSE))*$C$9+OFFSET(Licence_OIEC,MATCH($B108,'Licence Info'!$B$108:$B$132,FALSE),MATCH(Control!G$101,'Licence Info'!$C$105:$DW$105,FALSE))-G46)","v":549.63000000000011},{"$f":"MAX(0,OFFSET(Licence_IBEC,MATCH($B108,'Licence Info'!$B$40:$B$64,FALSE),MATCH(Control!H$101,'Licence Info'!$C$37:$DW$37,FALSE))*$C$9+OFFSET(Licence_Subst,MATCH($B108,'Licence Info'!$B$74:$B$98,FALSE),MATCH(Control!H$101,'Licence Info'!$C$71:$DW$71,FALSE))*$C$9+OFFSET(Licence_OIEC,MATCH($B108,'Licence Info'!$B$108:$B$132,FALSE),MATCH(Control!H$101,'Licence Info'!$C$105:$DW$105,FALSE))-H46)","v":549.63000000000011},{"$f":"MAX(0,OFFSET(Licence_IBEC,MATCH($B108,'Licence Info'!$B$40:$B$64,FALSE),MATCH(Control!I$101,'Licence Info'!$C$37:$DW$37,FALSE))*$C$9+OFFSET(Licence_Subst,MATCH($B108,'Licence Info'!$B$74:$B$98,FALSE),MATCH(Control!I$101,'Licence Info'!$C$71:$DW$71,FALSE))*$C$9+OFFSET(Licence_OIEC,MATCH($B108,'Licence Info'!$B$108:$B$132,FALSE),MATCH(Control!I$101,'Licence Info'!$C$105:$DW$105,FALSE))-I46)","v":549.63000000000011},{"$f":"MAX(0,OFFSET(Licence_IBEC,MATCH($B108,'Licence Info'!$B$40:$B$64,FALSE),MATCH(Control!J$101,'Licence Info'!$C$37:$DW$37,FALSE))*$C$9+OFFSET(Licence_Subst,MATCH($B108,'Licence Info'!$B$74:$B$98,FALSE),MATCH(Control!J$101,'Licence Info'!$C$71:$DW$71,FALSE))*$C$9+OFFSET(Licence_OIEC,MATCH($B108,'Licence Info'!$B$108:$B$132,FALSE),MATCH(Control!J$101,'Licence Info'!$C$105:$DW$105,FALSE))-J46)","v":549.63000000000011},{"$f":"MAX(0,OFFSET(Licence_IBEC,MATCH($B108,'Licence Info'!$B$40:$B$64,FALSE),MATCH(Control!K$101,'Licence Info'!$C$37:$DW$37,FALSE))*$C$9+OFFSET(Licence_Subst,MATCH($B108,'Licence Info'!$B$74:$B$98,FALSE),MATCH(Control!K$101,'Licence Info'!$C$71:$DW$71,FALSE))*$C$9+OFFSET(Licence_OIEC,MATCH($B108,'Licence Info'!$B$108:$B$132,FALSE),MATCH(Control!K$101,'Licence Info'!$C$105:$DW$105,FALSE))-K46)","v":549.63000000000011},{"$f":"MAX(0,OFFSET(Licence_IBEC,MATCH($B108,'Licence Info'!$B$40:$B$64,FALSE),MATCH(Control!L$101,'Licence Info'!$C$37:$DW$37,FALSE))*$C$9+OFFSET(Licence_Subst,MATCH($B108,'Licence Info'!$B$74:$B$98,FALSE),MATCH(Control!L$101,'Licence Info'!$C$71:$DW$71,FALSE))*$C$9+OFFSET(Licence_OIEC,MATCH($B108,'Licence Info'!$B$108:$B$132,FALSE),MATCH(Control!L$101,'Licence Info'!$C$105:$DW$105,FALSE))-L46)","v":549.63000000000011},{"$f":"MAX(0,OFFSET(Licence_IBEC,MATCH($B108,'Licence Info'!$B$40:$B$64,FALSE),MATCH(Control!M$101,'Licence Info'!$C$37:$DW$37,FALSE))*$C$9+OFFSET(Licence_Subst,MATCH($B108,'Licence Info'!$B$74:$B$98,FALSE),MATCH(Control!M$101,'Licence Info'!$C$71:$DW$71,FALSE))*$C$9+OFFSET(Licence_OIEC,MATCH($B108,'Licence Info'!$B$108:$B$132,FALSE),MATCH(Control!M$101,'Licence Info'!$C$105:$DW$105,FALSE))-M46)","v":549.63000000000011},{"$f":"MAX(0,OFFSET(Licence_IBEC,MATCH($B108,'Licence Info'!$B$40:$B$64,FALSE),MATCH(Control!N$101,'Licence Info'!$C$37:$DW$37,FALSE))*$C$9+OFFSET(Licence_Subst,MATCH($B108,'Licence Info'!$B$74:$B$98,FALSE),MATCH(Control!N$101,'Licence Info'!$C$71:$DW$71,FALSE))*$C$9+OFFSET(Licence_OIEC,MATCH($B108,'Licence Info'!$B$108:$B$132,FALSE),MATCH(Control!N$101,'Licence Info'!$C$105:$DW$105,FALSE))-N46)","v":549.63000000000011},{"$f":"MAX(0,OFFSET(Licence_IBEC,MATCH($B108,'Licence Info'!$B$40:$B$64,FALSE),MATCH(Control!O$101,'Licence Info'!$C$37:$DW$37,FALSE))*$C$9+OFFSET(Licence_Subst,MATCH($B108,'Licence Info'!$B$74:$B$98,FALSE),MATCH(Control!O$101,'Licence Info'!$C$71:$DW$71,FALSE))*$C$9+OFFSET(Licence_OIEC,MATCH($B108,'Licence Info'!$B$108:$B$132,FALSE),MATCH(Control!O$101,'Licence Info'!$C$105:$DW$105,FALSE))-O46)","v":549.63000000000011},{"$f":"MAX(0,OFFSET(Licence_IBEC,MATCH($B108,'Licence Info'!$B$40:$B$64,FALSE),MATCH(Control!P$101,'Licence Info'!$C$37:$DW$37,FALSE))*$C$9+OFFSET(Licence_Subst,MATCH($B108,'Licence Info'!$B$74:$B$98,FALSE),MATCH(Control!P$101,'Licence Info'!$C$71:$DW$71,FALSE))*$C$9+OFFSET(Licence_OIEC,MATCH($B108,'Licence Info'!$B$108:$B$132,FALSE),MATCH(Control!P$101,'Licence Info'!$C$105:$DW$105,FALSE))-P46)","v":549.63000000000011},{"$f":"MAX(0,OFFSET(Licence_IBEC,MATCH($B108,'Licence Info'!$B$40:$B$64,FALSE),MATCH(Control!Q$101,'Licence Info'!$C$37:$DW$37,FALSE))*$C$9+OFFSET(Licence_Subst,MATCH($B108,'Licence Info'!$B$74:$B$98,FALSE),MATCH(Control!Q$101,'Licence Info'!$C$71:$DW$71,FALSE))*$C$9+OFFSET(Licence_OIEC,MATCH($B108,'Licence Info'!$B$108:$B$132,FALSE),MATCH(Control!Q$101,'Licence Info'!$C$105:$DW$105,FALSE))-Q46)","v":549.63000000000011},{"$f":"MAX(0,OFFSET(Licence_IBEC,MATCH($B108,'Licence Info'!$B$40:$B$64,FALSE),MATCH(Control!R$101,'Licence Info'!$C$37:$DW$37,FALSE))*$C$9+OFFSET(Licence_Subst,MATCH($B108,'Licence Info'!$B$74:$B$98,FALSE),MATCH(Control!R$101,'Licence Info'!$C$71:$DW$71,FALSE))*$C$9+OFFSET(Licence_OIEC,MATCH($B108,'Licence Info'!$B$108:$B$132,FALSE),MATCH(Control!R$101,'Licence Info'!$C$105:$DW$105,FALSE))-R46)","v":549.63000000000011},{"$f":"MAX(0,OFFSET(Licence_IBEC,MATCH($B108,'Licence Info'!$B$40:$B$64,FALSE),MATCH(Control!S$101,'Licence Info'!$C$37:$DW$37,FALSE))*$C$9+OFFSET(Licence_Subst,MATCH($B108,'Licence Info'!$B$74:$B$98,FALSE),MATCH(Control!S$101,'Licence Info'!$C$71:$DW$71,FALSE))*$C$9+OFFSET(Licence_OIEC,MATCH($B108,'Licence Info'!$B$108:$B$132,FALSE),MATCH(Control!S$101,'Licence Info'!$C$105:$DW$105,FALSE))-S46)","v":549.63000000000011},{"$f":"MAX(0,OFFSET(Licence_IBEC,MATCH($B108,'Licence Info'!$B$40:$B$64,FALSE),MATCH(Control!T$101,'Licence Info'!$C$37:$DW$37,FALSE))*$C$9+OFFSET(Licence_Subst,MATCH($B108,'Licence Info'!$B$74:$B$98,FALSE),MATCH(Control!T$101,'Licence Info'!$C$71:$DW$71,FALSE))*$C$9+OFFSET(Licence_OIEC,MATCH($B108,'Licence Info'!$B$108:$B$132,FALSE),MATCH(Control!T$101,'Licence Info'!$C$105:$DW$105,FALSE))-T46)","v":549.63000000000011},{"$f":"MAX(0,OFFSET(Licence_IBEC,MATCH($B108,'Licence Info'!$B$40:$B$64,FALSE),MATCH(Control!U$101,'Licence Info'!$C$37:$DW$37,FALSE))*$C$9+OFFSET(Licence_Subst,MATCH($B108,'Licence Info'!$B$74:$B$98,FALSE),MATCH(Control!U$101,'Licence Info'!$C$71:$DW$71,FALSE))*$C$9+OFFSET(Licence_OIEC,MATCH($B108,'Licence Info'!$B$108:$B$132,FALSE),MATCH(Control!U$101,'Licence Info'!$C$105:$DW$105,FALSE))-U46)","v":549.63000000000011},{"$f":"MAX(0,OFFSET(Licence_IBEC,MATCH($B108,'Licence Info'!$B$40:$B$64,FALSE),MATCH(Control!V$101,'Licence Info'!$C$37:$DW$37,FALSE))*$C$9+OFFSET(Licence_Subst,MATCH($B108,'Licence Info'!$B$74:$B$98,FALSE),MATCH(Control!V$101,'Licence Info'!$C$71:$DW$71,FALSE))*$C$9+OFFSET(Licence_OIEC,MATCH($B108,'Licence Info'!$B$108:$B$132,FALSE),MATCH(Control!V$101,'Licence Info'!$C$105:$DW$105,FALSE))-V46)","v":549.63000000000011},{"$f":"MAX(0,OFFSET(Licence_IBEC,MATCH($B108,'Licence Info'!$B$40:$B$64,FALSE),MATCH(Control!W$101,'Licence Info'!$C$37:$DW$37,FALSE))*$C$9+OFFSET(Licence_Subst,MATCH($B108,'Licence Info'!$B$74:$B$98,FALSE),MATCH(Control!W$101,'Licence Info'!$C$71:$DW$71,FALSE))*$C$9+OFFSET(Licence_OIEC,MATCH($B108,'Licence Info'!$B$108:$B$132,FALSE),MATCH(Control!W$101,'Licence Info'!$C$105:$DW$105,FALSE))-W46)","v":549.63000000000011},{"$f":"MAX(0,OFFSET(Licence_IBEC,MATCH($B108,'Licence Info'!$B$40:$B$64,FALSE),MATCH(Control!X$101,'Licence Info'!$C$37:$DW$37,FALSE))*$C$9+OFFSET(Licence_Subst,MATCH($B108,'Licence Info'!$B$74:$B$98,FALSE),MATCH(Control!X$101,'Licence Info'!$C$71:$DW$71,FALSE))*$C$9+OFFSET(Licence_OIEC,MATCH($B108,'Licence Info'!$B$108:$B$132,FALSE),MATCH(Control!X$101,'Licence Info'!$C$105:$DW$105,FALSE))-X46)","v":549.63000000000011},{"$f":"MAX(0,OFFSET(Licence_IBEC,MATCH($B108,'Licence Info'!$B$40:$B$64,FALSE),MATCH(Control!Y$101,'Licence Info'!$C$37:$DW$37,FALSE))*$C$9+OFFSET(Licence_Subst,MATCH($B108,'Licence Info'!$B$74:$B$98,FALSE),MATCH(Control!Y$101,'Licence Info'!$C$71:$DW$71,FALSE))*$C$9+OFFSET(Licence_OIEC,MATCH($B108,'Licence Info'!$B$108:$B$132,FALSE),MATCH(Control!Y$101,'Licence Info'!$C$105:$DW$105,FALSE))-Y46)","v":549.63000000000011},{"$f":"MAX(0,OFFSET(Licence_IBEC,MATCH($B108,'Licence Info'!$B$40:$B$64,FALSE),MATCH(Control!Z$101,'Licence Info'!$C$37:$DW$37,FALSE))*$C$9+OFFSET(Licence_Subst,MATCH($B108,'Licence Info'!$B$74:$B$98,FALSE),MATCH(Control!Z$101,'Licence Info'!$C$71:$DW$71,FALSE))*$C$9+OFFSET(Licence_OIEC,MATCH($B108,'Licence Info'!$B$108:$B$132,FALSE),MATCH(Control!Z$101,'Licence Info'!$C$105:$DW$105,FALSE))-Z46)","v":549.63000000000011},{"$f":"MAX(0,OFFSET(Licence_IBEC,MATCH($B108,'Licence Info'!$B$40:$B$64,FALSE),MATCH(Control!AA$101,'Licence Info'!$C$37:$DW$37,FALSE))*$C$9+OFFSET(Licence_Subst,MATCH($B108,'Licence Info'!$B$74:$B$98,FALSE),MATCH(Control!AA$101,'Licence Info'!$C$71:$DW$71,FALSE))*$C$9+OFFSET(Licence_OIEC,MATCH($B108,'Licence Info'!$B$108:$B$132,FALSE),MATCH(Control!AA$101,'Licence Info'!$C$105:$DW$105,FALSE))-AA46)","v":549.63000000000011},{"$f":"MAX(0,OFFSET(Licence_IBEC,MATCH($B108,'Licence Info'!$B$40:$B$64,FALSE),MATCH(Control!AB$101,'Licence Info'!$C$37:$DW$37,FALSE))*$C$9+OFFSET(Licence_Subst,MATCH($B108,'Licence Info'!$B$74:$B$98,FALSE),MATCH(Control!AB$101,'Licence Info'!$C$71:$DW$71,FALSE))*$C$9+OFFSET(Licence_OIEC,MATCH($B108,'Licence Info'!$B$108:$B$132,FALSE),MATCH(Control!AB$101,'Licence Info'!$C$105:$DW$105,FALSE))-AB46)","v":549.63000000000011},{"$f":"MAX(0,OFFSET(Licence_IBEC,MATCH($B108,'Licence Info'!$B$40:$B$64,FALSE),MATCH(Control!AC$101,'Licence Info'!$C$37:$DW$37,FALSE))*$C$9+OFFSET(Licence_Subst,MATCH($B108,'Licence Info'!$B$74:$B$98,FALSE),MATCH(Control!AC$101,'Licence Info'!$C$71:$DW$71,FALSE))*$C$9+OFFSET(Licence_OIEC,MATCH($B108,'Licence Info'!$B$108:$B$132,FALSE),MATCH(Control!AC$101,'Licence Info'!$C$105:$DW$105,FALSE))-AC46)","v":549.63000000000011},{"$f":"MAX(0,OFFSET(Licence_IBEC,MATCH($B108,'Licence Info'!$B$40:$B$64,FALSE),MATCH(Control!AD$101,'Licence Info'!$C$37:$DW$37,FALSE))*$C$9+OFFSET(Licence_Subst,MATCH($B108,'Licence Info'!$B$74:$B$98,FALSE),MATCH(Control!AD$101,'Licence Info'!$C$71:$DW$71,FALSE))*$C$9+OFFSET(Licence_OIEC,MATCH($B108,'Licence Info'!$B$108:$B$132,FALSE),MATCH(Control!AD$101,'Licence Info'!$C$105:$DW$105,FALSE))-AD46)","v":549.63000000000011},{"$f":"MAX(0,OFFSET(Licence_IBEC,MATCH($B108,'Licence Info'!$B$40:$B$64,FALSE),MATCH(Control!AE$101,'Licence Info'!$C$37:$DW$37,FALSE))*$C$9+OFFSET(Licence_Subst,MATCH($B108,'Licence Info'!$B$74:$B$98,FALSE),MATCH(Control!AE$101,'Licence Info'!$C$71:$DW$71,FALSE))*$C$9+OFFSET(Licence_OIEC,MATCH($B108,'Licence Info'!$B$108:$B$132,FALSE),MATCH(Control!AE$101,'Licence Info'!$C$105:$DW$105,FALSE))-AE46)","v":549.63000000000011},{"$f":"MAX(0,OFFSET(Licence_IBEC,MATCH($B108,'Licence Info'!$B$40:$B$64,FALSE),MATCH(Control!AF$101,'Licence Info'!$C$37:$DW$37,FALSE))*$C$9+OFFSET(Licence_Subst,MATCH($B108,'Licence Info'!$B$74:$B$98,FALSE),MATCH(Control!AF$101,'Licence Info'!$C$71:$DW$71,FALSE))*$C$9+OFFSET(Licence_OIEC,MATCH($B108,'Licence Info'!$B$108:$B$132,FALSE),MATCH(Control!AF$101,'Licence Info'!$C$105:$DW$105,FALSE))-AF46)","v":549.63000000000011},{"$f":"MAX(0,OFFSET(Licence_IBEC,MATCH($B108,'Licence Info'!$B$40:$B$64,FALSE),MATCH(Control!AG$101,'Licence Info'!$C$37:$DW$37,FALSE))*$C$9+OFFSET(Licence_Subst,MATCH($B108,'Licence Info'!$B$74:$B$98,FALSE),MATCH(Control!AG$101,'Licence Info'!$C$71:$DW$71,FALSE))*$C$9+OFFSET(Licence_OIEC,MATCH($B108,'Licence Info'!$B$108:$B$132,FALSE),MATCH(Control!AG$101,'Licence Info'!$C$105:$DW$105,FALSE))-AG46)","v":549.63000000000011},{"$f":"MAX(0,OFFSET(Licence_IBEC,MATCH($B108,'Licence Info'!$B$40:$B$64,FALSE),MATCH(Control!AH$101,'Licence Info'!$C$37:$DW$37,FALSE))*$C$9+OFFSET(Licence_Subst,MATCH($B108,'Licence Info'!$B$74:$B$98,FALSE),MATCH(Control!AH$101,'Licence Info'!$C$71:$DW$71,FALSE))*$C$9+OFFSET(Licence_OIEC,MATCH($B108,'Licence Info'!$B$108:$B$132,FALSE),MATCH(Control!AH$101,'Licence Info'!$C$105:$DW$105,FALSE))-AH46)","v":549.63000000000011},{"$f":"MAX(0,OFFSET(Licence_IBEC,MATCH($B108,'Licence Info'!$B$40:$B$64,FALSE),MATCH(Control!AI$101,'Licence Info'!$C$37:$DW$37,FALSE))*$C$9+OFFSET(Licence_Subst,MATCH($B108,'Licence Info'!$B$74:$B$98,FALSE),MATCH(Control!AI$101,'Licence Info'!$C$71:$DW$71,FALSE))*$C$9+OFFSET(Licence_OIEC,MATCH($B108,'Licence Info'!$B$108:$B$132,FALSE),MATCH(Control!AI$101,'Licence Info'!$C$105:$DW$105,FALSE))-AI46)","v":549.63000000000011},{"$f":"MAX(0,OFFSET(Licence_IBEC,MATCH($B108,'Licence Info'!$B$40:$B$64,FALSE),MATCH(Control!AJ$101,'Licence Info'!$C$37:$DW$37,FALSE))*$C$9+OFFSET(Licence_Subst,MATCH($B108,'Licence Info'!$B$74:$B$98,FALSE),MATCH(Control!AJ$101,'Licence Info'!$C$71:$DW$71,FALSE))*$C$9+OFFSET(Licence_OIEC,MATCH($B108,'Licence Info'!$B$108:$B$132,FALSE),MATCH(Control!AJ$101,'Licence Info'!$C$105:$DW$105,FALSE))-AJ46)","v":549.63000000000011},{"$f":"MAX(0,OFFSET(Licence_IBEC,MATCH($B108,'Licence Info'!$B$40:$B$64,FALSE),MATCH(Control!AK$101,'Licence Info'!$C$37:$DW$37,FALSE))*$C$9+OFFSET(Licence_Subst,MATCH($B108,'Licence Info'!$B$74:$B$98,FALSE),MATCH(Control!AK$101,'Licence Info'!$C$71:$DW$71,FALSE))*$C$9+OFFSET(Licence_OIEC,MATCH($B108,'Licence Info'!$B$108:$B$132,FALSE),MATCH(Control!AK$101,'Licence Info'!$C$105:$DW$105,FALSE))-AK46)","v":549.63000000000011},{"$f":"MAX(0,OFFSET(Licence_IBEC,MATCH($B108,'Licence Info'!$B$40:$B$64,FALSE),MATCH(Control!AL$101,'Licence Info'!$C$37:$DW$37,FALSE))*$C$9+OFFSET(Licence_Subst,MATCH($B108,'Licence Info'!$B$74:$B$98,FALSE),MATCH(Control!AL$101,'Licence Info'!$C$71:$DW$71,FALSE))*$C$9+OFFSET(Licence_OIEC,MATCH($B108,'Licence Info'!$B$108:$B$132,FALSE),MATCH(Control!AL$101,'Licence Info'!$C$105:$DW$105,FALSE))-AL46)","v":549.63000000000011},{"$f":"MAX(0,OFFSET(Licence_IBEC,MATCH($B108,'Licence Info'!$B$40:$B$64,FALSE),MATCH(Control!AM$101,'Licence Info'!$C$37:$DW$37,FALSE))*$C$9+OFFSET(Licence_Subst,MATCH($B108,'Licence Info'!$B$74:$B$98,FALSE),MATCH(Control!AM$101,'Licence Info'!$C$71:$DW$71,FALSE))*$C$9+OFFSET(Licence_OIEC,MATCH($B108,'Licence Info'!$B$108:$B$132,FALSE),MATCH(Control!AM$101,'Licence Info'!$C$105:$DW$105,FALSE))-AM46)","v":549.63000000000011},{"$f":"MAX(0,OFFSET(Licence_IBEC,MATCH($B108,'Licence Info'!$B$40:$B$64,FALSE),MATCH(Control!AN$101,'Licence Info'!$C$37:$DW$37,FALSE))*$C$9+OFFSET(Licence_Subst,MATCH($B108,'Licence Info'!$B$74:$B$98,FALSE),MATCH(Control!AN$101,'Licence Info'!$C$71:$DW$71,FALSE))*$C$9+OFFSET(Licence_OIEC,MATCH($B108,'Licence Info'!$B$108:$B$132,FALSE),MATCH(Control!AN$101,'Licence Info'!$C$105:$DW$105,FALSE))-AN46)","v":549.63000000000011},{"$f":"MAX(0,OFFSET(Licence_IBEC,MATCH($B108,'Licence Info'!$B$40:$B$64,FALSE),MATCH(Control!AO$101,'Licence Info'!$C$37:$DW$37,FALSE))*$C$9+OFFSET(Licence_Subst,MATCH($B108,'Licence Info'!$B$74:$B$98,FALSE),MATCH(Control!AO$101,'Licence Info'!$C$71:$DW$71,FALSE))*$C$9+OFFSET(Licence_OIEC,MATCH($B108,'Licence Info'!$B$108:$B$132,FALSE),MATCH(Control!AO$101,'Licence Info'!$C$105:$DW$105,FALSE))-AO46)","v":549.63000000000011},{"$f":"MAX(0,OFFSET(Licence_IBEC,MATCH($B108,'Licence Info'!$B$40:$B$64,FALSE),MATCH(Control!AP$101,'Licence Info'!$C$37:$DW$37,FALSE))*$C$9+OFFSET(Licence_Subst,MATCH($B108,'Licence Info'!$B$74:$B$98,FALSE),MATCH(Control!AP$101,'Licence Info'!$C$71:$DW$71,FALSE))*$C$9+OFFSET(Licence_OIEC,MATCH($B108,'Licence Info'!$B$108:$B$132,FALSE),MATCH(Control!AP$101,'Licence Info'!$C$105:$DW$105,FALSE))-AP46)","v":549.63000000000011},{"$f":"MAX(0,OFFSET(Licence_IBEC,MATCH($B108,'Licence Info'!$B$40:$B$64,FALSE),MATCH(Control!AQ$101,'Licence Info'!$C$37:$DW$37,FALSE))*$C$9+OFFSET(Licence_Subst,MATCH($B108,'Licence Info'!$B$74:$B$98,FALSE),MATCH(Control!AQ$101,'Licence Info'!$C$71:$DW$71,FALSE))*$C$9+OFFSET(Licence_OIEC,MATCH($B108,'Licence Info'!$B$108:$B$132,FALSE),MATCH(Control!AQ$101,'Licence Info'!$C$105:$DW$105,FALSE))-AQ46)","v":549.63000000000011},{"$f":"MAX(0,OFFSET(Licence_IBEC,MATCH($B108,'Licence Info'!$B$40:$B$64,FALSE),MATCH(Control!AR$101,'Licence Info'!$C$37:$DW$37,FALSE))*$C$9+OFFSET(Licence_Subst,MATCH($B108,'Licence Info'!$B$74:$B$98,FALSE),MATCH(Control!AR$101,'Licence Info'!$C$71:$DW$71,FALSE))*$C$9+OFFSET(Licence_OIEC,MATCH($B108,'Licence Info'!$B$108:$B$132,FALSE),MATCH(Control!AR$101,'Licence Info'!$C$105:$DW$105,FALSE))-AR46)","v":549.63000000000011},{"$f":"MAX(0,OFFSET(Licence_IBEC,MATCH($B108,'Licence Info'!$B$40:$B$64,FALSE),MATCH(Control!AS$101,'Licence Info'!$C$37:$DW$37,FALSE))*$C$9+OFFSET(Licence_Subst,MATCH($B108,'Licence Info'!$B$74:$B$98,FALSE),MATCH(Control!AS$101,'Licence Info'!$C$71:$DW$71,FALSE))*$C$9+OFFSET(Licence_OIEC,MATCH($B108,'Licence Info'!$B$108:$B$132,FALSE),MATCH(Control!AS$101,'Licence Info'!$C$105:$DW$105,FALSE))-AS46)","v":549.63000000000011},{"$f":"MAX(0,OFFSET(Licence_IBEC,MATCH($B108,'Licence Info'!$B$40:$B$64,FALSE),MATCH(Control!AT$101,'Licence Info'!$C$37:$DW$37,FALSE))*$C$9+OFFSET(Licence_Subst,MATCH($B108,'Licence Info'!$B$74:$B$98,FALSE),MATCH(Control!AT$101,'Licence Info'!$C$71:$DW$71,FALSE))*$C$9+OFFSET(Licence_OIEC,MATCH($B108,'Licence Info'!$B$108:$B$132,FALSE),MATCH(Control!AT$101,'Licence Info'!$C$105:$DW$105,FALSE))-AT46)","v":549.63000000000011},{"$f":"MAX(0,OFFSET(Licence_IBEC,MATCH($B108,'Licence Info'!$B$40:$B$64,FALSE),MATCH(Control!AU$101,'Licence Info'!$C$37:$DW$37,FALSE))*$C$9+OFFSET(Licence_Subst,MATCH($B108,'Licence Info'!$B$74:$B$98,FALSE),MATCH(Control!AU$101,'Licence Info'!$C$71:$DW$71,FALSE))*$C$9+OFFSET(Licence_OIEC,MATCH($B108,'Licence Info'!$B$108:$B$132,FALSE),MATCH(Control!AU$101,'Licence Info'!$C$105:$DW$105,FALSE))-AU46)","v":549.63000000000011},{"$f":"MAX(0,OFFSET(Licence_IBEC,MATCH($B108,'Licence Info'!$B$40:$B$64,FALSE),MATCH(Control!AV$101,'Licence Info'!$C$37:$DW$37,FALSE))*$C$9+OFFSET(Licence_Subst,MATCH($B108,'Licence Info'!$B$74:$B$98,FALSE),MATCH(Control!AV$101,'Licence Info'!$C$71:$DW$71,FALSE))*$C$9+OFFSET(Licence_OIEC,MATCH($B108,'Licence Info'!$B$108:$B$132,FALSE),MATCH(Control!AV$101,'Licence Info'!$C$105:$DW$105,FALSE))-AV46)","v":549.63000000000011},{"$f":"MAX(0,OFFSET(Licence_IBEC,MATCH($B108,'Licence Info'!$B$40:$B$64,FALSE),MATCH(Control!AW$101,'Licence Info'!$C$37:$DW$37,FALSE))*$C$9+OFFSET(Licence_Subst,MATCH($B108,'Licence Info'!$B$74:$B$98,FALSE),MATCH(Control!AW$101,'Licence Info'!$C$71:$DW$71,FALSE))*$C$9+OFFSET(Licence_OIEC,MATCH($B108,'Licence Info'!$B$108:$B$132,FALSE),MATCH(Control!AW$101,'Licence Info'!$C$105:$DW$105,FALSE))-AW46)","v":549.63000000000011},{"$f":"MAX(0,OFFSET(Licence_IBEC,MATCH($B108,'Licence Info'!$B$40:$B$64,FALSE),MATCH(Control!AX$101,'Licence Info'!$C$37:$DW$37,FALSE))*$C$9+OFFSET(Licence_Subst,MATCH($B108,'Licence Info'!$B$74:$B$98,FALSE),MATCH(Control!AX$101,'Licence Info'!$C$71:$DW$71,FALSE))*$C$9+OFFSET(Licence_OIEC,MATCH($B108,'Licence Info'!$B$108:$B$132,FALSE),MATCH(Control!AX$101,'Licence Info'!$C$105:$DW$105,FALSE))-AX46)","v":549.63000000000011},{"$f":"MAX(0,OFFSET(Licence_IBEC,MATCH($B108,'Licence Info'!$B$40:$B$64,FALSE),MATCH(Control!AY$101,'Licence Info'!$C$37:$DW$37,FALSE))*$C$9+OFFSET(Licence_Subst,MATCH($B108,'Licence Info'!$B$74:$B$98,FALSE),MATCH(Control!AY$101,'Licence Info'!$C$71:$DW$71,FALSE))*$C$9+OFFSET(Licence_OIEC,MATCH($B108,'Licence Info'!$B$108:$B$132,FALSE),MATCH(Control!AY$101,'Licence Info'!$C$105:$DW$105,FALSE))-AY46)","v":549.63000000000011},{"$f":"MAX(0,OFFSET(Licence_IBEC,MATCH($B108,'Licence Info'!$B$40:$B$64,FALSE),MATCH(Control!AZ$101,'Licence Info'!$C$37:$DW$37,FALSE))*$C$9+OFFSET(Licence_Subst,MATCH($B108,'Licence Info'!$B$74:$B$98,FALSE),MATCH(Control!AZ$101,'Licence Info'!$C$71:$DW$71,FALSE))*$C$9+OFFSET(Licence_OIEC,MATCH($B108,'Licence Info'!$B$108:$B$132,FALSE),MATCH(Control!AZ$101,'Licence Info'!$C$105:$DW$105,FALSE))-AZ46)","v":549.63000000000011},{"$f":"MAX(0,OFFSET(Licence_IBEC,MATCH($B108,'Licence Info'!$B$40:$B$64,FALSE),MATCH(Control!BA$101,'Licence Info'!$C$37:$DW$37,FALSE))*$C$9+OFFSET(Licence_Subst,MATCH($B108,'Licence Info'!$B$74:$B$98,FALSE),MATCH(Control!BA$101,'Licence Info'!$C$71:$DW$71,FALSE))*$C$9+OFFSET(Licence_OIEC,MATCH($B108,'Licence Info'!$B$108:$B$132,FALSE),MATCH(Control!BA$101,'Licence Info'!$C$105:$DW$105,FALSE))-BA46)","v":549.63000000000011},{"$f":"MAX(0,OFFSET(Licence_IBEC,MATCH($B108,'Licence Info'!$B$40:$B$64,FALSE),MATCH(Control!BB$101,'Licence Info'!$C$37:$DW$37,FALSE))*$C$9+OFFSET(Licence_Subst,MATCH($B108,'Licence Info'!$B$74:$B$98,FALSE),MATCH(Control!BB$101,'Licence Info'!$C$71:$DW$71,FALSE))*$C$9+OFFSET(Licence_OIEC,MATCH($B108,'Licence Info'!$B$108:$B$132,FALSE),MATCH(Control!BB$101,'Licence Info'!$C$105:$DW$105,FALSE))-BB46)","v":549.63000000000011},{"$f":"MAX(0,OFFSET(Licence_IBEC,MATCH($B108,'Licence Info'!$B$40:$B$64,FALSE),MATCH(Control!BC$101,'Licence Info'!$C$37:$DW$37,FALSE))*$C$9+OFFSET(Licence_Subst,MATCH($B108,'Licence Info'!$B$74:$B$98,FALSE),MATCH(Control!BC$101,'Licence Info'!$C$71:$DW$71,FALSE))*$C$9+OFFSET(Licence_OIEC,MATCH($B108,'Licence Info'!$B$108:$B$132,FALSE),MATCH(Control!BC$101,'Licence Info'!$C$105:$DW$105,FALSE))-BC46)","v":549.63000000000011},{"$f":"MAX(0,OFFSET(Licence_IBEC,MATCH($B108,'Licence Info'!$B$40:$B$64,FALSE),MATCH(Control!BD$101,'Licence Info'!$C$37:$DW$37,FALSE))*$C$9+OFFSET(Licence_Subst,MATCH($B108,'Licence Info'!$B$74:$B$98,FALSE),MATCH(Control!BD$101,'Licence Info'!$C$71:$DW$71,FALSE))*$C$9+OFFSET(Licence_OIEC,MATCH($B108,'Licence Info'!$B$108:$B$132,FALSE),MATCH(Control!BD$101,'Licence Info'!$C$105:$DW$105,FALSE))-BD46)","v":549.63000000000011},{"$f":"MAX(0,OFFSET(Licence_IBEC,MATCH($B108,'Licence Info'!$B$40:$B$64,FALSE),MATCH(Control!BE$101,'Licence Info'!$C$37:$DW$37,FALSE))*$C$9+OFFSET(Licence_Subst,MATCH($B108,'Licence Info'!$B$74:$B$98,FALSE),MATCH(Control!BE$101,'Licence Info'!$C$71:$DW$71,FALSE))*$C$9+OFFSET(Licence_OIEC,MATCH($B108,'Licence Info'!$B$108:$B$132,FALSE),MATCH(Control!BE$101,'Licence Info'!$C$105:$DW$105,FALSE))-BE46)","v":549.63000000000011},{"$f":"MAX(0,OFFSET(Licence_IBEC,MATCH($B108,'Licence Info'!$B$40:$B$64,FALSE),MATCH(Control!BF$101,'Licence Info'!$C$37:$DW$37,FALSE))*$C$9+OFFSET(Licence_Subst,MATCH($B108,'Licence Info'!$B$74:$B$98,FALSE),MATCH(Control!BF$101,'Licence Info'!$C$71:$DW$71,FALSE))*$C$9+OFFSET(Licence_OIEC,MATCH($B108,'Licence Info'!$B$108:$B$132,FALSE),MATCH(Control!BF$101,'Licence Info'!$C$105:$DW$105,FALSE))-BF46)","v":549.63000000000011},{"$f":"MAX(0,OFFSET(Licence_IBEC,MATCH($B108,'Licence Info'!$B$40:$B$64,FALSE),MATCH(Control!BG$101,'Licence Info'!$C$37:$DW$37,FALSE))*$C$9+OFFSET(Licence_Subst,MATCH($B108,'Licence Info'!$B$74:$B$98,FALSE),MATCH(Control!BG$101,'Licence Info'!$C$71:$DW$71,FALSE))*$C$9+OFFSET(Licence_OIEC,MATCH($B108,'Licence Info'!$B$108:$B$132,FALSE),MATCH(Control!BG$101,'Licence Info'!$C$105:$DW$105,FALSE))-BG46)","v":549.63000000000011},{"$f":"MAX(0,OFFSET(Licence_IBEC,MATCH($B108,'Licence Info'!$B$40:$B$64,FALSE),MATCH(Control!BH$101,'Licence Info'!$C$37:$DW$37,FALSE))*$C$9+OFFSET(Licence_Subst,MATCH($B108,'Licence Info'!$B$74:$B$98,FALSE),MATCH(Control!BH$101,'Licence Info'!$C$71:$DW$71,FALSE))*$C$9+OFFSET(Licence_OIEC,MATCH($B108,'Licence Info'!$B$108:$B$132,FALSE),MATCH(Control!BH$101,'Licence Info'!$C$105:$DW$105,FALSE))-BH46)","v":549.63000000000011},{"$f":"MAX(0,OFFSET(Licence_IBEC,MATCH($B108,'Licence Info'!$B$40:$B$64,FALSE),MATCH(Control!BI$101,'Licence Info'!$C$37:$DW$37,FALSE))*$C$9+OFFSET(Licence_Subst,MATCH($B108,'Licence Info'!$B$74:$B$98,FALSE),MATCH(Control!BI$101,'Licence Info'!$C$71:$DW$71,FALSE))*$C$9+OFFSET(Licence_OIEC,MATCH($B108,'Licence Info'!$B$108:$B$132,FALSE),MATCH(Control!BI$101,'Licence Info'!$C$105:$DW$105,FALSE))-BI46)","v":549.63000000000011},{"$f":"MAX(0,OFFSET(Licence_IBEC,MATCH($B108,'Licence Info'!$B$40:$B$64,FALSE),MATCH(Control!BJ$101,'Licence Info'!$C$37:$DW$37,FALSE))*$C$9+OFFSET(Licence_Subst,MATCH($B108,'Licence Info'!$B$74:$B$98,FALSE),MATCH(Control!BJ$101,'Licence Info'!$C$71:$DW$71,FALSE))*$C$9+OFFSET(Licence_OIEC,MATCH($B108,'Licence Info'!$B$108:$B$132,FALSE),MATCH(Control!BJ$101,'Licence Info'!$C$105:$DW$105,FALSE))-BJ46)","v":549.63000000000011},{"$f":"MAX(0,OFFSET(Licence_IBEC,MATCH($B108,'Licence Info'!$B$40:$B$64,FALSE),MATCH(Control!BK$101,'Licence Info'!$C$37:$DW$37,FALSE))*$C$9+OFFSET(Licence_Subst,MATCH($B108,'Licence Info'!$B$74:$B$98,FALSE),MATCH(Control!BK$101,'Licence Info'!$C$71:$DW$71,FALSE))*$C$9+OFFSET(Licence_OIEC,MATCH($B108,'Licence Info'!$B$108:$B$132,FALSE),MATCH(Control!BK$101,'Licence Info'!$C$105:$DW$105,FALSE))-BK46)","v":{"$error":"#N/A"}}]
[null,"Glenmavis",{"$f":"MAX(0,OFFSET(Licence_IBEC,MATCH($B109,'Licence Info'!$B$40:$B$64,FALSE),MATCH(Control!C$101,'Licence Info'!$C$37:$DW$37,FALSE))*$C$9+OFFSET(Licence_Subst,MATCH($B109,'Licence Info'!$B$74:$B$98,FALSE),MATCH(Control!C$101,'Licence Info'!$C$71:$DW$71,FALSE))*$C$9+OFFSET(Licence_OIEC,MATCH($B109,'Licence Info'!$B$108:$B$132,FALSE),MATCH(Control!C$101,'Licence Info'!$C$105:$DW$105,FALSE))-C47)","v":89.100000000000009},{"$f":"MAX(0,OFFSET(Licence_IBEC,MATCH($B109,'Licence Info'!$B$40:$B$64,FALSE),MATCH(Control!D$101,'Licence Info'!$C$37:$DW$37,FALSE))*$C$9+OFFSET(Licence_Subst,MATCH($B109,'Licence Info'!$B$74:$B$98,FALSE),MATCH(Control!D$101,'Licence Info'!$C$71:$DW$71,FALSE))*$C$9+OFFSET(Licence_OIEC,MATCH($B109,'Licence Info'!$B$108:$B$132,FALSE),MATCH(Control!D$101,'Licence Info'!$C$105:$DW$105,FALSE))-D47)","v":89.100000000000009},{"$f":"MAX(0,OFFSET(Licence_IBEC,MATCH($B109,'Licence Info'!$B$40:$B$64,FALSE),MATCH(Control!E$101,'Licence Info'!$C$37:$DW$37,FALSE))*$C$9+OFFSET(Licence_Subst,MATCH($B109,'Licence Info'!$B$74:$B$98,FALSE),MATCH(Control!E$101,'Licence Info'!$C$71:$DW$71,FALSE))*$C$9+OFFSET(Licence_OIEC,MATCH($B109,'Licence Info'!$B$108:$B$132,FALSE),MATCH(Control!E$101,'Licence Info'!$C$105:$DW$105,FALSE))-E47)","v":89.100000000000009},{"$f":"MAX(0,OFFSET(Licence_IBEC,MATCH($B109,'Licence Info'!$B$40:$B$64,FALSE),MATCH(Control!F$101,'Licence Info'!$C$37:$DW$37,FALSE))*$C$9+OFFSET(Licence_Subst,MATCH($B109,'Licence Info'!$B$74:$B$98,FALSE),MATCH(Control!F$101,'Licence Info'!$C$71:$DW$71,FALSE))*$C$9+OFFSET(Licence_OIEC,MATCH($B109,'Licence Info'!$B$108:$B$132,FALSE),MATCH(Control!F$101,'Licence Info'!$C$105:$DW$105,FALSE))-F47)","v":89.100000000000009},{"$f":"MAX(0,OFFSET(Licence_IBEC,MATCH($B109,'Licence Info'!$B$40:$B$64,FALSE),MATCH(Control!G$101,'Licence Info'!$C$37:$DW$37,FALSE))*$C$9+OFFSET(Licence_Subst,MATCH($B109,'Licence Info'!$B$74:$B$98,FALSE),MATCH(Control!G$101,'Licence Info'!$C$71:$DW$71,FALSE))*$C$9+OFFSET(Licence_OIEC,MATCH($B109,'Licence Info'!$B$108:$B$132,FALSE),MATCH(Control!G$101,'Licence Info'!$C$105:$DW$105,FALSE))-G47)","v":89.100000000000009},{"$f":"MAX(0,OFFSET(Licence_IBEC,MATCH($B109,'Licence Info'!$B$40:$B$64,FALSE),MATCH(Control!H$101,'Licence Info'!$C$37:$DW$37,FALSE))*$C$9+OFFSET(Licence_Subst,MATCH($B109,'Licence Info'!$B$74:$B$98,FALSE),MATCH(Control!H$101,'Licence Info'!$C$71:$DW$71,FALSE))*$C$9+OFFSET(Licence_OIEC,MATCH($B109,'Licence Info'!$B$108:$B$132,FALSE),MATCH(Control!H$101,'Licence Info'!$C$105:$DW$105,FALSE))-H47)","v":89.100000000000009},{"$f":"MAX(0,OFFSET(Licence_IBEC,MATCH($B109,'Licence Info'!$B$40:$B$64,FALSE),MATCH(Control!I$101,'Licence Info'!$C$37:$DW$37,FALSE))*$C$9+OFFSET(Licence_Subst,MATCH($B109,'Licence Info'!$B$74:$B$98,FALSE),MATCH(Control!I$101,'Licence Info'!$C$71:$DW$71,FALSE))*$C$9+OFFSET(Licence_OIEC,MATCH($B109,'Licence Info'!$B$108:$B$132,FALSE),MATCH(Control!I$101,'Licence Info'!$C$105:$DW$105,FALSE))-I47)","v":89.100000000000009},{"$f":"MAX(0,OFFSET(Licence_IBEC,MATCH($B109,'Licence Info'!$B$40:$B$64,FALSE),MATCH(Control!J$101,'Licence Info'!$C$37:$DW$37,FALSE))*$C$9+OFFSET(Licence_Subst,MATCH($B109,'Licence Info'!$B$74:$B$98,FALSE),MATCH(Control!J$101,'Licence Info'!$C$71:$DW$71,FALSE))*$C$9+OFFSET(Licence_OIEC,MATCH($B109,'Licence Info'!$B$108:$B$132,FALSE),MATCH(Control!J$101,'Licence Info'!$C$105:$DW$105,FALSE))-J47)","v":89.100000000000009},{"$f":"MAX(0,OFFSET(Licence_IBEC,MATCH($B109,'Licence Info'!$B$40:$B$64,FALSE),MATCH(Control!K$101,'Licence Info'!$C$37:$DW$37,FALSE))*$C$9+OFFSET(Licence_Subst,MATCH($B109,'Licence Info'!$B$74:$B$98,FALSE),MATCH(Control!K$101,'Licence Info'!$C$71:$DW$71,FALSE))*$C$9+OFFSET(Licence_OIEC,MATCH($B109,'Licence Info'!$B$108:$B$132,FALSE),MATCH(Control!K$101,'Licence Info'!$C$105:$DW$105,FALSE))-K47)","v":89.100000000000009},{"$f":"MAX(0,OFFSET(Licence_IBEC,MATCH($B109,'Licence Info'!$B$40:$B$64,FALSE),MATCH(Control!L$101,'Licence Info'!$C$37:$DW$37,FALSE))*$C$9+OFFSET(Licence_Subst,MATCH($B109,'Licence Info'!$B$74:$B$98,FALSE),MATCH(Control!L$101,'Licence Info'!$C$71:$DW$71,FALSE))*$C$9+OFFSET(Licence_OIEC,MATCH($B109,'Licence Info'!$B$108:$B$132,FALSE),MATCH(Control!L$101,'Licence Info'!$C$105:$DW$105,FALSE))-L47)","v":89.100000000000009},{"$f":"MAX(0,OFFSET(Licence_IBEC,MATCH($B109,'Licence Info'!$B$40:$B$64,FALSE),MATCH(Control!M$101,'Licence Info'!$C$37:$DW$37,FALSE))*$C$9+OFFSET(Licence_Subst,MATCH($B109,'Licence Info'!$B$74:$B$98,FALSE),MATCH(Control!M$101,'Licence Info'!$C$71:$DW$71,FALSE))*$C$9+OFFSET(Licence_OIEC,MATCH($B109,'Licence Info'!$B$108:$B$132,FALSE),MATCH(Control!M$101,'Licence Info'!$C$105:$DW$105,FALSE))-M47)","v":89.100000000000009},{"$f":"MAX(0,OFFSET(Licence_IBEC,MATCH($B109,'Licence Info'!$B$40:$B$64,FALSE),MATCH(Control!N$101,'Licence Info'!$C$37:$DW$37,FALSE))*$C$9+OFFSET(Licence_Subst,MATCH($B109,'Licence Info'!$B$74:$B$98,FALSE),MATCH(Control!N$101,'Licence Info'!$C$71:$DW$71,FALSE))*$C$9+OFFSET(Licence_OIEC,MATCH($B109,'Licence Info'!$B$108:$B$132,FALSE),MATCH(Control!N$101,'Licence Info'!$C$105:$DW$105,FALSE))-N47)","v":89.100000000000009},{"$f":"MAX(0,OFFSET(Licence_IBEC,MATCH($B109,'Licence Info'!$B$40:$B$64,FALSE),MATCH(Control!O$101,'Licence Info'!$C$37:$DW$37,FALSE))*$C$9+OFFSET(Licence_Subst,MATCH($B109,'Licence Info'!$B$74:$B$98,FALSE),MATCH(Control!O$101,'Licence Info'!$C$71:$DW$71,FALSE))*$C$9+OFFSET(Licence_OIEC,MATCH($B109,'Licence Info'!$B$108:$B$132,FALSE),MATCH(Control!O$101,'Licence Info'!$C$105:$DW$105,FALSE))-O47)","v":89.100000000000009},{"$f":"MAX(0,OFFSET(Licence_IBEC,MATCH($B109,'Licence Info'!$B$40:$B$64,FALSE),MATCH(Control!P$101,'Licence Info'!$C$37:$DW$37,FALSE))*$C$9+OFFSET(Licence_Subst,MATCH($B109,'Licence Info'!$B$74:$B$98,FALSE),MATCH(Control!P$101,'Licence Info'!$C$71:$DW$71,FALSE))*$C$9+OFFSET(Licence_OIEC,MATCH($B109,'Licence Info'!$B$108:$B$132,FALSE),MATCH(Control!P$101,'Licence Info'!$C$105:$DW$105,FALSE))-P47)","v":89.100000000000009},{"$f":"MAX(0,OFFSET(Licence_IBEC,MATCH($B109,'Licence Info'!$B$40:$B$64,FALSE),MATCH(Control!Q$101,'Licence Info'!$C$37:$DW$37,FALSE))*$C$9+OFFSET(Licence_Subst,MATCH($B109,'Licence Info'!$B$74:$B$98,FALSE),MATCH(Control!Q$101,'Licence Info'!$C$71:$DW$71,FALSE))*$C$9+OFFSET(Licence_OIEC,MATCH($B109,'Licence Info'!$B$108:$B$132,FALSE),MATCH(Control!Q$101,'Licence Info'!$C$105:$DW$105,FALSE))-Q47)","v":89.100000000000009},{"$f":"MAX(0,OFFSET(Licence_IBEC,MATCH($B109,'Licence Info'!$B$40:$B$64,FALSE),MATCH(Control!R$101,'Licence Info'!$C$37:$DW$37,FALSE))*$C$9+OFFSET(Licence_Subst,MATCH($B109,'Licence Info'!$B$74:$B$98,FALSE),MATCH(Control!R$101,'Licence Info'!$C$71:$DW$71,FALSE))*$C$9+OFFSET(Licence_OIEC,MATCH($B109,'Licence Info'!$B$108:$B$132,FALSE),MATCH(Control!R$101,'Licence Info'!$C$105:$DW$105,FALSE))-R47)","v":89.100000000000009},{"$f":"MAX(0,OFFSET(Licence_IBEC,MATCH($B109,'Licence Info'!$B$40:$B$64,FALSE),MATCH(Control!S$101,'Licence Info'!$C$37:$DW$37,FALSE))*$C$9+OFFSET(Licence_Subst,MATCH($B109,'Licence Info'!$B$74:$B$98,FALSE),MATCH(Control!S$101,'Licence Info'!$C$71:$DW$71,FALSE))*$C$9+OFFSET(Licence_OIEC,MATCH($B109,'Licence Info'!$B$108:$B$132,FALSE),MATCH(Control!S$101,'Licence Info'!$C$105:$DW$105,FALSE))-S47)","v":89.100000000000009},{"$f":"MAX(0,OFFSET(Licence_IBEC,MATCH($B109,'Licence Info'!$B$40:$B$64,FALSE),MATCH(Control!T$101,'Licence Info'!$C$37:$DW$37,FALSE))*$C$9+OFFSET(Licence_Subst,MATCH($B109,'Licence Info'!$B$74:$B$98,FALSE),MATCH(Control!T$101,'Licence Info'!$C$71:$DW$71,FALSE))*$C$9+OFFSET(Licence_OIEC,MATCH($B109,'Licence Info'!$B$108:$B$132,FALSE),MATCH(Control!T$101,'Licence Info'!$C$105:$DW$105,FALSE))-T47)","v":89.100000000000009},{"$f":"MAX(0,OFFSET(Licence_IBEC,MATCH($B109,'Licence Info'!$B$40:$B$64,FALSE),MATCH(Control!U$101,'Licence Info'!$C$37:$DW$37,FALSE))*$C$9+OFFSET(Licence_Subst,MATCH($B109,'Licence Info'!$B$74:$B$98,FALSE),MATCH(Control!U$101,'Licence Info'!$C$71:$DW$71,FALSE))*$C$9+OFFSET(Licence_OIEC,MATCH($B109,'Licence Info'!$B$108:$B$132,FALSE),MATCH(Control!U$101,'Licence Info'!$C$105:$DW$105,FALSE))-U47)","v":89.100000000000009},{"$f":"MAX(0,OFFSET(Licence_IBEC,MATCH($B109,'Licence Info'!$B$40:$B$64,FALSE),MATCH(Control!V$101,'Licence Info'!$C$37:$DW$37,FALSE))*$C$9+OFFSET(Licence_Subst,MATCH($B109,'Licence Info'!$B$74:$B$98,FALSE),MATCH(Control!V$101,'Licence Info'!$C$71:$DW$71,FALSE))*$C$9+OFFSET(Licence_OIEC,MATCH($B109,'Licence Info'!$B$108:$B$132,FALSE),MATCH(Control!V$101,'Licence Info'!$C$105:$DW$105,FALSE))-V47)","v":89.100000000000009},{"$f":"MAX(0,OFFSET(Licence_IBEC,MATCH($B109,'Licence Info'!$B$40:$B$64,FALSE),MATCH(Control!W$101,'Licence Info'!$C$37:$DW$37,FALSE))*$C$9+OFFSET(Licence_Subst,MATCH($B109,'Licence Info'!$B$74:$B$98,FALSE),MATCH(Control!W$101,'Licence Info'!$C$71:$DW$71,FALSE))*$C$9+OFFSET(Licence_OIEC,MATCH($B109,'Licence Info'!$B$108:$B$132,FALSE),MATCH(Control!W$101,'Licence Info'!$C$105:$DW$105,FALSE))-W47)","v":89.100000000000009},{"$f":"MAX(0,OFFSET(Licence_IBEC,MATCH($B109,'Licence Info'!$B$40:$B$64,FALSE),MATCH(Control!X$101,'Licence Info'!$C$37:$DW$37,FALSE))*$C$9+OFFSET(Licence_Subst,MATCH($B109,'Licence Info'!$B$74:$B$98,FALSE),MATCH(Control!X$101,'Licence Info'!$C$71:$DW$71,FALSE))*$C$9+OFFSET(Licence_OIEC,MATCH($B109,'Licence Info'!$B$108:$B$132,FALSE),MATCH(Control!X$101,'Licence Info'!$C$105:$DW$105,FALSE))-X47)","v":89.100000000000009},{"$f":"MAX(0,OFFSET(Licence_IBEC,MATCH($B109,'Licence Info'!$B$40:$B$64,FALSE),MATCH(Control!Y$101,'Licence Info'!$C$37:$DW$37,FALSE))*$C$9+OFFSET(Licence_Subst,MATCH($B109,'Licence Info'!$B$74:$B$98,FALSE),MATCH(Control!Y$101,'Licence Info'!$C$71:$DW$71,FALSE))*$C$9+OFFSET(Licence_OIEC,MATCH($B109,'Licence Info'!$B$108:$B$132,FALSE),MATCH(Control!Y$101,'Licence Info'!$C$105:$DW$105,FALSE))-Y47)","v":89.100000000000009},{"$f":"MAX(0,OFFSET(Licence_IBEC,MATCH($B109,'Licence Info'!$B$40:$B$64,FALSE),MATCH(Control!Z$101,'Licence Info'!$C$37:$DW$37,FALSE))*$C$9+OFFSET(Licence_Subst,MATCH($B109,'Licence Info'!$B$74:$B$98,FALSE),MATCH(Control!Z$101,'Licence Info'!$C$71:$DW$71,FALSE))*$C$9+OFFSET(Licence_OIEC,MATCH($B109,'Licence Info'!$B$108:$B$132,FALSE),MATCH(Control!Z$101,'Licence Info'!$C$105:$DW$105,FALSE))-Z47)","v":89.100000000000009},{"$f":"MAX(0,OFFSET(Licence_IBEC,MATCH($B109,'Licence Info'!$B$40:$B$64,FALSE),MATCH(Control!AA$101,'Licence Info'!$C$37:$DW$37,FALSE))*$C$9+OFFSET(Licence_Subst,MATCH($B109,'Licence Info'!$B$74:$B$98,FALSE),MATCH(Control!AA$101,'Licence Info'!$C$71:$DW$71,FALSE))*$C$9+OFFSET(Licence_OIEC,MATCH($B109,'Licence Info'!$B$108:$B$132,FALSE),MATCH(Control!AA$101,'Licence Info'!$C$105:$DW$105,FALSE))-AA47)","v":89.100000000000009},{"$f":"MAX(0,OFFSET(Licence_IBEC,MATCH($B109,'Licence Info'!$B$40:$B$64,FALSE),MATCH(Control!AB$101,'Licence Info'!$C$37:$DW$37,FALSE))*$C$9+OFFSET(Licence_Subst,MATCH($B109,'Licence Info'!$B$74:$B$98,FALSE),MATCH(Control!AB$101,'Licence Info'!$C$71:$DW$71,FALSE))*$C$9+OFFSET(Licence_OIEC,MATCH($B109,'Licence Info'!$B$108:$B$132,FALSE),MATCH(Control!AB$101,'Licence Info'!$C$105:$DW$105,FALSE))-AB47)","v":89.100000000000009},{"$f":"MAX(0,OFFSET(Licence_IBEC,MATCH($B109,'Licence Info'!$B$40:$B$64,FALSE),MATCH(Control!AC$101,'Licence Info'!$C$37:$DW$37,FALSE))*$C$9+OFFSET(Licence_Subst,MATCH($B109,'Licence Info'!$B$74:$B$98,FALSE),MATCH(Control!AC$101,'Licence Info'!$C$71:$DW$71,FALSE))*$C$9+OFFSET(Licence_OIEC,MATCH($B109,'Licence Info'!$B$108:$B$132,FALSE),MATCH(Control!AC$101,'Licence Info'!$C$105:$DW$105,FALSE))-AC47)","v":89.100000000000009},{"$f":"MAX(0,OFFSET(Licence_IBEC,MATCH($B109,'Licence Info'!$B$40:$B$64,FALSE),MATCH(Control!AD$101,'Licence Info'!$C$37:$DW$37,FALSE))*$C$9+OFFSET(Licence_Subst,MATCH($B109,'Licence Info'!$B$74:$B$98,FALSE),MATCH(Control!AD$101,'Licence Info'!$C$71:$DW$71,FALSE))*$C$9+OFFSET(Licence_OIEC,MATCH($B109,'Licence Info'!$B$108:$B$132,FALSE),MATCH(Control!AD$101,'Licence Info'!$C$105:$DW$105,FALSE))-AD47)","v":89.100000000000009},{"$f":"MAX(0,OFFSET(Licence_IBEC,MATCH($B109,'Licence Info'!$B$40:$B$64,FALSE),MATCH(Control!AE$101,'Licence Info'!$C$37:$DW$37,FALSE))*$C$9+OFFSET(Licence_Subst,MATCH($B109,'Licence Info'!$B$74:$B$98,FALSE),MATCH(Control!AE$101,'Licence Info'!$C$71:$DW$71,FALSE))*$C$9+OFFSET(Licence_OIEC,MATCH($B109,'Licence Info'!$B$108:$B$132,FALSE),MATCH(Control!AE$101,'Licence Info'!$C$105:$DW$105,FALSE))-AE47)","v":89.100000000000009},{"$f":"MAX(0,OFFSET(Licence_IBEC,MATCH($B109,'Licence Info'!$B$40:$B$64,FALSE),MATCH(Control!AF$101,'Licence Info'!$C$37:$DW$37,FALSE))*$C$9+OFFSET(Licence_Subst,MATCH($B109,'Licence Info'!$B$74:$B$98,FALSE),MATCH(Control!AF$101,'Licence Info'!$C$71:$DW$71,FALSE))*$C$9+OFFSET(Licence_OIEC,MATCH($B109,'Licence Info'!$B$108:$B$132,FALSE),MATCH(Control!AF$101,'Licence Info'!$C$105:$DW$105,FALSE))-AF47)","v":89.100000000000009},{"$f":"MAX(0,OFFSET(Licence_IBEC,MATCH($B109,'Licence Info'!$B$40:$B$64,FALSE),MATCH(Control!AG$101,'Licence Info'!$C$37:$DW$37,FALSE))*$C$9+OFFSET(Licence_Subst,MATCH($B109,'Licence Info'!$B$74:$B$98,FALSE),MATCH(Control!AG$101,'Licence Info'!$C$71:$DW$71,FALSE))*$C$9+OFFSET(Licence_OIEC,MATCH($B109,'Licence Info'!$B$108:$B$132,FALSE),MATCH(Control!AG$101,'Licence Info'!$C$105:$DW$105,FALSE))-AG47)","v":89.100000000000009},{"$f":"MAX(0,OFFSET(Licence_IBEC,MATCH($B109,'Licence Info'!$B$40:$B$64,FALSE),MATCH(Control!AH$101,'Licence Info'!$C$37:$DW$37,FALSE))*$C$9+OFFSET(Licence_Subst,MATCH($B109,'Licence Info'!$B$74:$B$98,FALSE),MATCH(Control!AH$101,'Licence Info'!$C$71:$DW$71,FALSE))*$C$9+OFFSET(Licence_OIEC,MATCH($B109,'Licence Info'!$B$108:$B$132,FALSE),MATCH(Control!AH$101,'Licence Info'!$C$105:$DW$105,FALSE))-AH47)","v":89.100000000000009},{"$f":"MAX(0,OFFSET(Licence_IBEC,MATCH($B109,'Licence Info'!$B$40:$B$64,FALSE),MATCH(Control!AI$101,'Licence Info'!$C$37:$DW$37,FALSE))*$C$9+OFFSET(Licence_Subst,MATCH($B109,'Licence Info'!$B$74:$B$98,FALSE),MATCH(Control!AI$101,'Licence Info'!$C$71:$DW$71,FALSE))*$C$9+OFFSET(Licence_OIEC,MATCH($B109,'Licence Info'!$B$108:$B$132,FALSE),MATCH(Control!AI$101,'Licence Info'!$C$105:$DW$105,FALSE))-AI47)","v":89.100000000000009},{"$f":"MAX(0,OFFSET(Licence_IBEC,MATCH($B109,'Licence Info'!$B$40:$B$64,FALSE),MATCH(Control!AJ$101,'Licence Info'!$C$37:$DW$37,FALSE))*$C$9+OFFSET(Licence_Subst,MATCH($B109,'Licence Info'!$B$74:$B$98,FALSE),MATCH(Control!AJ$101,'Licence Info'!$C$71:$DW$71,FALSE))*$C$9+OFFSET(Licence_OIEC,MATCH($B109,'Licence Info'!$B$108:$B$132,FALSE),MATCH(Control!AJ$101,'Licence Info'!$C$105:$DW$105,FALSE))-AJ47)","v":89.100000000000009},{"$f":"MAX(0,OFFSET(Licence_IBEC,MATCH($B109,'Licence Info'!$B$40:$B$64,FALSE),MATCH(Control!AK$101,'Licence Info'!$C$37:$DW$37,FALSE))*$C$9+OFFSET(Licence_Subst,MATCH($B109,'Licence Info'!$B$74:$B$98,FALSE),MATCH(Control!AK$101,'Licence Info'!$C$71:$DW$71,FALSE))*$C$9+OFFSET(Licence_OIEC,MATCH($B109,'Licence Info'!$B$108:$B$132,FALSE),MATCH(Control!AK$101,'Licence Info'!$C$105:$DW$105,FALSE))-AK47)","v":89.100000000000009},{"$f":"MAX(0,OFFSET(Licence_IBEC,MATCH($B109,'Licence Info'!$B$40:$B$64,FALSE),MATCH(Control!AL$101,'Licence Info'!$C$37:$DW$37,FALSE))*$C$9+OFFSET(Licence_Subst,MATCH($B109,'Licence Info'!$B$74:$B$98,FALSE),MATCH(Control!AL$101,'Licence Info'!$C$71:$DW$71,FALSE))*$C$9+OFFSET(Licence_OIEC,MATCH($B109,'Licence Info'!$B$108:$B$132,FALSE),MATCH(Control!AL$101,'Licence Info'!$C$105:$DW$105,FALSE))-AL47)","v":89.100000000000009},{"$f":"MAX(0,OFFSET(Licence_IBEC,MATCH($B109,'Licence Info'!$B$40:$B$64,FALSE),MATCH(Control!AM$101,'Licence Info'!$C$37:$DW$37,FALSE))*$C$9+OFFSET(Licence_Subst,MATCH($B109,'Licence Info'!$B$74:$B$98,FALSE),MATCH(Control!AM$101,'Licence Info'!$C$71:$DW$71,FALSE))*$C$9+OFFSET(Licence_OIEC,MATCH($B109,'Licence Info'!$B$108:$B$132,FALSE),MATCH(Control!AM$101,'Licence Info'!$C$105:$DW$105,FALSE))-AM47)","v":89.100000000000009},{"$f":"MAX(0,OFFSET(Licence_IBEC,MATCH($B109,'Licence Info'!$B$40:$B$64,FALSE),MATCH(Control!AN$101,'Licence Info'!$C$37:$DW$37,FALSE))*$C$9+OFFSET(Licence_Subst,MATCH($B109,'Licence Info'!$B$74:$B$98,FALSE),MATCH(Control!AN$101,'Licence Info'!$C$71:$DW$71,FALSE))*$C$9+OFFSET(Licence_OIEC,MATCH($B109,'Licence Info'!$B$108:$B$132,FALSE),MATCH(Control!AN$101,'Licence Info'!$C$105:$DW$105,FALSE))-AN47)","v":89.100000000000009},{"$f":"MAX(0,OFFSET(Licence_IBEC,MATCH($B109,'Licence Info'!$B$40:$B$64,FALSE),MATCH(Control!AO$101,'Licence Info'!$C$37:$DW$37,FALSE))*$C$9+OFFSET(Licence_Subst,MATCH($B109,'Licence Info'!$B$74:$B$98,FALSE),MATCH(Control!AO$101,'Licence Info'!$C$71:$DW$71,FALSE))*$C$9+OFFSET(Licence_OIEC,MATCH($B109,'Licence Info'!$B$108:$B$132,FALSE),MATCH(Control!AO$101,'Licence Info'!$C$105:$DW$105,FALSE))-AO47)","v":89.100000000000009},{"$f":"MAX(0,OFFSET(Licence_IBEC,MATCH($B109,'Licence Info'!$B$40:$B$64,FALSE),MATCH(Control!AP$101,'Licence Info'!$C$37:$DW$37,FALSE))*$C$9+OFFSET(Licence_Subst,MATCH($B109,'Licence Info'!$B$74:$B$98,FALSE),MATCH(Control!AP$101,'Licence Info'!$C$71:$DW$71,FALSE))*$C$9+OFFSET(Licence_OIEC,MATCH($B109,'Licence Info'!$B$108:$B$132,FALSE),MATCH(Control!AP$101,'Licence Info'!$C$105:$DW$105,FALSE))-AP47)","v":89.100000000000009},{"$f":"MAX(0,OFFSET(Licence_IBEC,MATCH($B109,'Licence Info'!$B$40:$B$64,FALSE),MATCH(Control!AQ$101,'Licence Info'!$C$37:$DW$37,FALSE))*$C$9+OFFSET(Licence_Subst,MATCH($B109,'Licence Info'!$B$74:$B$98,FALSE),MATCH(Control!AQ$101,'Licence Info'!$C$71:$DW$71,FALSE))*$C$9+OFFSET(Licence_OIEC,MATCH($B109,'Licence Info'!$B$108:$B$132,FALSE),MATCH(Control!AQ$101,'Licence Info'!$C$105:$DW$105,FALSE))-AQ47)","v":89.100000000000009},{"$f":"MAX(0,OFFSET(Licence_IBEC,MATCH($B109,'Licence Info'!$B$40:$B$64,FALSE),MATCH(Control!AR$101,'Licence Info'!$C$37:$DW$37,FALSE))*$C$9+OFFSET(Licence_Subst,MATCH($B109,'Licence Info'!$B$74:$B$98,FALSE),MATCH(Control!AR$101,'Licence Info'!$C$71:$DW$71,FALSE))*$C$9+OFFSET(Licence_OIEC,MATCH($B109,'Licence Info'!$B$108:$B$132,FALSE),MATCH(Control!AR$101,'Licence Info'!$C$105:$DW$105,FALSE))-AR47)","v":89.100000000000009},{"$f":"MAX(0,OFFSET(Licence_IBEC,MATCH($B109,'Licence Info'!$B$40:$B$64,FALSE),MATCH(Control!AS$101,'Licence Info'!$C$37:$DW$37,FALSE))*$C$9+OFFSET(Licence_Subst,MATCH($B109,'Licence Info'!$B$74:$B$98,FALSE),MATCH(Control!AS$101,'Licence Info'!$C$71:$DW$71,FALSE))*$C$9+OFFSET(Licence_OIEC,MATCH($B109,'Licence Info'!$B$108:$B$132,FALSE),MATCH(Control!AS$101,'Licence Info'!$C$105:$DW$105,FALSE))-AS47)","v":89.100000000000009},{"$f":"MAX(0,OFFSET(Licence_IBEC,MATCH($B109,'Licence Info'!$B$40:$B$64,FALSE),MATCH(Control!AT$101,'Licence Info'!$C$37:$DW$37,FALSE))*$C$9+OFFSET(Licence_Subst,MATCH($B109,'Licence Info'!$B$74:$B$98,FALSE),MATCH(Control!AT$101,'Licence Info'!$C$71:$DW$71,FALSE))*$C$9+OFFSET(Licence_OIEC,MATCH($B109,'Licence Info'!$B$108:$B$132,FALSE),MATCH(Control!AT$101,'Licence Info'!$C$105:$DW$105,FALSE))-AT47)","v":89.100000000000009},{"$f":"MAX(0,OFFSET(Licence_IBEC,MATCH($B109,'Licence Info'!$B$40:$B$64,FALSE),MATCH(Control!AU$101,'Licence Info'!$C$37:$DW$37,FALSE))*$C$9+OFFSET(Licence_Subst,MATCH($B109,'Licence Info'!$B$74:$B$98,FALSE),MATCH(Control!AU$101,'Licence Info'!$C$71:$DW$71,FALSE))*$C$9+OFFSET(Licence_OIEC,MATCH($B109,'Licence Info'!$B$108:$B$132,FALSE),MATCH(Control!AU$101,'Licence Info'!$C$105:$DW$105,FALSE))-AU47)","v":89.100000000000009},{"$f":"MAX(0,OFFSET(Licence_IBEC,MATCH($B109,'Licence Info'!$B$40:$B$64,FALSE),MATCH(Control!AV$101,'Licence Info'!$C$37:$DW$37,FALSE))*$C$9+OFFSET(Licence_Subst,MATCH($B109,'Licence Info'!$B$74:$B$98,FALSE),MATCH(Control!AV$101,'Licence Info'!$C$71:$DW$71,FALSE))*$C$9+OFFSET(Licence_OIEC,MATCH($B109,'Licence Info'!$B$108:$B$132,FALSE),MATCH(Control!AV$101,'Licence Info'!$C$105:$DW$105,FALSE))-AV47)","v":89.100000000000009},{"$f":"MAX(0,OFFSET(Licence_IBEC,MATCH($B109,'Licence Info'!$B$40:$B$64,FALSE),MATCH(Control!AW$101,'Licence Info'!$C$37:$DW$37,FALSE))*$C$9+OFFSET(Licence_Subst,MATCH($B109,'Licence Info'!$B$74:$B$98,FALSE),MATCH(Control!AW$101,'Licence Info'!$C$71:$DW$71,FALSE))*$C$9+OFFSET(Licence_OIEC,MATCH($B109,'Licence Info'!$B$108:$B$132,FALSE),MATCH(Control!AW$101,'Licence Info'!$C$105:$DW$105,FALSE))-AW47)","v":89.100000000000009},{"$f":"MAX(0,OFFSET(Licence_IBEC,MATCH($B109,'Licence Info'!$B$40:$B$64,FALSE),MATCH(Control!AX$101,'Licence Info'!$C$37:$DW$37,FALSE))*$C$9+OFFSET(Licence_Subst,MATCH($B109,'Licence Info'!$B$74:$B$98,FALSE),MATCH(Control!AX$101,'Licence Info'!$C$71:$DW$71,FALSE))*$C$9+OFFSET(Licence_OIEC,MATCH($B109,'Licence Info'!$B$108:$B$132,FALSE),MATCH(Control!AX$101,'Licence Info'!$C$105:$DW$105,FALSE))-AX47)","v":89.100000000000009},{"$f":"MAX(0,OFFSET(Licence_IBEC,MATCH($B109,'Licence Info'!$B$40:$B$64,FALSE),MATCH(Control!AY$101,'Licence Info'!$C$37:$DW$37,FALSE))*$C$9+OFFSET(Licence_Subst,MATCH($B109,'Licence Info'!$B$74:$B$98,FALSE),MATCH(Control!AY$101,'Licence Info'!$C$71:$DW$71,FALSE))*$C$9+OFFSET(Licence_OIEC,MATCH($B109,'Licence Info'!$B$108:$B$132,FALSE),MATCH(Control!AY$101,'Licence Info'!$C$105:$DW$105,FALSE))-AY47)","v":89.100000000000009},{"$f":"MAX(0,OFFSET(Licence_IBEC,MATCH($B109,'Licence Info'!$B$40:$B$64,FALSE),MATCH(Control!AZ$101,'Licence Info'!$C$37:$DW$37,FALSE))*$C$9+OFFSET(Licence_Subst,MATCH($B109,'Licence Info'!$B$74:$B$98,FALSE),MATCH(Control!AZ$101,'Licence Info'!$C$71:$DW$71,FALSE))*$C$9+OFFSET(Licence_OIEC,MATCH($B109,'Licence Info'!$B$108:$B$132,FALSE),MATCH(Control!AZ$101,'Licence Info'!$C$105:$DW$105,FALSE))-AZ47)","v":89.100000000000009},{"$f":"MAX(0,OFFSET(Licence_IBEC,MATCH($B109,'Licence Info'!$B$40:$B$64,FALSE),MATCH(Control!BA$101,'Licence Info'!$C$37:$DW$37,FALSE))*$C$9+OFFSET(Licence_Subst,MATCH($B109,'Licence Info'!$B$74:$B$98,FALSE),MATCH(Control!BA$101,'Licence Info'!$C$71:$DW$71,FALSE))*$C$9+OFFSET(Licence_OIEC,MATCH($B109,'Licence Info'!$B$108:$B$132,FALSE),MATCH(Control!BA$101,'Licence Info'!$C$105:$DW$105,FALSE))-BA47)","v":89.100000000000009},{"$f":"MAX(0,OFFSET(Licence_IBEC,MATCH($B109,'Licence Info'!$B$40:$B$64,FALSE),MATCH(Control!BB$101,'Licence Info'!$C$37:$DW$37,FALSE))*$C$9+OFFSET(Licence_Subst,MATCH($B109,'Licence Info'!$B$74:$B$98,FALSE),MATCH(Control!BB$101,'Licence Info'!$C$71:$DW$71,FALSE))*$C$9+OFFSET(Licence_OIEC,MATCH($B109,'Licence Info'!$B$108:$B$132,FALSE),MATCH(Control!BB$101,'Licence Info'!$C$105:$DW$105,FALSE))-BB47)","v":89.100000000000009},{"$f":"MAX(0,OFFSET(Licence_IBEC,MATCH($B109,'Licence Info'!$B$40:$B$64,FALSE),MATCH(Control!BC$101,'Licence Info'!$C$37:$DW$37,FALSE))*$C$9+OFFSET(Licence_Subst,MATCH($B109,'Licence Info'!$B$74:$B$98,FALSE),MATCH(Control!BC$101,'Licence Info'!$C$71:$DW$71,FALSE))*$C$9+OFFSET(Licence_OIEC,MATCH($B109,'Licence Info'!$B$108:$B$132,FALSE),MATCH(Control!BC$101,'Licence Info'!$C$105:$DW$105,FALSE))-BC47)","v":89.100000000000009},{"$f":"MAX(0,OFFSET(Licence_IBEC,MATCH($B109,'Licence Info'!$B$40:$B$64,FALSE),MATCH(Control!BD$101,'Licence Info'!$C$37:$DW$37,FALSE))*$C$9+OFFSET(Licence_Subst,MATCH($B109,'Licence Info'!$B$74:$B$98,FALSE),MATCH(Control!BD$101,'Licence Info'!$C$71:$DW$71,FALSE))*$C$9+OFFSET(Licence_OIEC,MATCH($B109,'Licence Info'!$B$108:$B$132,FALSE),MATCH(Control!BD$101,'Licence Info'!$C$105:$DW$105,FALSE))-BD47)","v":89.100000000000009},{"$f":"MAX(0,OFFSET(Licence_IBEC,MATCH($B109,'Licence Info'!$B$40:$B$64,FALSE),MATCH(Control!BE$101,'Licence Info'!$C$37:$DW$37,FALSE))*$C$9+OFFSET(Licence_Subst,MATCH($B109,'Licence Info'!$B$74:$B$98,FALSE),MATCH(Control!BE$101,'Licence Info'!$C$71:$DW$71,FALSE))*$C$9+OFFSET(Licence_OIEC,MATCH($B109,'Licence Info'!$B$108:$B$132,FALSE),MATCH(Control!BE$101,'Licence Info'!$C$105:$DW$105,FALSE))-BE47)","v":89.100000000000009},{"$f":"MAX(0,OFFSET(Licence_IBEC,MATCH($B109,'Licence Info'!$B$40:$B$64,FALSE),MATCH(Control!BF$101,'Licence Info'!$C$37:$DW$37,FALSE))*$C$9+OFFSET(Licence_Subst,MATCH($B109,'Licence Info'!$B$74:$B$98,FALSE),MATCH(Control!BF$101,'Licence Info'!$C$71:$DW$71,FALSE))*$C$9+OFFSET(Licence_OIEC,MATCH($B109,'Licence Info'!$B$108:$B$132,FALSE),MATCH(Control!BF$101,'Licence Info'!$C$105:$DW$105,FALSE))-BF47)","v":89.100000000000009},{"$f":"MAX(0,OFFSET(Licence_IBEC,MATCH($B109,'Licence Info'!$B$40:$B$64,FALSE),MATCH(Control!BG$101,'Licence Info'!$C$37:$DW$37,FALSE))*$C$9+OFFSET(Licence_Subst,MATCH($B109,'Licence Info'!$B$74:$B$98,FALSE),MATCH(Control!BG$101,'Licence Info'!$C$71:$DW$71,FALSE))*$C$9+OFFSET(Licence_OIEC,MATCH($B109,'Licence Info'!$B$108:$B$132,FALSE),MATCH(Control!BG$101,'Licence Info'!$C$105:$DW$105,FALSE))-BG47)","v":89.100000000000009},{"$f":"MAX(0,OFFSET(Licence_IBEC,MATCH($B109,'Licence Info'!$B$40:$B$64,FALSE),MATCH(Control!BH$101,'Licence Info'!$C$37:$DW$37,FALSE))*$C$9+OFFSET(Licence_Subst,MATCH($B109,'Licence Info'!$B$74:$B$98,FALSE),MATCH(Control!BH$101,'Licence Info'!$C$71:$DW$71,FALSE))*$C$9+OFFSET(Licence_OIEC,MATCH($B109,'Licence Info'!$B$108:$B$132,FALSE),MATCH(Control!BH$101,'Licence Info'!$C$105:$DW$105,FALSE))-BH47)","v":89.100000000000009},{"$f":"MAX(0,OFFSET(Licence_IBEC,MATCH($B109,'Licence Info'!$B$40:$B$64,FALSE),MATCH(Control!BI$101,'Licence Info'!$C$37:$DW$37,FALSE))*$C$9+OFFSET(Licence_Subst,MATCH($B109,'Licence Info'!$B$74:$B$98,FALSE),MATCH(Control!BI$101,'Licence Info'!$C$71:$DW$71,FALSE))*$C$9+OFFSET(Licence_OIEC,MATCH($B109,'Licence Info'!$B$108:$B$132,FALSE),MATCH(Control!BI$101,'Licence Info'!$C$105:$DW$105,FALSE))-BI47)","v":89.100000000000009},{"$f":"MAX(0,OFFSET(Licence_IBEC,MATCH($B109,'Licence Info'!$B$40:$B$64,FALSE),MATCH(Control!BJ$101,'Licence Info'!$C$37:$DW$37,FALSE))*$C$9+OFFSET(Licence_Subst,MATCH($B109,'Licence Info'!$B$74:$B$98,FALSE),MATCH(Control!BJ$101,'Licence Info'!$C$71:$DW$71,FALSE))*$C$9+OFFSET(Licence_OIEC,MATCH($B109,'Licence Info'!$B$108:$B$132,FALSE),MATCH(Control!BJ$101,'Licence Info'!$C$105:$DW$105,FALSE))-BJ47)","v":89.100000000000009},{"$f":"MAX(0,OFFSET(Licence_IBEC,MATCH($B109,'Licence Info'!$B$40:$B$64,FALSE),MATCH(Control!BK$101,'Licence Info'!$C$37:$DW$37,FALSE))*$C$9+OFFSET(Licence_Subst,MATCH($B109,'Licence Info'!$B$74:$B$98,FALSE),MATCH(Control!BK$101,'Licence Info'!$C$71:$DW$71,FALSE))*$C$9+OFFSET(Licence_OIEC,MATCH($B109,'Licence Info'!$B$108:$B$132,FALSE),MATCH(Control!BK$101,'Licence Info'!$C$105:$DW$105,FALSE))-BK47)","v":{"$error":"#N/A"}}]
[null,"Partington",{"$f":"MAX(0,OFFSET(Licence_IBEC,MATCH($B110,'Licence Info'!$B$40:$B$64,FALSE),MATCH(Control!C$101,'Licence Info'!$C$37:$DW$37,FALSE))*$C$9+OFFSET(Licence_Subst,MATCH($B110,'Licence Info'!$B$74:$B$98,FALSE),MATCH(Control!C$101,'Licence Info'!$C$71:$DW$71,FALSE))*$C$9+OFFSET(Licence_OIEC,MATCH($B110,'Licence Info'!$B$108:$B$132,FALSE),MATCH(Control!C$101,'Licence Info'!$C$105:$DW$105,FALSE))-C48)","v":193.5},{"$f":"MAX(0,OFFSET(Licence_IBEC,MATCH($B110,'Licence Info'!$B$40:$B$64,FALSE),MATCH(Control!D$101,'Licence Info'!$C$37:$DW$37,FALSE))*$C$9+OFFSET(Licence_Subst,MATCH($B110,'Licence Info'!$B$74:$B$98,FALSE),MATCH(Control!D$101,'Licence Info'!$C$71:$DW$71,FALSE))*$C$9+OFFSET(Licence_OIEC,MATCH($B110,'Licence Info'!$B$108:$B$132,FALSE),MATCH(Control!D$101,'Licence Info'!$C$105:$DW$105,FALSE))-D48)","v":193.5},{"$f":"MAX(0,OFFSET(Licence_IBEC,MATCH($B110,'Licence Info'!$B$40:$B$64,FALSE),MATCH(Control!E$101,'Licence Info'!$C$37:$DW$37,FALSE))*$C$9+OFFSET(Licence_Subst,MATCH($B110,'Licence Info'!$B$74:$B$98,FALSE),MATCH(Control!E$101,'Licence Info'!$C$71:$DW$71,FALSE))*$C$9+OFFSET(Licence_OIEC,MATCH($B110,'Licence Info'!$B$108:$B$132,FALSE),MATCH(Control!E$101,'Licence Info'!$C$105:$DW$105,FALSE))-E48)","v":193.5},{"$f":"MAX(0,OFFSET(Licence_IBEC,MATCH($B110,'Licence Info'!$B$40:$B$64,FALSE),MATCH(Control!F$101,'Licence Info'!$C$37:$DW$37,FALSE))*$C$9+OFFSET(Licence_Subst,MATCH($B110,'Licence Info'!$B$74:$B$98,FALSE),MATCH(Control!F$101,'Licence Info'!$C$71:$DW$71,FALSE))*$C$9+OFFSET(Licence_OIEC,MATCH($B110,'Licence Info'!$B$108:$B$132,FALSE),MATCH(Control!F$101,'Licence Info'!$C$105:$DW$105,FALSE))-F48)","v":193.5},{"$f":"MAX(0,OFFSET(Licence_IBEC,MATCH($B110,'Licence Info'!$B$40:$B$64,FALSE),MATCH(Control!G$101,'Licence Info'!$C$37:$DW$37,FALSE))*$C$9+OFFSET(Licence_Subst,MATCH($B110,'Licence Info'!$B$74:$B$98,FALSE),MATCH(Control!G$101,'Licence Info'!$C$71:$DW$71,FALSE))*$C$9+OFFSET(Licence_OIEC,MATCH($B110,'Licence Info'!$B$108:$B$132,FALSE),MATCH(Control!G$101,'Licence Info'!$C$105:$DW$105,FALSE))-G48)","v":193.5},{"$f":"MAX(0,OFFSET(Licence_IBEC,MATCH($B110,'Licence Info'!$B$40:$B$64,FALSE),MATCH(Control!H$101,'Licence Info'!$C$37:$DW$37,FALSE))*$C$9+OFFSET(Licence_Subst,MATCH($B110,'Licence Info'!$B$74:$B$98,FALSE),MATCH(Control!H$101,'Licence Info'!$C$71:$DW$71,FALSE))*$C$9+OFFSET(Licence_OIEC,MATCH($B110,'Licence Info'!$B$108:$B$132,FALSE),MATCH(Control!H$101,'Licence Info'!$C$105:$DW$105,FALSE))-H48)","v":193.5},{"$f":"MAX(0,OFFSET(Licence_IBEC,MATCH($B110,'Licence Info'!$B$40:$B$64,FALSE),MATCH(Control!I$101,'Licence Info'!$C$37:$DW$37,FALSE))*$C$9+OFFSET(Licence_Subst,MATCH($B110,'Licence Info'!$B$74:$B$98,FALSE),MATCH(Control!I$101,'Licence Info'!$C$71:$DW$71,FALSE))*$C$9+OFFSET(Licence_OIEC,MATCH($B110,'Licence Info'!$B$108:$B$132,FALSE),MATCH(Control!I$101,'Licence Info'!$C$105:$DW$105,FALSE))-I48)","v":193.5},{"$f":"MAX(0,OFFSET(Licence_IBEC,MATCH($B110,'Licence Info'!$B$40:$B$64,FALSE),MATCH(Control!J$101,'Licence Info'!$C$37:$DW$37,FALSE))*$C$9+OFFSET(Licence_Subst,MATCH($B110,'Licence Info'!$B$74:$B$98,FALSE),MATCH(Control!J$101,'Licence Info'!$C$71:$DW$71,FALSE))*$C$9+OFFSET(Licence_OIEC,MATCH($B110,'Licence Info'!$B$108:$B$132,FALSE),MATCH(Control!J$101,'Licence Info'!$C$105:$DW$105,FALSE))-J48)","v":193.5},{"$f":"MAX(0,OFFSET(Licence_IBEC,MATCH($B110,'Licence Info'!$B$40:$B$64,FALSE),MATCH(Control!K$101,'Licence Info'!$C$37:$DW$37,FALSE))*$C$9+OFFSET(Licence_Subst,MATCH($B110,'Licence Info'!$B$74:$B$98,FALSE),MATCH(Control!K$101,'Licence Info'!$C$71:$DW$71,FALSE))*$C$9+OFFSET(Licence_OIEC,MATCH($B110,'Licence Info'!$B$108:$B$132,FALSE),MATCH(Control!K$101,'Licence Info'!$C$105:$DW$105,FALSE))-K48)","v":193.5},{"$f":"MAX(0,OFFSET(Licence_IBEC,MATCH($B110,'Licence Info'!$B$40:$B$64,FALSE),MATCH(Control!L$101,'Licence Info'!$C$37:$DW$37,FALSE))*$C$9+OFFSET(Licence_Subst,MATCH($B110,'Licence Info'!$B$74:$B$98,FALSE),MATCH(Control!L$101,'Licence Info'!$C$71:$DW$71,FALSE))*$C$9+OFFSET(Licence_OIEC,MATCH($B110,'Licence Info'!$B$108:$B$132,FALSE),MATCH(Control!L$101,'Licence Info'!$C$105:$DW$105,FALSE))-L48)","v":193.5},{"$f":"MAX(0,OFFSET(Licence_IBEC,MATCH($B110,'Licence Info'!$B$40:$B$64,FALSE),MATCH(Control!M$101,'Licence Info'!$C$37:$DW$37,FALSE))*$C$9+OFFSET(Licence_Subst,MATCH($B110,'Licence Info'!$B$74:$B$98,FALSE),MATCH(Control!M$101,'Licence Info'!$C$71:$DW$71,FALSE))*$C$9+OFFSET(Licence_OIEC,MATCH($B110,'Licence Info'!$B$108:$B$132,FALSE),MATCH(Control!M$101,'Licence Info'!$C$105:$DW$105,FALSE))-M48)","v":193.5},{"$f":"MAX(0,OFFSET(Licence_IBEC,MATCH($B110,'Licence Info'!$B$40:$B$64,FALSE),MATCH(Control!N$101,'Licence Info'!$C$37:$DW$37,FALSE))*$C$9+OFFSET(Licence_Subst,MATCH($B110,'Licence Info'!$B$74:$B$98,FALSE),MATCH(Control!N$101,'Licence Info'!$C$71:$DW$71,FALSE))*$C$9+OFFSET(Licence_OIEC,MATCH($B110,'Licence Info'!$B$108:$B$132,FALSE),MATCH(Control!N$101,'Licence Info'!$C$105:$DW$105,FALSE))-N48)","v":193.5},{"$f":"MAX(0,OFFSET(Licence_IBEC,MATCH($B110,'Licence Info'!$B$40:$B$64,FALSE),MATCH(Control!O$101,'Licence Info'!$C$37:$DW$37,FALSE))*$C$9+OFFSET(Licence_Subst,MATCH($B110,'Licence Info'!$B$74:$B$98,FALSE),MATCH(Control!O$101,'Licence Info'!$C$71:$DW$71,FALSE))*$C$9+OFFSET(Licence_OIEC,MATCH($B110,'Licence Info'!$B$108:$B$132,FALSE),MATCH(Control!O$101,'Licence Info'!$C$105:$DW$105,FALSE))-O48)","v":193.5},{"$f":"MAX(0,OFFSET(Licence_IBEC,MATCH($B110,'Licence Info'!$B$40:$B$64,FALSE),MATCH(Control!P$101,'Licence Info'!$C$37:$DW$37,FALSE))*$C$9+OFFSET(Licence_Subst,MATCH($B110,'Licence Info'!$B$74:$B$98,FALSE),MATCH(Control!P$101,'Licence Info'!$C$71:$DW$71,FALSE))*$C$9+OFFSET(Licence_OIEC,MATCH($B110,'Licence Info'!$B$108:$B$132,FALSE),MATCH(Control!P$101,'Licence Info'!$C$105:$DW$105,FALSE))-P48)","v":193.5},{"$f":"MAX(0,OFFSET(Licence_IBEC,MATCH($B110,'Licence Info'!$B$40:$B$64,FALSE),MATCH(Control!Q$101,'Licence Info'!$C$37:$DW$37,FALSE))*$C$9+OFFSET(Licence_Subst,MATCH($B110,'Licence Info'!$B$74:$B$98,FALSE),MATCH(Control!Q$101,'Licence Info'!$C$71:$DW$71,FALSE))*$C$9+OFFSET(Licence_OIEC,MATCH($B110,'Licence Info'!$B$108:$B$132,FALSE),MATCH(Control!Q$101,'Licence Info'!$C$105:$DW$105,FALSE))-Q48)","v":193.5},{"$f":"MAX(0,OFFSET(Licence_IBEC,MATCH($B110,'Licence Info'!$B$40:$B$64,FALSE),MATCH(Control!R$101,'Licence Info'!$C$37:$DW$37,FALSE))*$C$9+OFFSET(Licence_Subst,MATCH($B110,'Licence Info'!$B$74:$B$98,FALSE),MATCH(Control!R$101,'Licence Info'!$C$71:$DW$71,FALSE))*$C$9+OFFSET(Licence_OIEC,MATCH($B110,'Licence Info'!$B$108:$B$132,FALSE),MATCH(Control!R$101,'Licence Info'!$C$105:$DW$105,FALSE))-R48)","v":193.5},{"$f":"MAX(0,OFFSET(Licence_IBEC,MATCH($B110,'Licence Info'!$B$40:$B$64,FALSE),MATCH(Control!S$101,'Licence Info'!$C$37:$DW$37,FALSE))*$C$9+OFFSET(Licence_Subst,MATCH($B110,'Licence Info'!$B$74:$B$98,FALSE),MATCH(Control!S$101,'Licence Info'!$C$71:$DW$71,FALSE))*$C$9+OFFSET(Licence_OIEC,MATCH($B110,'Licence Info'!$B$108:$B$132,FALSE),MATCH(Control!S$101,'Licence Info'!$C$105:$DW$105,FALSE))-S48)","v":193.5},{"$f":"MAX(0,OFFSET(Licence_IBEC,MATCH($B110,'Licence Info'!$B$40:$B$64,FALSE),MATCH(Control!T$101,'Licence Info'!$C$37:$DW$37,FALSE))*$C$9+OFFSET(Licence_Subst,MATCH($B110,'Licence Info'!$B$74:$B$98,FALSE),MATCH(Control!T$101,'Licence Info'!$C$71:$DW$71,FALSE))*$C$9+OFFSET(Licence_OIEC,MATCH($B110,'Licence Info'!$B$108:$B$132,FALSE),MATCH(Control!T$101,'Licence Info'!$C$105:$DW$105,FALSE))-T48)","v":193.5},{"$f":"MAX(0,OFFSET(Licence_IBEC,MATCH($B110,'Licence Info'!$B$40:$B$64,FALSE),MATCH(Control!U$101,'Licence Info'!$C$37:$DW$37,FALSE))*$C$9+OFFSET(Licence_Subst,MATCH($B110,'Licence Info'!$B$74:$B$98,FALSE),MATCH(Control!U$101,'Licence Info'!$C$71:$DW$71,FALSE))*$C$9+OFFSET(Licence_OIEC,MATCH($B110,'Licence Info'!$B$108:$B$132,FALSE),MATCH(Control!U$101,'Licence Info'!$C$105:$DW$105,FALSE))-U48)","v":193.5},{"$f":"MAX(0,OFFSET(Licence_IBEC,MATCH($B110,'Licence Info'!$B$40:$B$64,FALSE),MATCH(Control!V$101,'Licence Info'!$C$37:$DW$37,FALSE))*$C$9+OFFSET(Licence_Subst,MATCH($B110,'Licence Info'!$B$74:$B$98,FALSE),MATCH(Control!V$101,'Licence Info'!$C$71:$DW$71,FALSE))*$C$9+OFFSET(Licence_OIEC,MATCH($B110,'Licence Info'!$B$108:$B$132,FALSE),MATCH(Control!V$101,'Licence Info'!$C$105:$DW$105,FALSE))-V48)","v":193.5},{"$f":"MAX(0,OFFSET(Licence_IBEC,MATCH($B110,'Licence Info'!$B$40:$B$64,FALSE),MATCH(Control!W$101,'Licence Info'!$C$37:$DW$37,FALSE))*$C$9+OFFSET(Licence_Subst,MATCH($B110,'Licence Info'!$B$74:$B$98,FALSE),MATCH(Control!W$101,'Licence Info'!$C$71:$DW$71,FALSE))*$C$9+OFFSET(Licence_OIEC,MATCH($B110,'Licence Info'!$B$108:$B$132,FALSE),MATCH(Control!W$101,'Licence Info'!$C$105:$DW$105,FALSE))-W48)","v":193.5},{"$f":"MAX(0,OFFSET(Licence_IBEC,MATCH($B110,'Licence Info'!$B$40:$B$64,FALSE),MATCH(Control!X$101,'Licence Info'!$C$37:$DW$37,FALSE))*$C$9+OFFSET(Licence_Subst,MATCH($B110,'Licence Info'!$B$74:$B$98,FALSE),MATCH(Control!X$101,'Licence Info'!$C$71:$DW$71,FALSE))*$C$9+OFFSET(Licence_OIEC,MATCH($B110,'Licence Info'!$B$108:$B$132,FALSE),MATCH(Control!X$101,'Licence Info'!$C$105:$DW$105,FALSE))-X48)","v":193.5},{"$f":"MAX(0,OFFSET(Licence_IBEC,MATCH($B110,'Licence Info'!$B$40:$B$64,FALSE),MATCH(Control!Y$101,'Licence Info'!$C$37:$DW$37,FALSE))*$C$9+OFFSET(Licence_Subst,MATCH($B110,'Licence Info'!$B$74:$B$98,FALSE),MATCH(Control!Y$101,'Licence Info'!$C$71:$DW$71,FALSE))*$C$9+OFFSET(Licence_OIEC,MATCH($B110,'Licence Info'!$B$108:$B$132,FALSE),MATCH(Control!Y$101,'Licence Info'!$C$105:$DW$105,FALSE))-Y48)","v":193.5},{"$f":"MAX(0,OFFSET(Licence_IBEC,MATCH($B110,'Licence Info'!$B$40:$B$64,FALSE),MATCH(Control!Z$101,'Licence Info'!$C$37:$DW$37,FALSE))*$C$9+OFFSET(Licence_Subst,MATCH($B110,'Licence Info'!$B$74:$B$98,FALSE),MATCH(Control!Z$101,'Licence Info'!$C$71:$DW$71,FALSE))*$C$9+OFFSET(Licence_OIEC,MATCH($B110,'Licence Info'!$B$108:$B$132,FALSE),MATCH(Control!Z$101,'Licence Info'!$C$105:$DW$105,FALSE))-Z48)","v":193.5},{"$f":"MAX(0,OFFSET(Licence_IBEC,MATCH($B110,'Licence Info'!$B$40:$B$64,FALSE),MATCH(Control!AA$101,'Licence Info'!$C$37:$DW$37,FALSE))*$C$9+OFFSET(Licence_Subst,MATCH($B110,'Licence Info'!$B$74:$B$98,FALSE),MATCH(Control!AA$101,'Licence Info'!$C$71:$DW$71,FALSE))*$C$9+OFFSET(Licence_OIEC,MATCH($B110,'Licence Info'!$B$108:$B$132,FALSE),MATCH(Control!AA$101,'Licence Info'!$C$105:$DW$105,FALSE))-AA48)","v":193.5},{"$f":"MAX(0,OFFSET(Licence_IBEC,MATCH($B110,'Licence Info'!$B$40:$B$64,FALSE),MATCH(Control!AB$101,'Licence Info'!$C$37:$DW$37,FALSE))*$C$9+OFFSET(Licence_Subst,MATCH($B110,'Licence Info'!$B$74:$B$98,FALSE),MATCH(Control!AB$101,'Licence Info'!$C$71:$DW$71,FALSE))*$C$9+OFFSET(Licence_OIEC,MATCH($B110,'Licence Info'!$B$108:$B$132,FALSE),MATCH(Control!AB$101,'Licence Info'!$C$105:$DW$105,FALSE))-AB48)","v":193.5},{"$f":"MAX(0,OFFSET(Licence_IBEC,MATCH($B110,'Licence Info'!$B$40:$B$64,FALSE),MATCH(Control!AC$101,'Licence Info'!$C$37:$DW$37,FALSE))*$C$9+OFFSET(Licence_Subst,MATCH($B110,'Licence Info'!$B$74:$B$98,FALSE),MATCH(Control!AC$101,'Licence Info'!$C$71:$DW$71,FALSE))*$C$9+OFFSET(Licence_OIEC,MATCH($B110,'Licence Info'!$B$108:$B$132,FALSE),MATCH(Control!AC$101,'Licence Info'!$C$105:$DW$105,FALSE))-AC48)","v":193.5},{"$f":"MAX(0,OFFSET(Licence_IBEC,MATCH($B110,'Licence Info'!$B$40:$B$64,FALSE),MATCH(Control!AD$101,'Licence Info'!$C$37:$DW$37,FALSE))*$C$9+OFFSET(Licence_Subst,MATCH($B110,'Licence Info'!$B$74:$B$98,FALSE),MATCH(Control!AD$101,'Licence Info'!$C$71:$DW$71,FALSE))*$C$9+OFFSET(Licence_OIEC,MATCH($B110,'Licence Info'!$B$108:$B$132,FALSE),MATCH(Control!AD$101,'Licence Info'!$C$105:$DW$105,FALSE))-AD48)","v":193.5},{"$f":"MAX(0,OFFSET(Licence_IBEC,MATCH($B110,'Licence Info'!$B$40:$B$64,FALSE),MATCH(Control!AE$101,'Licence Info'!$C$37:$DW$37,FALSE))*$C$9+OFFSET(Licence_Subst,MATCH($B110,'Licence Info'!$B$74:$B$98,FALSE),MATCH(Control!AE$101,'Licence Info'!$C$71:$DW$71,FALSE))*$C$9+OFFSET(Licence_OIEC,MATCH($B110,'Licence Info'!$B$108:$B$132,FALSE),MATCH(Control!AE$101,'Licence Info'!$C$105:$DW$105,FALSE))-AE48)","v":193.5},{"$f":"MAX(0,OFFSET(Licence_IBEC,MATCH($B110,'Licence Info'!$B$40:$B$64,FALSE),MATCH(Control!AF$101,'Licence Info'!$C$37:$DW$37,FALSE))*$C$9+OFFSET(Licence_Subst,MATCH($B110,'Licence Info'!$B$74:$B$98,FALSE),MATCH(Control!AF$101,'Licence Info'!$C$71:$DW$71,FALSE))*$C$9+OFFSET(Licence_OIEC,MATCH($B110,'Licence Info'!$B$108:$B$132,FALSE),MATCH(Control!AF$101,'Licence Info'!$C$105:$DW$105,FALSE))-AF48)","v":193.5},{"$f":"MAX(0,OFFSET(Licence_IBEC,MATCH($B110,'Licence Info'!$B$40:$B$64,FALSE),MATCH(Control!AG$101,'Licence Info'!$C$37:$DW$37,FALSE))*$C$9+OFFSET(Licence_Subst,MATCH($B110,'Licence Info'!$B$74:$B$98,FALSE),MATCH(Control!AG$101,'Licence Info'!$C$71:$DW$71,FALSE))*$C$9+OFFSET(Licence_OIEC,MATCH($B110,'Licence Info'!$B$108:$B$132,FALSE),MATCH(Control!AG$101,'Licence Info'!$C$105:$DW$105,FALSE))-AG48)","v":193.5},{"$f":"MAX(0,OFFSET(Licence_IBEC,MATCH($B110,'Licence Info'!$B$40:$B$64,FALSE),MATCH(Control!AH$101,'Licence Info'!$C$37:$DW$37,FALSE))*$C$9+OFFSET(Licence_Subst,MATCH($B110,'Licence Info'!$B$74:$B$98,FALSE),MATCH(Control!AH$101,'Licence Info'!$C$71:$DW$71,FALSE))*$C$9+OFFSET(Licence_OIEC,MATCH($B110,'Licence Info'!$B$108:$B$132,FALSE),MATCH(Control!AH$101,'Licence Info'!$C$105:$DW$105,FALSE))-AH48)","v":193.5},{"$f":"MAX(0,OFFSET(Licence_IBEC,MATCH($B110,'Licence Info'!$B$40:$B$64,FALSE),MATCH(Control!AI$101,'Licence Info'!$C$37:$DW$37,FALSE))*$C$9+OFFSET(Licence_Subst,MATCH($B110,'Licence Info'!$B$74:$B$98,FALSE),MATCH(Control!AI$101,'Licence Info'!$C$71:$DW$71,FALSE))*$C$9+OFFSET(Licence_OIEC,MATCH($B110,'Licence Info'!$B$108:$B$132,FALSE),MATCH(Control!AI$101,'Licence Info'!$C$105:$DW$105,FALSE))-AI48)","v":193.5},{"$f":"MAX(0,OFFSET(Licence_IBEC,MATCH($B110,'Licence Info'!$B$40:$B$64,FALSE),MATCH(Control!AJ$101,'Licence Info'!$C$37:$DW$37,FALSE))*$C$9+OFFSET(Licence_Subst,MATCH($B110,'Licence Info'!$B$74:$B$98,FALSE),MATCH(Control!AJ$101,'Licence Info'!$C$71:$DW$71,FALSE))*$C$9+OFFSET(Licence_OIEC,MATCH($B110,'Licence Info'!$B$108:$B$132,FALSE),MATCH(Control!AJ$101,'Licence Info'!$C$105:$DW$105,FALSE))-AJ48)","v":193.5},{"$f":"MAX(0,OFFSET(Licence_IBEC,MATCH($B110,'Licence Info'!$B$40:$B$64,FALSE),MATCH(Control!AK$101,'Licence Info'!$C$37:$DW$37,FALSE))*$C$9+OFFSET(Licence_Subst,MATCH($B110,'Licence Info'!$B$74:$B$98,FALSE),MATCH(Control!AK$101,'Licence Info'!$C$71:$DW$71,FALSE))*$C$9+OFFSET(Licence_OIEC,MATCH($B110,'Licence Info'!$B$108:$B$132,FALSE),MATCH(Control!AK$101,'Licence Info'!$C$105:$DW$105,FALSE))-AK48)","v":193.5},{"$f":"MAX(0,OFFSET(Licence_IBEC,MATCH($B110,'Licence Info'!$B$40:$B$64,FALSE),MATCH(Control!AL$101,'Licence Info'!$C$37:$DW$37,FALSE))*$C$9+OFFSET(Licence_Subst,MATCH($B110,'Licence Info'!$B$74:$B$98,FALSE),MATCH(Control!AL$101,'Licence Info'!$C$71:$DW$71,FALSE))*$C$9+OFFSET(Licence_OIEC,MATCH($B110,'Licence Info'!$B$108:$B$132,FALSE),MATCH(Control!AL$101,'Licence Info'!$C$105:$DW$105,FALSE))-AL48)","v":193.5},{"$f":"MAX(0,OFFSET(Licence_IBEC,MATCH($B110,'Licence Info'!$B$40:$B$64,FALSE),MATCH(Control!AM$101,'Licence Info'!$C$37:$DW$37,FALSE))*$C$9+OFFSET(Licence_Subst,MATCH($B110,'Licence Info'!$B$74:$B$98,FALSE),MATCH(Control!AM$101,'Licence Info'!$C$71:$DW$71,FALSE))*$C$9+OFFSET(Licence_OIEC,MATCH($B110,'Licence Info'!$B$108:$B$132,FALSE),MATCH(Control!AM$101,'Licence Info'!$C$105:$DW$105,FALSE))-AM48)","v":193.5},{"$f":"MAX(0,OFFSET(Licence_IBEC,MATCH($B110,'Licence Info'!$B$40:$B$64,FALSE),MATCH(Control!AN$101,'Licence Info'!$C$37:$DW$37,FALSE))*$C$9+OFFSET(Licence_Subst,MATCH($B110,'Licence Info'!$B$74:$B$98,FALSE),MATCH(Control!AN$101,'Licence Info'!$C$71:$DW$71,FALSE))*$C$9+OFFSET(Licence_OIEC,MATCH($B110,'Licence Info'!$B$108:$B$132,FALSE),MATCH(Control!AN$101,'Licence Info'!$C$105:$DW$105,FALSE))-AN48)","v":193.5},{"$f":"MAX(0,OFFSET(Licence_IBEC,MATCH($B110,'Licence Info'!$B$40:$B$64,FALSE),MATCH(Control!AO$101,'Licence Info'!$C$37:$DW$37,FALSE))*$C$9+OFFSET(Licence_Subst,MATCH($B110,'Licence Info'!$B$74:$B$98,FALSE),MATCH(Control!AO$101,'Licence Info'!$C$71:$DW$71,FALSE))*$C$9+OFFSET(Licence_OIEC,MATCH($B110,'Licence Info'!$B$108:$B$132,FALSE),MATCH(Control!AO$101,'Licence Info'!$C$105:$DW$105,FALSE))-AO48)","v":193.5},{"$f":"MAX(0,OFFSET(Licence_IBEC,MATCH($B110,'Licence Info'!$B$40:$B$64,FALSE),MATCH(Control!AP$101,'Licence Info'!$C$37:$DW$37,FALSE))*$C$9+OFFSET(Licence_Subst,MATCH($B110,'Licence Info'!$B$74:$B$98,FALSE),MATCH(Control!AP$101,'Licence Info'!$C$71:$DW$71,FALSE))*$C$9+OFFSET(Licence_OIEC,MATCH($B110,'Licence Info'!$B$108:$B$132,FALSE),MATCH(Control!AP$101,'Licence Info'!$C$105:$DW$105,FALSE))-AP48)","v":193.5},{"$f":"MAX(0,OFFSET(Licence_IBEC,MATCH($B110,'Licence Info'!$B$40:$B$64,FALSE),MATCH(Control!AQ$101,'Licence Info'!$C$37:$DW$37,FALSE))*$C$9+OFFSET(Licence_Subst,MATCH($B110,'Licence Info'!$B$74:$B$98,FALSE),MATCH(Control!AQ$101,'Licence Info'!$C$71:$DW$71,FALSE))*$C$9+OFFSET(Licence_OIEC,MATCH($B110,'Licence Info'!$B$108:$B$132,FALSE),MATCH(Control!AQ$101,'Licence Info'!$C$105:$DW$105,FALSE))-AQ48)","v":193.5},{"$f":"MAX(0,OFFSET(Licence_IBEC,MATCH($B110,'Licence Info'!$B$40:$B$64,FALSE),MATCH(Control!AR$101,'Licence Info'!$C$37:$DW$37,FALSE))*$C$9+OFFSET(Licence_Subst,MATCH($B110,'Licence Info'!$B$74:$B$98,FALSE),MATCH(Control!AR$101,'Licence Info'!$C$71:$DW$71,FALSE))*$C$9+OFFSET(Licence_OIEC,MATCH($B110,'Licence Info'!$B$108:$B$132,FALSE),MATCH(Control!AR$101,'Licence Info'!$C$105:$DW$105,FALSE))-AR48)","v":193.5},{"$f":"MAX(0,OFFSET(Licence_IBEC,MATCH($B110,'Licence Info'!$B$40:$B$64,FALSE),MATCH(Control!AS$101,'Licence Info'!$C$37:$DW$37,FALSE))*$C$9+OFFSET(Licence_Subst,MATCH($B110,'Licence Info'!$B$74:$B$98,FALSE),MATCH(Control!AS$101,'Licence Info'!$C$71:$DW$71,FALSE))*$C$9+OFFSET(Licence_OIEC,MATCH($B110,'Licence Info'!$B$108:$B$132,FALSE),MATCH(Control!AS$101,'Licence Info'!$C$105:$DW$105,FALSE))-AS48)","v":193.5},{"$f":"MAX(0,OFFSET(Licence_IBEC,MATCH($B110,'Licence Info'!$B$40:$B$64,FALSE),MATCH(Control!AT$101,'Licence Info'!$C$37:$DW$37,FALSE))*$C$9+OFFSET(Licence_Subst,MATCH($B110,'Licence Info'!$B$74:$B$98,FALSE),MATCH(Control!AT$101,'Licence Info'!$C$71:$DW$71,FALSE))*$C$9+OFFSET(Licence_OIEC,MATCH($B110,'Licence Info'!$B$108:$B$132,FALSE),MATCH(Control!AT$101,'Licence Info'!$C$105:$DW$105,FALSE))-AT48)","v":193.5},{"$f":"MAX(0,OFFSET(Licence_IBEC,MATCH($B110,'Licence Info'!$B$40:$B$64,FALSE),MATCH(Control!AU$101,'Licence Info'!$C$37:$DW$37,FALSE))*$C$9+OFFSET(Licence_Subst,MATCH($B110,'Licence Info'!$B$74:$B$98,FALSE),MATCH(Control!AU$101,'Licence Info'!$C$71:$DW$71,FALSE))*$C$9+OFFSET(Licence_OIEC,MATCH($B110,'Licence Info'!$B$108:$B$132,FALSE),MATCH(Control!AU$101,'Licence Info'!$C$105:$DW$105,FALSE))-AU48)","v":193.5},{"$f":"MAX(0,OFFSET(Licence_IBEC,MATCH($B110,'Licence Info'!$B$40:$B$64,FALSE),MATCH(Control!AV$101,'Licence Info'!$C$37:$DW$37,FALSE))*$C$9+OFFSET(Licence_Subst,MATCH($B110,'Licence Info'!$B$74:$B$98,FALSE),MATCH(Control!AV$101,'Licence Info'!$C$71:$DW$71,FALSE))*$C$9+OFFSET(Licence_OIEC,MATCH($B110,'Licence Info'!$B$108:$B$132,FALSE),MATCH(Control!AV$101,'Licence Info'!$C$105:$DW$105,FALSE))-AV48)","v":193.5},{"$f":"MAX(0,OFFSET(Licence_IBEC,MATCH($B110,'Licence Info'!$B$40:$B$64,FALSE),MATCH(Control!AW$101,'Licence Info'!$C$37:$DW$37,FALSE))*$C$9+OFFSET(Licence_Subst,MATCH($B110,'Licence Info'!$B$74:$B$98,FALSE),MATCH(Control!AW$101,'Licence Info'!$C$71:$DW$71,FALSE))*$C$9+OFFSET(Licence_OIEC,MATCH($B110,'Licence Info'!$B$108:$B$132,FALSE),MATCH(Control!AW$101,'Licence Info'!$C$105:$DW$105,FALSE))-AW48)","v":193.5},{"$f":"MAX(0,OFFSET(Licence_IBEC,MATCH($B110,'Licence Info'!$B$40:$B$64,FALSE),MATCH(Control!AX$101,'Licence Info'!$C$37:$DW$37,FALSE))*$C$9+OFFSET(Licence_Subst,MATCH($B110,'Licence Info'!$B$74:$B$98,FALSE),MATCH(Control!AX$101,'Licence Info'!$C$71:$DW$71,FALSE))*$C$9+OFFSET(Licence_OIEC,MATCH($B110,'Licence Info'!$B$108:$B$132,FALSE),MATCH(Control!AX$101,'Licence Info'!$C$105:$DW$105,FALSE))-AX48)","v":193.5},{"$f":"MAX(0,OFFSET(Licence_IBEC,MATCH($B110,'Licence Info'!$B$40:$B$64,FALSE),MATCH(Control!AY$101,'Licence Info'!$C$37:$DW$37,FALSE))*$C$9+OFFSET(Licence_Subst,MATCH($B110,'Licence Info'!$B$74:$B$98,FALSE),MATCH(Control!AY$101,'Licence Info'!$C$71:$DW$71,FALSE))*$C$9+OFFSET(Licence_OIEC,MATCH($B110,'Licence Info'!$B$108:$B$132,FALSE),MATCH(Control!AY$101,'Licence Info'!$C$105:$DW$105,FALSE))-AY48)","v":193.5},{"$f":"MAX(0,OFFSET(Licence_IBEC,MATCH($B110,'Licence Info'!$B$40:$B$64,FALSE),MATCH(Control!AZ$101,'Licence Info'!$C$37:$DW$37,FALSE))*$C$9+OFFSET(Licence_Subst,MATCH($B110,'Licence Info'!$B$74:$B$98,FALSE),MATCH(Control!AZ$101,'Licence Info'!$C$71:$DW$71,FALSE))*$C$9+OFFSET(Licence_OIEC,MATCH($B110,'Licence Info'!$B$108:$B$132,FALSE),MATCH(Control!AZ$101,'Licence Info'!$C$105:$DW$105,FALSE))-AZ48)","v":193.5},{"$f":"MAX(0,OFFSET(Licence_IBEC,MATCH($B110,'Licence Info'!$B$40:$B$64,FALSE),MATCH(Control!BA$101,'Licence Info'!$C$37:$DW$37,FALSE))*$C$9+OFFSET(Licence_Subst,MATCH($B110,'Licence Info'!$B$74:$B$98,FALSE),MATCH(Control!BA$101,'Licence Info'!$C$71:$DW$71,FALSE))*$C$9+OFFSET(Licence_OIEC,MATCH($B110,'Licence Info'!$B$108:$B$132,FALSE),MATCH(Control!BA$101,'Licence Info'!$C$105:$DW$105,FALSE))-BA48)","v":193.5},{"$f":"MAX(0,OFFSET(Licence_IBEC,MATCH($B110,'Licence Info'!$B$40:$B$64,FALSE),MATCH(Control!BB$101,'Licence Info'!$C$37:$DW$37,FALSE))*$C$9+OFFSET(Licence_Subst,MATCH($B110,'Licence Info'!$B$74:$B$98,FALSE),MATCH(Control!BB$101,'Licence Info'!$C$71:$DW$71,FALSE))*$C$9+OFFSET(Licence_OIEC,MATCH($B110,'Licence Info'!$B$108:$B$132,FALSE),MATCH(Control!BB$101,'Licence Info'!$C$105:$DW$105,FALSE))-BB48)","v":193.5},{"$f":"MAX(0,OFFSET(Licence_IBEC,MATCH($B110,'Licence Info'!$B$40:$B$64,FALSE),MATCH(Control!BC$101,'Licence Info'!$C$37:$DW$37,FALSE))*$C$9+OFFSET(Licence_Subst,MATCH($B110,'Licence Info'!$B$74:$B$98,FALSE),MATCH(Control!BC$101,'Licence Info'!$C$71:$DW$71,FALSE))*$C$9+OFFSET(Licence_OIEC,MATCH($B110,'Licence Info'!$B$108:$B$132,FALSE),MATCH(Control!BC$101,'Licence Info'!$C$105:$DW$105,FALSE))-BC48)","v":193.5},{"$f":"MAX(0,OFFSET(Licence_IBEC,MATCH($B110,'Licence Info'!$B$40:$B$64,FALSE),MATCH(Control!BD$101,'Licence Info'!$C$37:$DW$37,FALSE))*$C$9+OFFSET(Licence_Subst,MATCH($B110,'Licence Info'!$B$74:$B$98,FALSE),MATCH(Control!BD$101,'Licence Info'!$C$71:$DW$71,FALSE))*$C$9+OFFSET(Licence_OIEC,MATCH($B110,'Licence Info'!$B$108:$B$132,FALSE),MATCH(Control!BD$101,'Licence Info'!$C$105:$DW$105,FALSE))-BD48)","v":193.5},{"$f":"MAX(0,OFFSET(Licence_IBEC,MATCH($B110,'Licence Info'!$B$40:$B$64,FALSE),MATCH(Control!BE$101,'Licence Info'!$C$37:$DW$37,FALSE))*$C$9+OFFSET(Licence_Subst,MATCH($B110,'Licence Info'!$B$74:$B$98,FALSE),MATCH(Control!BE$101,'Licence Info'!$C$71:$DW$71,FALSE))*$C$9+OFFSET(Licence_OIEC,MATCH($B110,'Licence Info'!$B$108:$B$132,FALSE),MATCH(Control!BE$101,'Licence Info'!$C$105:$DW$105,FALSE))-BE48)","v":193.5},{"$f":"MAX(0,OFFSET(Licence_IBEC,MATCH($B110,'Licence Info'!$B$40:$B$64,FALSE),MATCH(Control!BF$101,'Licence Info'!$C$37:$DW$37,FALSE))*$C$9+OFFSET(Licence_Subst,MATCH($B110,'Licence Info'!$B$74:$B$98,FALSE),MATCH(Control!BF$101,'Licence Info'!$C$71:$DW$71,FALSE))*$C$9+OFFSET(Licence_OIEC,MATCH($B110,'Licence Info'!$B$108:$B$132,FALSE),MATCH(Control!BF$101,'Licence Info'!$C$105:$DW$105,FALSE))-BF48)","v":193.5},{"$f":"MAX(0,OFFSET(Licence_IBEC,MATCH($B110,'Licence Info'!$B$40:$B$64,FALSE),MATCH(Control!BG$101,'Licence Info'!$C$37:$DW$37,FALSE))*$C$9+OFFSET(Licence_Subst,MATCH($B110,'Licence Info'!$B$74:$B$98,FALSE),MATCH(Control!BG$101,'Licence Info'!$C$71:$DW$71,FALSE))*$C$9+OFFSET(Licence_OIEC,MATCH($B110,'Licence Info'!$B$108:$B$132,FALSE),MATCH(Control!BG$101,'Licence Info'!$C$105:$DW$105,FALSE))-BG48)","v":193.5},{"$f":"MAX(0,OFFSET(Licence_IBEC,MATCH($B110,'Licence Info'!$B$40:$B$64,FALSE),MATCH(Control!BH$101,'Licence Info'!$C$37:$DW$37,FALSE))*$C$9+OFFSET(Licence_Subst,MATCH($B110,'Licence Info'!$B$74:$B$98,FALSE),MATCH(Control!BH$101,'Licence Info'!$C$71:$DW$71,FALSE))*$C$9+OFFSET(Licence_OIEC,MATCH($B110,'Licence Info'!$B$108:$B$132,FALSE),MATCH(Control!BH$101,'Licence Info'!$C$105:$DW$105,FALSE))-BH48)","v":193.5},{"$f":"MAX(0,OFFSET(Licence_IBEC,MATCH($B110,'Licence Info'!$B$40:$B$64,FALSE),MATCH(Control!BI$101,'Licence Info'!$C$37:$DW$37,FALSE))*$C$9+OFFSET(Licence_Subst,MATCH($B110,'Licence Info'!$B$74:$B$98,FALSE),MATCH(Control!BI$101,'Licence Info'!$C$71:$DW$71,FALSE))*$C$9+OFFSET(Licence_OIEC,MATCH($B110,'Licence Info'!$B$108:$B$132,FALSE),MATCH(Control!BI$101,'Licence Info'!$C$105:$DW$105,FALSE))-BI48)","v":193.5},{"$f":"MAX(0,OFFSET(Licence_IBEC,MATCH($B110,'Licence Info'!$B$40:$B$64,FALSE),MATCH(Control!BJ$101,'Licence Info'!$C$37:$DW$37,FALSE))*$C$9+OFFSET(Licence_Subst,MATCH($B110,'Licence Info'!$B$74:$B$98,FALSE),MATCH(Control!BJ$101,'Licence Info'!$C$71:$DW$71,FALSE))*$C$9+OFFSET(Licence_OIEC,MATCH($B110,'Licence Info'!$B$108:$B$132,FALSE),MATCH(Control!BJ$101,'Licence Info'!$C$105:$DW$105,FALSE))-BJ48)","v":193.5},{"$f":"MAX(0,OFFSET(Licence_IBEC,MATCH($B110,'Licence Info'!$B$40:$B$64,FALSE),MATCH(Control!BK$101,'Licence Info'!$C$37:$DW$37,FALSE))*$C$9+OFFSET(Licence_Subst,MATCH($B110,'Licence Info'!$B$74:$B$98,FALSE),MATCH(Control!BK$101,'Licence Info'!$C$71:$DW$71,FALSE))*$C$9+OFFSET(Licence_OIEC,MATCH($B110,'Licence Info'!$B$108:$B$132,FALSE),MATCH(Control!BK$101,'Licence Info'!$C$105:$DW$105,FALSE))-BK48)","v":{"$error":"#N/A"}}]
[null,"Avonmouth",{"$f":"MAX(0,OFFSET(Licence_IBEC,MATCH($B111,'Licence Info'!$B$40:$B$64,FALSE),MATCH(Control!C$101,'Licence Info'!$C$37:$DW$37,FALSE))*$C$9+OFFSET(Licence_Subst,MATCH($B111,'Licence Info'!$B$74:$B$98,FALSE),MATCH(Control!C$101,'Licence Info'!$C$71:$DW$71,FALSE))*$C$9+OFFSET(Licence_OIEC,MATCH($B111,'Licence Info'!$B$108:$B$132,FALSE),MATCH(Control!C$101,'Licence Info'!$C$105:$DW$105,FALSE))-C49)","v":161.37},{"$f":"MAX(0,OFFSET(Licence_IBEC,MATCH($B111,'Licence Info'!$B$40:$B$64,FALSE),MATCH(Control!D$101,'Licence Info'!$C$37:$DW$37,FALSE))*$C$9+OFFSET(Licence_Subst,MATCH($B111,'Licence Info'!$B$74:$B$98,FALSE),MATCH(Control!D$101,'Licence Info'!$C$71:$DW$71,FALSE))*$C$9+OFFSET(Licence_OIEC,MATCH($B111,'Licence Info'!$B$108:$B$132,FALSE),MATCH(Control!D$101,'Licence Info'!$C$105:$DW$105,FALSE))-D49)","v":161.37},{"$f":"MAX(0,OFFSET(Licence_IBEC,MATCH($B111,'Licence Info'!$B$40:$B$64,FALSE),MATCH(Control!E$101,'Licence Info'!$C$37:$DW$37,FALSE))*$C$9+OFFSET(Licence_Subst,MATCH($B111,'Licence Info'!$B$74:$B$98,FALSE),MATCH(Control!E$101,'Licence Info'!$C$71:$DW$71,FALSE))*$C$9+OFFSET(Licence_OIEC,MATCH($B111,'Licence Info'!$B$108:$B$132,FALSE),MATCH(Control!E$101,'Licence Info'!$C$105:$DW$105,FALSE))-E49)","v":161.37},{"$f":"MAX(0,OFFSET(Licence_IBEC,MATCH($B111,'Licence Info'!$B$40:$B$64,FALSE),MATCH(Control!F$101,'Licence Info'!$C$37:$DW$37,FALSE))*$C$9+OFFSET(Licence_Subst,MATCH($B111,'Licence Info'!$B$74:$B$98,FALSE),MATCH(Control!F$101,'Licence Info'!$C$71:$DW$71,FALSE))*$C$9+OFFSET(Licence_OIEC,MATCH($B111,'Licence Info'!$B$108:$B$132,FALSE),MATCH(Control!F$101,'Licence Info'!$C$105:$DW$105,FALSE))-F49)","v":161.37},{"$f":"MAX(0,OFFSET(Licence_IBEC,MATCH($B111,'Licence Info'!$B$40:$B$64,FALSE),MATCH(Control!G$101,'Licence Info'!$C$37:$DW$37,FALSE))*$C$9+OFFSET(Licence_Subst,MATCH($B111,'Licence Info'!$B$74:$B$98,FALSE),MATCH(Control!G$101,'Licence Info'!$C$71:$DW$71,FALSE))*$C$9+OFFSET(Licence_OIEC,MATCH($B111,'Licence Info'!$B$108:$B$132,FALSE),MATCH(Control!G$101,'Licence Info'!$C$105:$DW$105,FALSE))-G49)","v":161.37},{"$f":"MAX(0,OFFSET(Licence_IBEC,MATCH($B111,'Licence Info'!$B$40:$B$64,FALSE),MATCH(Control!H$101,'Licence Info'!$C$37:$DW$37,FALSE))*$C$9+OFFSET(Licence_Subst,MATCH($B111,'Licence Info'!$B$74:$B$98,FALSE),MATCH(Control!H$101,'Licence Info'!$C$71:$DW$71,FALSE))*$C$9+OFFSET(Licence_OIEC,MATCH($B111,'Licence Info'!$B$108:$B$132,FALSE),MATCH(Control!H$101,'Licence Info'!$C$105:$DW$105,FALSE))-H49)","v":161.37},{"$f":"MAX(0,OFFSET(Licence_IBEC,MATCH($B111,'Licence Info'!$B$40:$B$64,FALSE),MATCH(Control!I$101,'Licence Info'!$C$37:$DW$37,FALSE))*$C$9+OFFSET(Licence_Subst,MATCH($B111,'Licence Info'!$B$74:$B$98,FALSE),MATCH(Control!I$101,'Licence Info'!$C$71:$DW$71,FALSE))*$C$9+OFFSET(Licence_OIEC,MATCH($B111,'Licence Info'!$B$108:$B$132,FALSE),MATCH(Control!I$101,'Licence Info'!$C$105:$DW$105,FALSE))-I49)","v":161.37},{"$f":"MAX(0,OFFSET(Licence_IBEC,MATCH($B111,'Licence Info'!$B$40:$B$64,FALSE),MATCH(Control!J$101,'Licence Info'!$C$37:$DW$37,FALSE))*$C$9+OFFSET(Licence_Subst,MATCH($B111,'Licence Info'!$B$74:$B$98,FALSE),MATCH(Control!J$101,'Licence Info'!$C$71:$DW$71,FALSE))*$C$9+OFFSET(Licence_OIEC,MATCH($B111,'Licence Info'!$B$108:$B$132,FALSE),MATCH(Control!J$101,'Licence Info'!$C$105:$DW$105,FALSE))-J49)","v":161.37},{"$f":"MAX(0,OFFSET(Licence_IBEC,MATCH($B111,'Licence Info'!$B$40:$B$64,FALSE),MATCH(Control!K$101,'Licence Info'!$C$37:$DW$37,FALSE))*$C$9+OFFSET(Licence_Subst,MATCH($B111,'Licence Info'!$B$74:$B$98,FALSE),MATCH(Control!K$101,'Licence Info'!$C$71:$DW$71,FALSE))*$C$9+OFFSET(Licence_OIEC,MATCH($B111,'Licence Info'!$B$108:$B$132,FALSE),MATCH(Control!K$101,'Licence Info'!$C$105:$DW$105,FALSE))-K49)","v":161.37},{"$f":"MAX(0,OFFSET(Licence_IBEC,MATCH($B111,'Licence Info'!$B$40:$B$64,FALSE),MATCH(Control!L$101,'Licence Info'!$C$37:$DW$37,FALSE))*$C$9+OFFSET(Licence_Subst,MATCH($B111,'Licence Info'!$B$74:$B$98,FALSE),MATCH(Control!L$101,'Licence Info'!$C$71:$DW$71,FALSE))*$C$9+OFFSET(Licence_OIEC,MATCH($B111,'Licence Info'!$B$108:$B$132,FALSE),MATCH(Control!L$101,'Licence Info'!$C$105:$DW$105,FALSE))-L49)","v":161.37},{"$f":"MAX(0,OFFSET(Licence_IBEC,MATCH($B111,'Licence Info'!$B$40:$B$64,FALSE),MATCH(Control!M$101,'Licence Info'!$C$37:$DW$37,FALSE))*$C$9+OFFSET(Licence_Subst,MATCH($B111,'Licence Info'!$B$74:$B$98,FALSE),MATCH(Control!M$101,'Licence Info'!$C$71:$DW$71,FALSE))*$C$9+OFFSET(Licence_OIEC,MATCH($B111,'Licence Info'!$B$108:$B$132,FALSE),MATCH(Control!M$101,'Licence Info'!$C$105:$DW$105,FALSE))-M49)","v":161.37},{"$f":"MAX(0,OFFSET(Licence_IBEC,MATCH($B111,'Licence Info'!$B$40:$B$64,FALSE),MATCH(Control!N$101,'Licence Info'!$C$37:$DW$37,FALSE))*$C$9+OFFSET(Licence_Subst,MATCH($B111,'Licence Info'!$B$74:$B$98,FALSE),MATCH(Control!N$101,'Licence Info'!$C$71:$DW$71,FALSE))*$C$9+OFFSET(Licence_OIEC,MATCH($B111,'Licence Info'!$B$108:$B$132,FALSE),MATCH(Control!N$101,'Licence Info'!$C$105:$DW$105,FALSE))-N49)","v":161.37},{"$f":"MAX(0,OFFSET(Licence_IBEC,MATCH($B111,'Licence Info'!$B$40:$B$64,FALSE),MATCH(Control!O$101,'Licence Info'!$C$37:$DW$37,FALSE))*$C$9+OFFSET(Licence_Subst,MATCH($B111,'Licence Info'!$B$74:$B$98,FALSE),MATCH(Control!O$101,'Licence Info'!$C$71:$DW$71,FALSE))*$C$9+OFFSET(Licence_OIEC,MATCH($B111,'Licence Info'!$B$108:$B$132,FALSE),MATCH(Control!O$101,'Licence Info'!$C$105:$DW$105,FALSE))-O49)","v":161.37},{"$f":"MAX(0,OFFSET(Licence_IBEC,MATCH($B111,'Licence Info'!$B$40:$B$64,FALSE),MATCH(Control!P$101,'Licence Info'!$C$37:$DW$37,FALSE))*$C$9+OFFSET(Licence_Subst,MATCH($B111,'Licence Info'!$B$74:$B$98,FALSE),MATCH(Control!P$101,'Licence Info'!$C$71:$DW$71,FALSE))*$C$9+OFFSET(Licence_OIEC,MATCH($B111,'Licence Info'!$B$108:$B$132,FALSE),MATCH(Control!P$101,'Licence Info'!$C$105:$DW$105,FALSE))-P49)","v":161.37},{"$f":"MAX(0,OFFSET(Licence_IBEC,MATCH($B111,'Licence Info'!$B$40:$B$64,FALSE),MATCH(Control!Q$101,'Licence Info'!$C$37:$DW$37,FALSE))*$C$9+OFFSET(Licence_Subst,MATCH($B111,'Licence Info'!$B$74:$B$98,FALSE),MATCH(Control!Q$101,'Licence Info'!$C$71:$DW$71,FALSE))*$C$9+OFFSET(Licence_OIEC,MATCH($B111,'Licence Info'!$B$108:$B$132,FALSE),MATCH(Control!Q$101,'Licence Info'!$C$105:$DW$105,FALSE))-Q49)","v":161.37},{"$f":"MAX(0,OFFSET(Licence_IBEC,MATCH($B111,'Licence Info'!$B$40:$B$64,FALSE),MATCH(Control!R$101,'Licence Info'!$C$37:$DW$37,FALSE))*$C$9+OFFSET(Licence_Subst,MATCH($B111,'Licence Info'!$B$74:$B$98,FALSE),MATCH(Control!R$101,'Licence Info'!$C$71:$DW$71,FALSE))*$C$9+OFFSET(Licence_OIEC,MATCH($B111,'Licence Info'!$B$108:$B$132,FALSE),MATCH(Control!R$101,'Licence Info'!$C$105:$DW$105,FALSE))-R49)","v":161.37},{"$f":"MAX(0,OFFSET(Licence_IBEC,MATCH($B111,'Licence Info'!$B$40:$B$64,FALSE),MATCH(Control!S$101,'Licence Info'!$C$37:$DW$37,FALSE))*$C$9+OFFSET(Licence_Subst,MATCH($B111,'Licence Info'!$B$74:$B$98,FALSE),MATCH(Control!S$101,'Licence Info'!$C$71:$DW$71,FALSE))*$C$9+OFFSET(Licence_OIEC,MATCH($B111,'Licence Info'!$B$108:$B$132,FALSE),MATCH(Control!S$101,'Licence Info'!$C$105:$DW$105,FALSE))-S49)","v":161.37},{"$f":"MAX(0,OFFSET(Licence_IBEC,MATCH($B111,'Licence Info'!$B$40:$B$64,FALSE),MATCH(Control!T$101,'Licence Info'!$C$37:$DW$37,FALSE))*$C$9+OFFSET(Licence_Subst,MATCH($B111,'Licence Info'!$B$74:$B$98,FALSE),MATCH(Control!T$101,'Licence Info'!$C$71:$DW$71,FALSE))*$C$9+OFFSET(Licence_OIEC,MATCH($B111,'Licence Info'!$B$108:$B$132,FALSE),MATCH(Control!T$101,'Licence Info'!$C$105:$DW$105,FALSE))-T49)","v":161.37},{"$f":"MAX(0,OFFSET(Licence_IBEC,MATCH($B111,'Licence Info'!$B$40:$B$64,FALSE),MATCH(Control!U$101,'Licence Info'!$C$37:$DW$37,FALSE))*$C$9+OFFSET(Licence_Subst,MATCH($B111,'Licence Info'!$B$74:$B$98,FALSE),MATCH(Control!U$101,'Licence Info'!$C$71:$DW$71,FALSE))*$C$9+OFFSET(Licence_OIEC,MATCH($B111,'Licence Info'!$B$108:$B$132,FALSE),MATCH(Control!U$101,'Licence Info'!$C$105:$DW$105,FALSE))-U49)","v":161.37},{"$f":"MAX(0,OFFSET(Licence_IBEC,MATCH($B111,'Licence Info'!$B$40:$B$64,FALSE),MATCH(Control!V$101,'Licence Info'!$C$37:$DW$37,FALSE))*$C$9+OFFSET(Licence_Subst,MATCH($B111,'Licence Info'!$B$74:$B$98,FALSE),MATCH(Control!V$101,'Licence Info'!$C$71:$DW$71,FALSE))*$C$9+OFFSET(Licence_OIEC,MATCH($B111,'Licence Info'!$B$108:$B$132,FALSE),MATCH(Control!V$101,'Licence Info'!$C$105:$DW$105,FALSE))-V49)","v":161.37},{"$f":"MAX(0,OFFSET(Licence_IBEC,MATCH($B111,'Licence Info'!$B$40:$B$64,FALSE),MATCH(Control!W$101,'Licence Info'!$C$37:$DW$37,FALSE))*$C$9+OFFSET(Licence_Subst,MATCH($B111,'Licence Info'!$B$74:$B$98,FALSE),MATCH(Control!W$101,'Licence Info'!$C$71:$DW$71,FALSE))*$C$9+OFFSET(Licence_OIEC,MATCH($B111,'Licence Info'!$B$108:$B$132,FALSE),MATCH(Control!W$101,'Licence Info'!$C$105:$DW$105,FALSE))-W49)","v":161.37},{"$f":"MAX(0,OFFSET(Licence_IBEC,MATCH($B111,'Licence Info'!$B$40:$B$64,FALSE),MATCH(Control!X$101,'Licence Info'!$C$37:$DW$37,FALSE))*$C$9+OFFSET(Licence_Subst,MATCH($B111,'Licence Info'!$B$74:$B$98,FALSE),MATCH(Control!X$101,'Licence Info'!$C$71:$DW$71,FALSE))*$C$9+OFFSET(Licence_OIEC,MATCH($B111,'Licence Info'!$B$108:$B$132,FALSE),MATCH(Control!X$101,'Licence Info'!$C$105:$DW$105,FALSE))-X49)","v":161.37},{"$f":"MAX(0,OFFSET(Licence_IBEC,MATCH($B111,'Licence Info'!$B$40:$B$64,FALSE),MATCH(Control!Y$101,'Licence Info'!$C$37:$DW$37,FALSE))*$C$9+OFFSET(Licence_Subst,MATCH($B111,'Licence Info'!$B$74:$B$98,FALSE),MATCH(Control!Y$101,'Licence Info'!$C$71:$DW$71,FALSE))*$C$9+OFFSET(Licence_OIEC,MATCH($B111,'Licence Info'!$B$108:$B$132,FALSE),MATCH(Control!Y$101,'Licence Info'!$C$105:$DW$105,FALSE))-Y49)","v":161.37},{"$f":"MAX(0,OFFSET(Licence_IBEC,MATCH($B111,'Licence Info'!$B$40:$B$64,FALSE),MATCH(Control!Z$101,'Licence Info'!$C$37:$DW$37,FALSE))*$C$9+OFFSET(Licence_Subst,MATCH($B111,'Licence Info'!$B$74:$B$98,FALSE),MATCH(Control!Z$101,'Licence Info'!$C$71:$DW$71,FALSE))*$C$9+OFFSET(Licence_OIEC,MATCH($B111,'Licence Info'!$B$108:$B$132,FALSE),MATCH(Control!Z$101,'Licence Info'!$C$105:$DW$105,FALSE))-Z49)","v":161.37},{"$f":"MAX(0,OFFSET(Licence_IBEC,MATCH($B111,'Licence Info'!$B$40:$B$64,FALSE),MATCH(Control!AA$101,'Licence Info'!$C$37:$DW$37,FALSE))*$C$9+OFFSET(Licence_Subst,MATCH($B111,'Licence Info'!$B$74:$B$98,FALSE),MATCH(Control!AA$101,'Licence Info'!$C$71:$DW$71,FALSE))*$C$9+OFFSET(Licence_OIEC,MATCH($B111,'Licence Info'!$B$108:$B$132,FALSE),MATCH(Control!AA$101,'Licence Info'!$C$105:$DW$105,FALSE))-AA49)","v":161.37},{"$f":"MAX(0,OFFSET(Licence_IBEC,MATCH($B111,'Licence Info'!$B$40:$B$64,FALSE),MATCH(Control!AB$101,'Licence Info'!$C$37:$DW$37,FALSE))*$C$9+OFFSET(Licence_Subst,MATCH($B111,'Licence Info'!$B$74:$B$98,FALSE),MATCH(Control!AB$101,'Licence Info'!$C$71:$DW$71,FALSE))*$C$9+OFFSET(Licence_OIEC,MATCH($B111,'Licence Info'!$B$108:$B$132,FALSE),MATCH(Control!AB$101,'Licence Info'!$C$105:$DW$105,FALSE))-AB49)","v":161.37},{"$f":"MAX(0,OFFSET(Licence_IBEC,MATCH($B111,'Licence Info'!$B$40:$B$64,FALSE),MATCH(Control!AC$101,'Licence Info'!$C$37:$DW$37,FALSE))*$C$9+OFFSET(Licence_Subst,MATCH($B111,'Licence Info'!$B$74:$B$98,FALSE),MATCH(Control!AC$101,'Licence Info'!$C$71:$DW$71,FALSE))*$C$9+OFFSET(Licence_OIEC,MATCH($B111,'Licence Info'!$B$108:$B$132,FALSE),MATCH(Control!AC$101,'Licence Info'!$C$105:$DW$105,FALSE))-AC49)","v":161.37},{"$f":"MAX(0,OFFSET(Licence_IBEC,MATCH($B111,'Licence Info'!$B$40:$B$64,FALSE),MATCH(Control!AD$101,'Licence Info'!$C$37:$DW$37,FALSE))*$C$9+OFFSET(Licence_Subst,MATCH($B111,'Licence Info'!$B$74:$B$98,FALSE),MATCH(Control!AD$101,'Licence Info'!$C$71:$DW$71,FALSE))*$C$9+OFFSET(Licence_OIEC,MATCH($B111,'Licence Info'!$B$108:$B$132,FALSE),MATCH(Control!AD$101,'Licence Info'!$C$105:$DW$105,FALSE))-AD49)","v":161.37},{"$f":"MAX(0,OFFSET(Licence_IBEC,MATCH($B111,'Licence Info'!$B$40:$B$64,FALSE),MATCH(Control!AE$101,'Licence Info'!$C$37:$DW$37,FALSE))*$C$9+OFFSET(Licence_Subst,MATCH($B111,'Licence Info'!$B$74:$B$98,FALSE),MATCH(Control!AE$101,'Licence Info'!$C$71:$DW$71,FALSE))*$C$9+OFFSET(Licence_OIEC,MATCH($B111,'Licence Info'!$B$108:$B$132,FALSE),MATCH(Control!AE$101,'Licence Info'!$C$105:$DW$105,FALSE))-AE49)","v":161.37},{"$f":"MAX(0,OFFSET(Licence_IBEC,MATCH($B111,'Licence Info'!$B$40:$B$64,FALSE),MATCH(Control!AF$101,'Licence Info'!$C$37:$DW$37,FALSE))*$C$9+OFFSET(Licence_Subst,MATCH($B111,'Licence Info'!$B$74:$B$98,FALSE),MATCH(Control!AF$101,'Licence Info'!$C$71:$DW$71,FALSE))*$C$9+OFFSET(Licence_OIEC,MATCH($B111,'Licence Info'!$B$108:$B$132,FALSE),MATCH(Control!AF$101,'Licence Info'!$C$105:$DW$105,FALSE))-AF49)","v":161.37},{"$f":"MAX(0,OFFSET(Licence_IBEC,MATCH($B111,'Licence Info'!$B$40:$B$64,FALSE),MATCH(Control!AG$101,'Licence Info'!$C$37:$DW$37,FALSE))*$C$9+OFFSET(Licence_Subst,MATCH($B111,'Licence Info'!$B$74:$B$98,FALSE),MATCH(Control!AG$101,'Licence Info'!$C$71:$DW$71,FALSE))*$C$9+OFFSET(Licence_OIEC,MATCH($B111,'Licence Info'!$B$108:$B$132,FALSE),MATCH(Control!AG$101,'Licence Info'!$C$105:$DW$105,FALSE))-AG49)","v":161.37},{"$f":"MAX(0,OFFSET(Licence_IBEC,MATCH($B111,'Licence Info'!$B$40:$B$64,FALSE),MATCH(Control!AH$101,'Licence Info'!$C$37:$DW$37,FALSE))*$C$9+OFFSET(Licence_Subst,MATCH($B111,'Licence Info'!$B$74:$B$98,FALSE),MATCH(Control!AH$101,'Licence Info'!$C$71:$DW$71,FALSE))*$C$9+OFFSET(Licence_OIEC,MATCH($B111,'Licence Info'!$B$108:$B$132,FALSE),MATCH(Control!AH$101,'Licence Info'!$C$105:$DW$105,FALSE))-AH49)","v":161.37},{"$f":"MAX(0,OFFSET(Licence_IBEC,MATCH($B111,'Licence Info'!$B$40:$B$64,FALSE),MATCH(Control!AI$101,'Licence Info'!$C$37:$DW$37,FALSE))*$C$9+OFFSET(Licence_Subst,MATCH($B111,'Licence Info'!$B$74:$B$98,FALSE),MATCH(Control!AI$101,'Licence Info'!$C$71:$DW$71,FALSE))*$C$9+OFFSET(Licence_OIEC,MATCH($B111,'Licence Info'!$B$108:$B$132,FALSE),MATCH(Control!AI$101,'Licence Info'!$C$105:$DW$105,FALSE))-AI49)","v":161.37},{"$f":"MAX(0,OFFSET(Licence_IBEC,MATCH($B111,'Licence Info'!$B$40:$B$64,FALSE),MATCH(Control!AJ$101,'Licence Info'!$C$37:$DW$37,FALSE))*$C$9+OFFSET(Licence_Subst,MATCH($B111,'Licence Info'!$B$74:$B$98,FALSE),MATCH(Control!AJ$101,'Licence Info'!$C$71:$DW$71,FALSE))*$C$9+OFFSET(Licence_OIEC,MATCH($B111,'Licence Info'!$B$108:$B$132,FALSE),MATCH(Control!AJ$101,'Licence Info'!$C$105:$DW$105,FALSE))-AJ49)","v":161.37},{"$f":"MAX(0,OFFSET(Licence_IBEC,MATCH($B111,'Licence Info'!$B$40:$B$64,FALSE),MATCH(Control!AK$101,'Licence Info'!$C$37:$DW$37,FALSE))*$C$9+OFFSET(Licence_Subst,MATCH($B111,'Licence Info'!$B$74:$B$98,FALSE),MATCH(Control!AK$101,'Licence Info'!$C$71:$DW$71,FALSE))*$C$9+OFFSET(Licence_OIEC,MATCH($B111,'Licence Info'!$B$108:$B$132,FALSE),MATCH(Control!AK$101,'Licence Info'!$C$105:$DW$105,FALSE))-AK49)","v":161.37},{"$f":"MAX(0,OFFSET(Licence_IBEC,MATCH($B111,'Licence Info'!$B$40:$B$64,FALSE),MATCH(Control!AL$101,'Licence Info'!$C$37:$DW$37,FALSE))*$C$9+OFFSET(Licence_Subst,MATCH($B111,'Licence Info'!$B$74:$B$98,FALSE),MATCH(Control!AL$101,'Licence Info'!$C$71:$DW$71,FALSE))*$C$9+OFFSET(Licence_OIEC,MATCH($B111,'Licence Info'!$B$108:$B$132,FALSE),MATCH(Control!AL$101,'Licence Info'!$C$105:$DW$105,FALSE))-AL49)","v":161.37},{"$f":"MAX(0,OFFSET(Licence_IBEC,MATCH($B111,'Licence Info'!$B$40:$B$64,FALSE),MATCH(Control!AM$101,'Licence Info'!$C$37:$DW$37,FALSE))*$C$9+OFFSET(Licence_Subst,MATCH($B111,'Licence Info'!$B$74:$B$98,FALSE),MATCH(Control!AM$101,'Licence Info'!$C$71:$DW$71,FALSE))*$C$9+OFFSET(Licence_OIEC,MATCH($B111,'Licence Info'!$B$108:$B$132,FALSE),MATCH(Control!AM$101,'Licence Info'!$C$105:$DW$105,FALSE))-AM49)","v":161.37},{"$f":"MAX(0,OFFSET(Licence_IBEC,MATCH($B111,'Licence Info'!$B$40:$B$64,FALSE),MATCH(Control!AN$101,'Licence Info'!$C$37:$DW$37,FALSE))*$C$9+OFFSET(Licence_Subst,MATCH($B111,'Licence Info'!$B$74:$B$98,FALSE),MATCH(Control!AN$101,'Licence Info'!$C$71:$DW$71,FALSE))*$C$9+OFFSET(Licence_OIEC,MATCH($B111,'Licence Info'!$B$108:$B$132,FALSE),MATCH(Control!AN$101,'Licence Info'!$C$105:$DW$105,FALSE))-AN49)","v":161.37},{"$f":"MAX(0,OFFSET(Licence_IBEC,MATCH($B111,'Licence Info'!$B$40:$B$64,FALSE),MATCH(Control!AO$101,'Licence Info'!$C$37:$DW$37,FALSE))*$C$9+OFFSET(Licence_Subst,MATCH($B111,'Licence Info'!$B$74:$B$98,FALSE),MATCH(Control!AO$101,'Licence Info'!$C$71:$DW$71,FALSE))*$C$9+OFFSET(Licence_OIEC,MATCH($B111,'Licence Info'!$B$108:$B$132,FALSE),MATCH(Control!AO$101,'Licence Info'!$C$105:$DW$105,FALSE))-AO49)","v":161.37},{"$f":"MAX(0,OFFSET(Licence_IBEC,MATCH($B111,'Licence Info'!$B$40:$B$64,FALSE),MATCH(Control!AP$101,'Licence Info'!$C$37:$DW$37,FALSE))*$C$9+OFFSET(Licence_Subst,MATCH($B111,'Licence Info'!$B$74:$B$98,FALSE),MATCH(Control!AP$101,'Licence Info'!$C$71:$DW$71,FALSE))*$C$9+OFFSET(Licence_OIEC,MATCH($B111,'Licence Info'!$B$108:$B$132,FALSE),MATCH(Control!AP$101,'Licence Info'!$C$105:$DW$105,FALSE))-AP49)","v":161.37},{"$f":"MAX(0,OFFSET(Licence_IBEC,MATCH($B111,'Licence Info'!$B$40:$B$64,FALSE),MATCH(Control!AQ$101,'Licence Info'!$C$37:$DW$37,FALSE))*$C$9+OFFSET(Licence_Subst,MATCH($B111,'Licence Info'!$B$74:$B$98,FALSE),MATCH(Control!AQ$101,'Licence Info'!$C$71:$DW$71,FALSE))*$C$9+OFFSET(Licence_OIEC,MATCH($B111,'Licence Info'!$B$108:$B$132,FALSE),MATCH(Control!AQ$101,'Licence Info'!$C$105:$DW$105,FALSE))-AQ49)","v":161.37},{"$f":"MAX(0,OFFSET(Licence_IBEC,MATCH($B111,'Licence Info'!$B$40:$B$64,FALSE),MATCH(Control!AR$101,'Licence Info'!$C$37:$DW$37,FALSE))*$C$9+OFFSET(Licence_Subst,MATCH($B111,'Licence Info'!$B$74:$B$98,FALSE),MATCH(Control!AR$101,'Licence Info'!$C$71:$DW$71,FALSE))*$C$9+OFFSET(Licence_OIEC,MATCH($B111,'Licence Info'!$B$108:$B$132,FALSE),MATCH(Control!AR$101,'Licence Info'!$C$105:$DW$105,FALSE))-AR49)","v":161.37},{"$f":"MAX(0,OFFSET(Licence_IBEC,MATCH($B111,'Licence Info'!$B$40:$B$64,FALSE),MATCH(Control!AS$101,'Licence Info'!$C$37:$DW$37,FALSE))*$C$9+OFFSET(Licence_Subst,MATCH($B111,'Licence Info'!$B$74:$B$98,FALSE),MATCH(Control!AS$101,'Licence Info'!$C$71:$DW$71,FALSE))*$C$9+OFFSET(Licence_OIEC,MATCH($B111,'Licence Info'!$B$108:$B$132,FALSE),MATCH(Control!AS$101,'Licence Info'!$C$105:$DW$105,FALSE))-AS49)","v":161.37},{"$f":"MAX(0,OFFSET(Licence_IBEC,MATCH($B111,'Licence Info'!$B$40:$B$64,FALSE),MATCH(Control!AT$101,'Licence Info'!$C$37:$DW$37,FALSE))*$C$9+OFFSET(Licence_Subst,MATCH($B111,'Licence Info'!$B$74:$B$98,FALSE),MATCH(Control!AT$101,'Licence Info'!$C$71:$DW$71,FALSE))*$C$9+OFFSET(Licence_OIEC,MATCH($B111,'Licence Info'!$B$108:$B$132,FALSE),MATCH(Control!AT$101,'Licence Info'!$C$105:$DW$105,FALSE))-AT49)","v":161.37},{"$f":"MAX(0,OFFSET(Licence_IBEC,MATCH($B111,'Licence Info'!$B$40:$B$64,FALSE),MATCH(Control!AU$101,'Licence Info'!$C$37:$DW$37,FALSE))*$C$9+OFFSET(Licence_Subst,MATCH($B111,'Licence Info'!$B$74:$B$98,FALSE),MATCH(Control!AU$101,'Licence Info'!$C$71:$DW$71,FALSE))*$C$9+OFFSET(Licence_OIEC,MATCH($B111,'Licence Info'!$B$108:$B$132,FALSE),MATCH(Control!AU$101,'Licence Info'!$C$105:$DW$105,FALSE))-AU49)","v":161.37},{"$f":"MAX(0,OFFSET(Licence_IBEC,MATCH($B111,'Licence Info'!$B$40:$B$64,FALSE),MATCH(Control!AV$101,'Licence Info'!$C$37:$DW$37,FALSE))*$C$9+OFFSET(Licence_Subst,MATCH($B111,'Licence Info'!$B$74:$B$98,FALSE),MATCH(Control!AV$101,'Licence Info'!$C$71:$DW$71,FALSE))*$C$9+OFFSET(Licence_OIEC,MATCH($B111,'Licence Info'!$B$108:$B$132,FALSE),MATCH(Control!AV$101,'Licence Info'!$C$105:$DW$105,FALSE))-AV49)","v":161.37},{"$f":"MAX(0,OFFSET(Licence_IBEC,MATCH($B111,'Licence Info'!$B$40:$B$64,FALSE),MATCH(Control!AW$101,'Licence Info'!$C$37:$DW$37,FALSE))*$C$9+OFFSET(Licence_Subst,MATCH($B111,'Licence Info'!$B$74:$B$98,FALSE),MATCH(Control!AW$101,'Licence Info'!$C$71:$DW$71,FALSE))*$C$9+OFFSET(Licence_OIEC,MATCH($B111,'Licence Info'!$B$108:$B$132,FALSE),MATCH(Control!AW$101,'Licence Info'!$C$105:$DW$105,FALSE))-AW49)","v":161.37},{"$f":"MAX(0,OFFSET(Licence_IBEC,MATCH($B111,'Licence Info'!$B$40:$B$64,FALSE),MATCH(Control!AX$101,'Licence Info'!$C$37:$DW$37,FALSE))*$C$9+OFFSET(Licence_Subst,MATCH($B111,'Licence Info'!$B$74:$B$98,FALSE),MATCH(Control!AX$101,'Licence Info'!$C$71:$DW$71,FALSE))*$C$9+OFFSET(Licence_OIEC,MATCH($B111,'Licence Info'!$B$108:$B$132,FALSE),MATCH(Control!AX$101,'Licence Info'!$C$105:$DW$105,FALSE))-AX49)","v":161.37},{"$f":"MAX(0,OFFSET(Licence_IBEC,MATCH($B111,'Licence Info'!$B$40:$B$64,FALSE),MATCH(Control!AY$101,'Licence Info'!$C$37:$DW$37,FALSE))*$C$9+OFFSET(Licence_Subst,MATCH($B111,'Licence Info'!$B$74:$B$98,FALSE),MATCH(Control!AY$101,'Licence Info'!$C$71:$DW$71,FALSE))*$C$9+OFFSET(Licence_OIEC,MATCH($B111,'Licence Info'!$B$108:$B$132,FALSE),MATCH(Control!AY$101,'Licence Info'!$C$105:$DW$105,FALSE))-AY49)","v":161.37},{"$f":"MAX(0,OFFSET(Licence_IBEC,MATCH($B111,'Licence Info'!$B$40:$B$64,FALSE),MATCH(Control!AZ$101,'Licence Info'!$C$37:$DW$37,FALSE))*$C$9+OFFSET(Licence_Subst,MATCH($B111,'Licence Info'!$B$74:$B$98,FALSE),MATCH(Control!AZ$101,'Licence Info'!$C$71:$DW$71,FALSE))*$C$9+OFFSET(Licence_OIEC,MATCH($B111,'Licence Info'!$B$108:$B$132,FALSE),MATCH(Control!AZ$101,'Licence Info'!$C$105:$DW$105,FALSE))-AZ49)","v":161.37},{"$f":"MAX(0,OFFSET(Licence_IBEC,MATCH($B111,'Licence Info'!$B$40:$B$64,FALSE),MATCH(Control!BA$101,'Licence Info'!$C$37:$DW$37,FALSE))*$C$9+OFFSET(Licence_Subst,MATCH($B111,'Licence Info'!$B$74:$B$98,FALSE),MATCH(Control!BA$101,'Licence Info'!$C$71:$DW$71,FALSE))*$C$9+OFFSET(Licence_OIEC,MATCH($B111,'Licence Info'!$B$108:$B$132,FALSE),MATCH(Control!BA$101,'Licence Info'!$C$105:$DW$105,FALSE))-BA49)","v":161.37},{"$f":"MAX(0,OFFSET(Licence_IBEC,MATCH($B111,'Licence Info'!$B$40:$B$64,FALSE),MATCH(Control!BB$101,'Licence Info'!$C$37:$DW$37,FALSE))*$C$9+OFFSET(Licence_Subst,MATCH($B111,'Licence Info'!$B$74:$B$98,FALSE),MATCH(Control!BB$101,'Licence Info'!$C$71:$DW$71,FALSE))*$C$9+OFFSET(Licence_OIEC,MATCH($B111,'Licence Info'!$B$108:$B$132,FALSE),MATCH(Control!BB$101,'Licence Info'!$C$105:$DW$105,FALSE))-BB49)","v":161.37},{"$f":"MAX(0,OFFSET(Licence_IBEC,MATCH($B111,'Licence Info'!$B$40:$B$64,FALSE),MATCH(Control!BC$101,'Licence Info'!$C$37:$DW$37,FALSE))*$C$9+OFFSET(Licence_Subst,MATCH($B111,'Licence Info'!$B$74:$B$98,FALSE),MATCH(Control!BC$101,'Licence Info'!$C$71:$DW$71,FALSE))*$C$9+OFFSET(Licence_OIEC,MATCH($B111,'Licence Info'!$B$108:$B$132,FALSE),MATCH(Control!BC$101,'Licence Info'!$C$105:$DW$105,FALSE))-BC49)","v":161.37},{"$f":"MAX(0,OFFSET(Licence_IBEC,MATCH($B111,'Licence Info'!$B$40:$B$64,FALSE),MATCH(Control!BD$101,'Licence Info'!$C$37:$DW$37,FALSE))*$C$9+OFFSET(Licence_Subst,MATCH($B111,'Licence Info'!$B$74:$B$98,FALSE),MATCH(Control!BD$101,'Licence Info'!$C$71:$DW$71,FALSE))*$C$9+OFFSET(Licence_OIEC,MATCH($B111,'Licence Info'!$B$108:$B$132,FALSE),MATCH(Control!BD$101,'Licence Info'!$C$105:$DW$105,FALSE))-BD49)","v":161.37},{"$f":"MAX(0,OFFSET(Licence_IBEC,MATCH($B111,'Licence Info'!$B$40:$B$64,FALSE),MATCH(Control!BE$101,'Licence Info'!$C$37:$DW$37,FALSE))*$C$9+OFFSET(Licence_Subst,MATCH($B111,'Licence Info'!$B$74:$B$98,FALSE),MATCH(Control!BE$101,'Licence Info'!$C$71:$DW$71,FALSE))*$C$9+OFFSET(Licence_OIEC,MATCH($B111,'Licence Info'!$B$108:$B$132,FALSE),MATCH(Control!BE$101,'Licence Info'!$C$105:$DW$105,FALSE))-BE49)","v":161.37},{"$f":"MAX(0,OFFSET(Licence_IBEC,MATCH($B111,'Licence Info'!$B$40:$B$64,FALSE),MATCH(Control!BF$101,'Licence Info'!$C$37:$DW$37,FALSE))*$C$9+OFFSET(Licence_Subst,MATCH($B111,'Licence Info'!$B$74:$B$98,FALSE),MATCH(Control!BF$101,'Licence Info'!$C$71:$DW$71,FALSE))*$C$9+OFFSET(Licence_OIEC,MATCH($B111,'Licence Info'!$B$108:$B$132,FALSE),MATCH(Control!BF$101,'Licence Info'!$C$105:$DW$105,FALSE))-BF49)","v":161.37},{"$f":"MAX(0,OFFSET(Licence_IBEC,MATCH($B111,'Licence Info'!$B$40:$B$64,FALSE),MATCH(Control!BG$101,'Licence Info'!$C$37:$DW$37,FALSE))*$C$9+OFFSET(Licence_Subst,MATCH($B111,'Licence Info'!$B$74:$B$98,FALSE),MATCH(Control!BG$101,'Licence Info'!$C$71:$DW$71,FALSE))*$C$9+OFFSET(Licence_OIEC,MATCH($B111,'Licence Info'!$B$108:$B$132,FALSE),MATCH(Control!BG$101,'Licence Info'!$C$105:$DW$105,FALSE))-BG49)","v":161.37},{"$f":"MAX(0,OFFSET(Licence_IBEC,MATCH($B111,'Licence Info'!$B$40:$B$64,FALSE),MATCH(Control!BH$101,'Licence Info'!$C$37:$DW$37,FALSE))*$C$9+OFFSET(Licence_Subst,MATCH($B111,'Licence Info'!$B$74:$B$98,FALSE),MATCH(Control!BH$101,'Licence Info'!$C$71:$DW$71,FALSE))*$C$9+OFFSET(Licence_OIEC,MATCH($B111,'Licence Info'!$B$108:$B$132,FALSE),MATCH(Control!BH$101,'Licence Info'!$C$105:$DW$105,FALSE))-BH49)","v":161.37},{"$f":"MAX(0,OFFSET(Licence_IBEC,MATCH($B111,'Licence Info'!$B$40:$B$64,FALSE),MATCH(Control!BI$101,'Licence Info'!$C$37:$DW$37,FALSE))*$C$9+OFFSET(Licence_Subst,MATCH($B111,'Licence Info'!$B$74:$B$98,FALSE),MATCH(Control!BI$101,'Licence Info'!$C$71:$DW$71,FALSE))*$C$9+OFFSET(Licence_OIEC,MATCH($B111,'Licence Info'!$B$108:$B$132,FALSE),MATCH(Control!BI$101,'Licence Info'!$C$105:$DW$105,FALSE))-BI49)","v":161.37},{"$f":"MAX(0,OFFSET(Licence_IBEC,MATCH($B111,'Licence Info'!$B$40:$B$64,FALSE),MATCH(Control!BJ$101,'Licence Info'!$C$37:$DW$37,FALSE))*$C$9+OFFSET(Licence_Subst,MATCH($B111,'Licence Info'!$B$74:$B$98,FALSE),MATCH(Control!BJ$101,'Licence Info'!$C$71:$DW$71,FALSE))*$C$9+OFFSET(Licence_OIEC,MATCH($B111,'Licence Info'!$B$108:$B$132,FALSE),MATCH(Control!BJ$101,'Licence Info'!$C$105:$DW$105,FALSE))-BJ49)","v":161.37},{"$f":"MAX(0,OFFSET(Licence_IBEC,MATCH($B111,'Licence Info'!$B$40:$B$64,FALSE),MATCH(Control!BK$101,'Licence Info'!$C$37:$DW$37,FALSE))*$C$9+OFFSET(Licence_Subst,MATCH($B111,'Licence Info'!$B$74:$B$98,FALSE),MATCH(Control!BK$101,'Licence Info'!$C$71:$DW$71,FALSE))*$C$9+OFFSET(Licence_OIEC,MATCH($B111,'Licence Info'!$B$108:$B$132,FALSE),MATCH(Control!BK$101,'Licence Info'!$C$105:$DW$105,FALSE))-BK49)","v":{"$error":"#N/A"}}]
[null,"Isle of Grain",{"$f":"MAX(0,OFFSET(Licence_IBEC,MATCH($B112,'Licence Info'!$B$40:$B$64,FALSE),MATCH(Control!C$101,'Licence Info'!$C$37:$DW$37,FALSE))*$C$9+OFFSET(Licence_Subst,MATCH($B112,'Licence Info'!$B$74:$B$98,FALSE),MATCH(Control!C$101,'Licence Info'!$C$71:$DW$71,FALSE))*$C$9+OFFSET(Licence_OIEC,MATCH($B112,'Licence Info'!$B$108:$B$132,FALSE),MATCH(Control!C$101,'Licence Info'!$C$105:$DW$105,FALSE))-C50)","v":0},{"$f":"MAX(0,OFFSET(Licence_IBEC,MATCH($B112,'Licence Info'!$B$40:$B$64,FALSE),MATCH(Control!D$101,'Licence Info'!$C$37:$DW$37,FALSE))*$C$9+OFFSET(Licence_Subst,MATCH($B112,'Licence Info'!$B$74:$B$98,FALSE),MATCH(Control!D$101,'Licence Info'!$C$71:$DW$71,FALSE))*$C$9+OFFSET(Licence_OIEC,MATCH($B112,'Licence Info'!$B$108:$B$132,FALSE),MATCH(Control!D$101,'Licence Info'!$C$105:$DW$105,FALSE))-D50)","v":0},{"$f":"MAX(0,OFFSET(Licence_IBEC,MATCH($B112,'Licence Info'!$B$40:$B$64,FALSE),MATCH(Control!E$101,'Licence Info'!$C$37:$DW$37,FALSE))*$C$9+OFFSET(Licence_Subst,MATCH($B112,'Licence Info'!$B$74:$B$98,FALSE),MATCH(Control!E$101,'Licence Info'!$C$71:$DW$71,FALSE))*$C$9+OFFSET(Licence_OIEC,MATCH($B112,'Licence Info'!$B$108:$B$132,FALSE),MATCH(Control!E$101,'Licence Info'!$C$105:$DW$105,FALSE))-E50)","v":7.0760000000000218},{"$f":"MAX(0,OFFSET(Licence_IBEC,MATCH($B112,'Licence Info'!$B$40:$B$64,FALSE),MATCH(Control!F$101,'Licence Info'!$C$37:$DW$37,FALSE))*$C$9+OFFSET(Licence_Subst,MATCH($B112,'Licence Info'!$B$74:$B$98,FALSE),MATCH(Control!F$101,'Licence Info'!$C$71:$DW$71,FALSE))*$C$9+OFFSET(Licence_OIEC,MATCH($B112,'Licence Info'!$B$108:$B$132,FALSE),MATCH(Control!F$101,'Licence Info'!$C$105:$DW$105,FALSE))-F50)","v":7.0760000000000218},{"$f":"MAX(0,OFFSET(Licence_IBEC,MATCH($B112,'Licence Info'!$B$40:$B$64,FALSE),MATCH(Control!G$101,'Licence Info'!$C$37:$DW$37,FALSE))*$C$9+OFFSET(Licence_Subst,MATCH($B112,'Licence Info'!$B$74:$B$98,FALSE),MATCH(Control!G$101,'Licence Info'!$C$71:$DW$71,FALSE))*$C$9+OFFSET(Licence_OIEC,MATCH($B112,'Licence Info'!$B$108:$B$132,FALSE),MATCH(Control!G$101,'Licence Info'!$C$105:$DW$105,FALSE))-G50)","v":0},{"$f":"MAX(0,OFFSET(Licence_IBEC,MATCH($B112,'Licence Info'!$B$40:$B$64,FALSE),MATCH(Control!H$101,'Licence Info'!$C$37:$DW$37,FALSE))*$C$9+OFFSET(Licence_Subst,MATCH($B112,'Licence Info'!$B$74:$B$98,FALSE),MATCH(Control!H$101,'Licence Info'!$C$71:$DW$71,FALSE))*$C$9+OFFSET(Licence_OIEC,MATCH($B112,'Licence Info'!$B$108:$B$132,FALSE),MATCH(Control!H$101,'Licence Info'!$C$105:$DW$105,FALSE))-H50)","v":0},{"$f":"MAX(0,OFFSET(Licence_IBEC,MATCH($B112,'Licence Info'!$B$40:$B$64,FALSE),MATCH(Control!I$101,'Licence Info'!$C$37:$DW$37,FALSE))*$C$9+OFFSET(Licence_Subst,MATCH($B112,'Licence Info'!$B$74:$B$98,FALSE),MATCH(Control!I$101,'Licence Info'!$C$71:$DW$71,FALSE))*$C$9+OFFSET(Licence_OIEC,MATCH($B112,'Licence Info'!$B$108:$B$132,FALSE),MATCH(Control!I$101,'Licence Info'!$C$105:$DW$105,FALSE))-I50)","v":7.0760000000000218},{"$f":"MAX(0,OFFSET(Licence_IBEC,MATCH($B112,'Licence Info'!$B$40:$B$64,FALSE),MATCH(Control!J$101,'Licence Info'!$C$37:$DW$37,FALSE))*$C$9+OFFSET(Licence_Subst,MATCH($B112,'Licence Info'!$B$74:$B$98,FALSE),MATCH(Control!J$101,'Licence Info'!$C$71:$DW$71,FALSE))*$C$9+OFFSET(Licence_OIEC,MATCH($B112,'Licence Info'!$B$108:$B$132,FALSE),MATCH(Control!J$101,'Licence Info'!$C$105:$DW$105,FALSE))-J50)","v":7.0760000000000218},{"$f":"MAX(0,OFFSET(Licence_IBEC,MATCH($B112,'Licence Info'!$B$40:$B$64,FALSE),MATCH(Control!K$101,'Licence Info'!$C$37:$DW$37,FALSE))*$C$9+OFFSET(Licence_Subst,MATCH($B112,'Licence Info'!$B$74:$B$98,FALSE),MATCH(Control!K$101,'Licence Info'!$C$71:$DW$71,FALSE))*$C$9+OFFSET(Licence_OIEC,MATCH($B112,'Licence Info'!$B$108:$B$132,FALSE),MATCH(Control!K$101,'Licence Info'!$C$105:$DW$105,FALSE))-K50)","v":0},{"$f":"MAX(0,OFFSET(Licence_IBEC,MATCH($B112,'Licence Info'!$B$40:$B$64,FALSE),MATCH(Control!L$101,'Licence Info'!$C$37:$DW$37,FALSE))*$C$9+OFFSET(Licence_Subst,MATCH($B112,'Licence Info'!$B$74:$B$98,FALSE),MATCH(Control!L$101,'Licence Info'!$C$71:$DW$71,FALSE))*$C$9+OFFSET(Licence_OIEC,MATCH($B112,'Licence Info'!$B$108:$B$132,FALSE),MATCH(Control!L$101,'Licence Info'!$C$105:$DW$105,FALSE))-L50)","v":0},{"$f":"MAX(0,OFFSET(Licence_IBEC,MATCH($B112,'Licence Info'!$B$40:$B$64,FALSE),MATCH(Control!M$101,'Licence Info'!$C$37:$DW$37,FALSE))*$C$9+OFFSET(Licence_Subst,MATCH($B112,'Licence Info'!$B$74:$B$98,FALSE),MATCH(Control!M$101,'Licence Info'!$C$71:$DW$71,FALSE))*$C$9+OFFSET(Licence_OIEC,MATCH($B112,'Licence Info'!$B$108:$B$132,FALSE),MATCH(Control!M$101,'Licence Info'!$C$105:$DW$105,FALSE))-M50)","v":47.076000000000022},{"$f":"MAX(0,OFFSET(Licence_IBEC,MATCH($B112,'Licence Info'!$B$40:$B$64,FALSE),MATCH(Control!N$101,'Licence Info'!$C$37:$DW$37,FALSE))*$C$9+OFFSET(Licence_Subst,MATCH($B112,'Licence Info'!$B$74:$B$98,FALSE),MATCH(Control!N$101,'Licence Info'!$C$71:$DW$71,FALSE))*$C$9+OFFSET(Licence_OIEC,MATCH($B112,'Licence Info'!$B$108:$B$132,FALSE),MATCH(Control!N$101,'Licence Info'!$C$105:$DW$105,FALSE))-N50)","v":47.076000000000022},{"$f":"MAX(0,OFFSET(Licence_IBEC,MATCH($B112,'Licence Info'!$B$40:$B$64,FALSE),MATCH(Control!O$101,'Licence Info'!$C$37:$DW$37,FALSE))*$C$9+OFFSET(Licence_Subst,MATCH($B112,'Licence Info'!$B$74:$B$98,FALSE),MATCH(Control!O$101,'Licence Info'!$C$71:$DW$71,FALSE))*$C$9+OFFSET(Licence_OIEC,MATCH($B112,'Licence Info'!$B$108:$B$132,FALSE),MATCH(Control!O$101,'Licence Info'!$C$105:$DW$105,FALSE))-O50)","v":0},{"$f":"MAX(0,OFFSET(Licence_IBEC,MATCH($B112,'Licence Info'!$B$40:$B$64,FALSE),MATCH(Control!P$101,'Licence Info'!$C$37:$DW$37,FALSE))*$C$9+OFFSET(Licence_Subst,MATCH($B112,'Licence Info'!$B$74:$B$98,FALSE),MATCH(Control!P$101,'Licence Info'!$C$71:$DW$71,FALSE))*$C$9+OFFSET(Licence_OIEC,MATCH($B112,'Licence Info'!$B$108:$B$132,FALSE),MATCH(Control!P$101,'Licence Info'!$C$105:$DW$105,FALSE))-P50)","v":0},{"$f":"MAX(0,OFFSET(Licence_IBEC,MATCH($B112,'Licence Info'!$B$40:$B$64,FALSE),MATCH(Control!Q$101,'Licence Info'!$C$37:$DW$37,FALSE))*$C$9+OFFSET(Licence_Subst,MATCH($B112,'Licence Info'!$B$74:$B$98,FALSE),MATCH(Control!Q$101,'Licence Info'!$C$71:$DW$71,FALSE))*$C$9+OFFSET(Licence_OIEC,MATCH($B112,'Licence Info'!$B$108:$B$132,FALSE),MATCH(Control!Q$101,'Licence Info'!$C$105:$DW$105,FALSE))-Q50)","v":47.076000000000022},{"$f":"MAX(0,OFFSET(Licence_IBEC,MATCH($B112,'Licence Info'!$B$40:$B$64,FALSE),MATCH(Control!R$101,'Licence Info'!$C$37:$DW$37,FALSE))*$C$9+OFFSET(Licence_Subst,MATCH($B112,'Licence Info'!$B$74:$B$98,FALSE),MATCH(Control!R$101,'Licence Info'!$C$71:$DW$71,FALSE))*$C$9+OFFSET(Licence_OIEC,MATCH($B112,'Licence Info'!$B$108:$B$132,FALSE),MATCH(Control!R$101,'Licence Info'!$C$105:$DW$105,FALSE))-R50)","v":47.076000000000022},{"$f":"MAX(0,OFFSET(Licence_IBEC,MATCH($B112,'Licence Info'!$B$40:$B$64,FALSE),MATCH(Control!S$101,'Licence Info'!$C$37:$DW$37,FALSE))*$C$9+OFFSET(Licence_Subst,MATCH($B112,'Licence Info'!$B$74:$B$98,FALSE),MATCH(Control!S$101,'Licence Info'!$C$71:$DW$71,FALSE))*$C$9+OFFSET(Licence_OIEC,MATCH($B112,'Licence Info'!$B$108:$B$132,FALSE),MATCH(Control!S$101,'Licence Info'!$C$105:$DW$105,FALSE))-S50)","v":0},{"$f":"MAX(0,OFFSET(Licence_IBEC,MATCH($B112,'Licence Info'!$B$40:$B$64,FALSE),MATCH(Control!T$101,'Licence Info'!$C$37:$DW$37,FALSE))*$C$9+OFFSET(Licence_Subst,MATCH($B112,'Licence Info'!$B$74:$B$98,FALSE),MATCH(Control!T$101,'Licence Info'!$C$71:$DW$71,FALSE))*$C$9+OFFSET(Licence_OIEC,MATCH($B112,'Licence Info'!$B$108:$B$132,FALSE),MATCH(Control!T$101,'Licence Info'!$C$105:$DW$105,FALSE))-T50)","v":0},{"$f":"MAX(0,OFFSET(Licence_IBEC,MATCH($B112,'Licence Info'!$B$40:$B$64,FALSE),MATCH(Control!U$101,'Licence Info'!$C$37:$DW$37,FALSE))*$C$9+OFFSET(Licence_Subst,MATCH($B112,'Licence Info'!$B$74:$B$98,FALSE),MATCH(Control!U$101,'Licence Info'!$C$71:$DW$71,FALSE))*$C$9+OFFSET(Licence_OIEC,MATCH($B112,'Licence Info'!$B$108:$B$132,FALSE),MATCH(Control!U$101,'Licence Info'!$C$105:$DW$105,FALSE))-U50)","v":107.07600000000002},{"$f":"MAX(0,OFFSET(Licence_IBEC,MATCH($B112,'Licence Info'!$B$40:$B$64,FALSE),MATCH(Control!V$101,'Licence Info'!$C$37:$DW$37,FALSE))*$C$9+OFFSET(Licence_Subst,MATCH($B112,'Licence Info'!$B$74:$B$98,FALSE),MATCH(Control!V$101,'Licence Info'!$C$71:$DW$71,FALSE))*$C$9+OFFSET(Licence_OIEC,MATCH($B112,'Licence Info'!$B$108:$B$132,FALSE),MATCH(Control!V$101,'Licence Info'!$C$105:$DW$105,FALSE))-V50)","v":107.07600000000002},{"$f":"MAX(0,OFFSET(Licence_IBEC,MATCH($B112,'Licence Info'!$B$40:$B$64,FALSE),MATCH(Control!W$101,'Licence Info'!$C$37:$DW$37,FALSE))*$C$9+OFFSET(Licence_Subst,MATCH($B112,'Licence Info'!$B$74:$B$98,FALSE),MATCH(Control!W$101,'Licence Info'!$C$71:$DW$71,FALSE))*$C$9+OFFSET(Licence_OIEC,MATCH($B112,'Licence Info'!$B$108:$B$132,FALSE),MATCH(Control!W$101,'Licence Info'!$C$105:$DW$105,FALSE))-W50)","v":137.07600000000002},{"$f":"MAX(0,OFFSET(Licence_IBEC,MATCH($B112,'Licence Info'!$B$40:$B$64,FALSE),MATCH(Control!X$101,'Licence Info'!$C$37:$DW$37,FALSE))*$C$9+OFFSET(Licence_Subst,MATCH($B112,'Licence Info'!$B$74:$B$98,FALSE),MATCH(Control!X$101,'Licence Info'!$C$71:$DW$71,FALSE))*$C$9+OFFSET(Licence_OIEC,MATCH($B112,'Licence Info'!$B$108:$B$132,FALSE),MATCH(Control!X$101,'Licence Info'!$C$105:$DW$105,FALSE))-X50)","v":137.07600000000002},{"$f":"MAX(0,OFFSET(Licence_IBEC,MATCH($B112,'Licence Info'!$B$40:$B$64,FALSE),MATCH(Control!Y$101,'Licence Info'!$C$37:$DW$37,FALSE))*$C$9+OFFSET(Licence_Subst,MATCH($B112,'Licence Info'!$B$74:$B$98,FALSE),MATCH(Control!Y$101,'Licence Info'!$C$71:$DW$71,FALSE))*$C$9+OFFSET(Licence_OIEC,MATCH($B112,'Licence Info'!$B$108:$B$132,FALSE),MATCH(Control!Y$101,'Licence Info'!$C$105:$DW$105,FALSE))-Y50)","v":107.07600000000002},{"$f":"MAX(0,OFFSET(Licence_IBEC,MATCH($B112,'Licence Info'!$B$40:$B$64,FALSE),MATCH(Control!Z$101,'Licence Info'!$C$37:$DW$37,FALSE))*$C$9+OFFSET(Licence_Subst,MATCH($B112,'Licence Info'!$B$74:$B$98,FALSE),MATCH(Control!Z$101,'Licence Info'!$C$71:$DW$71,FALSE))*$C$9+OFFSET(Licence_OIEC,MATCH($B112,'Licence Info'!$B$108:$B$132,FALSE),MATCH(Control!Z$101,'Licence Info'!$C$105:$DW$105,FALSE))-Z50)","v":207.07600000000002},{"$f":"MAX(0,OFFSET(Licence_IBEC,MATCH($B112,'Licence Info'!$B$40:$B$64,FALSE),MATCH(Control!AA$101,'Licence Info'!$C$37:$DW$37,FALSE))*$C$9+OFFSET(Licence_Subst,MATCH($B112,'Licence Info'!$B$74:$B$98,FALSE),MATCH(Control!AA$101,'Licence Info'!$C$71:$DW$71,FALSE))*$C$9+OFFSET(Licence_OIEC,MATCH($B112,'Licence Info'!$B$108:$B$132,FALSE),MATCH(Control!AA$101,'Licence Info'!$C$105:$DW$105,FALSE))-AA50)","v":207.07600000000002},{"$f":"MAX(0,OFFSET(Licence_IBEC,MATCH($B112,'Licence Info'!$B$40:$B$64,FALSE),MATCH(Control!AB$101,'Licence Info'!$C$37:$DW$37,FALSE))*$C$9+OFFSET(Licence_Subst,MATCH($B112,'Licence Info'!$B$74:$B$98,FALSE),MATCH(Control!AB$101,'Licence Info'!$C$71:$DW$71,FALSE))*$C$9+OFFSET(Licence_OIEC,MATCH($B112,'Licence Info'!$B$108:$B$132,FALSE),MATCH(Control!AB$101,'Licence Info'!$C$105:$DW$105,FALSE))-AB50)","v":207.07600000000002},{"$f":"MAX(0,OFFSET(Licence_IBEC,MATCH($B112,'Licence Info'!$B$40:$B$64,FALSE),MATCH(Control!AC$101,'Licence Info'!$C$37:$DW$37,FALSE))*$C$9+OFFSET(Licence_Subst,MATCH($B112,'Licence Info'!$B$74:$B$98,FALSE),MATCH(Control!AC$101,'Licence Info'!$C$71:$DW$71,FALSE))*$C$9+OFFSET(Licence_OIEC,MATCH($B112,'Licence Info'!$B$108:$B$132,FALSE),MATCH(Control!AC$101,'Licence Info'!$C$105:$DW$105,FALSE))-AC50)","v":207.07600000000002},{"$f":"MAX(0,OFFSET(Licence_IBEC,MATCH($B112,'Licence Info'!$B$40:$B$64,FALSE),MATCH(Control!AD$101,'Licence Info'!$C$37:$DW$37,FALSE))*$C$9+OFFSET(Licence_Subst,MATCH($B112,'Licence Info'!$B$74:$B$98,FALSE),MATCH(Control!AD$101,'Licence Info'!$C$71:$DW$71,FALSE))*$C$9+OFFSET(Licence_OIEC,MATCH($B112,'Licence Info'!$B$108:$B$132,FALSE),MATCH(Control!AD$101,'Licence Info'!$C$105:$DW$105,FALSE))-AD50)","v":207.07600000000002},{"$f":"MAX(0,OFFSET(Licence_IBEC,MATCH($B112,'Licence Info'!$B$40:$B$64,FALSE),MATCH(Control!AE$101,'Licence Info'!$C$37:$DW$37,FALSE))*$C$9+OFFSET(Licence_Subst,MATCH($B112,'Licence Info'!$B$74:$B$98,FALSE),MATCH(Control!AE$101,'Licence Info'!$C$71:$DW$71,FALSE))*$C$9+OFFSET(Licence_OIEC,MATCH($B112,'Licence Info'!$B$108:$B$132,FALSE),MATCH(Control!AE$101,'Licence Info'!$C$105:$DW$105,FALSE))-AE50)","v":207.07600000000002},{"$f":"MAX(0,OFFSET(Licence_IBEC,MATCH($B112,'Licence Info'!$B$40:$B$64,FALSE),MATCH(Control!AF$101,'Licence Info'!$C$37:$DW$37,FALSE))*$C$9+OFFSET(Licence_Subst,MATCH($B112,'Licence Info'!$B$74:$B$98,FALSE),MATCH(Control!AF$101,'Licence Info'!$C$71:$DW$71,FALSE))*$C$9+OFFSET(Licence_OIEC,MATCH($B112,'Licence Info'!$B$108:$B$132,FALSE),MATCH(Control!AF$101,'Licence Info'!$C$105:$DW$105,FALSE))-AF50)","v":207.07600000000002},{"$f":"MAX(0,OFFSET(Licence_IBEC,MATCH($B112,'Licence Info'!$B$40:$B$64,FALSE),MATCH(Control!AG$101,'Licence Info'!$C$37:$DW$37,FALSE))*$C$9+OFFSET(Licence_Subst,MATCH($B112,'Licence Info'!$B$74:$B$98,FALSE),MATCH(Control!AG$101,'Licence Info'!$C$71:$DW$71,FALSE))*$C$9+OFFSET(Licence_OIEC,MATCH($B112,'Licence Info'!$B$108:$B$132,FALSE),MATCH(Control!AG$101,'Licence Info'!$C$105:$DW$105,FALSE))-AG50)","v":207.07600000000002},{"$f":"MAX(0,OFFSET(Licence_IBEC,MATCH($B112,'Licence Info'!$B$40:$B$64,FALSE),MATCH(Control!AH$101,'Licence Info'!$C$37:$DW$37,FALSE))*$C$9+OFFSET(Licence_Subst,MATCH($B112,'Licence Info'!$B$74:$B$98,FALSE),MATCH(Control!AH$101,'Licence Info'!$C$71:$DW$71,FALSE))*$C$9+OFFSET(Licence_OIEC,MATCH($B112,'Licence Info'!$B$108:$B$132,FALSE),MATCH(Control!AH$101,'Licence Info'!$C$105:$DW$105,FALSE))-AH50)","v":207.07600000000002},{"$f":"MAX(0,OFFSET(Licence_IBEC,MATCH($B112,'Licence Info'!$B$40:$B$64,FALSE),MATCH(Control!AI$101,'Licence Info'!$C$37:$DW$37,FALSE))*$C$9+OFFSET(Licence_Subst,MATCH($B112,'Licence Info'!$B$74:$B$98,FALSE),MATCH(Control!AI$101,'Licence Info'!$C$71:$DW$71,FALSE))*$C$9+OFFSET(Licence_OIEC,MATCH($B112,'Licence Info'!$B$108:$B$132,FALSE),MATCH(Control!AI$101,'Licence Info'!$C$105:$DW$105,FALSE))-AI50)","v":207.07600000000002},{"$f":"MAX(0,OFFSET(Licence_IBEC,MATCH($B112,'Licence Info'!$B$40:$B$64,FALSE),MATCH(Control!AJ$101,'Licence Info'!$C$37:$DW$37,FALSE))*$C$9+OFFSET(Licence_Subst,MATCH($B112,'Licence Info'!$B$74:$B$98,FALSE),MATCH(Control!AJ$101,'Licence Info'!$C$71:$DW$71,FALSE))*$C$9+OFFSET(Licence_OIEC,MATCH($B112,'Licence Info'!$B$108:$B$132,FALSE),MATCH(Control!AJ$101,'Licence Info'!$C$105:$DW$105,FALSE))-AJ50)","v":207.07600000000002},{"$f":"MAX(0,OFFSET(Licence_IBEC,MATCH($B112,'Licence Info'!$B$40:$B$64,FALSE),MATCH(Control!AK$101,'Licence Info'!$C$37:$DW$37,FALSE))*$C$9+OFFSET(Licence_Subst,MATCH($B112,'Licence Info'!$B$74:$B$98,FALSE),MATCH(Control!AK$101,'Licence Info'!$C$71:$DW$71,FALSE))*$C$9+OFFSET(Licence_OIEC,MATCH($B112,'Licence Info'!$B$108:$B$132,FALSE),MATCH(Control!AK$101,'Licence Info'!$C$105:$DW$105,FALSE))-AK50)","v":207.07600000000002},{"$f":"MAX(0,OFFSET(Licence_IBEC,MATCH($B112,'Licence Info'!$B$40:$B$64,FALSE),MATCH(Control!AL$101,'Licence Info'!$C$37:$DW$37,FALSE))*$C$9+OFFSET(Licence_Subst,MATCH($B112,'Licence Info'!$B$74:$B$98,FALSE),MATCH(Control!AL$101,'Licence Info'!$C$71:$DW$71,FALSE))*$C$9+OFFSET(Licence_OIEC,MATCH($B112,'Licence Info'!$B$108:$B$132,FALSE),MATCH(Control!AL$101,'Licence Info'!$C$105:$DW$105,FALSE))-AL50)","v":207.07600000000002},{"$f":"MAX(0,OFFSET(Licence_IBEC,MATCH($B112,'Licence Info'!$B$40:$B$64,FALSE),MATCH(Control!AM$101,'Licence Info'!$C$37:$DW$37,FALSE))*$C$9+OFFSET(Licence_Subst,MATCH($B112,'Licence Info'!$B$74:$B$98,FALSE),MATCH(Control!AM$101,'Licence Info'!$C$71:$DW$71,FALSE))*$C$9+OFFSET(Licence_OIEC,MATCH($B112,'Licence Info'!$B$108:$B$132,FALSE),MATCH(Control!AM$101,'Licence Info'!$C$105:$DW$105,FALSE))-AM50)","v":279.67600000000004},{"$f":"MAX(0,OFFSET(Licence_IBEC,MATCH($B112,'Licence Info'!$B$40:$B$64,FALSE),MATCH(Control!AN$101,'Licence Info'!$C$37:$DW$37,FALSE))*$C$9+OFFSET(Licence_Subst,MATCH($B112,'Licence Info'!$B$74:$B$98,FALSE),MATCH(Control!AN$101,'Licence Info'!$C$71:$DW$71,FALSE))*$C$9+OFFSET(Licence_OIEC,MATCH($B112,'Licence Info'!$B$108:$B$132,FALSE),MATCH(Control!AN$101,'Licence Info'!$C$105:$DW$105,FALSE))-AN50)","v":279.67600000000004},{"$f":"MAX(0,OFFSET(Licence_IBEC,MATCH($B112,'Licence Info'!$B$40:$B$64,FALSE),MATCH(Control!AO$101,'Licence Info'!$C$37:$DW$37,FALSE))*$C$9+OFFSET(Licence_Subst,MATCH($B112,'Licence Info'!$B$74:$B$98,FALSE),MATCH(Control!AO$101,'Licence Info'!$C$71:$DW$71,FALSE))*$C$9+OFFSET(Licence_OIEC,MATCH($B112,'Licence Info'!$B$108:$B$132,FALSE),MATCH(Control!AO$101,'Licence Info'!$C$105:$DW$105,FALSE))-AO50)","v":279.67600000000004},{"$f":"MAX(0,OFFSET(Licence_IBEC,MATCH($B112,'Licence Info'!$B$40:$B$64,FALSE),MATCH(Control!AP$101,'Licence Info'!$C$37:$DW$37,FALSE))*$C$9+OFFSET(Licence_Subst,MATCH($B112,'Licence Info'!$B$74:$B$98,FALSE),MATCH(Control!AP$101,'Licence Info'!$C$71:$DW$71,FALSE))*$C$9+OFFSET(Licence_OIEC,MATCH($B112,'Licence Info'!$B$108:$B$132,FALSE),MATCH(Control!AP$101,'Licence Info'!$C$105:$DW$105,FALSE))-AP50)","v":279.67600000000004},{"$f":"MAX(0,OFFSET(Licence_IBEC,MATCH($B112,'Licence Info'!$B$40:$B$64,FALSE),MATCH(Control!AQ$101,'Licence Info'!$C$37:$DW$37,FALSE))*$C$9+OFFSET(Licence_Subst,MATCH($B112,'Licence Info'!$B$74:$B$98,FALSE),MATCH(Control!AQ$101,'Licence Info'!$C$71:$DW$71,FALSE))*$C$9+OFFSET(Licence_OIEC,MATCH($B112,'Licence Info'!$B$108:$B$132,FALSE),MATCH(Control!AQ$101,'Licence Info'!$C$105:$DW$105,FALSE))-AQ50)","v":629.67600000000004},{"$f":"MAX(0,OFFSET(Licence_IBEC,MATCH($B112,'Licence Info'!$B$40:$B$64,FALSE),MATCH(Control!AR$101,'Licence Info'!$C$37:$DW$37,FALSE))*$C$9+OFFSET(Licence_Subst,MATCH($B112,'Licence Info'!$B$74:$B$98,FALSE),MATCH(Control!AR$101,'Licence Info'!$C$71:$DW$71,FALSE))*$C$9+OFFSET(Licence_OIEC,MATCH($B112,'Licence Info'!$B$108:$B$132,FALSE),MATCH(Control!AR$101,'Licence Info'!$C$105:$DW$105,FALSE))-AR50)","v":629.67600000000004},{"$f":"MAX(0,OFFSET(Licence_IBEC,MATCH($B112,'Licence Info'!$B$40:$B$64,FALSE),MATCH(Control!AS$101,'Licence Info'!$C$37:$DW$37,FALSE))*$C$9+OFFSET(Licence_Subst,MATCH($B112,'Licence Info'!$B$74:$B$98,FALSE),MATCH(Control!AS$101,'Licence Info'!$C$71:$DW$71,FALSE))*$C$9+OFFSET(Licence_OIEC,MATCH($B112,'Licence Info'!$B$108:$B$132,FALSE),MATCH(Control!AS$101,'Licence Info'!$C$105:$DW$105,FALSE))-AS50)","v":629.67600000000004},{"$f":"MAX(0,OFFSET(Licence_IBEC,MATCH($B112,'Licence Info'!$B$40:$B$64,FALSE),MATCH(Control!AT$101,'Licence Info'!$C$37:$DW$37,FALSE))*$C$9+OFFSET(Licence_Subst,MATCH($B112,'Licence Info'!$B$74:$B$98,FALSE),MATCH(Control!AT$101,'Licence Info'!$C$71:$DW$71,FALSE))*$C$9+OFFSET(Licence_OIEC,MATCH($B112,'Licence Info'!$B$108:$B$132,FALSE),MATCH(Control!AT$101,'Licence Info'!$C$105:$DW$105,FALSE))-AT50)","v":629.67600000000004},{"$f":"MAX(0,OFFSET(Licence_IBEC,MATCH($B112,'Licence Info'!$B$40:$B$64,FALSE),MATCH(Control!AU$101,'Licence Info'!$C$37:$DW$37,FALSE))*$C$9+OFFSET(Licence_Subst,MATCH($B112,'Licence Info'!$B$74:$B$98,FALSE),MATCH(Control!AU$101,'Licence Info'!$C$71:$DW$71,FALSE))*$C$9+OFFSET(Licence_OIEC,MATCH($B112,'Licence Info'!$B$108:$B$132,FALSE),MATCH(Control!AU$101,'Licence Info'!$C$105:$DW$105,FALSE))-AU50)","v":629.67600000000004},{"$f":"MAX(0,OFFSET(Licence_IBEC,MATCH($B112,'Licence Info'!$B$40:$B$64,FALSE),MATCH(Control!AV$101,'Licence Info'!$C$37:$DW$37,FALSE))*$C$9+OFFSET(Licence_Subst,MATCH($B112,'Licence Info'!$B$74:$B$98,FALSE),MATCH(Control!AV$101,'Licence Info'!$C$71:$DW$71,FALSE))*$C$9+OFFSET(Licence_OIEC,MATCH($B112,'Licence Info'!$B$108:$B$132,FALSE),MATCH(Control!AV$101,'Licence Info'!$C$105:$DW$105,FALSE))-AV50)","v":629.67600000000004},{"$f":"MAX(0,OFFSET(Licence_IBEC,MATCH($B112,'Licence Info'!$B$40:$B$64,FALSE),MATCH(Control!AW$101,'Licence Info'!$C$37:$DW$37,FALSE))*$C$9+OFFSET(Licence_Subst,MATCH($B112,'Licence Info'!$B$74:$B$98,FALSE),MATCH(Control!AW$101,'Licence Info'!$C$71:$DW$71,FALSE))*$C$9+OFFSET(Licence_OIEC,MATCH($B112,'Licence Info'!$B$108:$B$132,FALSE),MATCH(Control!AW$101,'Licence Info'!$C$105:$DW$105,FALSE))-AW50)","v":629.67600000000004},{"$f":"MAX(0,OFFSET(Licence_IBEC,MATCH($B112,'Licence Info'!$B$40:$B$64,FALSE),MATCH(Control!AX$101,'Licence Info'!$C$37:$DW$37,FALSE))*$C$9+OFFSET(Licence_Subst,MATCH($B112,'Licence Info'!$B$74:$B$98,FALSE),MATCH(Control!AX$101,'Licence Info'!$C$71:$DW$71,FALSE))*$C$9+OFFSET(Licence_OIEC,MATCH($B112,'Licence Info'!$B$108:$B$132,FALSE),MATCH(Control!AX$101,'Licence Info'!$C$105:$DW$105,FALSE))-AX50)","v":629.67600000000004},{"$f":"MAX(0,OFFSET(Licence_IBEC,MATCH($B112,'Licence Info'!$B$40:$B$64,FALSE),MATCH(Control!AY$101,'Licence Info'!$C$37:$DW$37,FALSE))*$C$9+OFFSET(Licence_Subst,MATCH($B112,'Licence Info'!$B$74:$B$98,FALSE),MATCH(Control!AY$101,'Licence Info'!$C$71:$DW$71,FALSE))*$C$9+OFFSET(Licence_OIEC,MATCH($B112,'Licence Info'!$B$108:$B$132,FALSE),MATCH(Control!AY$101,'Licence Info'!$C$105:$DW$105,FALSE))-AY50)","v":629.67600000000004},{"$f":"MAX(0,OFFSET(Licence_IBEC,MATCH($B112,'Licence Info'!$B$40:$B$64,FALSE),MATCH(Control!AZ$101,'Licence Info'!$C$37:$DW$37,FALSE))*$C$9+OFFSET(Licence_Subst,MATCH($B112,'Licence Info'!$B$74:$B$98,FALSE),MATCH(Control!AZ$101,'Licence Info'!$C$71:$DW$71,FALSE))*$C$9+OFFSET(Licence_OIEC,MATCH($B112,'Licence Info'!$B$108:$B$132,FALSE),MATCH(Control!AZ$101,'Licence Info'!$C$105:$DW$105,FALSE))-AZ50)","v":629.67600000000004},{"$f":"MAX(0,OFFSET(Licence_IBEC,MATCH($B112,'Licence Info'!$B$40:$B$64,FALSE),MATCH(Control!BA$101,'Licence Info'!$C$37:$DW$37,FALSE))*$C$9+OFFSET(Licence_Subst,MATCH($B112,'Licence Info'!$B$74:$B$98,FALSE),MATCH(Control!BA$101,'Licence Info'!$C$71:$DW$71,FALSE))*$C$9+OFFSET(Licence_OIEC,MATCH($B112,'Licence Info'!$B$108:$B$132,FALSE),MATCH(Control!BA$101,'Licence Info'!$C$105:$DW$105,FALSE))-BA50)","v":629.67600000000004},{"$f":"MAX(0,OFFSET(Licence_IBEC,MATCH($B112,'Licence Info'!$B$40:$B$64,FALSE),MATCH(Control!BB$101,'Licence Info'!$C$37:$DW$37,FALSE))*$C$9+OFFSET(Licence_Subst,MATCH($B112,'Licence Info'!$B$74:$B$98,FALSE),MATCH(Control!BB$101,'Licence Info'!$C$71:$DW$71,FALSE))*$C$9+OFFSET(Licence_OIEC,MATCH($B112,'Licence Info'!$B$108:$B$132,FALSE),MATCH(Control!BB$101,'Licence Info'!$C$105:$DW$105,FALSE))-BB50)","v":629.67600000000004},{"$f":"MAX(0,OFFSET(Licence_IBEC,MATCH($B112,'Licence Info'!$B$40:$B$64,FALSE),MATCH(Control!BC$101,'Licence Info'!$C$37:$DW$37,FALSE))*$C$9+OFFSET(Licence_Subst,MATCH($B112,'Licence Info'!$B$74:$B$98,FALSE),MATCH(Control!BC$101,'Licence Info'!$C$71:$DW$71,FALSE))*$C$9+OFFSET(Licence_OIEC,MATCH($B112,'Licence Info'!$B$108:$B$132,FALSE),MATCH(Control!BC$101,'Licence Info'!$C$105:$DW$105,FALSE))-BC50)","v":629.67600000000004},{"$f":"MAX(0,OFFSET(Licence_IBEC,MATCH($B112,'Licence Info'!$B$40:$B$64,FALSE),MATCH(Control!BD$101,'Licence Info'!$C$37:$DW$37,FALSE))*$C$9+OFFSET(Licence_Subst,MATCH($B112,'Licence Info'!$B$74:$B$98,FALSE),MATCH(Control!BD$101,'Licence Info'!$C$71:$DW$71,FALSE))*$C$9+OFFSET(Licence_OIEC,MATCH($B112,'Licence Info'!$B$108:$B$132,FALSE),MATCH(Control!BD$101,'Licence Info'!$C$105:$DW$105,FALSE))-BD50)","v":629.67600000000004},{"$f":"MAX(0,OFFSET(Licence_IBEC,MATCH($B112,'Licence Info'!$B$40:$B$64,FALSE),MATCH(Control!BE$101,'Licence Info'!$C$37:$DW$37,FALSE))*$C$9+OFFSET(Licence_Subst,MATCH($B112,'Licence Info'!$B$74:$B$98,FALSE),MATCH(Control!BE$101,'Licence Info'!$C$71:$DW$71,FALSE))*$C$9+OFFSET(Licence_OIEC,MATCH($B112,'Licence Info'!$B$108:$B$132,FALSE),MATCH(Control!BE$101,'Licence Info'!$C$105:$DW$105,FALSE))-BE50)","v":629.67600000000004},{"$f":"MAX(0,OFFSET(Licence_IBEC,MATCH($B112,'Licence Info'!$B$40:$B$64,FALSE),MATCH(Control!BF$101,'Licence Info'!$C$37:$DW$37,FALSE))*$C$9+OFFSET(Licence_Subst,MATCH($B112,'Licence Info'!$B$74:$B$98,FALSE),MATCH(Control!BF$101,'Licence Info'!$C$71:$DW$71,FALSE))*$C$9+OFFSET(Licence_OIEC,MATCH($B112,'Licence Info'!$B$108:$B$132,FALSE),MATCH(Control!BF$101,'Licence Info'!$C$105:$DW$105,FALSE))-BF50)","v":629.67600000000004},{"$f":"MAX(0,OFFSET(Licence_IBEC,MATCH($B112,'Licence Info'!$B$40:$B$64,FALSE),MATCH(Control!BG$101,'Licence Info'!$C$37:$DW$37,FALSE))*$C$9+OFFSET(Licence_Subst,MATCH($B112,'Licence Info'!$B$74:$B$98,FALSE),MATCH(Control!BG$101,'Licence Info'!$C$71:$DW$71,FALSE))*$C$9+OFFSET(Licence_OIEC,MATCH($B112,'Licence Info'!$B$108:$B$132,FALSE),MATCH(Control!BG$101,'Licence Info'!$C$105:$DW$105,FALSE))-BG50)","v":629.67600000000004},{"$f":"MAX(0,OFFSET(Licence_IBEC,MATCH($B112,'Licence Info'!$B$40:$B$64,FALSE),MATCH(Control!BH$101,'Licence Info'!$C$37:$DW$37,FALSE))*$C$9+OFFSET(Licence_Subst,MATCH($B112,'Licence Info'!$B$74:$B$98,FALSE),MATCH(Control!BH$101,'Licence Info'!$C$71:$DW$71,FALSE))*$C$9+OFFSET(Licence_OIEC,MATCH($B112,'Licence Info'!$B$108:$B$132,FALSE),MATCH(Control!BH$101,'Licence Info'!$C$105:$DW$105,FALSE))-BH50)","v":629.67600000000004},{"$f":"MAX(0,OFFSET(Licence_IBEC,MATCH($B112,'Licence Info'!$B$40:$B$64,FALSE),MATCH(Control!BI$101,'Licence Info'!$C$37:$DW$37,FALSE))*$C$9+OFFSET(Licence_Subst,MATCH($B112,'Licence Info'!$B$74:$B$98,FALSE),MATCH(Control!BI$101,'Licence Info'!$C$71:$DW$71,FALSE))*$C$9+OFFSET(Licence_OIEC,MATCH($B112,'Licence Info'!$B$108:$B$132,FALSE),MATCH(Control!BI$101,'Licence Info'!$C$105:$DW$105,FALSE))-BI50)","v":629.67600000000004},{"$f":"MAX(0,OFFSET(Licence_IBEC,MATCH($B112,'Licence Info'!$B$40:$B$64,FALSE),MATCH(Control!BJ$101,'Licence Info'!$C$37:$DW$37,FALSE))*$C$9+OFFSET(Licence_Subst,MATCH($B112,'Licence Info'!$B$74:$B$98,FALSE),MATCH(Control!BJ$101,'Licence Info'!$C$71:$DW$71,FALSE))*$C$9+OFFSET(Licence_OIEC,MATCH($B112,'Licence Info'!$B$108:$B$132,FALSE),MATCH(Control!BJ$101,'Licence Info'!$C$105:$DW$105,FALSE))-BJ50)","v":629.67600000000004},{"$f":"MAX(0,OFFSET(Licence_IBEC,MATCH($B112,'Licence Info'!$B$40:$B$64,FALSE),MATCH(Control!BK$101,'Licence Info'!$C$37:$DW$37,FALSE))*$C$9+OFFSET(Licence_Subst,MATCH($B112,'Licence Info'!$B$74:$B$98,FALSE),MATCH(Control!BK$101,'Licence Info'!$C$71:$DW$71,FALSE))*$C$9+OFFSET(Licence_OIEC,MATCH($B112,'Licence Info'!$B$108:$B$132,FALSE),MATCH(Control!BK$101,'Licence Info'!$C$105:$DW$105,FALSE))-BK50)","v":{"$error":"#N/A"}}]
[null,"Dynevor Arms",{"$f":"MAX(0,OFFSET(Licence_IBEC,MATCH($B113,'Licence Info'!$B$40:$B$64,FALSE),MATCH(Control!C$101,'Licence Info'!$C$37:$DW$37,FALSE))*$C$9+OFFSET(Licence_Subst,MATCH($B113,'Licence Info'!$B$74:$B$98,FALSE),MATCH(Control!C$101,'Licence Info'!$C$71:$DW$71,FALSE))*$C$9+OFFSET(Licence_OIEC,MATCH($B113,'Licence Info'!$B$108:$B$132,FALSE),MATCH(Control!C$101,'Licence Info'!$C$105:$DW$105,FALSE))-C51)","v":44.1},{"$f":"MAX(0,OFFSET(Licence_IBEC,MATCH($B113,'Licence Info'!$B$40:$B$64,FALSE),MATCH(Control!D$101,'Licence Info'!$C$37:$DW$37,FALSE))*$C$9+OFFSET(Licence_Subst,MATCH($B113,'Licence Info'!$B$74:$B$98,FALSE),MATCH(Control!D$101,'Licence Info'!$C$71:$DW$71,FALSE))*$C$9+OFFSET(Licence_OIEC,MATCH($B113,'Licence Info'!$B$108:$B$132,FALSE),MATCH(Control!D$101,'Licence Info'!$C$105:$DW$105,FALSE))-D51)","v":44.1},{"$f":"MAX(0,OFFSET(Licence_IBEC,MATCH($B113,'Licence Info'!$B$40:$B$64,FALSE),MATCH(Control!E$101,'Licence Info'!$C$37:$DW$37,FALSE))*$C$9+OFFSET(Licence_Subst,MATCH($B113,'Licence Info'!$B$74:$B$98,FALSE),MATCH(Control!E$101,'Licence Info'!$C$71:$DW$71,FALSE))*$C$9+OFFSET(Licence_OIEC,MATCH($B113,'Licence Info'!$B$108:$B$132,FALSE),MATCH(Control!E$101,'Licence Info'!$C$105:$DW$105,FALSE))-E51)","v":44.1},{"$f":"MAX(0,OFFSET(Licence_IBEC,MATCH($B113,'Licence Info'!$B$40:$B$64,FALSE),MATCH(Control!F$101,'Licence Info'!$C$37:$DW$37,FALSE))*$C$9+OFFSET(Licence_Subst,MATCH($B113,'Licence Info'!$B$74:$B$98,FALSE),MATCH(Control!F$101,'Licence Info'!$C$71:$DW$71,FALSE))*$C$9+OFFSET(Licence_OIEC,MATCH($B113,'Licence Info'!$B$108:$B$132,FALSE),MATCH(Control!F$101,'Licence Info'!$C$105:$DW$105,FALSE))-F51)","v":44.1},{"$f":"MAX(0,OFFSET(Licence_IBEC,MATCH($B113,'Licence Info'!$B$40:$B$64,FALSE),MATCH(Control!G$101,'Licence Info'!$C$37:$DW$37,FALSE))*$C$9+OFFSET(Licence_Subst,MATCH($B113,'Licence Info'!$B$74:$B$98,FALSE),MATCH(Control!G$101,'Licence Info'!$C$71:$DW$71,FALSE))*$C$9+OFFSET(Licence_OIEC,MATCH($B113,'Licence Info'!$B$108:$B$132,FALSE),MATCH(Control!G$101,'Licence Info'!$C$105:$DW$105,FALSE))-G51)","v":44.1},{"$f":"MAX(0,OFFSET(Licence_IBEC,MATCH($B113,'Licence Info'!$B$40:$B$64,FALSE),MATCH(Control!H$101,'Licence Info'!$C$37:$DW$37,FALSE))*$C$9+OFFSET(Licence_Subst,MATCH($B113,'Licence Info'!$B$74:$B$98,FALSE),MATCH(Control!H$101,'Licence Info'!$C$71:$DW$71,FALSE))*$C$9+OFFSET(Licence_OIEC,MATCH($B113,'Licence Info'!$B$108:$B$132,FALSE),MATCH(Control!H$101,'Licence Info'!$C$105:$DW$105,FALSE))-H51)","v":44.1},{"$f":"MAX(0,OFFSET(Licence_IBEC,MATCH($B113,'Licence Info'!$B$40:$B$64,FALSE),MATCH(Control!I$101,'Licence Info'!$C$37:$DW$37,FALSE))*$C$9+OFFSET(Licence_Subst,MATCH($B113,'Licence Info'!$B$74:$B$98,FALSE),MATCH(Control!I$101,'Licence Info'!$C$71:$DW$71,FALSE))*$C$9+OFFSET(Licence_OIEC,MATCH($B113,'Licence Info'!$B$108:$B$132,FALSE),MATCH(Control!I$101,'Licence Info'!$C$105:$DW$105,FALSE))-I51)","v":44.1},{"$f":"MAX(0,OFFSET(Licence_IBEC,MATCH($B113,'Licence Info'!$B$40:$B$64,FALSE),MATCH(Control!J$101,'Licence Info'!$C$37:$DW$37,FALSE))*$C$9+OFFSET(Licence_Subst,MATCH($B113,'Licence Info'!$B$74:$B$98,FALSE),MATCH(Control!J$101,'Licence Info'!$C$71:$DW$71,FALSE))*$C$9+OFFSET(Licence_OIEC,MATCH($B113,'Licence Info'!$B$108:$B$132,FALSE),MATCH(Control!J$101,'Licence Info'!$C$105:$DW$105,FALSE))-J51)","v":44.1},{"$f":"MAX(0,OFFSET(Licence_IBEC,MATCH($B113,'Licence Info'!$B$40:$B$64,FALSE),MATCH(Control!K$101,'Licence Info'!$C$37:$DW$37,FALSE))*$C$9+OFFSET(Licence_Subst,MATCH($B113,'Licence Info'!$B$74:$B$98,FALSE),MATCH(Control!K$101,'Licence Info'!$C$71:$DW$71,FALSE))*$C$9+OFFSET(Licence_OIEC,MATCH($B113,'Licence Info'!$B$108:$B$132,FALSE),MATCH(Control!K$101,'Licence Info'!$C$105:$DW$105,FALSE))-K51)","v":44.1},{"$f":"MAX(0,OFFSET(Licence_IBEC,MATCH($B113,'Licence Info'!$B$40:$B$64,FALSE),MATCH(Control!L$101,'Licence Info'!$C$37:$DW$37,FALSE))*$C$9+OFFSET(Licence_Subst,MATCH($B113,'Licence Info'!$B$74:$B$98,FALSE),MATCH(Control!L$101,'Licence Info'!$C$71:$DW$71,FALSE))*$C$9+OFFSET(Licence_OIEC,MATCH($B113,'Licence Info'!$B$108:$B$132,FALSE),MATCH(Control!L$101,'Licence Info'!$C$105:$DW$105,FALSE))-L51)","v":44.1},{"$f":"MAX(0,OFFSET(Licence_IBEC,MATCH($B113,'Licence Info'!$B$40:$B$64,FALSE),MATCH(Control!M$101,'Licence Info'!$C$37:$DW$37,FALSE))*$C$9+OFFSET(Licence_Subst,MATCH($B113,'Licence Info'!$B$74:$B$98,FALSE),MATCH(Control!M$101,'Licence Info'!$C$71:$DW$71,FALSE))*$C$9+OFFSET(Licence_OIEC,MATCH($B113,'Licence Info'!$B$108:$B$132,FALSE),MATCH(Control!M$101,'Licence Info'!$C$105:$DW$105,FALSE))-M51)","v":44.1},{"$f":"MAX(0,OFFSET(Licence_IBEC,MATCH($B113,'Licence Info'!$B$40:$B$64,FALSE),MATCH(Control!N$101,'Licence Info'!$C$37:$DW$37,FALSE))*$C$9+OFFSET(Licence_Subst,MATCH($B113,'Licence Info'!$B$74:$B$98,FALSE),MATCH(Control!N$101,'Licence Info'!$C$71:$DW$71,FALSE))*$C$9+OFFSET(Licence_OIEC,MATCH($B113,'Licence Info'!$B$108:$B$132,FALSE),MATCH(Control!N$101,'Licence Info'!$C$105:$DW$105,FALSE))-N51)","v":44.1},{"$f":"MAX(0,OFFSET(Licence_IBEC,MATCH($B113,'Licence Info'!$B$40:$B$64,FALSE),MATCH(Control!O$101,'Licence Info'!$C$37:$DW$37,FALSE))*$C$9+OFFSET(Licence_Subst,MATCH($B113,'Licence Info'!$B$74:$B$98,FALSE),MATCH(Control!O$101,'Licence Info'!$C$71:$DW$71,FALSE))*$C$9+OFFSET(Licence_OIEC,MATCH($B113,'Licence Info'!$B$108:$B$132,FALSE),MATCH(Control!O$101,'Licence Info'!$C$105:$DW$105,FALSE))-O51)","v":44.1},{"$f":"MAX(0,OFFSET(Licence_IBEC,MATCH($B113,'Licence Info'!$B$40:$B$64,FALSE),MATCH(Control!P$101,'Licence Info'!$C$37:$DW$37,FALSE))*$C$9+OFFSET(Licence_Subst,MATCH($B113,'Licence Info'!$B$74:$B$98,FALSE),MATCH(Control!P$101,'Licence Info'!$C$71:$DW$71,FALSE))*$C$9+OFFSET(Licence_OIEC,MATCH($B113,'Licence Info'!$B$108:$B$132,FALSE),MATCH(Control!P$101,'Licence Info'!$C$105:$DW$105,FALSE))-P51)","v":44.1},{"$f":"MAX(0,OFFSET(Licence_IBEC,MATCH($B113,'Licence Info'!$B$40:$B$64,FALSE),MATCH(Control!Q$101,'Licence Info'!$C$37:$DW$37,FALSE))*$C$9+OFFSET(Licence_Subst,MATCH($B113,'Licence Info'!$B$74:$B$98,FALSE),MATCH(Control!Q$101,'Licence Info'!$C$71:$DW$71,FALSE))*$C$9+OFFSET(Licence_OIEC,MATCH($B113,'Licence Info'!$B$108:$B$132,FALSE),MATCH(Control!Q$101,'Licence Info'!$C$105:$DW$105,FALSE))-Q51)","v":44.1},{"$f":"MAX(0,OFFSET(Licence_IBEC,MATCH($B113,'Licence Info'!$B$40:$B$64,FALSE),MATCH(Control!R$101,'Licence Info'!$C$37:$DW$37,FALSE))*$C$9+OFFSET(Licence_Subst,MATCH($B113,'Licence Info'!$B$74:$B$98,FALSE),MATCH(Control!R$101,'Licence Info'!$C$71:$DW$71,FALSE))*$C$9+OFFSET(Licence_OIEC,MATCH($B113,'Licence Info'!$B$108:$B$132,FALSE),MATCH(Control!R$101,'Licence Info'!$C$105:$DW$105,FALSE))-R51)","v":44.1},{"$f":"MAX(0,OFFSET(Licence_IBEC,MATCH($B113,'Licence Info'!$B$40:$B$64,FALSE),MATCH(Control!S$101,'Licence Info'!$C$37:$DW$37,FALSE))*$C$9+OFFSET(Licence_Subst,MATCH($B113,'Licence Info'!$B$74:$B$98,FALSE),MATCH(Control!S$101,'Licence Info'!$C$71:$DW$71,FALSE))*$C$9+OFFSET(Licence_OIEC,MATCH($B113,'Licence Info'!$B$108:$B$132,FALSE),MATCH(Control!S$101,'Licence Info'!$C$105:$DW$105,FALSE))-S51)","v":44.1},{"$f":"MAX(0,OFFSET(Licence_IBEC,MATCH($B113,'Licence Info'!$B$40:$B$64,FALSE),MATCH(Control!T$101,'Licence Info'!$C$37:$DW$37,FALSE))*$C$9+OFFSET(Licence_Subst,MATCH($B113,'Licence Info'!$B$74:$B$98,FALSE),MATCH(Control!T$101,'Licence Info'!$C$71:$DW$71,FALSE))*$C$9+OFFSET(Licence_OIEC,MATCH($B113,'Licence Info'!$B$108:$B$132,FALSE),MATCH(Control!T$101,'Licence Info'!$C$105:$DW$105,FALSE))-T51)","v":44.1},{"$f":"MAX(0,OFFSET(Licence_IBEC,MATCH($B113,'Licence Info'!$B$40:$B$64,FALSE),MATCH(Control!U$101,'Licence Info'!$C$37:$DW$37,FALSE))*$C$9+OFFSET(Licence_Subst,MATCH($B113,'Licence Info'!$B$74:$B$98,FALSE),MATCH(Control!U$101,'Licence Info'!$C$71:$DW$71,FALSE))*$C$9+OFFSET(Licence_OIEC,MATCH($B113,'Licence Info'!$B$108:$B$132,FALSE),MATCH(Control!U$101,'Licence Info'!$C$105:$DW$105,FALSE))-U51)","v":44.1},{"$f":"MAX(0,OFFSET(Licence_IBEC,MATCH($B113,'Licence Info'!$B$40:$B$64,FALSE),MATCH(Control!V$101,'Licence Info'!$C$37:$DW$37,FALSE))*$C$9+OFFSET(Licence_Subst,MATCH($B113,'Licence Info'!$B$74:$B$98,FALSE),MATCH(Control!V$101,'Licence Info'!$C$71:$DW$71,FALSE))*$C$9+OFFSET(Licence_OIEC,MATCH($B113,'Licence Info'!$B$108:$B$132,FALSE),MATCH(Control!V$101,'Licence Info'!$C$105:$DW$105,FALSE))-V51)","v":44.1},{"$f":"MAX(0,OFFSET(Licence_IBEC,MATCH($B113,'Licence Info'!$B$40:$B$64,FALSE),MATCH(Control!W$101,'Licence Info'!$C$37:$DW$37,FALSE))*$C$9+OFFSET(Licence_Subst,MATCH($B113,'Licence Info'!$B$74:$B$98,FALSE),MATCH(Control!W$101,'Licence Info'!$C$71:$DW$71,FALSE))*$C$9+OFFSET(Licence_OIEC,MATCH($B113,'Licence Info'!$B$108:$B$132,FALSE),MATCH(Control!W$101,'Licence Info'!$C$105:$DW$105,FALSE))-W51)","v":44.1},{"$f":"MAX(0,OFFSET(Licence_IBEC,MATCH($B113,'Licence Info'!$B$40:$B$64,FALSE),MATCH(Control!X$101,'Licence Info'!$C$37:$DW$37,FALSE))*$C$9+OFFSET(Licence_Subst,MATCH($B113,'Licence Info'!$B$74:$B$98,FALSE),MATCH(Control!X$101,'Licence Info'!$C$71:$DW$71,FALSE))*$C$9+OFFSET(Licence_OIEC,MATCH($B113,'Licence Info'!$B$108:$B$132,FALSE),MATCH(Control!X$101,'Licence Info'!$C$105:$DW$105,FALSE))-X51)","v":44.1},{"$f":"MAX(0,OFFSET(Licence_IBEC,MATCH($B113,'Licence Info'!$B$40:$B$64,FALSE),MATCH(Control!Y$101,'Licence Info'!$C$37:$DW$37,FALSE))*$C$9+OFFSET(Licence_Subst,MATCH($B113,'Licence Info'!$B$74:$B$98,FALSE),MATCH(Control!Y$101,'Licence Info'!$C$71:$DW$71,FALSE))*$C$9+OFFSET(Licence_OIEC,MATCH($B113,'Licence Info'!$B$108:$B$132,FALSE),MATCH(Control!Y$101,'Licence Info'!$C$105:$DW$105,FALSE))-Y51)","v":44.1},{"$f":"MAX(0,OFFSET(Licence_IBEC,MATCH($B113,'Licence Info'!$B$40:$B$64,FALSE),MATCH(Control!Z$101,'Licence Info'!$C$37:$DW$37,FALSE))*$C$9+OFFSET(Licence_Subst,MATCH($B113,'Licence Info'!$B$74:$B$98,FALSE),MATCH(Control!Z$101,'Licence Info'!$C$71:$DW$71,FALSE))*$C$9+OFFSET(Licence_OIEC,MATCH($B113,'Licence Info'!$B$108:$B$132,FALSE),MATCH(Control!Z$101,'Licence Info'!$C$105:$DW$105,FALSE))-Z51)","v":44.1},{"$f":"MAX(0,OFFSET(Licence_IBEC,MATCH($B113,'Licence Info'!$B$40:$B$64,FALSE),MATCH(Control!AA$101,'Licence Info'!$C$37:$DW$37,FALSE))*$C$9+OFFSET(Licence_Subst,MATCH($B113,'Licence Info'!$B$74:$B$98,FALSE),MATCH(Control!AA$101,'Licence Info'!$C$71:$DW$71,FALSE))*$C$9+OFFSET(Licence_OIEC,MATCH($B113,'Licence Info'!$B$108:$B$132,FALSE),MATCH(Control!AA$101,'Licence Info'!$C$105:$DW$105,FALSE))-AA51)","v":44.1},{"$f":"MAX(0,OFFSET(Licence_IBEC,MATCH($B113,'Licence Info'!$B$40:$B$64,FALSE),MATCH(Control!AB$101,'Licence Info'!$C$37:$DW$37,FALSE))*$C$9+OFFSET(Licence_Subst,MATCH($B113,'Licence Info'!$B$74:$B$98,FALSE),MATCH(Control!AB$101,'Licence Info'!$C$71:$DW$71,FALSE))*$C$9+OFFSET(Licence_OIEC,MATCH($B113,'Licence Info'!$B$108:$B$132,FALSE),MATCH(Control!AB$101,'Licence Info'!$C$105:$DW$105,FALSE))-AB51)","v":44.1},{"$f":"MAX(0,OFFSET(Licence_IBEC,MATCH($B113,'Licence Info'!$B$40:$B$64,FALSE),MATCH(Control!AC$101,'Licence Info'!$C$37:$DW$37,FALSE))*$C$9+OFFSET(Licence_Subst,MATCH($B113,'Licence Info'!$B$74:$B$98,FALSE),MATCH(Control!AC$101,'Licence Info'!$C$71:$DW$71,FALSE))*$C$9+OFFSET(Licence_OIEC,MATCH($B113,'Licence Info'!$B$108:$B$132,FALSE),MATCH(Control!AC$101,'Licence Info'!$C$105:$DW$105,FALSE))-AC51)","v":44.1},{"$f":"MAX(0,OFFSET(Licence_IBEC,MATCH($B113,'Licence Info'!$B$40:$B$64,FALSE),MATCH(Control!AD$101,'Licence Info'!$C$37:$DW$37,FALSE))*$C$9+OFFSET(Licence_Subst,MATCH($B113,'Licence Info'!$B$74:$B$98,FALSE),MATCH(Control!AD$101,'Licence Info'!$C$71:$DW$71,FALSE))*$C$9+OFFSET(Licence_OIEC,MATCH($B113,'Licence Info'!$B$108:$B$132,FALSE),MATCH(Control!AD$101,'Licence Info'!$C$105:$DW$105,FALSE))-AD51)","v":44.1},{"$f":"MAX(0,OFFSET(Licence_IBEC,MATCH($B113,'Licence Info'!$B$40:$B$64,FALSE),MATCH(Control!AE$101,'Licence Info'!$C$37:$DW$37,FALSE))*$C$9+OFFSET(Licence_Subst,MATCH($B113,'Licence Info'!$B$74:$B$98,FALSE),MATCH(Control!AE$101,'Licence Info'!$C$71:$DW$71,FALSE))*$C$9+OFFSET(Licence_OIEC,MATCH($B113,'Licence Info'!$B$108:$B$132,FALSE),MATCH(Control!AE$101,'Licence Info'!$C$105:$DW$105,FALSE))-AE51)","v":44.1},{"$f":"MAX(0,OFFSET(Licence_IBEC,MATCH($B113,'Licence Info'!$B$40:$B$64,FALSE),MATCH(Control!AF$101,'Licence Info'!$C$37:$DW$37,FALSE))*$C$9+OFFSET(Licence_Subst,MATCH($B113,'Licence Info'!$B$74:$B$98,FALSE),MATCH(Control!AF$101,'Licence Info'!$C$71:$DW$71,FALSE))*$C$9+OFFSET(Licence_OIEC,MATCH($B113,'Licence Info'!$B$108:$B$132,FALSE),MATCH(Control!AF$101,'Licence Info'!$C$105:$DW$105,FALSE))-AF51)","v":44.1},{"$f":"MAX(0,OFFSET(Licence_IBEC,MATCH($B113,'Licence Info'!$B$40:$B$64,FALSE),MATCH(Control!AG$101,'Licence Info'!$C$37:$DW$37,FALSE))*$C$9+OFFSET(Licence_Subst,MATCH($B113,'Licence Info'!$B$74:$B$98,FALSE),MATCH(Control!AG$101,'Licence Info'!$C$71:$DW$71,FALSE))*$C$9+OFFSET(Licence_OIEC,MATCH($B113,'Licence Info'!$B$108:$B$132,FALSE),MATCH(Control!AG$101,'Licence Info'!$C$105:$DW$105,FALSE))-AG51)","v":44.1},{"$f":"MAX(0,OFFSET(Licence_IBEC,MATCH($B113,'Licence Info'!$B$40:$B$64,FALSE),MATCH(Control!AH$101,'Licence Info'!$C$37:$DW$37,FALSE))*$C$9+OFFSET(Licence_Subst,MATCH($B113,'Licence Info'!$B$74:$B$98,FALSE),MATCH(Control!AH$101,'Licence Info'!$C$71:$DW$71,FALSE))*$C$9+OFFSET(Licence_OIEC,MATCH($B113,'Licence Info'!$B$108:$B$132,FALSE),MATCH(Control!AH$101,'Licence Info'!$C$105:$DW$105,FALSE))-AH51)","v":44.1},{"$f":"MAX(0,OFFSET(Licence_IBEC,MATCH($B113,'Licence Info'!$B$40:$B$64,FALSE),MATCH(Control!AI$101,'Licence Info'!$C$37:$DW$37,FALSE))*$C$9+OFFSET(Licence_Subst,MATCH($B113,'Licence Info'!$B$74:$B$98,FALSE),MATCH(Control!AI$101,'Licence Info'!$C$71:$DW$71,FALSE))*$C$9+OFFSET(Licence_OIEC,MATCH($B113,'Licence Info'!$B$108:$B$132,FALSE),MATCH(Control!AI$101,'Licence Info'!$C$105:$DW$105,FALSE))-AI51)","v":44.1},{"$f":"MAX(0,OFFSET(Licence_IBEC,MATCH($B113,'Licence Info'!$B$40:$B$64,FALSE),MATCH(Control!AJ$101,'Licence Info'!$C$37:$DW$37,FALSE))*$C$9+OFFSET(Licence_Subst,MATCH($B113,'Licence Info'!$B$74:$B$98,FALSE),MATCH(Control!AJ$101,'Licence Info'!$C$71:$DW$71,FALSE))*$C$9+OFFSET(Licence_OIEC,MATCH($B113,'Licence Info'!$B$108:$B$132,FALSE),MATCH(Control!AJ$101,'Licence Info'!$C$105:$DW$105,FALSE))-AJ51)","v":44.1},{"$f":"MAX(0,OFFSET(Licence_IBEC,MATCH($B113,'Licence Info'!$B$40:$B$64,FALSE),MATCH(Control!AK$101,'Licence Info'!$C$37:$DW$37,FALSE))*$C$9+OFFSET(Licence_Subst,MATCH($B113,'Licence Info'!$B$74:$B$98,FALSE),MATCH(Control!AK$101,'Licence Info'!$C$71:$DW$71,FALSE))*$C$9+OFFSET(Licence_OIEC,MATCH($B113,'Licence Info'!$B$108:$B$132,FALSE),MATCH(Control!AK$101,'Licence Info'!$C$105:$DW$105,FALSE))-AK51)","v":44.1},{"$f":"MAX(0,OFFSET(Licence_IBEC,MATCH($B113,'Licence Info'!$B$40:$B$64,FALSE),MATCH(Control!AL$101,'Licence Info'!$C$37:$DW$37,FALSE))*$C$9+OFFSET(Licence_Subst,MATCH($B113,'Licence Info'!$B$74:$B$98,FALSE),MATCH(Control!AL$101,'Licence Info'!$C$71:$DW$71,FALSE))*$C$9+OFFSET(Licence_OIEC,MATCH($B113,'Licence Info'!$B$108:$B$132,FALSE),MATCH(Control!AL$101,'Licence Info'!$C$105:$DW$105,FALSE))-AL51)","v":44.1},{"$f":"MAX(0,OFFSET(Licence_IBEC,MATCH($B113,'Licence Info'!$B$40:$B$64,FALSE),MATCH(Control!AM$101,'Licence Info'!$C$37:$DW$37,FALSE))*$C$9+OFFSET(Licence_Subst,MATCH($B113,'Licence Info'!$B$74:$B$98,FALSE),MATCH(Control!AM$101,'Licence Info'!$C$71:$DW$71,FALSE))*$C$9+OFFSET(Licence_OIEC,MATCH($B113,'Licence Info'!$B$108:$B$132,FALSE),MATCH(Control!AM$101,'Licence Info'!$C$105:$DW$105,FALSE))-AM51)","v":44.1},{"$f":"MAX(0,OFFSET(Licence_IBEC,MATCH($B113,'Licence Info'!$B$40:$B$64,FALSE),MATCH(Control!AN$101,'Licence Info'!$C$37:$DW$37,FALSE))*$C$9+OFFSET(Licence_Subst,MATCH($B113,'Licence Info'!$B$74:$B$98,FALSE),MATCH(Control!AN$101,'Licence Info'!$C$71:$DW$71,FALSE))*$C$9+OFFSET(Licence_OIEC,MATCH($B113,'Licence Info'!$B$108:$B$132,FALSE),MATCH(Control!AN$101,'Licence Info'!$C$105:$DW$105,FALSE))-AN51)","v":44.1},{"$f":"MAX(0,OFFSET(Licence_IBEC,MATCH($B113,'Licence Info'!$B$40:$B$64,FALSE),MATCH(Control!AO$101,'Licence Info'!$C$37:$DW$37,FALSE))*$C$9+OFFSET(Licence_Subst,MATCH($B113,'Licence Info'!$B$74:$B$98,FALSE),MATCH(Control!AO$101,'Licence Info'!$C$71:$DW$71,FALSE))*$C$9+OFFSET(Licence_OIEC,MATCH($B113,'Licence Info'!$B$108:$B$132,FALSE),MATCH(Control!AO$101,'Licence Info'!$C$105:$DW$105,FALSE))-AO51)","v":44.1},{"$f":"MAX(0,OFFSET(Licence_IBEC,MATCH($B113,'Licence Info'!$B$40:$B$64,FALSE),MATCH(Control!AP$101,'Licence Info'!$C$37:$DW$37,FALSE))*$C$9+OFFSET(Licence_Subst,MATCH($B113,'Licence Info'!$B$74:$B$98,FALSE),MATCH(Control!AP$101,'Licence Info'!$C$71:$DW$71,FALSE))*$C$9+OFFSET(Licence_OIEC,MATCH($B113,'Licence Info'!$B$108:$B$132,FALSE),MATCH(Control!AP$101,'Licence Info'!$C$105:$DW$105,FALSE))-AP51)","v":44.1},{"$f":"MAX(0,OFFSET(Licence_IBEC,MATCH($B113,'Licence Info'!$B$40:$B$64,FALSE),MATCH(Control!AQ$101,'Licence Info'!$C$37:$DW$37,FALSE))*$C$9+OFFSET(Licence_Subst,MATCH($B113,'Licence Info'!$B$74:$B$98,FALSE),MATCH(Control!AQ$101,'Licence Info'!$C$71:$DW$71,FALSE))*$C$9+OFFSET(Licence_OIEC,MATCH($B113,'Licence Info'!$B$108:$B$132,FALSE),MATCH(Control!AQ$101,'Licence Info'!$C$105:$DW$105,FALSE))-AQ51)","v":44.1},{"$f":"MAX(0,OFFSET(Licence_IBEC,MATCH($B113,'Licence Info'!$B$40:$B$64,FALSE),MATCH(Control!AR$101,'Licence Info'!$C$37:$DW$37,FALSE))*$C$9+OFFSET(Licence_Subst,MATCH($B113,'Licence Info'!$B$74:$B$98,FALSE),MATCH(Control!AR$101,'Licence Info'!$C$71:$DW$71,FALSE))*$C$9+OFFSET(Licence_OIEC,MATCH($B113,'Licence Info'!$B$108:$B$132,FALSE),MATCH(Control!AR$101,'Licence Info'!$C$105:$DW$105,FALSE))-AR51)","v":44.1},{"$f":"MAX(0,OFFSET(Licence_IBEC,MATCH($B113,'Licence Info'!$B$40:$B$64,FALSE),MATCH(Control!AS$101,'Licence Info'!$C$37:$DW$37,FALSE))*$C$9+OFFSET(Licence_Subst,MATCH($B113,'Licence Info'!$B$74:$B$98,FALSE),MATCH(Control!AS$101,'Licence Info'!$C$71:$DW$71,FALSE))*$C$9+OFFSET(Licence_OIEC,MATCH($B113,'Licence Info'!$B$108:$B$132,FALSE),MATCH(Control!AS$101,'Licence Info'!$C$105:$DW$105,FALSE))-AS51)","v":44.1},{"$f":"MAX(0,OFFSET(Licence_IBEC,MATCH($B113,'Licence Info'!$B$40:$B$64,FALSE),MATCH(Control!AT$101,'Licence Info'!$C$37:$DW$37,FALSE))*$C$9+OFFSET(Licence_Subst,MATCH($B113,'Licence Info'!$B$74:$B$98,FALSE),MATCH(Control!AT$101,'Licence Info'!$C$71:$DW$71,FALSE))*$C$9+OFFSET(Licence_OIEC,MATCH($B113,'Licence Info'!$B$108:$B$132,FALSE),MATCH(Control!AT$101,'Licence Info'!$C$105:$DW$105,FALSE))-AT51)","v":44.1},{"$f":"MAX(0,OFFSET(Licence_IBEC,MATCH($B113,'Licence Info'!$B$40:$B$64,FALSE),MATCH(Control!AU$101,'Licence Info'!$C$37:$DW$37,FALSE))*$C$9+OFFSET(Licence_Subst,MATCH($B113,'Licence Info'!$B$74:$B$98,FALSE),MATCH(Control!AU$101,'Licence Info'!$C$71:$DW$71,FALSE))*$C$9+OFFSET(Licence_OIEC,MATCH($B113,'Licence Info'!$B$108:$B$132,FALSE),MATCH(Control!AU$101,'Licence Info'!$C$105:$DW$105,FALSE))-AU51)","v":44.1},{"$f":"MAX(0,OFFSET(Licence_IBEC,MATCH($B113,'Licence Info'!$B$40:$B$64,FALSE),MATCH(Control!AV$101,'Licence Info'!$C$37:$DW$37,FALSE))*$C$9+OFFSET(Licence_Subst,MATCH($B113,'Licence Info'!$B$74:$B$98,FALSE),MATCH(Control!AV$101,'Licence Info'!$C$71:$DW$71,FALSE))*$C$9+OFFSET(Licence_OIEC,MATCH($B113,'Licence Info'!$B$108:$B$132,FALSE),MATCH(Control!AV$101,'Licence Info'!$C$105:$DW$105,FALSE))-AV51)","v":44.1},{"$f":"MAX(0,OFFSET(Licence_IBEC,MATCH($B113,'Licence Info'!$B$40:$B$64,FALSE),MATCH(Control!AW$101,'Licence Info'!$C$37:$DW$37,FALSE))*$C$9+OFFSET(Licence_Subst,MATCH($B113,'Licence Info'!$B$74:$B$98,FALSE),MATCH(Control!AW$101,'Licence Info'!$C$71:$DW$71,FALSE))*$C$9+OFFSET(Licence_OIEC,MATCH($B113,'Licence Info'!$B$108:$B$132,FALSE),MATCH(Control!AW$101,'Licence Info'!$C$105:$DW$105,FALSE))-AW51)","v":44.1},{"$f":"MAX(0,OFFSET(Licence_IBEC,MATCH($B113,'Licence Info'!$B$40:$B$64,FALSE),MATCH(Control!AX$101,'Licence Info'!$C$37:$DW$37,FALSE))*$C$9+OFFSET(Licence_Subst,MATCH($B113,'Licence Info'!$B$74:$B$98,FALSE),MATCH(Control!AX$101,'Licence Info'!$C$71:$DW$71,FALSE))*$C$9+OFFSET(Licence_OIEC,MATCH($B113,'Licence Info'!$B$108:$B$132,FALSE),MATCH(Control!AX$101,'Licence Info'!$C$105:$DW$105,FALSE))-AX51)","v":44.1},{"$f":"MAX(0,OFFSET(Licence_IBEC,MATCH($B113,'Licence Info'!$B$40:$B$64,FALSE),MATCH(Control!AY$101,'Licence Info'!$C$37:$DW$37,FALSE))*$C$9+OFFSET(Licence_Subst,MATCH($B113,'Licence Info'!$B$74:$B$98,FALSE),MATCH(Control!AY$101,'Licence Info'!$C$71:$DW$71,FALSE))*$C$9+OFFSET(Licence_OIEC,MATCH($B113,'Licence Info'!$B$108:$B$132,FALSE),MATCH(Control!AY$101,'Licence Info'!$C$105:$DW$105,FALSE))-AY51)","v":44.1},{"$f":"MAX(0,OFFSET(Licence_IBEC,MATCH($B113,'Licence Info'!$B$40:$B$64,FALSE),MATCH(Control!AZ$101,'Licence Info'!$C$37:$DW$37,FALSE))*$C$9+OFFSET(Licence_Subst,MATCH($B113,'Licence Info'!$B$74:$B$98,FALSE),MATCH(Control!AZ$101,'Licence Info'!$C$71:$DW$71,FALSE))*$C$9+OFFSET(Licence_OIEC,MATCH($B113,'Licence Info'!$B$108:$B$132,FALSE),MATCH(Control!AZ$101,'Licence Info'!$C$105:$DW$105,FALSE))-AZ51)","v":44.1},{"$f":"MAX(0,OFFSET(Licence_IBEC,MATCH($B113,'Licence Info'!$B$40:$B$64,FALSE),MATCH(Control!BA$101,'Licence Info'!$C$37:$DW$37,FALSE))*$C$9+OFFSET(Licence_Subst,MATCH($B113,'Licence Info'!$B$74:$B$98,FALSE),MATCH(Control!BA$101,'Licence Info'!$C$71:$DW$71,FALSE))*$C$9+OFFSET(Licence_OIEC,MATCH($B113,'Licence Info'!$B$108:$B$132,FALSE),MATCH(Control!BA$101,'Licence Info'!$C$105:$DW$105,FALSE))-BA51)","v":44.1},{"$f":"MAX(0,OFFSET(Licence_IBEC,MATCH($B113,'Licence Info'!$B$40:$B$64,FALSE),MATCH(Control!BB$101,'Licence Info'!$C$37:$DW$37,FALSE))*$C$9+OFFSET(Licence_Subst,MATCH($B113,'Licence Info'!$B$74:$B$98,FALSE),MATCH(Control!BB$101,'Licence Info'!$C$71:$DW$71,FALSE))*$C$9+OFFSET(Licence_OIEC,MATCH($B113,'Licence Info'!$B$108:$B$132,FALSE),MATCH(Control!BB$101,'Licence Info'!$C$105:$DW$105,FALSE))-BB51)","v":44.1},{"$f":"MAX(0,OFFSET(Licence_IBEC,MATCH($B113,'Licence Info'!$B$40:$B$64,FALSE),MATCH(Control!BC$101,'Licence Info'!$C$37:$DW$37,FALSE))*$C$9+OFFSET(Licence_Subst,MATCH($B113,'Licence Info'!$B$74:$B$98,FALSE),MATCH(Control!BC$101,'Licence Info'!$C$71:$DW$71,FALSE))*$C$9+OFFSET(Licence_OIEC,MATCH($B113,'Licence Info'!$B$108:$B$132,FALSE),MATCH(Control!BC$101,'Licence Info'!$C$105:$DW$105,FALSE))-BC51)","v":44.1},{"$f":"MAX(0,OFFSET(Licence_IBEC,MATCH($B113,'Licence Info'!$B$40:$B$64,FALSE),MATCH(Control!BD$101,'Licence Info'!$C$37:$DW$37,FALSE))*$C$9+OFFSET(Licence_Subst,MATCH($B113,'Licence Info'!$B$74:$B$98,FALSE),MATCH(Control!BD$101,'Licence Info'!$C$71:$DW$71,FALSE))*$C$9+OFFSET(Licence_OIEC,MATCH($B113,'Licence Info'!$B$108:$B$132,FALSE),MATCH(Control!BD$101,'Licence Info'!$C$105:$DW$105,FALSE))-BD51)","v":44.1},{"$f":"MAX(0,OFFSET(Licence_IBEC,MATCH($B113,'Licence Info'!$B$40:$B$64,FALSE),MATCH(Control!BE$101,'Licence Info'!$C$37:$DW$37,FALSE))*$C$9+OFFSET(Licence_Subst,MATCH($B113,'Licence Info'!$B$74:$B$98,FALSE),MATCH(Control!BE$101,'Licence Info'!$C$71:$DW$71,FALSE))*$C$9+OFFSET(Licence_OIEC,MATCH($B113,'Licence Info'!$B$108:$B$132,FALSE),MATCH(Control!BE$101,'Licence Info'!$C$105:$DW$105,FALSE))-BE51)","v":44.1},{"$f":"MAX(0,OFFSET(Licence_IBEC,MATCH($B113,'Licence Info'!$B$40:$B$64,FALSE),MATCH(Control!BF$101,'Licence Info'!$C$37:$DW$37,FALSE))*$C$9+OFFSET(Licence_Subst,MATCH($B113,'Licence Info'!$B$74:$B$98,FALSE),MATCH(Control!BF$101,'Licence Info'!$C$71:$DW$71,FALSE))*$C$9+OFFSET(Licence_OIEC,MATCH($B113,'Licence Info'!$B$108:$B$132,FALSE),MATCH(Control!BF$101,'Licence Info'!$C$105:$DW$105,FALSE))-BF51)","v":44.1},{"$f":"MAX(0,OFFSET(Licence_IBEC,MATCH($B113,'Licence Info'!$B$40:$B$64,FALSE),MATCH(Control!BG$101,'Licence Info'!$C$37:$DW$37,FALSE))*$C$9+OFFSET(Licence_Subst,MATCH($B113,'Licence Info'!$B$74:$B$98,FALSE),MATCH(Control!BG$101,'Licence Info'!$C$71:$DW$71,FALSE))*$C$9+OFFSET(Licence_OIEC,MATCH($B113,'Licence Info'!$B$108:$B$132,FALSE),MATCH(Control!BG$101,'Licence Info'!$C$105:$DW$105,FALSE))-BG51)","v":44.1},{"$f":"MAX(0,OFFSET(Licence_IBEC,MATCH($B113,'Licence Info'!$B$40:$B$64,FALSE),MATCH(Control!BH$101,'Licence Info'!$C$37:$DW$37,FALSE))*$C$9+OFFSET(Licence_Subst,MATCH($B113,'Licence Info'!$B$74:$B$98,FALSE),MATCH(Control!BH$101,'Licence Info'!$C$71:$DW$71,FALSE))*$C$9+OFFSET(Licence_OIEC,MATCH($B113,'Licence Info'!$B$108:$B$132,FALSE),MATCH(Control!BH$101,'Licence Info'!$C$105:$DW$105,FALSE))-BH51)","v":44.1},{"$f":"MAX(0,OFFSET(Licence_IBEC,MATCH($B113,'Licence Info'!$B$40:$B$64,FALSE),MATCH(Control!BI$101,'Licence Info'!$C$37:$DW$37,FALSE))*$C$9+OFFSET(Licence_Subst,MATCH($B113,'Licence Info'!$B$74:$B$98,FALSE),MATCH(Control!BI$101,'Licence Info'!$C$71:$DW$71,FALSE))*$C$9+OFFSET(Licence_OIEC,MATCH($B113,'Licence Info'!$B$108:$B$132,FALSE),MATCH(Control!BI$101,'Licence Info'!$C$105:$DW$105,FALSE))-BI51)","v":44.1},{"$f":"MAX(0,OFFSET(Licence_IBEC,MATCH($B113,'Licence Info'!$B$40:$B$64,FALSE),MATCH(Control!BJ$101,'Licence Info'!$C$37:$DW$37,FALSE))*$C$9+OFFSET(Licence_Subst,MATCH($B113,'Licence Info'!$B$74:$B$98,FALSE),MATCH(Control!BJ$101,'Licence Info'!$C$71:$DW$71,FALSE))*$C$9+OFFSET(Licence_OIEC,MATCH($B113,'Licence Info'!$B$108:$B$132,FALSE),MATCH(Control!BJ$101,'Licence Info'!$C$105:$DW$105,FALSE))-BJ51)","v":44.1},{"$f":"MAX(0,OFFSET(Licence_IBEC,MATCH($B113,'Licence Info'!$B$40:$B$64,FALSE),MATCH(Control!BK$101,'Licence Info'!$C$37:$DW$37,FALSE))*$C$9+OFFSET(Licence_Subst,MATCH($B113,'Licence Info'!$B$74:$B$98,FALSE),MATCH(Control!BK$101,'Licence Info'!$C$71:$DW$71,FALSE))*$C$9+OFFSET(Licence_OIEC,MATCH($B113,'Licence Info'!$B$108:$B$132,FALSE),MATCH(Control!BK$101,'Licence Info'!$C$105:$DW$105,FALSE))-BK51)","v":{"$error":"#N/A"}}]
[null,"Hornsea",{"$f":"MAX(0,OFFSET(Licence_IBEC,MATCH($B114,'Licence Info'!$B$40:$B$64,FALSE),MATCH(Control!C$101,'Licence Info'!$C$37:$DW$37,FALSE))*$C$9+OFFSET(Licence_Subst,MATCH($B114,'Licence Info'!$B$74:$B$98,FALSE),MATCH(Control!C$101,'Licence Info'!$C$71:$DW$71,FALSE))*$C$9+OFFSET(Licence_OIEC,MATCH($B114,'Licence Info'!$B$108:$B$132,FALSE),MATCH(Control!C$101,'Licence Info'!$C$105:$DW$105,FALSE))-C52)","v":209.79},{"$f":"MAX(0,OFFSET(Licence_IBEC,MATCH($B114,'Licence Info'!$B$40:$B$64,FALSE),MATCH(Control!D$101,'Licence Info'!$C$37:$DW$37,FALSE))*$C$9+OFFSET(Licence_Subst,MATCH($B114,'Licence Info'!$B$74:$B$98,FALSE),MATCH(Control!D$101,'Licence Info'!$C$71:$DW$71,FALSE))*$C$9+OFFSET(Licence_OIEC,MATCH($B114,'Licence Info'!$B$108:$B$132,FALSE),MATCH(Control!D$101,'Licence Info'!$C$105:$DW$105,FALSE))-D52)","v":4},{"$f":"MAX(0,OFFSET(Licence_IBEC,MATCH($B114,'Licence Info'!$B$40:$B$64,FALSE),MATCH(Control!E$101,'Licence Info'!$C$37:$DW$37,FALSE))*$C$9+OFFSET(Licence_Subst,MATCH($B114,'Licence Info'!$B$74:$B$98,FALSE),MATCH(Control!E$101,'Licence Info'!$C$71:$DW$71,FALSE))*$C$9+OFFSET(Licence_OIEC,MATCH($B114,'Licence Info'!$B$108:$B$132,FALSE),MATCH(Control!E$101,'Licence Info'!$C$105:$DW$105,FALSE))-E52)","v":209.79},{"$f":"MAX(0,OFFSET(Licence_IBEC,MATCH($B114,'Licence Info'!$B$40:$B$64,FALSE),MATCH(Control!F$101,'Licence Info'!$C$37:$DW$37,FALSE))*$C$9+OFFSET(Licence_Subst,MATCH($B114,'Licence Info'!$B$74:$B$98,FALSE),MATCH(Control!F$101,'Licence Info'!$C$71:$DW$71,FALSE))*$C$9+OFFSET(Licence_OIEC,MATCH($B114,'Licence Info'!$B$108:$B$132,FALSE),MATCH(Control!F$101,'Licence Info'!$C$105:$DW$105,FALSE))-F52)","v":209.79},{"$f":"MAX(0,OFFSET(Licence_IBEC,MATCH($B114,'Licence Info'!$B$40:$B$64,FALSE),MATCH(Control!G$101,'Licence Info'!$C$37:$DW$37,FALSE))*$C$9+OFFSET(Licence_Subst,MATCH($B114,'Licence Info'!$B$74:$B$98,FALSE),MATCH(Control!G$101,'Licence Info'!$C$71:$DW$71,FALSE))*$C$9+OFFSET(Licence_OIEC,MATCH($B114,'Licence Info'!$B$108:$B$132,FALSE),MATCH(Control!G$101,'Licence Info'!$C$105:$DW$105,FALSE))-G52)","v":209.79},{"$f":"MAX(0,OFFSET(Licence_IBEC,MATCH($B114,'Licence Info'!$B$40:$B$64,FALSE),MATCH(Control!H$101,'Licence Info'!$C$37:$DW$37,FALSE))*$C$9+OFFSET(Licence_Subst,MATCH($B114,'Licence Info'!$B$74:$B$98,FALSE),MATCH(Control!H$101,'Licence Info'!$C$71:$DW$71,FALSE))*$C$9+OFFSET(Licence_OIEC,MATCH($B114,'Licence Info'!$B$108:$B$132,FALSE),MATCH(Control!H$101,'Licence Info'!$C$105:$DW$105,FALSE))-H52)","v":4},{"$f":"MAX(0,OFFSET(Licence_IBEC,MATCH($B114,'Licence Info'!$B$40:$B$64,FALSE),MATCH(Control!I$101,'Licence Info'!$C$37:$DW$37,FALSE))*$C$9+OFFSET(Licence_Subst,MATCH($B114,'Licence Info'!$B$74:$B$98,FALSE),MATCH(Control!I$101,'Licence Info'!$C$71:$DW$71,FALSE))*$C$9+OFFSET(Licence_OIEC,MATCH($B114,'Licence Info'!$B$108:$B$132,FALSE),MATCH(Control!I$101,'Licence Info'!$C$105:$DW$105,FALSE))-I52)","v":209.79},{"$f":"MAX(0,OFFSET(Licence_IBEC,MATCH($B114,'Licence Info'!$B$40:$B$64,FALSE),MATCH(Control!J$101,'Licence Info'!$C$37:$DW$37,FALSE))*$C$9+OFFSET(Licence_Subst,MATCH($B114,'Licence Info'!$B$74:$B$98,FALSE),MATCH(Control!J$101,'Licence Info'!$C$71:$DW$71,FALSE))*$C$9+OFFSET(Licence_OIEC,MATCH($B114,'Licence Info'!$B$108:$B$132,FALSE),MATCH(Control!J$101,'Licence Info'!$C$105:$DW$105,FALSE))-J52)","v":209.79},{"$f":"MAX(0,OFFSET(Licence_IBEC,MATCH($B114,'Licence Info'!$B$40:$B$64,FALSE),MATCH(Control!K$101,'Licence Info'!$C$37:$DW$37,FALSE))*$C$9+OFFSET(Licence_Subst,MATCH($B114,'Licence Info'!$B$74:$B$98,FALSE),MATCH(Control!K$101,'Licence Info'!$C$71:$DW$71,FALSE))*$C$9+OFFSET(Licence_OIEC,MATCH($B114,'Licence Info'!$B$108:$B$132,FALSE),MATCH(Control!K$101,'Licence Info'!$C$105:$DW$105,FALSE))-K52)","v":209.79},{"$f":"MAX(0,OFFSET(Licence_IBEC,MATCH($B114,'Licence Info'!$B$40:$B$64,FALSE),MATCH(Control!L$101,'Licence Info'!$C$37:$DW$37,FALSE))*$C$9+OFFSET(Licence_Subst,MATCH($B114,'Licence Info'!$B$74:$B$98,FALSE),MATCH(Control!L$101,'Licence Info'!$C$71:$DW$71,FALSE))*$C$9+OFFSET(Licence_OIEC,MATCH($B114,'Licence Info'!$B$108:$B$132,FALSE),MATCH(Control!L$101,'Licence Info'!$C$105:$DW$105,FALSE))-L52)","v":4},{"$f":"MAX(0,OFFSET(Licence_IBEC,MATCH($B114,'Licence Info'!$B$40:$B$64,FALSE),MATCH(Control!M$101,'Licence Info'!$C$37:$DW$37,FALSE))*$C$9+OFFSET(Licence_Subst,MATCH($B114,'Licence Info'!$B$74:$B$98,FALSE),MATCH(Control!M$101,'Licence Info'!$C$71:$DW$71,FALSE))*$C$9+OFFSET(Licence_OIEC,MATCH($B114,'Licence Info'!$B$108:$B$132,FALSE),MATCH(Control!M$101,'Licence Info'!$C$105:$DW$105,FALSE))-M52)","v":209.79},{"$f":"MAX(0,OFFSET(Licence_IBEC,MATCH($B114,'Licence Info'!$B$40:$B$64,FALSE),MATCH(Control!N$101,'Licence Info'!$C$37:$DW$37,FALSE))*$C$9+OFFSET(Licence_Subst,MATCH($B114,'Licence Info'!$B$74:$B$98,FALSE),MATCH(Control!N$101,'Licence Info'!$C$71:$DW$71,FALSE))*$C$9+OFFSET(Licence_OIEC,MATCH($B114,'Licence Info'!$B$108:$B$132,FALSE),MATCH(Control!N$101,'Licence Info'!$C$105:$DW$105,FALSE))-N52)","v":209.79},{"$f":"MAX(0,OFFSET(Licence_IBEC,MATCH($B114,'Licence Info'!$B$40:$B$64,FALSE),MATCH(Control!O$101,'Licence Info'!$C$37:$DW$37,FALSE))*$C$9+OFFSET(Licence_Subst,MATCH($B114,'Licence Info'!$B$74:$B$98,FALSE),MATCH(Control!O$101,'Licence Info'!$C$71:$DW$71,FALSE))*$C$9+OFFSET(Licence_OIEC,MATCH($B114,'Licence Info'!$B$108:$B$132,FALSE),MATCH(Control!O$101,'Licence Info'!$C$105:$DW$105,FALSE))-O52)","v":209.79},{"$f":"MAX(0,OFFSET(Licence_IBEC,MATCH($B114,'Licence Info'!$B$40:$B$64,FALSE),MATCH(Control!P$101,'Licence Info'!$C$37:$DW$37,FALSE))*$C$9+OFFSET(Licence_Subst,MATCH($B114,'Licence Info'!$B$74:$B$98,FALSE),MATCH(Control!P$101,'Licence Info'!$C$71:$DW$71,FALSE))*$C$9+OFFSET(Licence_OIEC,MATCH($B114,'Licence Info'!$B$108:$B$132,FALSE),MATCH(Control!P$101,'Licence Info'!$C$105:$DW$105,FALSE))-P52)","v":4},{"$f":"MAX(0,OFFSET(Licence_IBEC,MATCH($B114,'Licence Info'!$B$40:$B$64,FALSE),MATCH(Control!Q$101,'Licence Info'!$C$37:$DW$37,FALSE))*$C$9+OFFSET(Licence_Subst,MATCH($B114,'Licence Info'!$B$74:$B$98,FALSE),MATCH(Control!Q$101,'Licence Info'!$C$71:$DW$71,FALSE))*$C$9+OFFSET(Licence_OIEC,MATCH($B114,'Licence Info'!$B$108:$B$132,FALSE),MATCH(Control!Q$101,'Licence Info'!$C$105:$DW$105,FALSE))-Q52)","v":209.79},{"$f":"MAX(0,OFFSET(Licence_IBEC,MATCH($B114,'Licence Info'!$B$40:$B$64,FALSE),MATCH(Control!R$101,'Licence Info'!$C$37:$DW$37,FALSE))*$C$9+OFFSET(Licence_Subst,MATCH($B114,'Licence Info'!$B$74:$B$98,FALSE),MATCH(Control!R$101,'Licence Info'!$C$71:$DW$71,FALSE))*$C$9+OFFSET(Licence_OIEC,MATCH($B114,'Licence Info'!$B$108:$B$132,FALSE),MATCH(Control!R$101,'Licence Info'!$C$105:$DW$105,FALSE))-R52)","v":209.79},{"$f":"MAX(0,OFFSET(Licence_IBEC,MATCH($B114,'Licence Info'!$B$40:$B$64,FALSE),MATCH(Control!S$101,'Licence Info'!$C$37:$DW$37,FALSE))*$C$9+OFFSET(Licence_Subst,MATCH($B114,'Licence Info'!$B$74:$B$98,FALSE),MATCH(Control!S$101,'Licence Info'!$C$71:$DW$71,FALSE))*$C$9+OFFSET(Licence_OIEC,MATCH($B114,'Licence Info'!$B$108:$B$132,FALSE),MATCH(Control!S$101,'Licence Info'!$C$105:$DW$105,FALSE))-S52)","v":209.79},{"$f":"MAX(0,OFFSET(Licence_IBEC,MATCH($B114,'Licence Info'!$B$40:$B$64,FALSE),MATCH(Control!T$101,'Licence Info'!$C$37:$DW$37,FALSE))*$C$9+OFFSET(Licence_Subst,MATCH($B114,'Licence Info'!$B$74:$B$98,FALSE),MATCH(Control!T$101,'Licence Info'!$C$71:$DW$71,FALSE))*$C$9+OFFSET(Licence_OIEC,MATCH($B114,'Licence Info'!$B$108:$B$132,FALSE),MATCH(Control!T$101,'Licence Info'!$C$105:$DW$105,FALSE))-T52)","v":209.79},{"$f":"MAX(0,OFFSET(Licence_IBEC,MATCH($B114,'Licence Info'!$B$40:$B$64,FALSE),MATCH(Control!U$101,'Licence Info'!$C$37:$DW$37,FALSE))*$C$9+OFFSET(Licence_Subst,MATCH($B114,'Licence Info'!$B$74:$B$98,FALSE),MATCH(Control!U$101,'Licence Info'!$C$71:$DW$71,FALSE))*$C$9+OFFSET(Licence_OIEC,MATCH($B114,'Licence Info'!$B$108:$B$132,FALSE),MATCH(Control!U$101,'Licence Info'!$C$105:$DW$105,FALSE))-U52)","v":209.79},{"$f":"MAX(0,OFFSET(Licence_IBEC,MATCH($B114,'Licence Info'!$B$40:$B$64,FALSE),MATCH(Control!V$101,'Licence Info'!$C$37:$DW$37,FALSE))*$C$9+OFFSET(Licence_Subst,MATCH($B114,'Licence Info'!$B$74:$B$98,FALSE),MATCH(Control!V$101,'Licence Info'!$C$71:$DW$71,FALSE))*$C$9+OFFSET(Licence_OIEC,MATCH($B114,'Licence Info'!$B$108:$B$132,FALSE),MATCH(Control!V$101,'Licence Info'!$C$105:$DW$105,FALSE))-V52)","v":209.79},{"$f":"MAX(0,OFFSET(Licence_IBEC,MATCH($B114,'Licence Info'!$B$40:$B$64,FALSE),MATCH(Control!W$101,'Licence Info'!$C$37:$DW$37,FALSE))*$C$9+OFFSET(Licence_Subst,MATCH($B114,'Licence Info'!$B$74:$B$98,FALSE),MATCH(Control!W$101,'Licence Info'!$C$71:$DW$71,FALSE))*$C$9+OFFSET(Licence_OIEC,MATCH($B114,'Licence Info'!$B$108:$B$132,FALSE),MATCH(Control!W$101,'Licence Info'!$C$105:$DW$105,FALSE))-W52)","v":209.79},{"$f":"MAX(0,OFFSET(Licence_IBEC,MATCH($B114,'Licence Info'!$B$40:$B$64,FALSE),MATCH(Control!X$101,'Licence Info'!$C$37:$DW$37,FALSE))*$C$9+OFFSET(Licence_Subst,MATCH($B114,'Licence Info'!$B$74:$B$98,FALSE),MATCH(Control!X$101,'Licence Info'!$C$71:$DW$71,FALSE))*$C$9+OFFSET(Licence_OIEC,MATCH($B114,'Licence Info'!$B$108:$B$132,FALSE),MATCH(Control!X$101,'Licence Info'!$C$105:$DW$105,FALSE))-X52)","v":209.79},{"$f":"MAX(0,OFFSET(Licence_IBEC,MATCH($B114,'Licence Info'!$B$40:$B$64,FALSE),MATCH(Control!Y$101,'Licence Info'!$C$37:$DW$37,FALSE))*$C$9+OFFSET(Licence_Subst,MATCH($B114,'Licence Info'!$B$74:$B$98,FALSE),MATCH(Control!Y$101,'Licence Info'!$C$71:$DW$71,FALSE))*$C$9+OFFSET(Licence_OIEC,MATCH($B114,'Licence Info'!$B$108:$B$132,FALSE),MATCH(Control!Y$101,'Licence Info'!$C$105:$DW$105,FALSE))-Y52)","v":209.79},{"$f":"MAX(0,OFFSET(Licence_IBEC,MATCH($B114,'Licence Info'!$B$40:$B$64,FALSE),MATCH(Control!Z$101,'Licence Info'!$C$37:$DW$37,FALSE))*$C$9+OFFSET(Licence_Subst,MATCH($B114,'Licence Info'!$B$74:$B$98,FALSE),MATCH(Control!Z$101,'Licence Info'!$C$71:$DW$71,FALSE))*$C$9+OFFSET(Licence_OIEC,MATCH($B114,'Licence Info'!$B$108:$B$132,FALSE),MATCH(Control!Z$101,'Licence Info'!$C$105:$DW$105,FALSE))-Z52)","v":209.79},{"$f":"MAX(0,OFFSET(Licence_IBEC,MATCH($B114,'Licence Info'!$B$40:$B$64,FALSE),MATCH(Control!AA$101,'Licence Info'!$C$37:$DW$37,FALSE))*$C$9+OFFSET(Licence_Subst,MATCH($B114,'Licence Info'!$B$74:$B$98,FALSE),MATCH(Control!AA$101,'Licence Info'!$C$71:$DW$71,FALSE))*$C$9+OFFSET(Licence_OIEC,MATCH($B114,'Licence Info'!$B$108:$B$132,FALSE),MATCH(Control!AA$101,'Licence Info'!$C$105:$DW$105,FALSE))-AA52)","v":209.79},{"$f":"MAX(0,OFFSET(Licence_IBEC,MATCH($B114,'Licence Info'!$B$40:$B$64,FALSE),MATCH(Control!AB$101,'Licence Info'!$C$37:$DW$37,FALSE))*$C$9+OFFSET(Licence_Subst,MATCH($B114,'Licence Info'!$B$74:$B$98,FALSE),MATCH(Control!AB$101,'Licence Info'!$C$71:$DW$71,FALSE))*$C$9+OFFSET(Licence_OIEC,MATCH($B114,'Licence Info'!$B$108:$B$132,FALSE),MATCH(Control!AB$101,'Licence Info'!$C$105:$DW$105,FALSE))-AB52)","v":209.79},{"$f":"MAX(0,OFFSET(Licence_IBEC,MATCH($B114,'Licence Info'!$B$40:$B$64,FALSE),MATCH(Control!AC$101,'Licence Info'!$C$37:$DW$37,FALSE))*$C$9+OFFSET(Licence_Subst,MATCH($B114,'Licence Info'!$B$74:$B$98,FALSE),MATCH(Control!AC$101,'Licence Info'!$C$71:$DW$71,FALSE))*$C$9+OFFSET(Licence_OIEC,MATCH($B114,'Licence Info'!$B$108:$B$132,FALSE),MATCH(Control!AC$101,'Licence Info'!$C$105:$DW$105,FALSE))-AC52)","v":209.79},{"$f":"MAX(0,OFFSET(Licence_IBEC,MATCH($B114,'Licence Info'!$B$40:$B$64,FALSE),MATCH(Control!AD$101,'Licence Info'!$C$37:$DW$37,FALSE))*$C$9+OFFSET(Licence_Subst,MATCH($B114,'Licence Info'!$B$74:$B$98,FALSE),MATCH(Control!AD$101,'Licence Info'!$C$71:$DW$71,FALSE))*$C$9+OFFSET(Licence_OIEC,MATCH($B114,'Licence Info'!$B$108:$B$132,FALSE),MATCH(Control!AD$101,'Licence Info'!$C$105:$DW$105,FALSE))-AD52)","v":209.79},{"$f":"MAX(0,OFFSET(Licence_IBEC,MATCH($B114,'Licence Info'!$B$40:$B$64,FALSE),MATCH(Control!AE$101,'Licence Info'!$C$37:$DW$37,FALSE))*$C$9+OFFSET(Licence_Subst,MATCH($B114,'Licence Info'!$B$74:$B$98,FALSE),MATCH(Control!AE$101,'Licence Info'!$C$71:$DW$71,FALSE))*$C$9+OFFSET(Licence_OIEC,MATCH($B114,'Licence Info'!$B$108:$B$132,FALSE),MATCH(Control!AE$101,'Licence Info'!$C$105:$DW$105,FALSE))-AE52)","v":209.79},{"$f":"MAX(0,OFFSET(Licence_IBEC,MATCH($B114,'Licence Info'!$B$40:$B$64,FALSE),MATCH(Control!AF$101,'Licence Info'!$C$37:$DW$37,FALSE))*$C$9+OFFSET(Licence_Subst,MATCH($B114,'Licence Info'!$B$74:$B$98,FALSE),MATCH(Control!AF$101,'Licence Info'!$C$71:$DW$71,FALSE))*$C$9+OFFSET(Licence_OIEC,MATCH($B114,'Licence Info'!$B$108:$B$132,FALSE),MATCH(Control!AF$101,'Licence Info'!$C$105:$DW$105,FALSE))-AF52)","v":209.79},{"$f":"MAX(0,OFFSET(Licence_IBEC,MATCH($B114,'Licence Info'!$B$40:$B$64,FALSE),MATCH(Control!AG$101,'Licence Info'!$C$37:$DW$37,FALSE))*$C$9+OFFSET(Licence_Subst,MATCH($B114,'Licence Info'!$B$74:$B$98,FALSE),MATCH(Control!AG$101,'Licence Info'!$C$71:$DW$71,FALSE))*$C$9+OFFSET(Licence_OIEC,MATCH($B114,'Licence Info'!$B$108:$B$132,FALSE),MATCH(Control!AG$101,'Licence Info'!$C$105:$DW$105,FALSE))-AG52)","v":209.79},{"$f":"MAX(0,OFFSET(Licence_IBEC,MATCH($B114,'Licence Info'!$B$40:$B$64,FALSE),MATCH(Control!AH$101,'Licence Info'!$C$37:$DW$37,FALSE))*$C$9+OFFSET(Licence_Subst,MATCH($B114,'Licence Info'!$B$74:$B$98,FALSE),MATCH(Control!AH$101,'Licence Info'!$C$71:$DW$71,FALSE))*$C$9+OFFSET(Licence_OIEC,MATCH($B114,'Licence Info'!$B$108:$B$132,FALSE),MATCH(Control!AH$101,'Licence Info'!$C$105:$DW$105,FALSE))-AH52)","v":209.79},{"$f":"MAX(0,OFFSET(Licence_IBEC,MATCH($B114,'Licence Info'!$B$40:$B$64,FALSE),MATCH(Control!AI$101,'Licence Info'!$C$37:$DW$37,FALSE))*$C$9+OFFSET(Licence_Subst,MATCH($B114,'Licence Info'!$B$74:$B$98,FALSE),MATCH(Control!AI$101,'Licence Info'!$C$71:$DW$71,FALSE))*$C$9+OFFSET(Licence_OIEC,MATCH($B114,'Licence Info'!$B$108:$B$132,FALSE),MATCH(Control!AI$101,'Licence Info'!$C$105:$DW$105,FALSE))-AI52)","v":209.79},{"$f":"MAX(0,OFFSET(Licence_IBEC,MATCH($B114,'Licence Info'!$B$40:$B$64,FALSE),MATCH(Control!AJ$101,'Licence Info'!$C$37:$DW$37,FALSE))*$C$9+OFFSET(Licence_Subst,MATCH($B114,'Licence Info'!$B$74:$B$98,FALSE),MATCH(Control!AJ$101,'Licence Info'!$C$71:$DW$71,FALSE))*$C$9+OFFSET(Licence_OIEC,MATCH($B114,'Licence Info'!$B$108:$B$132,FALSE),MATCH(Control!AJ$101,'Licence Info'!$C$105:$DW$105,FALSE))-AJ52)","v":209.79},{"$f":"MAX(0,OFFSET(Licence_IBEC,MATCH($B114,'Licence Info'!$B$40:$B$64,FALSE),MATCH(Control!AK$101,'Licence Info'!$C$37:$DW$37,FALSE))*$C$9+OFFSET(Licence_Subst,MATCH($B114,'Licence Info'!$B$74:$B$98,FALSE),MATCH(Control!AK$101,'Licence Info'!$C$71:$DW$71,FALSE))*$C$9+OFFSET(Licence_OIEC,MATCH($B114,'Licence Info'!$B$108:$B$132,FALSE),MATCH(Control!AK$101,'Licence Info'!$C$105:$DW$105,FALSE))-AK52)","v":209.79},{"$f":"MAX(0,OFFSET(Licence_IBEC,MATCH($B114,'Licence Info'!$B$40:$B$64,FALSE),MATCH(Control!AL$101,'Licence Info'!$C$37:$DW$37,FALSE))*$C$9+OFFSET(Licence_Subst,MATCH($B114,'Licence Info'!$B$74:$B$98,FALSE),MATCH(Control!AL$101,'Licence Info'!$C$71:$DW$71,FALSE))*$C$9+OFFSET(Licence_OIEC,MATCH($B114,'Licence Info'!$B$108:$B$132,FALSE),MATCH(Control!AL$101,'Licence Info'!$C$105:$DW$105,FALSE))-AL52)","v":209.79},{"$f":"MAX(0,OFFSET(Licence_IBEC,MATCH($B114,'Licence Info'!$B$40:$B$64,FALSE),MATCH(Control!AM$101,'Licence Info'!$C$37:$DW$37,FALSE))*$C$9+OFFSET(Licence_Subst,MATCH($B114,'Licence Info'!$B$74:$B$98,FALSE),MATCH(Control!AM$101,'Licence Info'!$C$71:$DW$71,FALSE))*$C$9+OFFSET(Licence_OIEC,MATCH($B114,'Licence Info'!$B$108:$B$132,FALSE),MATCH(Control!AM$101,'Licence Info'!$C$105:$DW$105,FALSE))-AM52)","v":209.79},{"$f":"MAX(0,OFFSET(Licence_IBEC,MATCH($B114,'Licence Info'!$B$40:$B$64,FALSE),MATCH(Control!AN$101,'Licence Info'!$C$37:$DW$37,FALSE))*$C$9+OFFSET(Licence_Subst,MATCH($B114,'Licence Info'!$B$74:$B$98,FALSE),MATCH(Control!AN$101,'Licence Info'!$C$71:$DW$71,FALSE))*$C$9+OFFSET(Licence_OIEC,MATCH($B114,'Licence Info'!$B$108:$B$132,FALSE),MATCH(Control!AN$101,'Licence Info'!$C$105:$DW$105,FALSE))-AN52)","v":209.79},{"$f":"MAX(0,OFFSET(Licence_IBEC,MATCH($B114,'Licence Info'!$B$40:$B$64,FALSE),MATCH(Control!AO$101,'Licence Info'!$C$37:$DW$37,FALSE))*$C$9+OFFSET(Licence_Subst,MATCH($B114,'Licence Info'!$B$74:$B$98,FALSE),MATCH(Control!AO$101,'Licence Info'!$C$71:$DW$71,FALSE))*$C$9+OFFSET(Licence_OIEC,MATCH($B114,'Licence Info'!$B$108:$B$132,FALSE),MATCH(Control!AO$101,'Licence Info'!$C$105:$DW$105,FALSE))-AO52)","v":209.79},{"$f":"MAX(0,OFFSET(Licence_IBEC,MATCH($B114,'Licence Info'!$B$40:$B$64,FALSE),MATCH(Control!AP$101,'Licence Info'!$C$37:$DW$37,FALSE))*$C$9+OFFSET(Licence_Subst,MATCH($B114,'Licence Info'!$B$74:$B$98,FALSE),MATCH(Control!AP$101,'Licence Info'!$C$71:$DW$71,FALSE))*$C$9+OFFSET(Licence_OIEC,MATCH($B114,'Licence Info'!$B$108:$B$132,FALSE),MATCH(Control!AP$101,'Licence Info'!$C$105:$DW$105,FALSE))-AP52)","v":209.79},{"$f":"MAX(0,OFFSET(Licence_IBEC,MATCH($B114,'Licence Info'!$B$40:$B$64,FALSE),MATCH(Control!AQ$101,'Licence Info'!$C$37:$DW$37,FALSE))*$C$9+OFFSET(Licence_Subst,MATCH($B114,'Licence Info'!$B$74:$B$98,FALSE),MATCH(Control!AQ$101,'Licence Info'!$C$71:$DW$71,FALSE))*$C$9+OFFSET(Licence_OIEC,MATCH($B114,'Licence Info'!$B$108:$B$132,FALSE),MATCH(Control!AQ$101,'Licence Info'!$C$105:$DW$105,FALSE))-AQ52)","v":209.79},{"$f":"MAX(0,OFFSET(Licence_IBEC,MATCH($B114,'Licence Info'!$B$40:$B$64,FALSE),MATCH(Control!AR$101,'Licence Info'!$C$37:$DW$37,FALSE))*$C$9+OFFSET(Licence_Subst,MATCH($B114,'Licence Info'!$B$74:$B$98,FALSE),MATCH(Control!AR$101,'Licence Info'!$C$71:$DW$71,FALSE))*$C$9+OFFSET(Licence_OIEC,MATCH($B114,'Licence Info'!$B$108:$B$132,FALSE),MATCH(Control!AR$101,'Licence Info'!$C$105:$DW$105,FALSE))-AR52)","v":209.79},{"$f":"MAX(0,OFFSET(Licence_IBEC,MATCH($B114,'Licence Info'!$B$40:$B$64,FALSE),MATCH(Control!AS$101,'Licence Info'!$C$37:$DW$37,FALSE))*$C$9+OFFSET(Licence_Subst,MATCH($B114,'Licence Info'!$B$74:$B$98,FALSE),MATCH(Control!AS$101,'Licence Info'!$C$71:$DW$71,FALSE))*$C$9+OFFSET(Licence_OIEC,MATCH($B114,'Licence Info'!$B$108:$B$132,FALSE),MATCH(Control!AS$101,'Licence Info'!$C$105:$DW$105,FALSE))-AS52)","v":209.79},{"$f":"MAX(0,OFFSET(Licence_IBEC,MATCH($B114,'Licence Info'!$B$40:$B$64,FALSE),MATCH(Control!AT$101,'Licence Info'!$C$37:$DW$37,FALSE))*$C$9+OFFSET(Licence_Subst,MATCH($B114,'Licence Info'!$B$74:$B$98,FALSE),MATCH(Control!AT$101,'Licence Info'!$C$71:$DW$71,FALSE))*$C$9+OFFSET(Licence_OIEC,MATCH($B114,'Licence Info'!$B$108:$B$132,FALSE),MATCH(Control!AT$101,'Licence Info'!$C$105:$DW$105,FALSE))-AT52)","v":209.79},{"$f":"MAX(0,OFFSET(Licence_IBEC,MATCH($B114,'Licence Info'!$B$40:$B$64,FALSE),MATCH(Control!AU$101,'Licence Info'!$C$37:$DW$37,FALSE))*$C$9+OFFSET(Licence_Subst,MATCH($B114,'Licence Info'!$B$74:$B$98,FALSE),MATCH(Control!AU$101,'Licence Info'!$C$71:$DW$71,FALSE))*$C$9+OFFSET(Licence_OIEC,MATCH($B114,'Licence Info'!$B$108:$B$132,FALSE),MATCH(Control!AU$101,'Licence Info'!$C$105:$DW$105,FALSE))-AU52)","v":209.79},{"$f":"MAX(0,OFFSET(Licence_IBEC,MATCH($B114,'Licence Info'!$B$40:$B$64,FALSE),MATCH(Control!AV$101,'Licence Info'!$C$37:$DW$37,FALSE))*$C$9+OFFSET(Licence_Subst,MATCH($B114,'Licence Info'!$B$74:$B$98,FALSE),MATCH(Control!AV$101,'Licence Info'!$C$71:$DW$71,FALSE))*$C$9+OFFSET(Licence_OIEC,MATCH($B114,'Licence Info'!$B$108:$B$132,FALSE),MATCH(Control!AV$101,'Licence Info'!$C$105:$DW$105,FALSE))-AV52)","v":209.79},{"$f":"MAX(0,OFFSET(Licence_IBEC,MATCH($B114,'Licence Info'!$B$40:$B$64,FALSE),MATCH(Control!AW$101,'Licence Info'!$C$37:$DW$37,FALSE))*$C$9+OFFSET(Licence_Subst,MATCH($B114,'Licence Info'!$B$74:$B$98,FALSE),MATCH(Control!AW$101,'Licence Info'!$C$71:$DW$71,FALSE))*$C$9+OFFSET(Licence_OIEC,MATCH($B114,'Licence Info'!$B$108:$B$132,FALSE),MATCH(Control!AW$101,'Licence Info'!$C$105:$DW$105,FALSE))-AW52)","v":209.79},{"$f":"MAX(0,OFFSET(Licence_IBEC,MATCH($B114,'Licence Info'!$B$40:$B$64,FALSE),MATCH(Control!AX$101,'Licence Info'!$C$37:$DW$37,FALSE))*$C$9+OFFSET(Licence_Subst,MATCH($B114,'Licence Info'!$B$74:$B$98,FALSE),MATCH(Control!AX$101,'Licence Info'!$C$71:$DW$71,FALSE))*$C$9+OFFSET(Licence_OIEC,MATCH($B114,'Licence Info'!$B$108:$B$132,FALSE),MATCH(Control!AX$101,'Licence Info'!$C$105:$DW$105,FALSE))-AX52)","v":209.79},{"$f":"MAX(0,OFFSET(Licence_IBEC,MATCH($B114,'Licence Info'!$B$40:$B$64,FALSE),MATCH(Control!AY$101,'Licence Info'!$C$37:$DW$37,FALSE))*$C$9+OFFSET(Licence_Subst,MATCH($B114,'Licence Info'!$B$74:$B$98,FALSE),MATCH(Control!AY$101,'Licence Info'!$C$71:$DW$71,FALSE))*$C$9+OFFSET(Licence_OIEC,MATCH($B114,'Licence Info'!$B$108:$B$132,FALSE),MATCH(Control!AY$101,'Licence Info'!$C$105:$DW$105,FALSE))-AY52)","v":209.79},{"$f":"MAX(0,OFFSET(Licence_IBEC,MATCH($B114,'Licence Info'!$B$40:$B$64,FALSE),MATCH(Control!AZ$101,'Licence Info'!$C$37:$DW$37,FALSE))*$C$9+OFFSET(Licence_Subst,MATCH($B114,'Licence Info'!$B$74:$B$98,FALSE),MATCH(Control!AZ$101,'Licence Info'!$C$71:$DW$71,FALSE))*$C$9+OFFSET(Licence_OIEC,MATCH($B114,'Licence Info'!$B$108:$B$132,FALSE),MATCH(Control!AZ$101,'Licence Info'!$C$105:$DW$105,FALSE))-AZ52)","v":209.79},{"$f":"MAX(0,OFFSET(Licence_IBEC,MATCH($B114,'Licence Info'!$B$40:$B$64,FALSE),MATCH(Control!BA$101,'Licence Info'!$C$37:$DW$37,FALSE))*$C$9+OFFSET(Licence_Subst,MATCH($B114,'Licence Info'!$B$74:$B$98,FALSE),MATCH(Control!BA$101,'Licence Info'!$C$71:$DW$71,FALSE))*$C$9+OFFSET(Licence_OIEC,MATCH($B114,'Licence Info'!$B$108:$B$132,FALSE),MATCH(Control!BA$101,'Licence Info'!$C$105:$DW$105,FALSE))-BA52)","v":209.79},{"$f":"MAX(0,OFFSET(Licence_IBEC,MATCH($B114,'Licence Info'!$B$40:$B$64,FALSE),MATCH(Control!BB$101,'Licence Info'!$C$37:$DW$37,FALSE))*$C$9+OFFSET(Licence_Subst,MATCH($B114,'Licence Info'!$B$74:$B$98,FALSE),MATCH(Control!BB$101,'Licence Info'!$C$71:$DW$71,FALSE))*$C$9+OFFSET(Licence_OIEC,MATCH($B114,'Licence Info'!$B$108:$B$132,FALSE),MATCH(Control!BB$101,'Licence Info'!$C$105:$DW$105,FALSE))-BB52)","v":209.79},{"$f":"MAX(0,OFFSET(Licence_IBEC,MATCH($B114,'Licence Info'!$B$40:$B$64,FALSE),MATCH(Control!BC$101,'Licence Info'!$C$37:$DW$37,FALSE))*$C$9+OFFSET(Licence_Subst,MATCH($B114,'Licence Info'!$B$74:$B$98,FALSE),MATCH(Control!BC$101,'Licence Info'!$C$71:$DW$71,FALSE))*$C$9+OFFSET(Licence_OIEC,MATCH($B114,'Licence Info'!$B$108:$B$132,FALSE),MATCH(Control!BC$101,'Licence Info'!$C$105:$DW$105,FALSE))-BC52)","v":209.79},{"$f":"MAX(0,OFFSET(Licence_IBEC,MATCH($B114,'Licence Info'!$B$40:$B$64,FALSE),MATCH(Control!BD$101,'Licence Info'!$C$37:$DW$37,FALSE))*$C$9+OFFSET(Licence_Subst,MATCH($B114,'Licence Info'!$B$74:$B$98,FALSE),MATCH(Control!BD$101,'Licence Info'!$C$71:$DW$71,FALSE))*$C$9+OFFSET(Licence_OIEC,MATCH($B114,'Licence Info'!$B$108:$B$132,FALSE),MATCH(Control!BD$101,'Licence Info'!$C$105:$DW$105,FALSE))-BD52)","v":209.79},{"$f":"MAX(0,OFFSET(Licence_IBEC,MATCH($B114,'Licence Info'!$B$40:$B$64,FALSE),MATCH(Control!BE$101,'Licence Info'!$C$37:$DW$37,FALSE))*$C$9+OFFSET(Licence_Subst,MATCH($B114,'Licence Info'!$B$74:$B$98,FALSE),MATCH(Control!BE$101,'Licence Info'!$C$71:$DW$71,FALSE))*$C$9+OFFSET(Licence_OIEC,MATCH($B114,'Licence Info'!$B$108:$B$132,FALSE),MATCH(Control!BE$101,'Licence Info'!$C$105:$DW$105,FALSE))-BE52)","v":209.79},{"$f":"MAX(0,OFFSET(Licence_IBEC,MATCH($B114,'Licence Info'!$B$40:$B$64,FALSE),MATCH(Control!BF$101,'Licence Info'!$C$37:$DW$37,FALSE))*$C$9+OFFSET(Licence_Subst,MATCH($B114,'Licence Info'!$B$74:$B$98,FALSE),MATCH(Control!BF$101,'Licence Info'!$C$71:$DW$71,FALSE))*$C$9+OFFSET(Licence_OIEC,MATCH($B114,'Licence Info'!$B$108:$B$132,FALSE),MATCH(Control!BF$101,'Licence Info'!$C$105:$DW$105,FALSE))-BF52)","v":209.79},{"$f":"MAX(0,OFFSET(Licence_IBEC,MATCH($B114,'Licence Info'!$B$40:$B$64,FALSE),MATCH(Control!BG$101,'Licence Info'!$C$37:$DW$37,FALSE))*$C$9+OFFSET(Licence_Subst,MATCH($B114,'Licence Info'!$B$74:$B$98,FALSE),MATCH(Control!BG$101,'Licence Info'!$C$71:$DW$71,FALSE))*$C$9+OFFSET(Licence_OIEC,MATCH($B114,'Licence Info'!$B$108:$B$132,FALSE),MATCH(Control!BG$101,'Licence Info'!$C$105:$DW$105,FALSE))-BG52)","v":209.79},{"$f":"MAX(0,OFFSET(Licence_IBEC,MATCH($B114,'Licence Info'!$B$40:$B$64,FALSE),MATCH(Control!BH$101,'Licence Info'!$C$37:$DW$37,FALSE))*$C$9+OFFSET(Licence_Subst,MATCH($B114,'Licence Info'!$B$74:$B$98,FALSE),MATCH(Control!BH$101,'Licence Info'!$C$71:$DW$71,FALSE))*$C$9+OFFSET(Licence_OIEC,MATCH($B114,'Licence Info'!$B$108:$B$132,FALSE),MATCH(Control!BH$101,'Licence Info'!$C$105:$DW$105,FALSE))-BH52)","v":209.79},{"$f":"MAX(0,OFFSET(Licence_IBEC,MATCH($B114,'Licence Info'!$B$40:$B$64,FALSE),MATCH(Control!BI$101,'Licence Info'!$C$37:$DW$37,FALSE))*$C$9+OFFSET(Licence_Subst,MATCH($B114,'Licence Info'!$B$74:$B$98,FALSE),MATCH(Control!BI$101,'Licence Info'!$C$71:$DW$71,FALSE))*$C$9+OFFSET(Licence_OIEC,MATCH($B114,'Licence Info'!$B$108:$B$132,FALSE),MATCH(Control!BI$101,'Licence Info'!$C$105:$DW$105,FALSE))-BI52)","v":209.79},{"$f":"MAX(0,OFFSET(Licence_IBEC,MATCH($B114,'Licence Info'!$B$40:$B$64,FALSE),MATCH(Control!BJ$101,'Licence Info'!$C$37:$DW$37,FALSE))*$C$9+OFFSET(Licence_Subst,MATCH($B114,'Licence Info'!$B$74:$B$98,FALSE),MATCH(Control!BJ$101,'Licence Info'!$C$71:$DW$71,FALSE))*$C$9+OFFSET(Licence_OIEC,MATCH($B114,'Licence Info'!$B$108:$B$132,FALSE),MATCH(Control!BJ$101,'Licence Info'!$C$105:$DW$105,FALSE))-BJ52)","v":209.79},{"$f":"MAX(0,OFFSET(Licence_IBEC,MATCH($B114,'Licence Info'!$B$40:$B$64,FALSE),MATCH(Control!BK$101,'Licence Info'!$C$37:$DW$37,FALSE))*$C$9+OFFSET(Licence_Subst,MATCH($B114,'Licence Info'!$B$74:$B$98,FALSE),MATCH(Control!BK$101,'Licence Info'!$C$71:$DW$71,FALSE))*$C$9+OFFSET(Licence_OIEC,MATCH($B114,'Licence Info'!$B$108:$B$132,FALSE),MATCH(Control!BK$101,'Licence Info'!$C$105:$DW$105,FALSE))-BK52)","v":{"$error":"#N/A"}}]
[null,"Hatfield Moor (Storage)",{"$f":"MAX(0,OFFSET(Licence_IBEC,MATCH($B115,'Licence Info'!$B$40:$B$64,FALSE),MATCH(Control!C$101,'Licence Info'!$C$37:$DW$37,FALSE))*$C$9+OFFSET(Licence_Subst,MATCH($B115,'Licence Info'!$B$74:$B$98,FALSE),MATCH(Control!C$101,'Licence Info'!$C$71:$DW$71,FALSE))*$C$9+OFFSET(Licence_OIEC,MATCH($B115,'Licence Info'!$B$108:$B$132,FALSE),MATCH(Control!C$101,'Licence Info'!$C$105:$DW$105,FALSE))-C53)","v":22.5},{"$f":"MAX(0,OFFSET(Licence_IBEC,MATCH($B115,'Licence Info'!$B$40:$B$64,FALSE),MATCH(Control!D$101,'Licence Info'!$C$37:$DW$37,FALSE))*$C$9+OFFSET(Licence_Subst,MATCH($B115,'Licence Info'!$B$74:$B$98,FALSE),MATCH(Control!D$101,'Licence Info'!$C$71:$DW$71,FALSE))*$C$9+OFFSET(Licence_OIEC,MATCH($B115,'Licence Info'!$B$108:$B$132,FALSE),MATCH(Control!D$101,'Licence Info'!$C$105:$DW$105,FALSE))-D53)","v":0.5},{"$f":"MAX(0,OFFSET(Licence_IBEC,MATCH($B115,'Licence Info'!$B$40:$B$64,FALSE),MATCH(Control!E$101,'Licence Info'!$C$37:$DW$37,FALSE))*$C$9+OFFSET(Licence_Subst,MATCH($B115,'Licence Info'!$B$74:$B$98,FALSE),MATCH(Control!E$101,'Licence Info'!$C$71:$DW$71,FALSE))*$C$9+OFFSET(Licence_OIEC,MATCH($B115,'Licence Info'!$B$108:$B$132,FALSE),MATCH(Control!E$101,'Licence Info'!$C$105:$DW$105,FALSE))-E53)","v":22.5},{"$f":"MAX(0,OFFSET(Licence_IBEC,MATCH($B115,'Licence Info'!$B$40:$B$64,FALSE),MATCH(Control!F$101,'Licence Info'!$C$37:$DW$37,FALSE))*$C$9+OFFSET(Licence_Subst,MATCH($B115,'Licence Info'!$B$74:$B$98,FALSE),MATCH(Control!F$101,'Licence Info'!$C$71:$DW$71,FALSE))*$C$9+OFFSET(Licence_OIEC,MATCH($B115,'Licence Info'!$B$108:$B$132,FALSE),MATCH(Control!F$101,'Licence Info'!$C$105:$DW$105,FALSE))-F53)","v":22.5},{"$f":"MAX(0,OFFSET(Licence_IBEC,MATCH($B115,'Licence Info'!$B$40:$B$64,FALSE),MATCH(Control!G$101,'Licence Info'!$C$37:$DW$37,FALSE))*$C$9+OFFSET(Licence_Subst,MATCH($B115,'Licence Info'!$B$74:$B$98,FALSE),MATCH(Control!G$101,'Licence Info'!$C$71:$DW$71,FALSE))*$C$9+OFFSET(Licence_OIEC,MATCH($B115,'Licence Info'!$B$108:$B$132,FALSE),MATCH(Control!G$101,'Licence Info'!$C$105:$DW$105,FALSE))-G53)","v":22.5},{"$f":"MAX(0,OFFSET(Licence_IBEC,MATCH($B115,'Licence Info'!$B$40:$B$64,FALSE),MATCH(Control!H$101,'Licence Info'!$C$37:$DW$37,FALSE))*$C$9+OFFSET(Licence_Subst,MATCH($B115,'Licence Info'!$B$74:$B$98,FALSE),MATCH(Control!H$101,'Licence Info'!$C$71:$DW$71,FALSE))*$C$9+OFFSET(Licence_OIEC,MATCH($B115,'Licence Info'!$B$108:$B$132,FALSE),MATCH(Control!H$101,'Licence Info'!$C$105:$DW$105,FALSE))-H53)","v":0.5},{"$f":"MAX(0,OFFSET(Licence_IBEC,MATCH($B115,'Licence Info'!$B$40:$B$64,FALSE),MATCH(Control!I$101,'Licence Info'!$C$37:$DW$37,FALSE))*$C$9+OFFSET(Licence_Subst,MATCH($B115,'Licence Info'!$B$74:$B$98,FALSE),MATCH(Control!I$101,'Licence Info'!$C$71:$DW$71,FALSE))*$C$9+OFFSET(Licence_OIEC,MATCH($B115,'Licence Info'!$B$108:$B$132,FALSE),MATCH(Control!I$101,'Licence Info'!$C$105:$DW$105,FALSE))-I53)","v":22.5},{"$f":"MAX(0,OFFSET(Licence_IBEC,MATCH($B115,'Licence Info'!$B$40:$B$64,FALSE),MATCH(Control!J$101,'Licence Info'!$C$37:$DW$37,FALSE))*$C$9+OFFSET(Licence_Subst,MATCH($B115,'Licence Info'!$B$74:$B$98,FALSE),MATCH(Control!J$101,'Licence Info'!$C$71:$DW$71,FALSE))*$C$9+OFFSET(Licence_OIEC,MATCH($B115,'Licence Info'!$B$108:$B$132,FALSE),MATCH(Control!J$101,'Licence Info'!$C$105:$DW$105,FALSE))-J53)","v":22.5},{"$f":"MAX(0,OFFSET(Licence_IBEC,MATCH($B115,'Licence Info'!$B$40:$B$64,FALSE),MATCH(Control!K$101,'Licence Info'!$C$37:$DW$37,FALSE))*$C$9+OFFSET(Licence_Subst,MATCH($B115,'Licence Info'!$B$74:$B$98,FALSE),MATCH(Control!K$101,'Licence Info'!$C$71:$DW$71,FALSE))*$C$9+OFFSET(Licence_OIEC,MATCH($B115,'Licence Info'!$B$108:$B$132,FALSE),MATCH(Control!K$101,'Licence Info'!$C$105:$DW$105,FALSE))-K53)","v":22.5},{"$f":"MAX(0,OFFSET(Licence_IBEC,MATCH($B115,'Licence Info'!$B$40:$B$64,FALSE),MATCH(Control!L$101,'Licence Info'!$C$37:$DW$37,FALSE))*$C$9+OFFSET(Licence_Subst,MATCH($B115,'Licence Info'!$B$74:$B$98,FALSE),MATCH(Control!L$101,'Licence Info'!$C$71:$DW$71,FALSE))*$C$9+OFFSET(Licence_OIEC,MATCH($B115,'Licence Info'!$B$108:$B$132,FALSE),MATCH(Control!L$101,'Licence Info'!$C$105:$DW$105,FALSE))-L53)","v":0.5},{"$f":"MAX(0,OFFSET(Licence_IBEC,MATCH($B115,'Licence Info'!$B$40:$B$64,FALSE),MATCH(Control!M$101,'Licence Info'!$C$37:$DW$37,FALSE))*$C$9+OFFSET(Licence_Subst,MATCH($B115,'Licence Info'!$B$74:$B$98,FALSE),MATCH(Control!M$101,'Licence Info'!$C$71:$DW$71,FALSE))*$C$9+OFFSET(Licence_OIEC,MATCH($B115,'Licence Info'!$B$108:$B$132,FALSE),MATCH(Control!M$101,'Licence Info'!$C$105:$DW$105,FALSE))-M53)","v":22.5},{"$f":"MAX(0,OFFSET(Licence_IBEC,MATCH($B115,'Licence Info'!$B$40:$B$64,FALSE),MATCH(Control!N$101,'Licence Info'!$C$37:$DW$37,FALSE))*$C$9+OFFSET(Licence_Subst,MATCH($B115,'Licence Info'!$B$74:$B$98,FALSE),MATCH(Control!N$101,'Licence Info'!$C$71:$DW$71,FALSE))*$C$9+OFFSET(Licence_OIEC,MATCH($B115,'Licence Info'!$B$108:$B$132,FALSE),MATCH(Control!N$101,'Licence Info'!$C$105:$DW$105,FALSE))-N53)","v":22.5},{"$f":"MAX(0,OFFSET(Licence_IBEC,MATCH($B115,'Licence Info'!$B$40:$B$64,FALSE),MATCH(Control!O$101,'Licence Info'!$C$37:$DW$37,FALSE))*$C$9+OFFSET(Licence_Subst,MATCH($B115,'Licence Info'!$B$74:$B$98,FALSE),MATCH(Control!O$101,'Licence Info'!$C$71:$DW$71,FALSE))*$C$9+OFFSET(Licence_OIEC,MATCH($B115,'Licence Info'!$B$108:$B$132,FALSE),MATCH(Control!O$101,'Licence Info'!$C$105:$DW$105,FALSE))-O53)","v":22.5},{"$f":"MAX(0,OFFSET(Licence_IBEC,MATCH($B115,'Licence Info'!$B$40:$B$64,FALSE),MATCH(Control!P$101,'Licence Info'!$C$37:$DW$37,FALSE))*$C$9+OFFSET(Licence_Subst,MATCH($B115,'Licence Info'!$B$74:$B$98,FALSE),MATCH(Control!P$101,'Licence Info'!$C$71:$DW$71,FALSE))*$C$9+OFFSET(Licence_OIEC,MATCH($B115,'Licence Info'!$B$108:$B$132,FALSE),MATCH(Control!P$101,'Licence Info'!$C$105:$DW$105,FALSE))-P53)","v":22.5},{"$f":"MAX(0,OFFSET(Licence_IBEC,MATCH($B115,'Licence Info'!$B$40:$B$64,FALSE),MATCH(Control!Q$101,'Licence Info'!$C$37:$DW$37,FALSE))*$C$9+OFFSET(Licence_Subst,MATCH($B115,'Licence Info'!$B$74:$B$98,FALSE),MATCH(Control!Q$101,'Licence Info'!$C$71:$DW$71,FALSE))*$C$9+OFFSET(Licence_OIEC,MATCH($B115,'Licence Info'!$B$108:$B$132,FALSE),MATCH(Control!Q$101,'Licence Info'!$C$105:$DW$105,FALSE))-Q53)","v":22.5},{"$f":"MAX(0,OFFSET(Licence_IBEC,MATCH($B115,'Licence Info'!$B$40:$B$64,FALSE),MATCH(Control!R$101,'Licence Info'!$C$37:$DW$37,FALSE))*$C$9+OFFSET(Licence_Subst,MATCH($B115,'Licence Info'!$B$74:$B$98,FALSE),MATCH(Control!R$101,'Licence Info'!$C$71:$DW$71,FALSE))*$C$9+OFFSET(Licence_OIEC,MATCH($B115,'Licence Info'!$B$108:$B$132,FALSE),MATCH(Control!R$101,'Licence Info'!$C$105:$DW$105,FALSE))-R53)","v":22.5},{"$f":"MAX(0,OFFSET(Licence_IBEC,MATCH($B115,'Licence Info'!$B$40:$B$64,FALSE),MATCH(Control!S$101,'Licence Info'!$C$37:$DW$37,FALSE))*$C$9+OFFSET(Licence_Subst,MATCH($B115,'Licence Info'!$B$74:$B$98,FALSE),MATCH(Control!S$101,'Licence Info'!$C$71:$DW$71,FALSE))*$C$9+OFFSET(Licence_OIEC,MATCH($B115,'Licence Info'!$B$108:$B$132,FALSE),MATCH(Control!S$101,'Licence Info'!$C$105:$DW$105,FALSE))-S53)","v":22.5},{"$f":"MAX(0,OFFSET(Licence_IBEC,MATCH($B115,'Licence Info'!$B$40:$B$64,FALSE),MATCH(Control!T$101,'Licence Info'!$C$37:$DW$37,FALSE))*$C$9+OFFSET(Licence_Subst,MATCH($B115,'Licence Info'!$B$74:$B$98,FALSE),MATCH(Control!T$101,'Licence Info'!$C$71:$DW$71,FALSE))*$C$9+OFFSET(Licence_OIEC,MATCH($B115,'Licence Info'!$B$108:$B$132,FALSE),MATCH(Control!T$101,'Licence Info'!$C$105:$DW$105,FALSE))-T53)","v":0.5},{"$f":"MAX(0,OFFSET(Licence_IBEC,MATCH($B115,'Licence Info'!$B$40:$B$64,FALSE),MATCH(Control!U$101,'Licence Info'!$C$37:$DW$37,FALSE))*$C$9+OFFSET(Licence_Subst,MATCH($B115,'Licence Info'!$B$74:$B$98,FALSE),MATCH(Control!U$101,'Licence Info'!$C$71:$DW$71,FALSE))*$C$9+OFFSET(Licence_OIEC,MATCH($B115,'Licence Info'!$B$108:$B$132,FALSE),MATCH(Control!U$101,'Licence Info'!$C$105:$DW$105,FALSE))-U53)","v":22.5},{"$f":"MAX(0,OFFSET(Licence_IBEC,MATCH($B115,'Licence Info'!$B$40:$B$64,FALSE),MATCH(Control!V$101,'Licence Info'!$C$37:$DW$37,FALSE))*$C$9+OFFSET(Licence_Subst,MATCH($B115,'Licence Info'!$B$74:$B$98,FALSE),MATCH(Control!V$101,'Licence Info'!$C$71:$DW$71,FALSE))*$C$9+OFFSET(Licence_OIEC,MATCH($B115,'Licence Info'!$B$108:$B$132,FALSE),MATCH(Control!V$101,'Licence Info'!$C$105:$DW$105,FALSE))-V53)","v":22.5},{"$f":"MAX(0,OFFSET(Licence_IBEC,MATCH($B115,'Licence Info'!$B$40:$B$64,FALSE),MATCH(Control!W$101,'Licence Info'!$C$37:$DW$37,FALSE))*$C$9+OFFSET(Licence_Subst,MATCH($B115,'Licence Info'!$B$74:$B$98,FALSE),MATCH(Control!W$101,'Licence Info'!$C$71:$DW$71,FALSE))*$C$9+OFFSET(Licence_OIEC,MATCH($B115,'Licence Info'!$B$108:$B$132,FALSE),MATCH(Control!W$101,'Licence Info'!$C$105:$DW$105,FALSE))-W53)","v":22.5},{"$f":"MAX(0,OFFSET(Licence_IBEC,MATCH($B115,'Licence Info'!$B$40:$B$64,FALSE),MATCH(Control!X$101,'Licence Info'!$C$37:$DW$37,FALSE))*$C$9+OFFSET(Licence_Subst,MATCH($B115,'Licence Info'!$B$74:$B$98,FALSE),MATCH(Control!X$101,'Licence Info'!$C$71:$DW$71,FALSE))*$C$9+OFFSET(Licence_OIEC,MATCH($B115,'Licence Info'!$B$108:$B$132,FALSE),MATCH(Control!X$101,'Licence Info'!$C$105:$DW$105,FALSE))-X53)","v":0.5},{"$f":"MAX(0,OFFSET(Licence_IBEC,MATCH($B115,'Licence Info'!$B$40:$B$64,FALSE),MATCH(Control!Y$101,'Licence Info'!$C$37:$DW$37,FALSE))*$C$9+OFFSET(Licence_Subst,MATCH($B115,'Licence Info'!$B$74:$B$98,FALSE),MATCH(Control!Y$101,'Licence Info'!$C$71:$DW$71,FALSE))*$C$9+OFFSET(Licence_OIEC,MATCH($B115,'Licence Info'!$B$108:$B$132,FALSE),MATCH(Control!Y$101,'Licence Info'!$C$105:$DW$105,FALSE))-Y53)","v":22.5},{"$f":"MAX(0,OFFSET(Licence_IBEC,MATCH($B115,'Licence Info'!$B$40:$B$64,FALSE),MATCH(Control!Z$101,'Licence Info'!$C$37:$DW$37,FALSE))*$C$9+OFFSET(Licence_Subst,MATCH($B115,'Licence Info'!$B$74:$B$98,FALSE),MATCH(Control!Z$101,'Licence Info'!$C$71:$DW$71,FALSE))*$C$9+OFFSET(Licence_OIEC,MATCH($B115,'Licence Info'!$B$108:$B$132,FALSE),MATCH(Control!Z$101,'Licence Info'!$C$105:$DW$105,FALSE))-Z53)","v":22.5},{"$f":"MAX(0,OFFSET(Licence_IBEC,MATCH($B115,'Licence Info'!$B$40:$B$64,FALSE),MATCH(Control!AA$101,'Licence Info'!$C$37:$DW$37,FALSE))*$C$9+OFFSET(Licence_Subst,MATCH($B115,'Licence Info'!$B$74:$B$98,FALSE),MATCH(Control!AA$101,'Licence Info'!$C$71:$DW$71,FALSE))*$C$9+OFFSET(Licence_OIEC,MATCH($B115,'Licence Info'!$B$108:$B$132,FALSE),MATCH(Control!AA$101,'Licence Info'!$C$105:$DW$105,FALSE))-AA53)","v":22.5},{"$f":"MAX(0,OFFSET(Licence_IBEC,MATCH($B115,'Licence Info'!$B$40:$B$64,FALSE),MATCH(Control!AB$101,'Licence Info'!$C$37:$DW$37,FALSE))*$C$9+OFFSET(Licence_Subst,MATCH($B115,'Licence Info'!$B$74:$B$98,FALSE),MATCH(Control!AB$101,'Licence Info'!$C$71:$DW$71,FALSE))*$C$9+OFFSET(Licence_OIEC,MATCH($B115,'Licence Info'!$B$108:$B$132,FALSE),MATCH(Control!AB$101,'Licence Info'!$C$105:$DW$105,FALSE))-AB53)","v":22.5},{"$f":"MAX(0,OFFSET(Licence_IBEC,MATCH($B115,'Licence Info'!$B$40:$B$64,FALSE),MATCH(Control!AC$101,'Licence Info'!$C$37:$DW$37,FALSE))*$C$9+OFFSET(Licence_Subst,MATCH($B115,'Licence Info'!$B$74:$B$98,FALSE),MATCH(Control!AC$101,'Licence Info'!$C$71:$DW$71,FALSE))*$C$9+OFFSET(Licence_OIEC,MATCH($B115,'Licence Info'!$B$108:$B$132,FALSE),MATCH(Control!AC$101,'Licence Info'!$C$105:$DW$105,FALSE))-AC53)","v":22.5},{"$f":"MAX(0,OFFSET(Licence_IBEC,MATCH($B115,'Licence Info'!$B$40:$B$64,FALSE),MATCH(Control!AD$101,'Licence Info'!$C$37:$DW$37,FALSE))*$C$9+OFFSET(Licence_Subst,MATCH($B115,'Licence Info'!$B$74:$B$98,FALSE),MATCH(Control!AD$101,'Licence Info'!$C$71:$DW$71,FALSE))*$C$9+OFFSET(Licence_OIEC,MATCH($B115,'Licence Info'!$B$108:$B$132,FALSE),MATCH(Control!AD$101,'Licence Info'!$C$105:$DW$105,FALSE))-AD53)","v":22.5},{"$f":"MAX(0,OFFSET(Licence_IBEC,MATCH($B115,'Licence Info'!$B$40:$B$64,FALSE),MATCH(Control!AE$101,'Licence Info'!$C$37:$DW$37,FALSE))*$C$9+OFFSET(Licence_Subst,MATCH($B115,'Licence Info'!$B$74:$B$98,FALSE),MATCH(Control!AE$101,'Licence Info'!$C$71:$DW$71,FALSE))*$C$9+OFFSET(Licence_OIEC,MATCH($B115,'Licence Info'!$B$108:$B$132,FALSE),MATCH(Control!AE$101,'Licence Info'!$C$105:$DW$105,FALSE))-AE53)","v":22.5},{"$f":"MAX(0,OFFSET(Licence_IBEC,MATCH($B115,'Licence Info'!$B$40:$B$64,FALSE),MATCH(Control!AF$101,'Licence Info'!$C$37:$DW$37,FALSE))*$C$9+OFFSET(Licence_Subst,MATCH($B115,'Licence Info'!$B$74:$B$98,FALSE),MATCH(Control!AF$101,'Licence Info'!$C$71:$DW$71,FALSE))*$C$9+OFFSET(Licence_OIEC,MATCH($B115,'Licence Info'!$B$108:$B$132,FALSE),MATCH(Control!AF$101,'Licence Info'!$C$105:$DW$105,FALSE))-AF53)","v":22.5},{"$f":"MAX(0,OFFSET(Licence_IBEC,MATCH($B115,'Licence Info'!$B$40:$B$64,FALSE),MATCH(Control!AG$101,'Licence Info'!$C$37:$DW$37,FALSE))*$C$9+OFFSET(Licence_Subst,MATCH($B115,'Licence Info'!$B$74:$B$98,FALSE),MATCH(Control!AG$101,'Licence Info'!$C$71:$DW$71,FALSE))*$C$9+OFFSET(Licence_OIEC,MATCH($B115,'Licence Info'!$B$108:$B$132,FALSE),MATCH(Control!AG$101,'Licence Info'!$C$105:$DW$105,FALSE))-AG53)","v":22.5},{"$f":"MAX(0,OFFSET(Licence_IBEC,MATCH($B115,'Licence Info'!$B$40:$B$64,FALSE),MATCH(Control!AH$101,'Licence Info'!$C$37:$DW$37,FALSE))*$C$9+OFFSET(Licence_Subst,MATCH($B115,'Licence Info'!$B$74:$B$98,FALSE),MATCH(Control!AH$101,'Licence Info'!$C$71:$DW$71,FALSE))*$C$9+OFFSET(Licence_OIEC,MATCH($B115,'Licence Info'!$B$108:$B$132,FALSE),MATCH(Control!AH$101,'Licence Info'!$C$105:$DW$105,FALSE))-AH53)","v":22.5},{"$f":"MAX(0,OFFSET(Licence_IBEC,MATCH($B115,'Licence Info'!$B$40:$B$64,FALSE),MATCH(Control!AI$101,'Licence Info'!$C$37:$DW$37,FALSE))*$C$9+OFFSET(Licence_Subst,MATCH($B115,'Licence Info'!$B$74:$B$98,FALSE),MATCH(Control!AI$101,'Licence Info'!$C$71:$DW$71,FALSE))*$C$9+OFFSET(Licence_OIEC,MATCH($B115,'Licence Info'!$B$108:$B$132,FALSE),MATCH(Control!AI$101,'Licence Info'!$C$105:$DW$105,FALSE))-AI53)","v":22.5},{"$f":"MAX(0,OFFSET(Licence_IBEC,MATCH($B115,'Licence Info'!$B$40:$B$64,FALSE),MATCH(Control!AJ$101,'Licence Info'!$C$37:$DW$37,FALSE))*$C$9+OFFSET(Licence_Subst,MATCH($B115,'Licence Info'!$B$74:$B$98,FALSE),MATCH(Control!AJ$101,'Licence Info'!$C$71:$DW$71,FALSE))*$C$9+OFFSET(Licence_OIEC,MATCH($B115,'Licence Info'!$B$108:$B$132,FALSE),MATCH(Control!AJ$101,'Licence Info'!$C$105:$DW$105,FALSE))-AJ53)","v":22.5},{"$f":"MAX(0,OFFSET(Licence_IBEC,MATCH($B115,'Licence Info'!$B$40:$B$64,FALSE),MATCH(Control!AK$101,'Licence Info'!$C$37:$DW$37,FALSE))*$C$9+OFFSET(Licence_Subst,MATCH($B115,'Licence Info'!$B$74:$B$98,FALSE),MATCH(Control!AK$101,'Licence Info'!$C$71:$DW$71,FALSE))*$C$9+OFFSET(Licence_OIEC,MATCH($B115,'Licence Info'!$B$108:$B$132,FALSE),MATCH(Control!AK$101,'Licence Info'!$C$105:$DW$105,FALSE))-AK53)","v":22.5},{"$f":"MAX(0,OFFSET(Licence_IBEC,MATCH($B115,'Licence Info'!$B$40:$B$64,FALSE),MATCH(Control!AL$101,'Licence Info'!$C$37:$DW$37,FALSE))*$C$9+OFFSET(Licence_Subst,MATCH($B115,'Licence Info'!$B$74:$B$98,FALSE),MATCH(Control!AL$101,'Licence Info'!$C$71:$DW$71,FALSE))*$C$9+OFFSET(Licence_OIEC,MATCH($B115,'Licence Info'!$B$108:$B$132,FALSE),MATCH(Control!AL$101,'Licence Info'!$C$105:$DW$105,FALSE))-AL53)","v":22.5},{"$f":"MAX(0,OFFSET(Licence_IBEC,MATCH($B115,'Licence Info'!$B$40:$B$64,FALSE),MATCH(Control!AM$101,'Licence Info'!$C$37:$DW$37,FALSE))*$C$9+OFFSET(Licence_Subst,MATCH($B115,'Licence Info'!$B$74:$B$98,FALSE),MATCH(Control!AM$101,'Licence Info'!$C$71:$DW$71,FALSE))*$C$9+OFFSET(Licence_OIEC,MATCH($B115,'Licence Info'!$B$108:$B$132,FALSE),MATCH(Control!AM$101,'Licence Info'!$C$105:$DW$105,FALSE))-AM53)","v":22.5},{"$f":"MAX(0,OFFSET(Licence_IBEC,MATCH($B115,'Licence Info'!$B$40:$B$64,FALSE),MATCH(Control!AN$101,'Licence Info'!$C$37:$DW$37,FALSE))*$C$9+OFFSET(Licence_Subst,MATCH($B115,'Licence Info'!$B$74:$B$98,FALSE),MATCH(Control!AN$101,'Licence Info'!$C$71:$DW$71,FALSE))*$C$9+OFFSET(Licence_OIEC,MATCH($B115,'Licence Info'!$B$108:$B$132,FALSE),MATCH(Control!AN$101,'Licence Info'!$C$105:$DW$105,FALSE))-AN53)","v":22.5},{"$f":"MAX(0,OFFSET(Licence_IBEC,MATCH($B115,'Licence Info'!$B$40:$B$64,FALSE),MATCH(Control!AO$101,'Licence Info'!$C$37:$DW$37,FALSE))*$C$9+OFFSET(Licence_Subst,MATCH($B115,'Licence Info'!$B$74:$B$98,FALSE),MATCH(Control!AO$101,'Licence Info'!$C$71:$DW$71,FALSE))*$C$9+OFFSET(Licence_OIEC,MATCH($B115,'Licence Info'!$B$108:$B$132,FALSE),MATCH(Control!AO$101,'Licence Info'!$C$105:$DW$105,FALSE))-AO53)","v":22.5},{"$f":"MAX(0,OFFSET(Licence_IBEC,MATCH($B115,'Licence Info'!$B$40:$B$64,FALSE),MATCH(Control!AP$101,'Licence Info'!$C$37:$DW$37,FALSE))*$C$9+OFFSET(Licence_Subst,MATCH($B115,'Licence Info'!$B$74:$B$98,FALSE),MATCH(Control!AP$101,'Licence Info'!$C$71:$DW$71,FALSE))*$C$9+OFFSET(Licence_OIEC,MATCH($B115,'Licence Info'!$B$108:$B$132,FALSE),MATCH(Control!AP$101,'Licence Info'!$C$105:$DW$105,FALSE))-AP53)","v":22.5},{"$f":"MAX(0,OFFSET(Licence_IBEC,MATCH($B115,'Licence Info'!$B$40:$B$64,FALSE),MATCH(Control!AQ$101,'Licence Info'!$C$37:$DW$37,FALSE))*$C$9+OFFSET(Licence_Subst,MATCH($B115,'Licence Info'!$B$74:$B$98,FALSE),MATCH(Control!AQ$101,'Licence Info'!$C$71:$DW$71,FALSE))*$C$9+OFFSET(Licence_OIEC,MATCH($B115,'Licence Info'!$B$108:$B$132,FALSE),MATCH(Control!AQ$101,'Licence Info'!$C$105:$DW$105,FALSE))-AQ53)","v":22.5},{"$f":"MAX(0,OFFSET(Licence_IBEC,MATCH($B115,'Licence Info'!$B$40:$B$64,FALSE),MATCH(Control!AR$101,'Licence Info'!$C$37:$DW$37,FALSE))*$C$9+OFFSET(Licence_Subst,MATCH($B115,'Licence Info'!$B$74:$B$98,FALSE),MATCH(Control!AR$101,'Licence Info'!$C$71:$DW$71,FALSE))*$C$9+OFFSET(Licence_OIEC,MATCH($B115,'Licence Info'!$B$108:$B$132,FALSE),MATCH(Control!AR$101,'Licence Info'!$C$105:$DW$105,FALSE))-AR53)","v":22.5},{"$f":"MAX(0,OFFSET(Licence_IBEC,MATCH($B115,'Licence Info'!$B$40:$B$64,FALSE),MATCH(Control!AS$101,'Licence Info'!$C$37:$DW$37,FALSE))*$C$9+OFFSET(Licence_Subst,MATCH($B115,'Licence Info'!$B$74:$B$98,FALSE),MATCH(Control!AS$101,'Licence Info'!$C$71:$DW$71,FALSE))*$C$9+OFFSET(Licence_OIEC,MATCH($B115,'Licence Info'!$B$108:$B$132,FALSE),MATCH(Control!AS$101,'Licence Info'!$C$105:$DW$105,FALSE))-AS53)","v":22.5},{"$f":"MAX(0,OFFSET(Licence_IBEC,MATCH($B115,'Licence Info'!$B$40:$B$64,FALSE),MATCH(Control!AT$101,'Licence Info'!$C$37:$DW$37,FALSE))*$C$9+OFFSET(Licence_Subst,MATCH($B115,'Licence Info'!$B$74:$B$98,FALSE),MATCH(Control!AT$101,'Licence Info'!$C$71:$DW$71,FALSE))*$C$9+OFFSET(Licence_OIEC,MATCH($B115,'Licence Info'!$B$108:$B$132,FALSE),MATCH(Control!AT$101,'Licence Info'!$C$105:$DW$105,FALSE))-AT53)","v":22.5},{"$f":"MAX(0,OFFSET(Licence_IBEC,MATCH($B115,'Licence Info'!$B$40:$B$64,FALSE),MATCH(Control!AU$101,'Licence Info'!$C$37:$DW$37,FALSE))*$C$9+OFFSET(Licence_Subst,MATCH($B115,'Licence Info'!$B$74:$B$98,FALSE),MATCH(Control!AU$101,'Licence Info'!$C$71:$DW$71,FALSE))*$C$9+OFFSET(Licence_OIEC,MATCH($B115,'Licence Info'!$B$108:$B$132,FALSE),MATCH(Control!AU$101,'Licence Info'!$C$105:$DW$105,FALSE))-AU53)","v":22.5},{"$f":"MAX(0,OFFSET(Licence_IBEC,MATCH($B115,'Licence Info'!$B$40:$B$64,FALSE),MATCH(Control!AV$101,'Licence Info'!$C$37:$DW$37,FALSE))*$C$9+OFFSET(Licence_Subst,MATCH($B115,'Licence Info'!$B$74:$B$98,FALSE),MATCH(Control!AV$101,'Licence Info'!$C$71:$DW$71,FALSE))*$C$9+OFFSET(Licence_OIEC,MATCH($B115,'Licence Info'!$B$108:$B$132,FALSE),MATCH(Control!AV$101,'Licence Info'!$C$105:$DW$105,FALSE))-AV53)","v":22.5},{"$f":"MAX(0,OFFSET(Licence_IBEC,MATCH($B115,'Licence Info'!$B$40:$B$64,FALSE),MATCH(Control!AW$101,'Licence Info'!$C$37:$DW$37,FALSE))*$C$9+OFFSET(Licence_Subst,MATCH($B115,'Licence Info'!$B$74:$B$98,FALSE),MATCH(Control!AW$101,'Licence Info'!$C$71:$DW$71,FALSE))*$C$9+OFFSET(Licence_OIEC,MATCH($B115,'Licence Info'!$B$108:$B$132,FALSE),MATCH(Control!AW$101,'Licence Info'!$C$105:$DW$105,FALSE))-AW53)","v":22.5},{"$f":"MAX(0,OFFSET(Licence_IBEC,MATCH($B115,'Licence Info'!$B$40:$B$64,FALSE),MATCH(Control!AX$101,'Licence Info'!$C$37:$DW$37,FALSE))*$C$9+OFFSET(Licence_Subst,MATCH($B115,'Licence Info'!$B$74:$B$98,FALSE),MATCH(Control!AX$101,'Licence Info'!$C$71:$DW$71,FALSE))*$C$9+OFFSET(Licence_OIEC,MATCH($B115,'Licence Info'!$B$108:$B$132,FALSE),MATCH(Control!AX$101,'Licence Info'!$C$105:$DW$105,FALSE))-AX53)","v":22.5},{"$f":"MAX(0,OFFSET(Licence_IBEC,MATCH($B115,'Licence Info'!$B$40:$B$64,FALSE),MATCH(Control!AY$101,'Licence Info'!$C$37:$DW$37,FALSE))*$C$9+OFFSET(Licence_Subst,MATCH($B115,'Licence Info'!$B$74:$B$98,FALSE),MATCH(Control!AY$101,'Licence Info'!$C$71:$DW$71,FALSE))*$C$9+OFFSET(Licence_OIEC,MATCH($B115,'Licence Info'!$B$108:$B$132,FALSE),MATCH(Control!AY$101,'Licence Info'!$C$105:$DW$105,FALSE))-AY53)","v":22.5},{"$f":"MAX(0,OFFSET(Licence_IBEC,MATCH($B115,'Licence Info'!$B$40:$B$64,FALSE),MATCH(Control!AZ$101,'Licence Info'!$C$37:$DW$37,FALSE))*$C$9+OFFSET(Licence_Subst,MATCH($B115,'Licence Info'!$B$74:$B$98,FALSE),MATCH(Control!AZ$101,'Licence Info'!$C$71:$DW$71,FALSE))*$C$9+OFFSET(Licence_OIEC,MATCH($B115,'Licence Info'!$B$108:$B$132,FALSE),MATCH(Control!AZ$101,'Licence Info'!$C$105:$DW$105,FALSE))-AZ53)","v":22.5},{"$f":"MAX(0,OFFSET(Licence_IBEC,MATCH($B115,'Licence Info'!$B$40:$B$64,FALSE),MATCH(Control!BA$101,'Licence Info'!$C$37:$DW$37,FALSE))*$C$9+OFFSET(Licence_Subst,MATCH($B115,'Licence Info'!$B$74:$B$98,FALSE),MATCH(Control!BA$101,'Licence Info'!$C$71:$DW$71,FALSE))*$C$9+OFFSET(Licence_OIEC,MATCH($B115,'Licence Info'!$B$108:$B$132,FALSE),MATCH(Control!BA$101,'Licence Info'!$C$105:$DW$105,FALSE))-BA53)","v":22.5},{"$f":"MAX(0,OFFSET(Licence_IBEC,MATCH($B115,'Licence Info'!$B$40:$B$64,FALSE),MATCH(Control!BB$101,'Licence Info'!$C$37:$DW$37,FALSE))*$C$9+OFFSET(Licence_Subst,MATCH($B115,'Licence Info'!$B$74:$B$98,FALSE),MATCH(Control!BB$101,'Licence Info'!$C$71:$DW$71,FALSE))*$C$9+OFFSET(Licence_OIEC,MATCH($B115,'Licence Info'!$B$108:$B$132,FALSE),MATCH(Control!BB$101,'Licence Info'!$C$105:$DW$105,FALSE))-BB53)","v":22.5},{"$f":"MAX(0,OFFSET(Licence_IBEC,MATCH($B115,'Licence Info'!$B$40:$B$64,FALSE),MATCH(Control!BC$101,'Licence Info'!$C$37:$DW$37,FALSE))*$C$9+OFFSET(Licence_Subst,MATCH($B115,'Licence Info'!$B$74:$B$98,FALSE),MATCH(Control!BC$101,'Licence Info'!$C$71:$DW$71,FALSE))*$C$9+OFFSET(Licence_OIEC,MATCH($B115,'Licence Info'!$B$108:$B$132,FALSE),MATCH(Control!BC$101,'Licence Info'!$C$105:$DW$105,FALSE))-BC53)","v":22.5},{"$f":"MAX(0,OFFSET(Licence_IBEC,MATCH($B115,'Licence Info'!$B$40:$B$64,FALSE),MATCH(Control!BD$101,'Licence Info'!$C$37:$DW$37,FALSE))*$C$9+OFFSET(Licence_Subst,MATCH($B115,'Licence Info'!$B$74:$B$98,FALSE),MATCH(Control!BD$101,'Licence Info'!$C$71:$DW$71,FALSE))*$C$9+OFFSET(Licence_OIEC,MATCH($B115,'Licence Info'!$B$108:$B$132,FALSE),MATCH(Control!BD$101,'Licence Info'!$C$105:$DW$105,FALSE))-BD53)","v":22.5},{"$f":"MAX(0,OFFSET(Licence_IBEC,MATCH($B115,'Licence Info'!$B$40:$B$64,FALSE),MATCH(Control!BE$101,'Licence Info'!$C$37:$DW$37,FALSE))*$C$9+OFFSET(Licence_Subst,MATCH($B115,'Licence Info'!$B$74:$B$98,FALSE),MATCH(Control!BE$101,'Licence Info'!$C$71:$DW$71,FALSE))*$C$9+OFFSET(Licence_OIEC,MATCH($B115,'Licence Info'!$B$108:$B$132,FALSE),MATCH(Control!BE$101,'Licence Info'!$C$105:$DW$105,FALSE))-BE53)","v":22.5},{"$f":"MAX(0,OFFSET(Licence_IBEC,MATCH($B115,'Licence Info'!$B$40:$B$64,FALSE),MATCH(Control!BF$101,'Licence Info'!$C$37:$DW$37,FALSE))*$C$9+OFFSET(Licence_Subst,MATCH($B115,'Licence Info'!$B$74:$B$98,FALSE),MATCH(Control!BF$101,'Licence Info'!$C$71:$DW$71,FALSE))*$C$9+OFFSET(Licence_OIEC,MATCH($B115,'Licence Info'!$B$108:$B$132,FALSE),MATCH(Control!BF$101,'Licence Info'!$C$105:$DW$105,FALSE))-BF53)","v":22.5},{"$f":"MAX(0,OFFSET(Licence_IBEC,MATCH($B115,'Licence Info'!$B$40:$B$64,FALSE),MATCH(Control!BG$101,'Licence Info'!$C$37:$DW$37,FALSE))*$C$9+OFFSET(Licence_Subst,MATCH($B115,'Licence Info'!$B$74:$B$98,FALSE),MATCH(Control!BG$101,'Licence Info'!$C$71:$DW$71,FALSE))*$C$9+OFFSET(Licence_OIEC,MATCH($B115,'Licence Info'!$B$108:$B$132,FALSE),MATCH(Control!BG$101,'Licence Info'!$C$105:$DW$105,FALSE))-BG53)","v":22.5},{"$f":"MAX(0,OFFSET(Licence_IBEC,MATCH($B115,'Licence Info'!$B$40:$B$64,FALSE),MATCH(Control!BH$101,'Licence Info'!$C$37:$DW$37,FALSE))*$C$9+OFFSET(Licence_Subst,MATCH($B115,'Licence Info'!$B$74:$B$98,FALSE),MATCH(Control!BH$101,'Licence Info'!$C$71:$DW$71,FALSE))*$C$9+OFFSET(Licence_OIEC,MATCH($B115,'Licence Info'!$B$108:$B$132,FALSE),MATCH(Control!BH$101,'Licence Info'!$C$105:$DW$105,FALSE))-BH53)","v":22.5},{"$f":"MAX(0,OFFSET(Licence_IBEC,MATCH($B115,'Licence Info'!$B$40:$B$64,FALSE),MATCH(Control!BI$101,'Licence Info'!$C$37:$DW$37,FALSE))*$C$9+OFFSET(Licence_Subst,MATCH($B115,'Licence Info'!$B$74:$B$98,FALSE),MATCH(Control!BI$101,'Licence Info'!$C$71:$DW$71,FALSE))*$C$9+OFFSET(Licence_OIEC,MATCH($B115,'Licence Info'!$B$108:$B$132,FALSE),MATCH(Control!BI$101,'Licence Info'!$C$105:$DW$105,FALSE))-BI53)","v":22.5},{"$f":"MAX(0,OFFSET(Licence_IBEC,MATCH($B115,'Licence Info'!$B$40:$B$64,FALSE),MATCH(Control!BJ$101,'Licence Info'!$C$37:$DW$37,FALSE))*$C$9+OFFSET(Licence_Subst,MATCH($B115,'Licence Info'!$B$74:$B$98,FALSE),MATCH(Control!BJ$101,'Licence Info'!$C$71:$DW$71,FALSE))*$C$9+OFFSET(Licence_OIEC,MATCH($B115,'Licence Info'!$B$108:$B$132,FALSE),MATCH(Control!BJ$101,'Licence Info'!$C$105:$DW$105,FALSE))-BJ53)","v":22.5},{"$f":"MAX(0,OFFSET(Licence_IBEC,MATCH($B115,'Licence Info'!$B$40:$B$64,FALSE),MATCH(Control!BK$101,'Licence Info'!$C$37:$DW$37,FALSE))*$C$9+OFFSET(Licence_Subst,MATCH($B115,'Licence Info'!$B$74:$B$98,FALSE),MATCH(Control!BK$101,'Licence Info'!$C$71:$DW$71,FALSE))*$C$9+OFFSET(Licence_OIEC,MATCH($B115,'Licence Info'!$B$108:$B$132,FALSE),MATCH(Control!BK$101,'Licence Info'!$C$105:$DW$105,FALSE))-BK53)","v":{"$error":"#N/A"}}]
[null,"Hatfield Moor (Onshore)",{"$f":"MAX(0,OFFSET(Licence_IBEC,MATCH($B116,'Licence Info'!$B$40:$B$64,FALSE),MATCH(Control!C$101,'Licence Info'!$C$37:$DW$37,FALSE))*$C$9+OFFSET(Licence_Subst,MATCH($B116,'Licence Info'!$B$74:$B$98,FALSE),MATCH(Control!C$101,'Licence Info'!$C$71:$DW$71,FALSE))*$C$9+OFFSET(Licence_OIEC,MATCH($B116,'Licence Info'!$B$108:$B$132,FALSE),MATCH(Control!C$101,'Licence Info'!$C$105:$DW$105,FALSE))-C54)","v":0.27},{"$f":"MAX(0,OFFSET(Licence_IBEC,MATCH($B116,'Licence Info'!$B$40:$B$64,FALSE),MATCH(Control!D$101,'Licence Info'!$C$37:$DW$37,FALSE))*$C$9+OFFSET(Licence_Subst,MATCH($B116,'Licence Info'!$B$74:$B$98,FALSE),MATCH(Control!D$101,'Licence Info'!$C$71:$DW$71,FALSE))*$C$9+OFFSET(Licence_OIEC,MATCH($B116,'Licence Info'!$B$108:$B$132,FALSE),MATCH(Control!D$101,'Licence Info'!$C$105:$DW$105,FALSE))-D54)","v":0.27},{"$f":"MAX(0,OFFSET(Licence_IBEC,MATCH($B116,'Licence Info'!$B$40:$B$64,FALSE),MATCH(Control!E$101,'Licence Info'!$C$37:$DW$37,FALSE))*$C$9+OFFSET(Licence_Subst,MATCH($B116,'Licence Info'!$B$74:$B$98,FALSE),MATCH(Control!E$101,'Licence Info'!$C$71:$DW$71,FALSE))*$C$9+OFFSET(Licence_OIEC,MATCH($B116,'Licence Info'!$B$108:$B$132,FALSE),MATCH(Control!E$101,'Licence Info'!$C$105:$DW$105,FALSE))-E54)","v":0.27},{"$f":"MAX(0,OFFSET(Licence_IBEC,MATCH($B116,'Licence Info'!$B$40:$B$64,FALSE),MATCH(Control!F$101,'Licence Info'!$C$37:$DW$37,FALSE))*$C$9+OFFSET(Licence_Subst,MATCH($B116,'Licence Info'!$B$74:$B$98,FALSE),MATCH(Control!F$101,'Licence Info'!$C$71:$DW$71,FALSE))*$C$9+OFFSET(Licence_OIEC,MATCH($B116,'Licence Info'!$B$108:$B$132,FALSE),MATCH(Control!F$101,'Licence Info'!$C$105:$DW$105,FALSE))-F54)","v":0.27},{"$f":"MAX(0,OFFSET(Licence_IBEC,MATCH($B116,'Licence Info'!$B$40:$B$64,FALSE),MATCH(Control!G$101,'Licence Info'!$C$37:$DW$37,FALSE))*$C$9+OFFSET(Licence_Subst,MATCH($B116,'Licence Info'!$B$74:$B$98,FALSE),MATCH(Control!G$101,'Licence Info'!$C$71:$DW$71,FALSE))*$C$9+OFFSET(Licence_OIEC,MATCH($B116,'Licence Info'!$B$108:$B$132,FALSE),MATCH(Control!G$101,'Licence Info'!$C$105:$DW$105,FALSE))-G54)","v":0.27},{"$f":"MAX(0,OFFSET(Licence_IBEC,MATCH($B116,'Licence Info'!$B$40:$B$64,FALSE),MATCH(Control!H$101,'Licence Info'!$C$37:$DW$37,FALSE))*$C$9+OFFSET(Licence_Subst,MATCH($B116,'Licence Info'!$B$74:$B$98,FALSE),MATCH(Control!H$101,'Licence Info'!$C$71:$DW$71,FALSE))*$C$9+OFFSET(Licence_OIEC,MATCH($B116,'Licence Info'!$B$108:$B$132,FALSE),MATCH(Control!H$101,'Licence Info'!$C$105:$DW$105,FALSE))-H54)","v":0.27},{"$f":"MAX(0,OFFSET(Licence_IBEC,MATCH($B116,'Licence Info'!$B$40:$B$64,FALSE),MATCH(Control!I$101,'Licence Info'!$C$37:$DW$37,FALSE))*$C$9+OFFSET(Licence_Subst,MATCH($B116,'Licence Info'!$B$74:$B$98,FALSE),MATCH(Control!I$101,'Licence Info'!$C$71:$DW$71,FALSE))*$C$9+OFFSET(Licence_OIEC,MATCH($B116,'Licence Info'!$B$108:$B$132,FALSE),MATCH(Control!I$101,'Licence Info'!$C$105:$DW$105,FALSE))-I54)","v":0.27},{"$f":"MAX(0,OFFSET(Licence_IBEC,MATCH($B116,'Licence Info'!$B$40:$B$64,FALSE),MATCH(Control!J$101,'Licence Info'!$C$37:$DW$37,FALSE))*$C$9+OFFSET(Licence_Subst,MATCH($B116,'Licence Info'!$B$74:$B$98,FALSE),MATCH(Control!J$101,'Licence Info'!$C$71:$DW$71,FALSE))*$C$9+OFFSET(Licence_OIEC,MATCH($B116,'Licence Info'!$B$108:$B$132,FALSE),MATCH(Control!J$101,'Licence Info'!$C$105:$DW$105,FALSE))-J54)","v":0.27},{"$f":"MAX(0,OFFSET(Licence_IBEC,MATCH($B116,'Licence Info'!$B$40:$B$64,FALSE),MATCH(Control!K$101,'Licence Info'!$C$37:$DW$37,FALSE))*$C$9+OFFSET(Licence_Subst,MATCH($B116,'Licence Info'!$B$74:$B$98,FALSE),MATCH(Control!K$101,'Licence Info'!$C$71:$DW$71,FALSE))*$C$9+OFFSET(Licence_OIEC,MATCH($B116,'Licence Info'!$B$108:$B$132,FALSE),MATCH(Control!K$101,'Licence Info'!$C$105:$DW$105,FALSE))-K54)","v":0.27},{"$f":"MAX(0,OFFSET(Licence_IBEC,MATCH($B116,'Licence Info'!$B$40:$B$64,FALSE),MATCH(Control!L$101,'Licence Info'!$C$37:$DW$37,FALSE))*$C$9+OFFSET(Licence_Subst,MATCH($B116,'Licence Info'!$B$74:$B$98,FALSE),MATCH(Control!L$101,'Licence Info'!$C$71:$DW$71,FALSE))*$C$9+OFFSET(Licence_OIEC,MATCH($B116,'Licence Info'!$B$108:$B$132,FALSE),MATCH(Control!L$101,'Licence Info'!$C$105:$DW$105,FALSE))-L54)","v":0.27},{"$f":"MAX(0,OFFSET(Licence_IBEC,MATCH($B116,'Licence Info'!$B$40:$B$64,FALSE),MATCH(Control!M$101,'Licence Info'!$C$37:$DW$37,FALSE))*$C$9+OFFSET(Licence_Subst,MATCH($B116,'Licence Info'!$B$74:$B$98,FALSE),MATCH(Control!M$101,'Licence Info'!$C$71:$DW$71,FALSE))*$C$9+OFFSET(Licence_OIEC,MATCH($B116,'Licence Info'!$B$108:$B$132,FALSE),MATCH(Control!M$101,'Licence Info'!$C$105:$DW$105,FALSE))-M54)","v":0.27},{"$f":"MAX(0,OFFSET(Licence_IBEC,MATCH($B116,'Licence Info'!$B$40:$B$64,FALSE),MATCH(Control!N$101,'Licence Info'!$C$37:$DW$37,FALSE))*$C$9+OFFSET(Licence_Subst,MATCH($B116,'Licence Info'!$B$74:$B$98,FALSE),MATCH(Control!N$101,'Licence Info'!$C$71:$DW$71,FALSE))*$C$9+OFFSET(Licence_OIEC,MATCH($B116,'Licence Info'!$B$108:$B$132,FALSE),MATCH(Control!N$101,'Licence Info'!$C$105:$DW$105,FALSE))-N54)","v":0.27},{"$f":"MAX(0,OFFSET(Licence_IBEC,MATCH($B116,'Licence Info'!$B$40:$B$64,FALSE),MATCH(Control!O$101,'Licence Info'!$C$37:$DW$37,FALSE))*$C$9+OFFSET(Licence_Subst,MATCH($B116,'Licence Info'!$B$74:$B$98,FALSE),MATCH(Control!O$101,'Licence Info'!$C$71:$DW$71,FALSE))*$C$9+OFFSET(Licence_OIEC,MATCH($B116,'Licence Info'!$B$108:$B$132,FALSE),MATCH(Control!O$101,'Licence Info'!$C$105:$DW$105,FALSE))-O54)","v":0.27},{"$f":"MAX(0,OFFSET(Licence_IBEC,MATCH($B116,'Licence Info'!$B$40:$B$64,FALSE),MATCH(Control!P$101,'Licence Info'!$C$37:$DW$37,FALSE))*$C$9+OFFSET(Licence_Subst,MATCH($B116,'Licence Info'!$B$74:$B$98,FALSE),MATCH(Control!P$101,'Licence Info'!$C$71:$DW$71,FALSE))*$C$9+OFFSET(Licence_OIEC,MATCH($B116,'Licence Info'!$B$108:$B$132,FALSE),MATCH(Control!P$101,'Licence Info'!$C$105:$DW$105,FALSE))-P54)","v":0.27},{"$f":"MAX(0,OFFSET(Licence_IBEC,MATCH($B116,'Licence Info'!$B$40:$B$64,FALSE),MATCH(Control!Q$101,'Licence Info'!$C$37:$DW$37,FALSE))*$C$9+OFFSET(Licence_Subst,MATCH($B116,'Licence Info'!$B$74:$B$98,FALSE),MATCH(Control!Q$101,'Licence Info'!$C$71:$DW$71,FALSE))*$C$9+OFFSET(Licence_OIEC,MATCH($B116,'Licence Info'!$B$108:$B$132,FALSE),MATCH(Control!Q$101,'Licence Info'!$C$105:$DW$105,FALSE))-Q54)","v":0.27},{"$f":"MAX(0,OFFSET(Licence_IBEC,MATCH($B116,'Licence Info'!$B$40:$B$64,FALSE),MATCH(Control!R$101,'Licence Info'!$C$37:$DW$37,FALSE))*$C$9+OFFSET(Licence_Subst,MATCH($B116,'Licence Info'!$B$74:$B$98,FALSE),MATCH(Control!R$101,'Licence Info'!$C$71:$DW$71,FALSE))*$C$9+OFFSET(Licence_OIEC,MATCH($B116,'Licence Info'!$B$108:$B$132,FALSE),MATCH(Control!R$101,'Licence Info'!$C$105:$DW$105,FALSE))-R54)","v":0.27},{"$f":"MAX(0,OFFSET(Licence_IBEC,MATCH($B116,'Licence Info'!$B$40:$B$64,FALSE),MATCH(Control!S$101,'Licence Info'!$C$37:$DW$37,FALSE))*$C$9+OFFSET(Licence_Subst,MATCH($B116,'Licence Info'!$B$74:$B$98,FALSE),MATCH(Control!S$101,'Licence Info'!$C$71:$DW$71,FALSE))*$C$9+OFFSET(Licence_OIEC,MATCH($B116,'Licence Info'!$B$108:$B$132,FALSE),MATCH(Control!S$101,'Licence Info'!$C$105:$DW$105,FALSE))-S54)","v":0.27},{"$f":"MAX(0,OFFSET(Licence_IBEC,MATCH($B116,'Licence Info'!$B$40:$B$64,FALSE),MATCH(Control!T$101,'Licence Info'!$C$37:$DW$37,FALSE))*$C$9+OFFSET(Licence_Subst,MATCH($B116,'Licence Info'!$B$74:$B$98,FALSE),MATCH(Control!T$101,'Licence Info'!$C$71:$DW$71,FALSE))*$C$9+OFFSET(Licence_OIEC,MATCH($B116,'Licence Info'!$B$108:$B$132,FALSE),MATCH(Control!T$101,'Licence Info'!$C$105:$DW$105,FALSE))-T54)","v":0.27},{"$f":"MAX(0,OFFSET(Licence_IBEC,MATCH($B116,'Licence Info'!$B$40:$B$64,FALSE),MATCH(Control!U$101,'Licence Info'!$C$37:$DW$37,FALSE))*$C$9+OFFSET(Licence_Subst,MATCH($B116,'Licence Info'!$B$74:$B$98,FALSE),MATCH(Control!U$101,'Licence Info'!$C$71:$DW$71,FALSE))*$C$9+OFFSET(Licence_OIEC,MATCH($B116,'Licence Info'!$B$108:$B$132,FALSE),MATCH(Control!U$101,'Licence Info'!$C$105:$DW$105,FALSE))-U54)","v":0.27},{"$f":"MAX(0,OFFSET(Licence_IBEC,MATCH($B116,'Licence Info'!$B$40:$B$64,FALSE),MATCH(Control!V$101,'Licence Info'!$C$37:$DW$37,FALSE))*$C$9+OFFSET(Licence_Subst,MATCH($B116,'Licence Info'!$B$74:$B$98,FALSE),MATCH(Control!V$101,'Licence Info'!$C$71:$DW$71,FALSE))*$C$9+OFFSET(Licence_OIEC,MATCH($B116,'Licence Info'!$B$108:$B$132,FALSE),MATCH(Control!V$101,'Licence Info'!$C$105:$DW$105,FALSE))-V54)","v":0.27},{"$f":"MAX(0,OFFSET(Licence_IBEC,MATCH($B116,'Licence Info'!$B$40:$B$64,FALSE),MATCH(Control!W$101,'Licence Info'!$C$37:$DW$37,FALSE))*$C$9+OFFSET(Licence_Subst,MATCH($B116,'Licence Info'!$B$74:$B$98,FALSE),MATCH(Control!W$101,'Licence Info'!$C$71:$DW$71,FALSE))*$C$9+OFFSET(Licence_OIEC,MATCH($B116,'Licence Info'!$B$108:$B$132,FALSE),MATCH(Control!W$101,'Licence Info'!$C$105:$DW$105,FALSE))-W54)","v":0.27},{"$f":"MAX(0,OFFSET(Licence_IBEC,MATCH($B116,'Licence Info'!$B$40:$B$64,FALSE),MATCH(Control!X$101,'Licence Info'!$C$37:$DW$37,FALSE))*$C$9+OFFSET(Licence_Subst,MATCH($B116,'Licence Info'!$B$74:$B$98,FALSE),MATCH(Control!X$101,'Licence Info'!$C$71:$DW$71,FALSE))*$C$9+OFFSET(Licence_OIEC,MATCH($B116,'Licence Info'!$B$108:$B$132,FALSE),MATCH(Control!X$101,'Licence Info'!$C$105:$DW$105,FALSE))-X54)","v":0.27},{"$f":"MAX(0,OFFSET(Licence_IBEC,MATCH($B116,'Licence Info'!$B$40:$B$64,FALSE),MATCH(Control!Y$101,'Licence Info'!$C$37:$DW$37,FALSE))*$C$9+OFFSET(Licence_Subst,MATCH($B116,'Licence Info'!$B$74:$B$98,FALSE),MATCH(Control!Y$101,'Licence Info'!$C$71:$DW$71,FALSE))*$C$9+OFFSET(Licence_OIEC,MATCH($B116,'Licence Info'!$B$108:$B$132,FALSE),MATCH(Control!Y$101,'Licence Info'!$C$105:$DW$105,FALSE))-Y54)","v":0.27},{"$f":"MAX(0,OFFSET(Licence_IBEC,MATCH($B116,'Licence Info'!$B$40:$B$64,FALSE),MATCH(Control!Z$101,'Licence Info'!$C$37:$DW$37,FALSE))*$C$9+OFFSET(Licence_Subst,MATCH($B116,'Licence Info'!$B$74:$B$98,FALSE),MATCH(Control!Z$101,'Licence Info'!$C$71:$DW$71,FALSE))*$C$9+OFFSET(Licence_OIEC,MATCH($B116,'Licence Info'!$B$108:$B$132,FALSE),MATCH(Control!Z$101,'Licence Info'!$C$105:$DW$105,FALSE))-Z54)","v":0.27},{"$f":"MAX(0,OFFSET(Licence_IBEC,MATCH($B116,'Licence Info'!$B$40:$B$64,FALSE),MATCH(Control!AA$101,'Licence Info'!$C$37:$DW$37,FALSE))*$C$9+OFFSET(Licence_Subst,MATCH($B116,'Licence Info'!$B$74:$B$98,FALSE),MATCH(Control!AA$101,'Licence Info'!$C$71:$DW$71,FALSE))*$C$9+OFFSET(Licence_OIEC,MATCH($B116,'Licence Info'!$B$108:$B$132,FALSE),MATCH(Control!AA$101,'Licence Info'!$C$105:$DW$105,FALSE))-AA54)","v":0.27},{"$f":"MAX(0,OFFSET(Licence_IBEC,MATCH($B116,'Licence Info'!$B$40:$B$64,FALSE),MATCH(Control!AB$101,'Licence Info'!$C$37:$DW$37,FALSE))*$C$9+OFFSET(Licence_Subst,MATCH($B116,'Licence Info'!$B$74:$B$98,FALSE),MATCH(Control!AB$101,'Licence Info'!$C$71:$DW$71,FALSE))*$C$9+OFFSET(Licence_OIEC,MATCH($B116,'Licence Info'!$B$108:$B$132,FALSE),MATCH(Control!AB$101,'Licence Info'!$C$105:$DW$105,FALSE))-AB54)","v":0.27},{"$f":"MAX(0,OFFSET(Licence_IBEC,MATCH($B116,'Licence Info'!$B$40:$B$64,FALSE),MATCH(Control!AC$101,'Licence Info'!$C$37:$DW$37,FALSE))*$C$9+OFFSET(Licence_Subst,MATCH($B116,'Licence Info'!$B$74:$B$98,FALSE),MATCH(Control!AC$101,'Licence Info'!$C$71:$DW$71,FALSE))*$C$9+OFFSET(Licence_OIEC,MATCH($B116,'Licence Info'!$B$108:$B$132,FALSE),MATCH(Control!AC$101,'Licence Info'!$C$105:$DW$105,FALSE))-AC54)","v":0.27},{"$f":"MAX(0,OFFSET(Licence_IBEC,MATCH($B116,'Licence Info'!$B$40:$B$64,FALSE),MATCH(Control!AD$101,'Licence Info'!$C$37:$DW$37,FALSE))*$C$9+OFFSET(Licence_Subst,MATCH($B116,'Licence Info'!$B$74:$B$98,FALSE),MATCH(Control!AD$101,'Licence Info'!$C$71:$DW$71,FALSE))*$C$9+OFFSET(Licence_OIEC,MATCH($B116,'Licence Info'!$B$108:$B$132,FALSE),MATCH(Control!AD$101,'Licence Info'!$C$105:$DW$105,FALSE))-AD54)","v":0.27},{"$f":"MAX(0,OFFSET(Licence_IBEC,MATCH($B116,'Licence Info'!$B$40:$B$64,FALSE),MATCH(Control!AE$101,'Licence Info'!$C$37:$DW$37,FALSE))*$C$9+OFFSET(Licence_Subst,MATCH($B116,'Licence Info'!$B$74:$B$98,FALSE),MATCH(Control!AE$101,'Licence Info'!$C$71:$DW$71,FALSE))*$C$9+OFFSET(Licence_OIEC,MATCH($B116,'Licence Info'!$B$108:$B$132,FALSE),MATCH(Control!AE$101,'Licence Info'!$C$105:$DW$105,FALSE))-AE54)","v":0.27},{"$f":"MAX(0,OFFSET(Licence_IBEC,MATCH($B116,'Licence Info'!$B$40:$B$64,FALSE),MATCH(Control!AF$101,'Licence Info'!$C$37:$DW$37,FALSE))*$C$9+OFFSET(Licence_Subst,MATCH($B116,'Licence Info'!$B$74:$B$98,FALSE),MATCH(Control!AF$101,'Licence Info'!$C$71:$DW$71,FALSE))*$C$9+OFFSET(Licence_OIEC,MATCH($B116,'Licence Info'!$B$108:$B$132,FALSE),MATCH(Control!AF$101,'Licence Info'!$C$105:$DW$105,FALSE))-AF54)","v":0.27},{"$f":"MAX(0,OFFSET(Licence_IBEC,MATCH($B116,'Licence Info'!$B$40:$B$64,FALSE),MATCH(Control!AG$101,'Licence Info'!$C$37:$DW$37,FALSE))*$C$9+OFFSET(Licence_Subst,MATCH($B116,'Licence Info'!$B$74:$B$98,FALSE),MATCH(Control!AG$101,'Licence Info'!$C$71:$DW$71,FALSE))*$C$9+OFFSET(Licence_OIEC,MATCH($B116,'Licence Info'!$B$108:$B$132,FALSE),MATCH(Control!AG$101,'Licence Info'!$C$105:$DW$105,FALSE))-AG54)","v":0.27},{"$f":"MAX(0,OFFSET(Licence_IBEC,MATCH($B116,'Licence Info'!$B$40:$B$64,FALSE),MATCH(Control!AH$101,'Licence Info'!$C$37:$DW$37,FALSE))*$C$9+OFFSET(Licence_Subst,MATCH($B116,'Licence Info'!$B$74:$B$98,FALSE),MATCH(Control!AH$101,'Licence Info'!$C$71:$DW$71,FALSE))*$C$9+OFFSET(Licence_OIEC,MATCH($B116,'Licence Info'!$B$108:$B$132,FALSE),MATCH(Control!AH$101,'Licence Info'!$C$105:$DW$105,FALSE))-AH54)","v":0.27},{"$f":"MAX(0,OFFSET(Licence_IBEC,MATCH($B116,'Licence Info'!$B$40:$B$64,FALSE),MATCH(Control!AI$101,'Licence Info'!$C$37:$DW$37,FALSE))*$C$9+OFFSET(Licence_Subst,MATCH($B116,'Licence Info'!$B$74:$B$98,FALSE),MATCH(Control!AI$101,'Licence Info'!$C$71:$DW$71,FALSE))*$C$9+OFFSET(Licence_OIEC,MATCH($B116,'Licence Info'!$B$108:$B$132,FALSE),MATCH(Control!AI$101,'Licence Info'!$C$105:$DW$105,FALSE))-AI54)","v":0.27},{"$f":"MAX(0,OFFSET(Licence_IBEC,MATCH($B116,'Licence Info'!$B$40:$B$64,FALSE),MATCH(Control!AJ$101,'Licence Info'!$C$37:$DW$37,FALSE))*$C$9+OFFSET(Licence_Subst,MATCH($B116,'Licence Info'!$B$74:$B$98,FALSE),MATCH(Control!AJ$101,'Licence Info'!$C$71:$DW$71,FALSE))*$C$9+OFFSET(Licence_OIEC,MATCH($B116,'Licence Info'!$B$108:$B$132,FALSE),MATCH(Control!AJ$101,'Licence Info'!$C$105:$DW$105,FALSE))-AJ54)","v":0.27},{"$f":"MAX(0,OFFSET(Licence_IBEC,MATCH($B116,'Licence Info'!$B$40:$B$64,FALSE),MATCH(Control!AK$101,'Licence Info'!$C$37:$DW$37,FALSE))*$C$9+OFFSET(Licence_Subst,MATCH($B116,'Licence Info'!$B$74:$B$98,FALSE),MATCH(Control!AK$101,'Licence Info'!$C$71:$DW$71,FALSE))*$C$9+OFFSET(Licence_OIEC,MATCH($B116,'Licence Info'!$B$108:$B$132,FALSE),MATCH(Control!AK$101,'Licence Info'!$C$105:$DW$105,FALSE))-AK54)","v":0.27},{"$f":"MAX(0,OFFSET(Licence_IBEC,MATCH($B116,'Licence Info'!$B$40:$B$64,FALSE),MATCH(Control!AL$101,'Licence Info'!$C$37:$DW$37,FALSE))*$C$9+OFFSET(Licence_Subst,MATCH($B116,'Licence Info'!$B$74:$B$98,FALSE),MATCH(Control!AL$101,'Licence Info'!$C$71:$DW$71,FALSE))*$C$9+OFFSET(Licence_OIEC,MATCH($B116,'Licence Info'!$B$108:$B$132,FALSE),MATCH(Control!AL$101,'Licence Info'!$C$105:$DW$105,FALSE))-AL54)","v":0.27},{"$f":"MAX(0,OFFSET(Licence_IBEC,MATCH($B116,'Licence Info'!$B$40:$B$64,FALSE),MATCH(Control!AM$101,'Licence Info'!$C$37:$DW$37,FALSE))*$C$9+OFFSET(Licence_Subst,MATCH($B116,'Licence Info'!$B$74:$B$98,FALSE),MATCH(Control!AM$101,'Licence Info'!$C$71:$DW$71,FALSE))*$C$9+OFFSET(Licence_OIEC,MATCH($B116,'Licence Info'!$B$108:$B$132,FALSE),MATCH(Control!AM$101,'Licence Info'!$C$105:$DW$105,FALSE))-AM54)","v":0.27},{"$f":"MAX(0,OFFSET(Licence_IBEC,MATCH($B116,'Licence Info'!$B$40:$B$64,FALSE),MATCH(Control!AN$101,'Licence Info'!$C$37:$DW$37,FALSE))*$C$9+OFFSET(Licence_Subst,MATCH($B116,'Licence Info'!$B$74:$B$98,FALSE),MATCH(Control!AN$101,'Licence Info'!$C$71:$DW$71,FALSE))*$C$9+OFFSET(Licence_OIEC,MATCH($B116,'Licence Info'!$B$108:$B$132,FALSE),MATCH(Control!AN$101,'Licence Info'!$C$105:$DW$105,FALSE))-AN54)","v":0.27},{"$f":"MAX(0,OFFSET(Licence_IBEC,MATCH($B116,'Licence Info'!$B$40:$B$64,FALSE),MATCH(Control!AO$101,'Licence Info'!$C$37:$DW$37,FALSE))*$C$9+OFFSET(Licence_Subst,MATCH($B116,'Licence Info'!$B$74:$B$98,FALSE),MATCH(Control!AO$101,'Licence Info'!$C$71:$DW$71,FALSE))*$C$9+OFFSET(Licence_OIEC,MATCH($B116,'Licence Info'!$B$108:$B$132,FALSE),MATCH(Control!AO$101,'Licence Info'!$C$105:$DW$105,FALSE))-AO54)","v":0.27},{"$f":"MAX(0,OFFSET(Licence_IBEC,MATCH($B116,'Licence Info'!$B$40:$B$64,FALSE),MATCH(Control!AP$101,'Licence Info'!$C$37:$DW$37,FALSE))*$C$9+OFFSET(Licence_Subst,MATCH($B116,'Licence Info'!$B$74:$B$98,FALSE),MATCH(Control!AP$101,'Licence Info'!$C$71:$DW$71,FALSE))*$C$9+OFFSET(Licence_OIEC,MATCH($B116,'Licence Info'!$B$108:$B$132,FALSE),MATCH(Control!AP$101,'Licence Info'!$C$105:$DW$105,FALSE))-AP54)","v":0.27},{"$f":"MAX(0,OFFSET(Licence_IBEC,MATCH($B116,'Licence Info'!$B$40:$B$64,FALSE),MATCH(Control!AQ$101,'Licence Info'!$C$37:$DW$37,FALSE))*$C$9+OFFSET(Licence_Subst,MATCH($B116,'Licence Info'!$B$74:$B$98,FALSE),MATCH(Control!AQ$101,'Licence Info'!$C$71:$DW$71,FALSE))*$C$9+OFFSET(Licence_OIEC,MATCH($B116,'Licence Info'!$B$108:$B$132,FALSE),MATCH(Control!AQ$101,'Licence Info'!$C$105:$DW$105,FALSE))-AQ54)","v":0.27},{"$f":"MAX(0,OFFSET(Licence_IBEC,MATCH($B116,'Licence Info'!$B$40:$B$64,FALSE),MATCH(Control!AR$101,'Licence Info'!$C$37:$DW$37,FALSE))*$C$9+OFFSET(Licence_Subst,MATCH($B116,'Licence Info'!$B$74:$B$98,FALSE),MATCH(Control!AR$101,'Licence Info'!$C$71:$DW$71,FALSE))*$C$9+OFFSET(Licence_OIEC,MATCH($B116,'Licence Info'!$B$108:$B$132,FALSE),MATCH(Control!AR$101,'Licence Info'!$C$105:$DW$105,FALSE))-AR54)","v":0.27},{"$f":"MAX(0,OFFSET(Licence_IBEC,MATCH($B116,'Licence Info'!$B$40:$B$64,FALSE),MATCH(Control!AS$101,'Licence Info'!$C$37:$DW$37,FALSE))*$C$9+OFFSET(Licence_Subst,MATCH($B116,'Licence Info'!$B$74:$B$98,FALSE),MATCH(Control!AS$101,'Licence Info'!$C$71:$DW$71,FALSE))*$C$9+OFFSET(Licence_OIEC,MATCH($B116,'Licence Info'!$B$108:$B$132,FALSE),MATCH(Control!AS$101,'Licence Info'!$C$105:$DW$105,FALSE))-AS54)","v":0.27},{"$f":"MAX(0,OFFSET(Licence_IBEC,MATCH($B116,'Licence Info'!$B$40:$B$64,FALSE),MATCH(Control!AT$101,'Licence Info'!$C$37:$DW$37,FALSE))*$C$9+OFFSET(Licence_Subst,MATCH($B116,'Licence Info'!$B$74:$B$98,FALSE),MATCH(Control!AT$101,'Licence Info'!$C$71:$DW$71,FALSE))*$C$9+OFFSET(Licence_OIEC,MATCH($B116,'Licence Info'!$B$108:$B$132,FALSE),MATCH(Control!AT$101,'Licence Info'!$C$105:$DW$105,FALSE))-AT54)","v":0.27},{"$f":"MAX(0,OFFSET(Licence_IBEC,MATCH($B116,'Licence Info'!$B$40:$B$64,FALSE),MATCH(Control!AU$101,'Licence Info'!$C$37:$DW$37,FALSE))*$C$9+OFFSET(Licence_Subst,MATCH($B116,'Licence Info'!$B$74:$B$98,FALSE),MATCH(Control!AU$101,'Licence Info'!$C$71:$DW$71,FALSE))*$C$9+OFFSET(Licence_OIEC,MATCH($B116,'Licence Info'!$B$108:$B$132,FALSE),MATCH(Control!AU$101,'Licence Info'!$C$105:$DW$105,FALSE))-AU54)","v":0.27},{"$f":"MAX(0,OFFSET(Licence_IBEC,MATCH($B116,'Licence Info'!$B$40:$B$64,FALSE),MATCH(Control!AV$101,'Licence Info'!$C$37:$DW$37,FALSE))*$C$9+OFFSET(Licence_Subst,MATCH($B116,'Licence Info'!$B$74:$B$98,FALSE),MATCH(Control!AV$101,'Licence Info'!$C$71:$DW$71,FALSE))*$C$9+OFFSET(Licence_OIEC,MATCH($B116,'Licence Info'!$B$108:$B$132,FALSE),MATCH(Control!AV$101,'Licence Info'!$C$105:$DW$105,FALSE))-AV54)","v":0.27},{"$f":"MAX(0,OFFSET(Licence_IBEC,MATCH($B116,'Licence Info'!$B$40:$B$64,FALSE),MATCH(Control!AW$101,'Licence Info'!$C$37:$DW$37,FALSE))*$C$9+OFFSET(Licence_Subst,MATCH($B116,'Licence Info'!$B$74:$B$98,FALSE),MATCH(Control!AW$101,'Licence Info'!$C$71:$DW$71,FALSE))*$C$9+OFFSET(Licence_OIEC,MATCH($B116,'Licence Info'!$B$108:$B$132,FALSE),MATCH(Control!AW$101,'Licence Info'!$C$105:$DW$105,FALSE))-AW54)","v":0.27},{"$f":"MAX(0,OFFSET(Licence_IBEC,MATCH($B116,'Licence Info'!$B$40:$B$64,FALSE),MATCH(Control!AX$101,'Licence Info'!$C$37:$DW$37,FALSE))*$C$9+OFFSET(Licence_Subst,MATCH($B116,'Licence Info'!$B$74:$B$98,FALSE),MATCH(Control!AX$101,'Licence Info'!$C$71:$DW$71,FALSE))*$C$9+OFFSET(Licence_OIEC,MATCH($B116,'Licence Info'!$B$108:$B$132,FALSE),MATCH(Control!AX$101,'Licence Info'!$C$105:$DW$105,FALSE))-AX54)","v":0.27},{"$f":"MAX(0,OFFSET(Licence_IBEC,MATCH($B116,'Licence Info'!$B$40:$B$64,FALSE),MATCH(Control!AY$101,'Licence Info'!$C$37:$DW$37,FALSE))*$C$9+OFFSET(Licence_Subst,MATCH($B116,'Licence Info'!$B$74:$B$98,FALSE),MATCH(Control!AY$101,'Licence Info'!$C$71:$DW$71,FALSE))*$C$9+OFFSET(Licence_OIEC,MATCH($B116,'Licence Info'!$B$108:$B$132,FALSE),MATCH(Control!AY$101,'Licence Info'!$C$105:$DW$105,FALSE))-AY54)","v":0.27},{"$f":"MAX(0,OFFSET(Licence_IBEC,MATCH($B116,'Licence Info'!$B$40:$B$64,FALSE),MATCH(Control!AZ$101,'Licence Info'!$C$37:$DW$37,FALSE))*$C$9+OFFSET(Licence_Subst,MATCH($B116,'Licence Info'!$B$74:$B$98,FALSE),MATCH(Control!AZ$101,'Licence Info'!$C$71:$DW$71,FALSE))*$C$9+OFFSET(Licence_OIEC,MATCH($B116,'Licence Info'!$B$108:$B$132,FALSE),MATCH(Control!AZ$101,'Licence Info'!$C$105:$DW$105,FALSE))-AZ54)","v":0.27},{"$f":"MAX(0,OFFSET(Licence_IBEC,MATCH($B116,'Licence Info'!$B$40:$B$64,FALSE),MATCH(Control!BA$101,'Licence Info'!$C$37:$DW$37,FALSE))*$C$9+OFFSET(Licence_Subst,MATCH($B116,'Licence Info'!$B$74:$B$98,FALSE),MATCH(Control!BA$101,'Licence Info'!$C$71:$DW$71,FALSE))*$C$9+OFFSET(Licence_OIEC,MATCH($B116,'Licence Info'!$B$108:$B$132,FALSE),MATCH(Control!BA$101,'Licence Info'!$C$105:$DW$105,FALSE))-BA54)","v":0.27},{"$f":"MAX(0,OFFSET(Licence_IBEC,MATCH($B116,'Licence Info'!$B$40:$B$64,FALSE),MATCH(Control!BB$101,'Licence Info'!$C$37:$DW$37,FALSE))*$C$9+OFFSET(Licence_Subst,MATCH($B116,'Licence Info'!$B$74:$B$98,FALSE),MATCH(Control!BB$101,'Licence Info'!$C$71:$DW$71,FALSE))*$C$9+OFFSET(Licence_OIEC,MATCH($B116,'Licence Info'!$B$108:$B$132,FALSE),MATCH(Control!BB$101,'Licence Info'!$C$105:$DW$105,FALSE))-BB54)","v":0.27},{"$f":"MAX(0,OFFSET(Licence_IBEC,MATCH($B116,'Licence Info'!$B$40:$B$64,FALSE),MATCH(Control!BC$101,'Licence Info'!$C$37:$DW$37,FALSE))*$C$9+OFFSET(Licence_Subst,MATCH($B116,'Licence Info'!$B$74:$B$98,FALSE),MATCH(Control!BC$101,'Licence Info'!$C$71:$DW$71,FALSE))*$C$9+OFFSET(Licence_OIEC,MATCH($B116,'Licence Info'!$B$108:$B$132,FALSE),MATCH(Control!BC$101,'Licence Info'!$C$105:$DW$105,FALSE))-BC54)","v":0.27},{"$f":"MAX(0,OFFSET(Licence_IBEC,MATCH($B116,'Licence Info'!$B$40:$B$64,FALSE),MATCH(Control!BD$101,'Licence Info'!$C$37:$DW$37,FALSE))*$C$9+OFFSET(Licence_Subst,MATCH($B116,'Licence Info'!$B$74:$B$98,FALSE),MATCH(Control!BD$101,'Licence Info'!$C$71:$DW$71,FALSE))*$C$9+OFFSET(Licence_OIEC,MATCH($B116,'Licence Info'!$B$108:$B$132,FALSE),MATCH(Control!BD$101,'Licence Info'!$C$105:$DW$105,FALSE))-BD54)","v":0.27},{"$f":"MAX(0,OFFSET(Licence_IBEC,MATCH($B116,'Licence Info'!$B$40:$B$64,FALSE),MATCH(Control!BE$101,'Licence Info'!$C$37:$DW$37,FALSE))*$C$9+OFFSET(Licence_Subst,MATCH($B116,'Licence Info'!$B$74:$B$98,FALSE),MATCH(Control!BE$101,'Licence Info'!$C$71:$DW$71,FALSE))*$C$9+OFFSET(Licence_OIEC,MATCH($B116,'Licence Info'!$B$108:$B$132,FALSE),MATCH(Control!BE$101,'Licence Info'!$C$105:$DW$105,FALSE))-BE54)","v":0.27},{"$f":"MAX(0,OFFSET(Licence_IBEC,MATCH($B116,'Licence Info'!$B$40:$B$64,FALSE),MATCH(Control!BF$101,'Licence Info'!$C$37:$DW$37,FALSE))*$C$9+OFFSET(Licence_Subst,MATCH($B116,'Licence Info'!$B$74:$B$98,FALSE),MATCH(Control!BF$101,'Licence Info'!$C$71:$DW$71,FALSE))*$C$9+OFFSET(Licence_OIEC,MATCH($B116,'Licence Info'!$B$108:$B$132,FALSE),MATCH(Control!BF$101,'Licence Info'!$C$105:$DW$105,FALSE))-BF54)","v":0.27},{"$f":"MAX(0,OFFSET(Licence_IBEC,MATCH($B116,'Licence Info'!$B$40:$B$64,FALSE),MATCH(Control!BG$101,'Licence Info'!$C$37:$DW$37,FALSE))*$C$9+OFFSET(Licence_Subst,MATCH($B116,'Licence Info'!$B$74:$B$98,FALSE),MATCH(Control!BG$101,'Licence Info'!$C$71:$DW$71,FALSE))*$C$9+OFFSET(Licence_OIEC,MATCH($B116,'Licence Info'!$B$108:$B$132,FALSE),MATCH(Control!BG$101,'Licence Info'!$C$105:$DW$105,FALSE))-BG54)","v":0.27},{"$f":"MAX(0,OFFSET(Licence_IBEC,MATCH($B116,'Licence Info'!$B$40:$B$64,FALSE),MATCH(Control!BH$101,'Licence Info'!$C$37:$DW$37,FALSE))*$C$9+OFFSET(Licence_Subst,MATCH($B116,'Licence Info'!$B$74:$B$98,FALSE),MATCH(Control!BH$101,'Licence Info'!$C$71:$DW$71,FALSE))*$C$9+OFFSET(Licence_OIEC,MATCH($B116,'Licence Info'!$B$108:$B$132,FALSE),MATCH(Control!BH$101,'Licence Info'!$C$105:$DW$105,FALSE))-BH54)","v":0.27},{"$f":"MAX(0,OFFSET(Licence_IBEC,MATCH($B116,'Licence Info'!$B$40:$B$64,FALSE),MATCH(Control!BI$101,'Licence Info'!$C$37:$DW$37,FALSE))*$C$9+OFFSET(Licence_Subst,MATCH($B116,'Licence Info'!$B$74:$B$98,FALSE),MATCH(Control!BI$101,'Licence Info'!$C$71:$DW$71,FALSE))*$C$9+OFFSET(Licence_OIEC,MATCH($B116,'Licence Info'!$B$108:$B$132,FALSE),MATCH(Control!BI$101,'Licence Info'!$C$105:$DW$105,FALSE))-BI54)","v":0.27},{"$f":"MAX(0,OFFSET(Licence_IBEC,MATCH($B116,'Licence Info'!$B$40:$B$64,FALSE),MATCH(Control!BJ$101,'Licence Info'!$C$37:$DW$37,FALSE))*$C$9+OFFSET(Licence_Subst,MATCH($B116,'Licence Info'!$B$74:$B$98,FALSE),MATCH(Control!BJ$101,'Licence Info'!$C$71:$DW$71,FALSE))*$C$9+OFFSET(Licence_OIEC,MATCH($B116,'Licence Info'!$B$108:$B$132,FALSE),MATCH(Control!BJ$101,'Licence Info'!$C$105:$DW$105,FALSE))-BJ54)","v":0.27},{"$f":"MAX(0,OFFSET(Licence_IBEC,MATCH($B116,'Licence Info'!$B$40:$B$64,FALSE),MATCH(Control!BK$101,'Licence Info'!$C$37:$DW$37,FALSE))*$C$9+OFFSET(Licence_Subst,MATCH($B116,'Licence Info'!$B$74:$B$98,FALSE),MATCH(Control!BK$101,'Licence Info'!$C$71:$DW$71,FALSE))*$C$9+OFFSET(Licence_OIEC,MATCH($B116,'Licence Info'!$B$108:$B$132,FALSE),MATCH(Control!BK$101,'Licence Info'!$C$105:$DW$105,FALSE))-BK54)","v":{"$error":"#N/A"}}]
[null,"Cheshire",{"$f":"MAX(0,OFFSET(Licence_IBEC,MATCH($B117,'Licence Info'!$B$40:$B$64,FALSE),MATCH(Control!C$101,'Licence Info'!$C$37:$DW$37,FALSE))*$C$9+OFFSET(Licence_Subst,MATCH($B117,'Licence Info'!$B$74:$B$98,FALSE),MATCH(Control!C$101,'Licence Info'!$C$71:$DW$71,FALSE))*$C$9+OFFSET(Licence_OIEC,MATCH($B117,'Licence Info'!$B$108:$B$132,FALSE),MATCH(Control!C$101,'Licence Info'!$C$105:$DW$105,FALSE))-C55)","v":0},{"$f":"MAX(0,OFFSET(Licence_IBEC,MATCH($B117,'Licence Info'!$B$40:$B$64,FALSE),MATCH(Control!D$101,'Licence Info'!$C$37:$DW$37,FALSE))*$C$9+OFFSET(Licence_Subst,MATCH($B117,'Licence Info'!$B$74:$B$98,FALSE),MATCH(Control!D$101,'Licence Info'!$C$71:$DW$71,FALSE))*$C$9+OFFSET(Licence_OIEC,MATCH($B117,'Licence Info'!$B$108:$B$132,FALSE),MATCH(Control!D$101,'Licence Info'!$C$105:$DW$105,FALSE))-D55)","v":0},{"$f":"MAX(0,OFFSET(Licence_IBEC,MATCH($B117,'Licence Info'!$B$40:$B$64,FALSE),MATCH(Control!E$101,'Licence Info'!$C$37:$DW$37,FALSE))*$C$9+OFFSET(Licence_Subst,MATCH($B117,'Licence Info'!$B$74:$B$98,FALSE),MATCH(Control!E$101,'Licence Info'!$C$71:$DW$71,FALSE))*$C$9+OFFSET(Licence_OIEC,MATCH($B117,'Licence Info'!$B$108:$B$132,FALSE),MATCH(Control!E$101,'Licence Info'!$C$105:$DW$105,FALSE))-E55)","v":0},{"$f":"MAX(0,OFFSET(Licence_IBEC,MATCH($B117,'Licence Info'!$B$40:$B$64,FALSE),MATCH(Control!F$101,'Licence Info'!$C$37:$DW$37,FALSE))*$C$9+OFFSET(Licence_Subst,MATCH($B117,'Licence Info'!$B$74:$B$98,FALSE),MATCH(Control!F$101,'Licence Info'!$C$71:$DW$71,FALSE))*$C$9+OFFSET(Licence_OIEC,MATCH($B117,'Licence Info'!$B$108:$B$132,FALSE),MATCH(Control!F$101,'Licence Info'!$C$105:$DW$105,FALSE))-F55)","v":0},{"$f":"MAX(0,OFFSET(Licence_IBEC,MATCH($B117,'Licence Info'!$B$40:$B$64,FALSE),MATCH(Control!G$101,'Licence Info'!$C$37:$DW$37,FALSE))*$C$9+OFFSET(Licence_Subst,MATCH($B117,'Licence Info'!$B$74:$B$98,FALSE),MATCH(Control!G$101,'Licence Info'!$C$71:$DW$71,FALSE))*$C$9+OFFSET(Licence_OIEC,MATCH($B117,'Licence Info'!$B$108:$B$132,FALSE),MATCH(Control!G$101,'Licence Info'!$C$105:$DW$105,FALSE))-G55)","v":0},{"$f":"MAX(0,OFFSET(Licence_IBEC,MATCH($B117,'Licence Info'!$B$40:$B$64,FALSE),MATCH(Control!H$101,'Licence Info'!$C$37:$DW$37,FALSE))*$C$9+OFFSET(Licence_Subst,MATCH($B117,'Licence Info'!$B$74:$B$98,FALSE),MATCH(Control!H$101,'Licence Info'!$C$71:$DW$71,FALSE))*$C$9+OFFSET(Licence_OIEC,MATCH($B117,'Licence Info'!$B$108:$B$132,FALSE),MATCH(Control!H$101,'Licence Info'!$C$105:$DW$105,FALSE))-H55)","v":0},{"$f":"MAX(0,OFFSET(Licence_IBEC,MATCH($B117,'Licence Info'!$B$40:$B$64,FALSE),MATCH(Control!I$101,'Licence Info'!$C$37:$DW$37,FALSE))*$C$9+OFFSET(Licence_Subst,MATCH($B117,'Licence Info'!$B$74:$B$98,FALSE),MATCH(Control!I$101,'Licence Info'!$C$71:$DW$71,FALSE))*$C$9+OFFSET(Licence_OIEC,MATCH($B117,'Licence Info'!$B$108:$B$132,FALSE),MATCH(Control!I$101,'Licence Info'!$C$105:$DW$105,FALSE))-I55)","v":0},{"$f":"MAX(0,OFFSET(Licence_IBEC,MATCH($B117,'Licence Info'!$B$40:$B$64,FALSE),MATCH(Control!J$101,'Licence Info'!$C$37:$DW$37,FALSE))*$C$9+OFFSET(Licence_Subst,MATCH($B117,'Licence Info'!$B$74:$B$98,FALSE),MATCH(Control!J$101,'Licence Info'!$C$71:$DW$71,FALSE))*$C$9+OFFSET(Licence_OIEC,MATCH($B117,'Licence Info'!$B$108:$B$132,FALSE),MATCH(Control!J$101,'Licence Info'!$C$105:$DW$105,FALSE))-J55)","v":0},{"$f":"MAX(0,OFFSET(Licence_IBEC,MATCH($B117,'Licence Info'!$B$40:$B$64,FALSE),MATCH(Control!K$101,'Licence Info'!$C$37:$DW$37,FALSE))*$C$9+OFFSET(Licence_Subst,MATCH($B117,'Licence Info'!$B$74:$B$98,FALSE),MATCH(Control!K$101,'Licence Info'!$C$71:$DW$71,FALSE))*$C$9+OFFSET(Licence_OIEC,MATCH($B117,'Licence Info'!$B$108:$B$132,FALSE),MATCH(Control!K$101,'Licence Info'!$C$105:$DW$105,FALSE))-K55)","v":0},{"$f":"MAX(0,OFFSET(Licence_IBEC,MATCH($B117,'Licence Info'!$B$40:$B$64,FALSE),MATCH(Control!L$101,'Licence Info'!$C$37:$DW$37,FALSE))*$C$9+OFFSET(Licence_Subst,MATCH($B117,'Licence Info'!$B$74:$B$98,FALSE),MATCH(Control!L$101,'Licence Info'!$C$71:$DW$71,FALSE))*$C$9+OFFSET(Licence_OIEC,MATCH($B117,'Licence Info'!$B$108:$B$132,FALSE),MATCH(Control!L$101,'Licence Info'!$C$105:$DW$105,FALSE))-L55)","v":0},{"$f":"MAX(0,OFFSET(Licence_IBEC,MATCH($B117,'Licence Info'!$B$40:$B$64,FALSE),MATCH(Control!M$101,'Licence Info'!$C$37:$DW$37,FALSE))*$C$9+OFFSET(Licence_Subst,MATCH($B117,'Licence Info'!$B$74:$B$98,FALSE),MATCH(Control!M$101,'Licence Info'!$C$71:$DW$71,FALSE))*$C$9+OFFSET(Licence_OIEC,MATCH($B117,'Licence Info'!$B$108:$B$132,FALSE),MATCH(Control!M$101,'Licence Info'!$C$105:$DW$105,FALSE))-M55)","v":0},{"$f":"MAX(0,OFFSET(Licence_IBEC,MATCH($B117,'Licence Info'!$B$40:$B$64,FALSE),MATCH(Control!N$101,'Licence Info'!$C$37:$DW$37,FALSE))*$C$9+OFFSET(Licence_Subst,MATCH($B117,'Licence Info'!$B$74:$B$98,FALSE),MATCH(Control!N$101,'Licence Info'!$C$71:$DW$71,FALSE))*$C$9+OFFSET(Licence_OIEC,MATCH($B117,'Licence Info'!$B$108:$B$132,FALSE),MATCH(Control!N$101,'Licence Info'!$C$105:$DW$105,FALSE))-N55)","v":0},{"$f":"MAX(0,OFFSET(Licence_IBEC,MATCH($B117,'Licence Info'!$B$40:$B$64,FALSE),MATCH(Control!O$101,'Licence Info'!$C$37:$DW$37,FALSE))*$C$9+OFFSET(Licence_Subst,MATCH($B117,'Licence Info'!$B$74:$B$98,FALSE),MATCH(Control!O$101,'Licence Info'!$C$71:$DW$71,FALSE))*$C$9+OFFSET(Licence_OIEC,MATCH($B117,'Licence Info'!$B$108:$B$132,FALSE),MATCH(Control!O$101,'Licence Info'!$C$105:$DW$105,FALSE))-O55)","v":0},{"$f":"MAX(0,OFFSET(Licence_IBEC,MATCH($B117,'Licence Info'!$B$40:$B$64,FALSE),MATCH(Control!P$101,'Licence Info'!$C$37:$DW$37,FALSE))*$C$9+OFFSET(Licence_Subst,MATCH($B117,'Licence Info'!$B$74:$B$98,FALSE),MATCH(Control!P$101,'Licence Info'!$C$71:$DW$71,FALSE))*$C$9+OFFSET(Licence_OIEC,MATCH($B117,'Licence Info'!$B$108:$B$132,FALSE),MATCH(Control!P$101,'Licence Info'!$C$105:$DW$105,FALSE))-P55)","v":0},{"$f":"MAX(0,OFFSET(Licence_IBEC,MATCH($B117,'Licence Info'!$B$40:$B$64,FALSE),MATCH(Control!Q$101,'Licence Info'!$C$37:$DW$37,FALSE))*$C$9+OFFSET(Licence_Subst,MATCH($B117,'Licence Info'!$B$74:$B$98,FALSE),MATCH(Control!Q$101,'Licence Info'!$C$71:$DW$71,FALSE))*$C$9+OFFSET(Licence_OIEC,MATCH($B117,'Licence Info'!$B$108:$B$132,FALSE),MATCH(Control!Q$101,'Licence Info'!$C$105:$DW$105,FALSE))-Q55)","v":0},{"$f":"MAX(0,OFFSET(Licence_IBEC,MATCH($B117,'Licence Info'!$B$40:$B$64,FALSE),MATCH(Control!R$101,'Licence Info'!$C$37:$DW$37,FALSE))*$C$9+OFFSET(Licence_Subst,MATCH($B117,'Licence Info'!$B$74:$B$98,FALSE),MATCH(Control!R$101,'Licence Info'!$C$71:$DW$71,FALSE))*$C$9+OFFSET(Licence_OIEC,MATCH($B117,'Licence Info'!$B$108:$B$132,FALSE),MATCH(Control!R$101,'Licence Info'!$C$105:$DW$105,FALSE))-R55)","v":0},{"$f":"MAX(0,OFFSET(Licence_IBEC,MATCH($B117,'Licence Info'!$B$40:$B$64,FALSE),MATCH(Control!S$101,'Licence Info'!$C$37:$DW$37,FALSE))*$C$9+OFFSET(Licence_Subst,MATCH($B117,'Licence Info'!$B$74:$B$98,FALSE),MATCH(Control!S$101,'Licence Info'!$C$71:$DW$71,FALSE))*$C$9+OFFSET(Licence_OIEC,MATCH($B117,'Licence Info'!$B$108:$B$132,FALSE),MATCH(Control!S$101,'Licence Info'!$C$105:$DW$105,FALSE))-S55)","v":0},{"$f":"MAX(0,OFFSET(Licence_IBEC,MATCH($B117,'Licence Info'!$B$40:$B$64,FALSE),MATCH(Control!T$101,'Licence Info'!$C$37:$DW$37,FALSE))*$C$9+OFFSET(Licence_Subst,MATCH($B117,'Licence Info'!$B$74:$B$98,FALSE),MATCH(Control!T$101,'Licence Info'!$C$71:$DW$71,FALSE))*$C$9+OFFSET(Licence_OIEC,MATCH($B117,'Licence Info'!$B$108:$B$132,FALSE),MATCH(Control!T$101,'Licence Info'!$C$105:$DW$105,FALSE))-T55)","v":0},{"$f":"MAX(0,OFFSET(Licence_IBEC,MATCH($B117,'Licence Info'!$B$40:$B$64,FALSE),MATCH(Control!U$101,'Licence Info'!$C$37:$DW$37,FALSE))*$C$9+OFFSET(Licence_Subst,MATCH($B117,'Licence Info'!$B$74:$B$98,FALSE),MATCH(Control!U$101,'Licence Info'!$C$71:$DW$71,FALSE))*$C$9+OFFSET(Licence_OIEC,MATCH($B117,'Licence Info'!$B$108:$B$132,FALSE),MATCH(Control!U$101,'Licence Info'!$C$105:$DW$105,FALSE))-U55)","v":0},{"$f":"MAX(0,OFFSET(Licence_IBEC,MATCH($B117,'Licence Info'!$B$40:$B$64,FALSE),MATCH(Control!V$101,'Licence Info'!$C$37:$DW$37,FALSE))*$C$9+OFFSET(Licence_Subst,MATCH($B117,'Licence Info'!$B$74:$B$98,FALSE),MATCH(Control!V$101,'Licence Info'!$C$71:$DW$71,FALSE))*$C$9+OFFSET(Licence_OIEC,MATCH($B117,'Licence Info'!$B$108:$B$132,FALSE),MATCH(Control!V$101,'Licence Info'!$C$105:$DW$105,FALSE))-V55)","v":0},{"$f":"MAX(0,OFFSET(Licence_IBEC,MATCH($B117,'Licence Info'!$B$40:$B$64,FALSE),MATCH(Control!W$101,'Licence Info'!$C$37:$DW$37,FALSE))*$C$9+OFFSET(Licence_Subst,MATCH($B117,'Licence Info'!$B$74:$B$98,FALSE),MATCH(Control!W$101,'Licence Info'!$C$71:$DW$71,FALSE))*$C$9+OFFSET(Licence_OIEC,MATCH($B117,'Licence Info'!$B$108:$B$132,FALSE),MATCH(Control!W$101,'Licence Info'!$C$105:$DW$105,FALSE))-W55)","v":0},{"$f":"MAX(0,OFFSET(Licence_IBEC,MATCH($B117,'Licence Info'!$B$40:$B$64,FALSE),MATCH(Control!X$101,'Licence Info'!$C$37:$DW$37,FALSE))*$C$9+OFFSET(Licence_Subst,MATCH($B117,'Licence Info'!$B$74:$B$98,FALSE),MATCH(Control!X$101,'Licence Info'!$C$71:$DW$71,FALSE))*$C$9+OFFSET(Licence_OIEC,MATCH($B117,'Licence Info'!$B$108:$B$132,FALSE),MATCH(Control!X$101,'Licence Info'!$C$105:$DW$105,FALSE))-X55)","v":0},{"$f":"MAX(0,OFFSET(Licence_IBEC,MATCH($B117,'Licence Info'!$B$40:$B$64,FALSE),MATCH(Control!Y$101,'Licence Info'!$C$37:$DW$37,FALSE))*$C$9+OFFSET(Licence_Subst,MATCH($B117,'Licence Info'!$B$74:$B$98,FALSE),MATCH(Control!Y$101,'Licence Info'!$C$71:$DW$71,FALSE))*$C$9+OFFSET(Licence_OIEC,MATCH($B117,'Licence Info'!$B$108:$B$132,FALSE),MATCH(Control!Y$101,'Licence Info'!$C$105:$DW$105,FALSE))-Y55)","v":0},{"$f":"MAX(0,OFFSET(Licence_IBEC,MATCH($B117,'Licence Info'!$B$40:$B$64,FALSE),MATCH(Control!Z$101,'Licence Info'!$C$37:$DW$37,FALSE))*$C$9+OFFSET(Licence_Subst,MATCH($B117,'Licence Info'!$B$74:$B$98,FALSE),MATCH(Control!Z$101,'Licence Info'!$C$71:$DW$71,FALSE))*$C$9+OFFSET(Licence_OIEC,MATCH($B117,'Licence Info'!$B$108:$B$132,FALSE),MATCH(Control!Z$101,'Licence Info'!$C$105:$DW$105,FALSE))-Z55)","v":0},{"$f":"MAX(0,OFFSET(Licence_IBEC,MATCH($B117,'Licence Info'!$B$40:$B$64,FALSE),MATCH(Control!AA$101,'Licence Info'!$C$37:$DW$37,FALSE))*$C$9+OFFSET(Licence_Subst,MATCH($B117,'Licence Info'!$B$74:$B$98,FALSE),MATCH(Control!AA$101,'Licence Info'!$C$71:$DW$71,FALSE))*$C$9+OFFSET(Licence_OIEC,MATCH($B117,'Licence Info'!$B$108:$B$132,FALSE),MATCH(Control!AA$101,'Licence Info'!$C$105:$DW$105,FALSE))-AA55)","v":0},{"$f":"MAX(0,OFFSET(Licence_IBEC,MATCH($B117,'Licence Info'!$B$40:$B$64,FALSE),MATCH(Control!AB$101,'Licence Info'!$C$37:$DW$37,FALSE))*$C$9+OFFSET(Licence_Subst,MATCH($B117,'Licence Info'!$B$74:$B$98,FALSE),MATCH(Control!AB$101,'Licence Info'!$C$71:$DW$71,FALSE))*$C$9+OFFSET(Licence_OIEC,MATCH($B117,'Licence Info'!$B$108:$B$132,FALSE),MATCH(Control!AB$101,'Licence Info'!$C$105:$DW$105,FALSE))-AB55)","v":0},{"$f":"MAX(0,OFFSET(Licence_IBEC,MATCH($B117,'Licence Info'!$B$40:$B$64,FALSE),MATCH(Control!AC$101,'Licence Info'!$C$37:$DW$37,FALSE))*$C$9+OFFSET(Licence_Subst,MATCH($B117,'Licence Info'!$B$74:$B$98,FALSE),MATCH(Control!AC$101,'Licence Info'!$C$71:$DW$71,FALSE))*$C$9+OFFSET(Licence_OIEC,MATCH($B117,'Licence Info'!$B$108:$B$132,FALSE),MATCH(Control!AC$101,'Licence Info'!$C$105:$DW$105,FALSE))-AC55)","v":0},{"$f":"MAX(0,OFFSET(Licence_IBEC,MATCH($B117,'Licence Info'!$B$40:$B$64,FALSE),MATCH(Control!AD$101,'Licence Info'!$C$37:$DW$37,FALSE))*$C$9+OFFSET(Licence_Subst,MATCH($B117,'Licence Info'!$B$74:$B$98,FALSE),MATCH(Control!AD$101,'Licence Info'!$C$71:$DW$71,FALSE))*$C$9+OFFSET(Licence_OIEC,MATCH($B117,'Licence Info'!$B$108:$B$132,FALSE),MATCH(Control!AD$101,'Licence Info'!$C$105:$DW$105,FALSE))-AD55)","v":0},{"$f":"MAX(0,OFFSET(Licence_IBEC,MATCH($B117,'Licence Info'!$B$40:$B$64,FALSE),MATCH(Control!AE$101,'Licence Info'!$C$37:$DW$37,FALSE))*$C$9+OFFSET(Licence_Subst,MATCH($B117,'Licence Info'!$B$74:$B$98,FALSE),MATCH(Control!AE$101,'Licence Info'!$C$71:$DW$71,FALSE))*$C$9+OFFSET(Licence_OIEC,MATCH($B117,'Licence Info'!$B$108:$B$132,FALSE),MATCH(Control!AE$101,'Licence Info'!$C$105:$DW$105,FALSE))-AE55)","v":0},{"$f":"MAX(0,OFFSET(Licence_IBEC,MATCH($B117,'Licence Info'!$B$40:$B$64,FALSE),MATCH(Control!AF$101,'Licence Info'!$C$37:$DW$37,FALSE))*$C$9+OFFSET(Licence_Subst,MATCH($B117,'Licence Info'!$B$74:$B$98,FALSE),MATCH(Control!AF$101,'Licence Info'!$C$71:$DW$71,FALSE))*$C$9+OFFSET(Licence_OIEC,MATCH($B117,'Licence Info'!$B$108:$B$132,FALSE),MATCH(Control!AF$101,'Licence Info'!$C$105:$DW$105,FALSE))-AF55)","v":0},{"$f":"MAX(0,OFFSET(Licence_IBEC,MATCH($B117,'Licence Info'!$B$40:$B$64,FALSE),MATCH(Control!AG$101,'Licence Info'!$C$37:$DW$37,FALSE))*$C$9+OFFSET(Licence_Subst,MATCH($B117,'Licence Info'!$B$74:$B$98,FALSE),MATCH(Control!AG$101,'Licence Info'!$C$71:$DW$71,FALSE))*$C$9+OFFSET(Licence_OIEC,MATCH($B117,'Licence Info'!$B$108:$B$132,FALSE),MATCH(Control!AG$101,'Licence Info'!$C$105:$DW$105,FALSE))-AG55)","v":0},{"$f":"MAX(0,OFFSET(Licence_IBEC,MATCH($B117,'Licence Info'!$B$40:$B$64,FALSE),MATCH(Control!AH$101,'Licence Info'!$C$37:$DW$37,FALSE))*$C$9+OFFSET(Licence_Subst,MATCH($B117,'Licence Info'!$B$74:$B$98,FALSE),MATCH(Control!AH$101,'Licence Info'!$C$71:$DW$71,FALSE))*$C$9+OFFSET(Licence_OIEC,MATCH($B117,'Licence Info'!$B$108:$B$132,FALSE),MATCH(Control!AH$101,'Licence Info'!$C$105:$DW$105,FALSE))-AH55)","v":0},{"$f":"MAX(0,OFFSET(Licence_IBEC,MATCH($B117,'Licence Info'!$B$40:$B$64,FALSE),MATCH(Control!AI$101,'Licence Info'!$C$37:$DW$37,FALSE))*$C$9+OFFSET(Licence_Subst,MATCH($B117,'Licence Info'!$B$74:$B$98,FALSE),MATCH(Control!AI$101,'Licence Info'!$C$71:$DW$71,FALSE))*$C$9+OFFSET(Licence_OIEC,MATCH($B117,'Licence Info'!$B$108:$B$132,FALSE),MATCH(Control!AI$101,'Licence Info'!$C$105:$DW$105,FALSE))-AI55)","v":0},{"$f":"MAX(0,OFFSET(Licence_IBEC,MATCH($B117,'Licence Info'!$B$40:$B$64,FALSE),MATCH(Control!AJ$101,'Licence Info'!$C$37:$DW$37,FALSE))*$C$9+OFFSET(Licence_Subst,MATCH($B117,'Licence Info'!$B$74:$B$98,FALSE),MATCH(Control!AJ$101,'Licence Info'!$C$71:$DW$71,FALSE))*$C$9+OFFSET(Licence_OIEC,MATCH($B117,'Licence Info'!$B$108:$B$132,FALSE),MATCH(Control!AJ$101,'Licence Info'!$C$105:$DW$105,FALSE))-AJ55)","v":0},{"$f":"MAX(0,OFFSET(Licence_IBEC,MATCH($B117,'Licence Info'!$B$40:$B$64,FALSE),MATCH(Control!AK$101,'Licence Info'!$C$37:$DW$37,FALSE))*$C$9+OFFSET(Licence_Subst,MATCH($B117,'Licence Info'!$B$74:$B$98,FALSE),MATCH(Control!AK$101,'Licence Info'!$C$71:$DW$71,FALSE))*$C$9+OFFSET(Licence_OIEC,MATCH($B117,'Licence Info'!$B$108:$B$132,FALSE),MATCH(Control!AK$101,'Licence Info'!$C$105:$DW$105,FALSE))-AK55)","v":0},{"$f":"MAX(0,OFFSET(Licence_IBEC,MATCH($B117,'Licence Info'!$B$40:$B$64,FALSE),MATCH(Control!AL$101,'Licence Info'!$C$37:$DW$37,FALSE))*$C$9+OFFSET(Licence_Subst,MATCH($B117,'Licence Info'!$B$74:$B$98,FALSE),MATCH(Control!AL$101,'Licence Info'!$C$71:$DW$71,FALSE))*$C$9+OFFSET(Licence_OIEC,MATCH($B117,'Licence Info'!$B$108:$B$132,FALSE),MATCH(Control!AL$101,'Licence Info'!$C$105:$DW$105,FALSE))-AL55)","v":0},{"$f":"MAX(0,OFFSET(Licence_IBEC,MATCH($B117,'Licence Info'!$B$40:$B$64,FALSE),MATCH(Control!AM$101,'Licence Info'!$C$37:$DW$37,FALSE))*$C$9+OFFSET(Licence_Subst,MATCH($B117,'Licence Info'!$B$74:$B$98,FALSE),MATCH(Control!AM$101,'Licence Info'!$C$71:$DW$71,FALSE))*$C$9+OFFSET(Licence_OIEC,MATCH($B117,'Licence Info'!$B$108:$B$132,FALSE),MATCH(Control!AM$101,'Licence Info'!$C$105:$DW$105,FALSE))-AM55)","v":0},{"$f":"MAX(0,OFFSET(Licence_IBEC,MATCH($B117,'Licence Info'!$B$40:$B$64,FALSE),MATCH(Control!AN$101,'Licence Info'!$C$37:$DW$37,FALSE))*$C$9+OFFSET(Licence_Subst,MATCH($B117,'Licence Info'!$B$74:$B$98,FALSE),MATCH(Control!AN$101,'Licence Info'!$C$71:$DW$71,FALSE))*$C$9+OFFSET(Licence_OIEC,MATCH($B117,'Licence Info'!$B$108:$B$132,FALSE),MATCH(Control!AN$101,'Licence Info'!$C$105:$DW$105,FALSE))-AN55)","v":0},{"$f":"MAX(0,OFFSET(Licence_IBEC,MATCH($B117,'Licence Info'!$B$40:$B$64,FALSE),MATCH(Control!AO$101,'Licence Info'!$C$37:$DW$37,FALSE))*$C$9+OFFSET(Licence_Subst,MATCH($B117,'Licence Info'!$B$74:$B$98,FALSE),MATCH(Control!AO$101,'Licence Info'!$C$71:$DW$71,FALSE))*$C$9+OFFSET(Licence_OIEC,MATCH($B117,'Licence Info'!$B$108:$B$132,FALSE),MATCH(Control!AO$101,'Licence Info'!$C$105:$DW$105,FALSE))-AO55)","v":0},{"$f":"MAX(0,OFFSET(Licence_IBEC,MATCH($B117,'Licence Info'!$B$40:$B$64,FALSE),MATCH(Control!AP$101,'Licence Info'!$C$37:$DW$37,FALSE))*$C$9+OFFSET(Licence_Subst,MATCH($B117,'Licence Info'!$B$74:$B$98,FALSE),MATCH(Control!AP$101,'Licence Info'!$C$71:$DW$71,FALSE))*$C$9+OFFSET(Licence_OIEC,MATCH($B117,'Licence Info'!$B$108:$B$132,FALSE),MATCH(Control!AP$101,'Licence Info'!$C$105:$DW$105,FALSE))-AP55)","v":0},{"$f":"MAX(0,OFFSET(Licence_IBEC,MATCH($B117,'Licence Info'!$B$40:$B$64,FALSE),MATCH(Control!AQ$101,'Licence Info'!$C$37:$DW$37,FALSE))*$C$9+OFFSET(Licence_Subst,MATCH($B117,'Licence Info'!$B$74:$B$98,FALSE),MATCH(Control!AQ$101,'Licence Info'!$C$71:$DW$71,FALSE))*$C$9+OFFSET(Licence_OIEC,MATCH($B117,'Licence Info'!$B$108:$B$132,FALSE),MATCH(Control!AQ$101,'Licence Info'!$C$105:$DW$105,FALSE))-AQ55)","v":0},{"$f":"MAX(0,OFFSET(Licence_IBEC,MATCH($B117,'Licence Info'!$B$40:$B$64,FALSE),MATCH(Control!AR$101,'Licence Info'!$C$37:$DW$37,FALSE))*$C$9+OFFSET(Licence_Subst,MATCH($B117,'Licence Info'!$B$74:$B$98,FALSE),MATCH(Control!AR$101,'Licence Info'!$C$71:$DW$71,FALSE))*$C$9+OFFSET(Licence_OIEC,MATCH($B117,'Licence Info'!$B$108:$B$132,FALSE),MATCH(Control!AR$101,'Licence Info'!$C$105:$DW$105,FALSE))-AR55)","v":0},{"$f":"MAX(0,OFFSET(Licence_IBEC,MATCH($B117,'Licence Info'!$B$40:$B$64,FALSE),MATCH(Control!AS$101,'Licence Info'!$C$37:$DW$37,FALSE))*$C$9+OFFSET(Licence_Subst,MATCH($B117,'Licence Info'!$B$74:$B$98,FALSE),MATCH(Control!AS$101,'Licence Info'!$C$71:$DW$71,FALSE))*$C$9+OFFSET(Licence_OIEC,MATCH($B117,'Licence Info'!$B$108:$B$132,FALSE),MATCH(Control!AS$101,'Licence Info'!$C$105:$DW$105,FALSE))-AS55)","v":0},{"$f":"MAX(0,OFFSET(Licence_IBEC,MATCH($B117,'Licence Info'!$B$40:$B$64,FALSE),MATCH(Control!AT$101,'Licence Info'!$C$37:$DW$37,FALSE))*$C$9+OFFSET(Licence_Subst,MATCH($B117,'Licence Info'!$B$74:$B$98,FALSE),MATCH(Control!AT$101,'Licence Info'!$C$71:$DW$71,FALSE))*$C$9+OFFSET(Licence_OIEC,MATCH($B117,'Licence Info'!$B$108:$B$132,FALSE),MATCH(Control!AT$101,'Licence Info'!$C$105:$DW$105,FALSE))-AT55)","v":0},{"$f":"MAX(0,OFFSET(Licence_IBEC,MATCH($B117,'Licence Info'!$B$40:$B$64,FALSE),MATCH(Control!AU$101,'Licence Info'!$C$37:$DW$37,FALSE))*$C$9+OFFSET(Licence_Subst,MATCH($B117,'Licence Info'!$B$74:$B$98,FALSE),MATCH(Control!AU$101,'Licence Info'!$C$71:$DW$71,FALSE))*$C$9+OFFSET(Licence_OIEC,MATCH($B117,'Licence Info'!$B$108:$B$132,FALSE),MATCH(Control!AU$101,'Licence Info'!$C$105:$DW$105,FALSE))-AU55)","v":0},{"$f":"MAX(0,OFFSET(Licence_IBEC,MATCH($B117,'Licence Info'!$B$40:$B$64,FALSE),MATCH(Control!AV$101,'Licence Info'!$C$37:$DW$37,FALSE))*$C$9+OFFSET(Licence_Subst,MATCH($B117,'Licence Info'!$B$74:$B$98,FALSE),MATCH(Control!AV$101,'Licence Info'!$C$71:$DW$71,FALSE))*$C$9+OFFSET(Licence_OIEC,MATCH($B117,'Licence Info'!$B$108:$B$132,FALSE),MATCH(Control!AV$101,'Licence Info'!$C$105:$DW$105,FALSE))-AV55)","v":0},{"$f":"MAX(0,OFFSET(Licence_IBEC,MATCH($B117,'Licence Info'!$B$40:$B$64,FALSE),MATCH(Control!AW$101,'Licence Info'!$C$37:$DW$37,FALSE))*$C$9+OFFSET(Licence_Subst,MATCH($B117,'Licence Info'!$B$74:$B$98,FALSE),MATCH(Control!AW$101,'Licence Info'!$C$71:$DW$71,FALSE))*$C$9+OFFSET(Licence_OIEC,MATCH($B117,'Licence Info'!$B$108:$B$132,FALSE),MATCH(Control!AW$101,'Licence Info'!$C$105:$DW$105,FALSE))-AW55)","v":0},{"$f":"MAX(0,OFFSET(Licence_IBEC,MATCH($B117,'Licence Info'!$B$40:$B$64,FALSE),MATCH(Control!AX$101,'Licence Info'!$C$37:$DW$37,FALSE))*$C$9+OFFSET(Licence_Subst,MATCH($B117,'Licence Info'!$B$74:$B$98,FALSE),MATCH(Control!AX$101,'Licence Info'!$C$71:$DW$71,FALSE))*$C$9+OFFSET(Licence_OIEC,MATCH($B117,'Licence Info'!$B$108:$B$132,FALSE),MATCH(Control!AX$101,'Licence Info'!$C$105:$DW$105,FALSE))-AX55)","v":0},{"$f":"MAX(0,OFFSET(Licence_IBEC,MATCH($B117,'Licence Info'!$B$40:$B$64,FALSE),MATCH(Control!AY$101,'Licence Info'!$C$37:$DW$37,FALSE))*$C$9+OFFSET(Licence_Subst,MATCH($B117,'Licence Info'!$B$74:$B$98,FALSE),MATCH(Control!AY$101,'Licence Info'!$C$71:$DW$71,FALSE))*$C$9+OFFSET(Licence_OIEC,MATCH($B117,'Licence Info'!$B$108:$B$132,FALSE),MATCH(Control!AY$101,'Licence Info'!$C$105:$DW$105,FALSE))-AY55)","v":0},{"$f":"MAX(0,OFFSET(Licence_IBEC,MATCH($B117,'Licence Info'!$B$40:$B$64,FALSE),MATCH(Control!AZ$101,'Licence Info'!$C$37:$DW$37,FALSE))*$C$9+OFFSET(Licence_Subst,MATCH($B117,'Licence Info'!$B$74:$B$98,FALSE),MATCH(Control!AZ$101,'Licence Info'!$C$71:$DW$71,FALSE))*$C$9+OFFSET(Licence_OIEC,MATCH($B117,'Licence Info'!$B$108:$B$132,FALSE),MATCH(Control!AZ$101,'Licence Info'!$C$105:$DW$105,FALSE))-AZ55)","v":0},{"$f":"MAX(0,OFFSET(Licence_IBEC,MATCH($B117,'Licence Info'!$B$40:$B$64,FALSE),MATCH(Control!BA$101,'Licence Info'!$C$37:$DW$37,FALSE))*$C$9+OFFSET(Licence_Subst,MATCH($B117,'Licence Info'!$B$74:$B$98,FALSE),MATCH(Control!BA$101,'Licence Info'!$C$71:$DW$71,FALSE))*$C$9+OFFSET(Licence_OIEC,MATCH($B117,'Licence Info'!$B$108:$B$132,FALSE),MATCH(Control!BA$101,'Licence Info'!$C$105:$DW$105,FALSE))-BA55)","v":0},{"$f":"MAX(0,OFFSET(Licence_IBEC,MATCH($B117,'Licence Info'!$B$40:$B$64,FALSE),MATCH(Control!BB$101,'Licence Info'!$C$37:$DW$37,FALSE))*$C$9+OFFSET(Licence_Subst,MATCH($B117,'Licence Info'!$B$74:$B$98,FALSE),MATCH(Control!BB$101,'Licence Info'!$C$71:$DW$71,FALSE))*$C$9+OFFSET(Licence_OIEC,MATCH($B117,'Licence Info'!$B$108:$B$132,FALSE),MATCH(Control!BB$101,'Licence Info'!$C$105:$DW$105,FALSE))-BB55)","v":0},{"$f":"MAX(0,OFFSET(Licence_IBEC,MATCH($B117,'Licence Info'!$B$40:$B$64,FALSE),MATCH(Control!BC$101,'Licence Info'!$C$37:$DW$37,FALSE))*$C$9+OFFSET(Licence_Subst,MATCH($B117,'Licence Info'!$B$74:$B$98,FALSE),MATCH(Control!BC$101,'Licence Info'!$C$71:$DW$71,FALSE))*$C$9+OFFSET(Licence_OIEC,MATCH($B117,'Licence Info'!$B$108:$B$132,FALSE),MATCH(Control!BC$101,'Licence Info'!$C$105:$DW$105,FALSE))-BC55)","v":254.43000000000006},{"$f":"MAX(0,OFFSET(Licence_IBEC,MATCH($B117,'Licence Info'!$B$40:$B$64,FALSE),MATCH(Control!BD$101,'Licence Info'!$C$37:$DW$37,FALSE))*$C$9+OFFSET(Licence_Subst,MATCH($B117,'Licence Info'!$B$74:$B$98,FALSE),MATCH(Control!BD$101,'Licence Info'!$C$71:$DW$71,FALSE))*$C$9+OFFSET(Licence_OIEC,MATCH($B117,'Licence Info'!$B$108:$B$132,FALSE),MATCH(Control!BD$101,'Licence Info'!$C$105:$DW$105,FALSE))-BD55)","v":254.43000000000006},{"$f":"MAX(0,OFFSET(Licence_IBEC,MATCH($B117,'Licence Info'!$B$40:$B$64,FALSE),MATCH(Control!BE$101,'Licence Info'!$C$37:$DW$37,FALSE))*$C$9+OFFSET(Licence_Subst,MATCH($B117,'Licence Info'!$B$74:$B$98,FALSE),MATCH(Control!BE$101,'Licence Info'!$C$71:$DW$71,FALSE))*$C$9+OFFSET(Licence_OIEC,MATCH($B117,'Licence Info'!$B$108:$B$132,FALSE),MATCH(Control!BE$101,'Licence Info'!$C$105:$DW$105,FALSE))-BE55)","v":254.43000000000006},{"$f":"MAX(0,OFFSET(Licence_IBEC,MATCH($B117,'Licence Info'!$B$40:$B$64,FALSE),MATCH(Control!BF$101,'Licence Info'!$C$37:$DW$37,FALSE))*$C$9+OFFSET(Licence_Subst,MATCH($B117,'Licence Info'!$B$74:$B$98,FALSE),MATCH(Control!BF$101,'Licence Info'!$C$71:$DW$71,FALSE))*$C$9+OFFSET(Licence_OIEC,MATCH($B117,'Licence Info'!$B$108:$B$132,FALSE),MATCH(Control!BF$101,'Licence Info'!$C$105:$DW$105,FALSE))-BF55)","v":254.43000000000006},{"$f":"MAX(0,OFFSET(Licence_IBEC,MATCH($B117,'Licence Info'!$B$40:$B$64,FALSE),MATCH(Control!BG$101,'Licence Info'!$C$37:$DW$37,FALSE))*$C$9+OFFSET(Licence_Subst,MATCH($B117,'Licence Info'!$B$74:$B$98,FALSE),MATCH(Control!BG$101,'Licence Info'!$C$71:$DW$71,FALSE))*$C$9+OFFSET(Licence_OIEC,MATCH($B117,'Licence Info'!$B$108:$B$132,FALSE),MATCH(Control!BG$101,'Licence Info'!$C$105:$DW$105,FALSE))-BG55)","v":488.43000000000006},{"$f":"MAX(0,OFFSET(Licence_IBEC,MATCH($B117,'Licence Info'!$B$40:$B$64,FALSE),MATCH(Control!BH$101,'Licence Info'!$C$37:$DW$37,FALSE))*$C$9+OFFSET(Licence_Subst,MATCH($B117,'Licence Info'!$B$74:$B$98,FALSE),MATCH(Control!BH$101,'Licence Info'!$C$71:$DW$71,FALSE))*$C$9+OFFSET(Licence_OIEC,MATCH($B117,'Licence Info'!$B$108:$B$132,FALSE),MATCH(Control!BH$101,'Licence Info'!$C$105:$DW$105,FALSE))-BH55)","v":488.43000000000006},{"$f":"MAX(0,OFFSET(Licence_IBEC,MATCH($B117,'Licence Info'!$B$40:$B$64,FALSE),MATCH(Control!BI$101,'Licence Info'!$C$37:$DW$37,FALSE))*$C$9+OFFSET(Licence_Subst,MATCH($B117,'Licence Info'!$B$74:$B$98,FALSE),MATCH(Control!BI$101,'Licence Info'!$C$71:$DW$71,FALSE))*$C$9+OFFSET(Licence_OIEC,MATCH($B117,'Licence Info'!$B$108:$B$132,FALSE),MATCH(Control!BI$101,'Licence Info'!$C$105:$DW$105,FALSE))-BI55)","v":488.43000000000006},{"$f":"MAX(0,OFFSET(Licence_IBEC,MATCH($B117,'Licence Info'!$B$40:$B$64,FALSE),MATCH(Control!BJ$101,'Licence Info'!$C$37:$DW$37,FALSE))*$C$9+OFFSET(Licence_Subst,MATCH($B117,'Licence Info'!$B$74:$B$98,FALSE),MATCH(Control!BJ$101,'Licence Info'!$C$71:$DW$71,FALSE))*$C$9+OFFSET(Licence_OIEC,MATCH($B117,'Licence Info'!$B$108:$B$132,FALSE),MATCH(Control!BJ$101,'Licence Info'!$C$105:$DW$105,FALSE))-BJ55)","v":488.43000000000006},{"$f":"MAX(0,OFFSET(Licence_IBEC,MATCH($B117,'Licence Info'!$B$40:$B$64,FALSE),MATCH(Control!BK$101,'Licence Info'!$C$37:$DW$37,FALSE))*$C$9+OFFSET(Licence_Subst,MATCH($B117,'Licence Info'!$B$74:$B$98,FALSE),MATCH(Control!BK$101,'Licence Info'!$C$71:$DW$71,FALSE))*$C$9+OFFSET(Licence_OIEC,MATCH($B117,'Licence Info'!$B$108:$B$132,FALSE),MATCH(Control!BK$101,'Licence Info'!$C$105:$DW$105,FALSE))-BK55)","v":{"$error":"#N/A"}}]
[null,"Hole House Farm",{"$f":"MAX(0,OFFSET(Licence_IBEC,MATCH($B118,'Licence Info'!$B$40:$B$64,FALSE),MATCH(Control!C$101,'Licence Info'!$C$37:$DW$37,FALSE))*$C$9+OFFSET(Licence_Subst,MATCH($B118,'Licence Info'!$B$74:$B$98,FALSE),MATCH(Control!C$101,'Licence Info'!$C$71:$DW$71,FALSE))*$C$9+OFFSET(Licence_OIEC,MATCH($B118,'Licence Info'!$B$108:$B$132,FALSE),MATCH(Control!C$101,'Licence Info'!$C$105:$DW$105,FALSE))-C56)","v":0},{"$f":"MAX(0,OFFSET(Licence_IBEC,MATCH($B118,'Licence Info'!$B$40:$B$64,FALSE),MATCH(Control!D$101,'Licence Info'!$C$37:$DW$37,FALSE))*$C$9+OFFSET(Licence_Subst,MATCH($B118,'Licence Info'!$B$74:$B$98,FALSE),MATCH(Control!D$101,'Licence Info'!$C$71:$DW$71,FALSE))*$C$9+OFFSET(Licence_OIEC,MATCH($B118,'Licence Info'!$B$108:$B$132,FALSE),MATCH(Control!D$101,'Licence Info'!$C$105:$DW$105,FALSE))-D56)","v":0},{"$f":"MAX(0,OFFSET(Licence_IBEC,MATCH($B118,'Licence Info'!$B$40:$B$64,FALSE),MATCH(Control!E$101,'Licence Info'!$C$37:$DW$37,FALSE))*$C$9+OFFSET(Licence_Subst,MATCH($B118,'Licence Info'!$B$74:$B$98,FALSE),MATCH(Control!E$101,'Licence Info'!$C$71:$DW$71,FALSE))*$C$9+OFFSET(Licence_OIEC,MATCH($B118,'Licence Info'!$B$108:$B$132,FALSE),MATCH(Control!E$101,'Licence Info'!$C$105:$DW$105,FALSE))-E56)","v":0},{"$f":"MAX(0,OFFSET(Licence_IBEC,MATCH($B118,'Licence Info'!$B$40:$B$64,FALSE),MATCH(Control!F$101,'Licence Info'!$C$37:$DW$37,FALSE))*$C$9+OFFSET(Licence_Subst,MATCH($B118,'Licence Info'!$B$74:$B$98,FALSE),MATCH(Control!F$101,'Licence Info'!$C$71:$DW$71,FALSE))*$C$9+OFFSET(Licence_OIEC,MATCH($B118,'Licence Info'!$B$108:$B$132,FALSE),MATCH(Control!F$101,'Licence Info'!$C$105:$DW$105,FALSE))-F56)","v":0},{"$f":"MAX(0,OFFSET(Licence_IBEC,MATCH($B118,'Licence Info'!$B$40:$B$64,FALSE),MATCH(Control!G$101,'Licence Info'!$C$37:$DW$37,FALSE))*$C$9+OFFSET(Licence_Subst,MATCH($B118,'Licence Info'!$B$74:$B$98,FALSE),MATCH(Control!G$101,'Licence Info'!$C$71:$DW$71,FALSE))*$C$9+OFFSET(Licence_OIEC,MATCH($B118,'Licence Info'!$B$108:$B$132,FALSE),MATCH(Control!G$101,'Licence Info'!$C$105:$DW$105,FALSE))-G56)","v":0},{"$f":"MAX(0,OFFSET(Licence_IBEC,MATCH($B118,'Licence Info'!$B$40:$B$64,FALSE),MATCH(Control!H$101,'Licence Info'!$C$37:$DW$37,FALSE))*$C$9+OFFSET(Licence_Subst,MATCH($B118,'Licence Info'!$B$74:$B$98,FALSE),MATCH(Control!H$101,'Licence Info'!$C$71:$DW$71,FALSE))*$C$9+OFFSET(Licence_OIEC,MATCH($B118,'Licence Info'!$B$108:$B$132,FALSE),MATCH(Control!H$101,'Licence Info'!$C$105:$DW$105,FALSE))-H56)","v":0},{"$f":"MAX(0,OFFSET(Licence_IBEC,MATCH($B118,'Licence Info'!$B$40:$B$64,FALSE),MATCH(Control!I$101,'Licence Info'!$C$37:$DW$37,FALSE))*$C$9+OFFSET(Licence_Subst,MATCH($B118,'Licence Info'!$B$74:$B$98,FALSE),MATCH(Control!I$101,'Licence Info'!$C$71:$DW$71,FALSE))*$C$9+OFFSET(Licence_OIEC,MATCH($B118,'Licence Info'!$B$108:$B$132,FALSE),MATCH(Control!I$101,'Licence Info'!$C$105:$DW$105,FALSE))-I56)","v":0},{"$f":"MAX(0,OFFSET(Licence_IBEC,MATCH($B118,'Licence Info'!$B$40:$B$64,FALSE),MATCH(Control!J$101,'Licence Info'!$C$37:$DW$37,FALSE))*$C$9+OFFSET(Licence_Subst,MATCH($B118,'Licence Info'!$B$74:$B$98,FALSE),MATCH(Control!J$101,'Licence Info'!$C$71:$DW$71,FALSE))*$C$9+OFFSET(Licence_OIEC,MATCH($B118,'Licence Info'!$B$108:$B$132,FALSE),MATCH(Control!J$101,'Licence Info'!$C$105:$DW$105,FALSE))-J56)","v":0},{"$f":"MAX(0,OFFSET(Licence_IBEC,MATCH($B118,'Licence Info'!$B$40:$B$64,FALSE),MATCH(Control!K$101,'Licence Info'!$C$37:$DW$37,FALSE))*$C$9+OFFSET(Licence_Subst,MATCH($B118,'Licence Info'!$B$74:$B$98,FALSE),MATCH(Control!K$101,'Licence Info'!$C$71:$DW$71,FALSE))*$C$9+OFFSET(Licence_OIEC,MATCH($B118,'Licence Info'!$B$108:$B$132,FALSE),MATCH(Control!K$101,'Licence Info'!$C$105:$DW$105,FALSE))-K56)","v":0},{"$f":"MAX(0,OFFSET(Licence_IBEC,MATCH($B118,'Licence Info'!$B$40:$B$64,FALSE),MATCH(Control!L$101,'Licence Info'!$C$37:$DW$37,FALSE))*$C$9+OFFSET(Licence_Subst,MATCH($B118,'Licence Info'!$B$74:$B$98,FALSE),MATCH(Control!L$101,'Licence Info'!$C$71:$DW$71,FALSE))*$C$9+OFFSET(Licence_OIEC,MATCH($B118,'Licence Info'!$B$108:$B$132,FALSE),MATCH(Control!L$101,'Licence Info'!$C$105:$DW$105,FALSE))-L56)","v":0},{"$f":"MAX(0,OFFSET(Licence_IBEC,MATCH($B118,'Licence Info'!$B$40:$B$64,FALSE),MATCH(Control!M$101,'Licence Info'!$C$37:$DW$37,FALSE))*$C$9+OFFSET(Licence_Subst,MATCH($B118,'Licence Info'!$B$74:$B$98,FALSE),MATCH(Control!M$101,'Licence Info'!$C$71:$DW$71,FALSE))*$C$9+OFFSET(Licence_OIEC,MATCH($B118,'Licence Info'!$B$108:$B$132,FALSE),MATCH(Control!M$101,'Licence Info'!$C$105:$DW$105,FALSE))-M56)","v":0},{"$f":"MAX(0,OFFSET(Licence_IBEC,MATCH($B118,'Licence Info'!$B$40:$B$64,FALSE),MATCH(Control!N$101,'Licence Info'!$C$37:$DW$37,FALSE))*$C$9+OFFSET(Licence_Subst,MATCH($B118,'Licence Info'!$B$74:$B$98,FALSE),MATCH(Control!N$101,'Licence Info'!$C$71:$DW$71,FALSE))*$C$9+OFFSET(Licence_OIEC,MATCH($B118,'Licence Info'!$B$108:$B$132,FALSE),MATCH(Control!N$101,'Licence Info'!$C$105:$DW$105,FALSE))-N56)","v":0},{"$f":"MAX(0,OFFSET(Licence_IBEC,MATCH($B118,'Licence Info'!$B$40:$B$64,FALSE),MATCH(Control!O$101,'Licence Info'!$C$37:$DW$37,FALSE))*$C$9+OFFSET(Licence_Subst,MATCH($B118,'Licence Info'!$B$74:$B$98,FALSE),MATCH(Control!O$101,'Licence Info'!$C$71:$DW$71,FALSE))*$C$9+OFFSET(Licence_OIEC,MATCH($B118,'Licence Info'!$B$108:$B$132,FALSE),MATCH(Control!O$101,'Licence Info'!$C$105:$DW$105,FALSE))-O56)","v":0},{"$f":"MAX(0,OFFSET(Licence_IBEC,MATCH($B118,'Licence Info'!$B$40:$B$64,FALSE),MATCH(Control!P$101,'Licence Info'!$C$37:$DW$37,FALSE))*$C$9+OFFSET(Licence_Subst,MATCH($B118,'Licence Info'!$B$74:$B$98,FALSE),MATCH(Control!P$101,'Licence Info'!$C$71:$DW$71,FALSE))*$C$9+OFFSET(Licence_OIEC,MATCH($B118,'Licence Info'!$B$108:$B$132,FALSE),MATCH(Control!P$101,'Licence Info'!$C$105:$DW$105,FALSE))-P56)","v":0},{"$f":"MAX(0,OFFSET(Licence_IBEC,MATCH($B118,'Licence Info'!$B$40:$B$64,FALSE),MATCH(Control!Q$101,'Licence Info'!$C$37:$DW$37,FALSE))*$C$9+OFFSET(Licence_Subst,MATCH($B118,'Licence Info'!$B$74:$B$98,FALSE),MATCH(Control!Q$101,'Licence Info'!$C$71:$DW$71,FALSE))*$C$9+OFFSET(Licence_OIEC,MATCH($B118,'Licence Info'!$B$108:$B$132,FALSE),MATCH(Control!Q$101,'Licence Info'!$C$105:$DW$105,FALSE))-Q56)","v":0},{"$f":"MAX(0,OFFSET(Licence_IBEC,MATCH($B118,'Licence Info'!$B$40:$B$64,FALSE),MATCH(Control!R$101,'Licence Info'!$C$37:$DW$37,FALSE))*$C$9+OFFSET(Licence_Subst,MATCH($B118,'Licence Info'!$B$74:$B$98,FALSE),MATCH(Control!R$101,'Licence Info'!$C$71:$DW$71,FALSE))*$C$9+OFFSET(Licence_OIEC,MATCH($B118,'Licence Info'!$B$108:$B$132,FALSE),MATCH(Control!R$101,'Licence Info'!$C$105:$DW$105,FALSE))-R56)","v":0},{"$f":"MAX(0,OFFSET(Licence_IBEC,MATCH($B118,'Licence Info'!$B$40:$B$64,FALSE),MATCH(Control!S$101,'Licence Info'!$C$37:$DW$37,FALSE))*$C$9+OFFSET(Licence_Subst,MATCH($B118,'Licence Info'!$B$74:$B$98,FALSE),MATCH(Control!S$101,'Licence Info'!$C$71:$DW$71,FALSE))*$C$9+OFFSET(Licence_OIEC,MATCH($B118,'Licence Info'!$B$108:$B$132,FALSE),MATCH(Control!S$101,'Licence Info'!$C$105:$DW$105,FALSE))-S56)","v":0},{"$f":"MAX(0,OFFSET(Licence_IBEC,MATCH($B118,'Licence Info'!$B$40:$B$64,FALSE),MATCH(Control!T$101,'Licence Info'!$C$37:$DW$37,FALSE))*$C$9+OFFSET(Licence_Subst,MATCH($B118,'Licence Info'!$B$74:$B$98,FALSE),MATCH(Control!T$101,'Licence Info'!$C$71:$DW$71,FALSE))*$C$9+OFFSET(Licence_OIEC,MATCH($B118,'Licence Info'!$B$108:$B$132,FALSE),MATCH(Control!T$101,'Licence Info'!$C$105:$DW$105,FALSE))-T56)","v":0},{"$f":"MAX(0,OFFSET(Licence_IBEC,MATCH($B118,'Licence Info'!$B$40:$B$64,FALSE),MATCH(Control!U$101,'Licence Info'!$C$37:$DW$37,FALSE))*$C$9+OFFSET(Licence_Subst,MATCH($B118,'Licence Info'!$B$74:$B$98,FALSE),MATCH(Control!U$101,'Licence Info'!$C$71:$DW$71,FALSE))*$C$9+OFFSET(Licence_OIEC,MATCH($B118,'Licence Info'!$B$108:$B$132,FALSE),MATCH(Control!U$101,'Licence Info'!$C$105:$DW$105,FALSE))-U56)","v":0},{"$f":"MAX(0,OFFSET(Licence_IBEC,MATCH($B118,'Licence Info'!$B$40:$B$64,FALSE),MATCH(Control!V$101,'Licence Info'!$C$37:$DW$37,FALSE))*$C$9+OFFSET(Licence_Subst,MATCH($B118,'Licence Info'!$B$74:$B$98,FALSE),MATCH(Control!V$101,'Licence Info'!$C$71:$DW$71,FALSE))*$C$9+OFFSET(Licence_OIEC,MATCH($B118,'Licence Info'!$B$108:$B$132,FALSE),MATCH(Control!V$101,'Licence Info'!$C$105:$DW$105,FALSE))-V56)","v":0},{"$f":"MAX(0,OFFSET(Licence_IBEC,MATCH($B118,'Licence Info'!$B$40:$B$64,FALSE),MATCH(Control!W$101,'Licence Info'!$C$37:$DW$37,FALSE))*$C$9+OFFSET(Licence_Subst,MATCH($B118,'Licence Info'!$B$74:$B$98,FALSE),MATCH(Control!W$101,'Licence Info'!$C$71:$DW$71,FALSE))*$C$9+OFFSET(Licence_OIEC,MATCH($B118,'Licence Info'!$B$108:$B$132,FALSE),MATCH(Control!W$101,'Licence Info'!$C$105:$DW$105,FALSE))-W56)","v":0},{"$f":"MAX(0,OFFSET(Licence_IBEC,MATCH($B118,'Licence Info'!$B$40:$B$64,FALSE),MATCH(Control!X$101,'Licence Info'!$C$37:$DW$37,FALSE))*$C$9+OFFSET(Licence_Subst,MATCH($B118,'Licence Info'!$B$74:$B$98,FALSE),MATCH(Control!X$101,'Licence Info'!$C$71:$DW$71,FALSE))*$C$9+OFFSET(Licence_OIEC,MATCH($B118,'Licence Info'!$B$108:$B$132,FALSE),MATCH(Control!X$101,'Licence Info'!$C$105:$DW$105,FALSE))-X56)","v":0},{"$f":"MAX(0,OFFSET(Licence_IBEC,MATCH($B118,'Licence Info'!$B$40:$B$64,FALSE),MATCH(Control!Y$101,'Licence Info'!$C$37:$DW$37,FALSE))*$C$9+OFFSET(Licence_Subst,MATCH($B118,'Licence Info'!$B$74:$B$98,FALSE),MATCH(Control!Y$101,'Licence Info'!$C$71:$DW$71,FALSE))*$C$9+OFFSET(Licence_OIEC,MATCH($B118,'Licence Info'!$B$108:$B$132,FALSE),MATCH(Control!Y$101,'Licence Info'!$C$105:$DW$105,FALSE))-Y56)","v":0},{"$f":"MAX(0,OFFSET(Licence_IBEC,MATCH($B118,'Licence Info'!$B$40:$B$64,FALSE),MATCH(Control!Z$101,'Licence Info'!$C$37:$DW$37,FALSE))*$C$9+OFFSET(Licence_Subst,MATCH($B118,'Licence Info'!$B$74:$B$98,FALSE),MATCH(Control!Z$101,'Licence Info'!$C$71:$DW$71,FALSE))*$C$9+OFFSET(Licence_OIEC,MATCH($B118,'Licence Info'!$B$108:$B$132,FALSE),MATCH(Control!Z$101,'Licence Info'!$C$105:$DW$105,FALSE))-Z56)","v":0},{"$f":"MAX(0,OFFSET(Licence_IBEC,MATCH($B118,'Licence Info'!$B$40:$B$64,FALSE),MATCH(Control!AA$101,'Licence Info'!$C$37:$DW$37,FALSE))*$C$9+OFFSET(Licence_Subst,MATCH($B118,'Licence Info'!$B$74:$B$98,FALSE),MATCH(Control!AA$101,'Licence Info'!$C$71:$DW$71,FALSE))*$C$9+OFFSET(Licence_OIEC,MATCH($B118,'Licence Info'!$B$108:$B$132,FALSE),MATCH(Control!AA$101,'Licence Info'!$C$105:$DW$105,FALSE))-AA56)","v":0},{"$f":"MAX(0,OFFSET(Licence_IBEC,MATCH($B118,'Licence Info'!$B$40:$B$64,FALSE),MATCH(Control!AB$101,'Licence Info'!$C$37:$DW$37,FALSE))*$C$9+OFFSET(Licence_Subst,MATCH($B118,'Licence Info'!$B$74:$B$98,FALSE),MATCH(Control!AB$101,'Licence Info'!$C$71:$DW$71,FALSE))*$C$9+OFFSET(Licence_OIEC,MATCH($B118,'Licence Info'!$B$108:$B$132,FALSE),MATCH(Control!AB$101,'Licence Info'!$C$105:$DW$105,FALSE))-AB56)","v":0},{"$f":"MAX(0,OFFSET(Licence_IBEC,MATCH($B118,'Licence Info'!$B$40:$B$64,FALSE),MATCH(Control!AC$101,'Licence Info'!$C$37:$DW$37,FALSE))*$C$9+OFFSET(Licence_Subst,MATCH($B118,'Licence Info'!$B$74:$B$98,FALSE),MATCH(Control!AC$101,'Licence Info'!$C$71:$DW$71,FALSE))*$C$9+OFFSET(Licence_OIEC,MATCH($B118,'Licence Info'!$B$108:$B$132,FALSE),MATCH(Control!AC$101,'Licence Info'!$C$105:$DW$105,FALSE))-AC56)","v":0},{"$f":"MAX(0,OFFSET(Licence_IBEC,MATCH($B118,'Licence Info'!$B$40:$B$64,FALSE),MATCH(Control!AD$101,'Licence Info'!$C$37:$DW$37,FALSE))*$C$9+OFFSET(Licence_Subst,MATCH($B118,'Licence Info'!$B$74:$B$98,FALSE),MATCH(Control!AD$101,'Licence Info'!$C$71:$DW$71,FALSE))*$C$9+OFFSET(Licence_OIEC,MATCH($B118,'Licence Info'!$B$108:$B$132,FALSE),MATCH(Control!AD$101,'Licence Info'!$C$105:$DW$105,FALSE))-AD56)","v":0},{"$f":"MAX(0,OFFSET(Licence_IBEC,MATCH($B118,'Licence Info'!$B$40:$B$64,FALSE),MATCH(Control!AE$101,'Licence Info'!$C$37:$DW$37,FALSE))*$C$9+OFFSET(Licence_Subst,MATCH($B118,'Licence Info'!$B$74:$B$98,FALSE),MATCH(Control!AE$101,'Licence Info'!$C$71:$DW$71,FALSE))*$C$9+OFFSET(Licence_OIEC,MATCH($B118,'Licence Info'!$B$108:$B$132,FALSE),MATCH(Control!AE$101,'Licence Info'!$C$105:$DW$105,FALSE))-AE56)","v":148.50000000000006},{"$f":"MAX(0,OFFSET(Licence_IBEC,MATCH($B118,'Licence Info'!$B$40:$B$64,FALSE),MATCH(Control!AF$101,'Licence Info'!$C$37:$DW$37,FALSE))*$C$9+OFFSET(Licence_Subst,MATCH($B118,'Licence Info'!$B$74:$B$98,FALSE),MATCH(Control!AF$101,'Licence Info'!$C$71:$DW$71,FALSE))*$C$9+OFFSET(Licence_OIEC,MATCH($B118,'Licence Info'!$B$108:$B$132,FALSE),MATCH(Control!AF$101,'Licence Info'!$C$105:$DW$105,FALSE))-AF56)","v":148.50000000000006},{"$f":"MAX(0,OFFSET(Licence_IBEC,MATCH($B118,'Licence Info'!$B$40:$B$64,FALSE),MATCH(Control!AG$101,'Licence Info'!$C$37:$DW$37,FALSE))*$C$9+OFFSET(Licence_Subst,MATCH($B118,'Licence Info'!$B$74:$B$98,FALSE),MATCH(Control!AG$101,'Licence Info'!$C$71:$DW$71,FALSE))*$C$9+OFFSET(Licence_OIEC,MATCH($B118,'Licence Info'!$B$108:$B$132,FALSE),MATCH(Control!AG$101,'Licence Info'!$C$105:$DW$105,FALSE))-AG56)","v":148.50000000000006},{"$f":"MAX(0,OFFSET(Licence_IBEC,MATCH($B118,'Licence Info'!$B$40:$B$64,FALSE),MATCH(Control!AH$101,'Licence Info'!$C$37:$DW$37,FALSE))*$C$9+OFFSET(Licence_Subst,MATCH($B118,'Licence Info'!$B$74:$B$98,FALSE),MATCH(Control!AH$101,'Licence Info'!$C$71:$DW$71,FALSE))*$C$9+OFFSET(Licence_OIEC,MATCH($B118,'Licence Info'!$B$108:$B$132,FALSE),MATCH(Control!AH$101,'Licence Info'!$C$105:$DW$105,FALSE))-AH56)","v":148.50000000000006},{"$f":"MAX(0,OFFSET(Licence_IBEC,MATCH($B118,'Licence Info'!$B$40:$B$64,FALSE),MATCH(Control!AI$101,'Licence Info'!$C$37:$DW$37,FALSE))*$C$9+OFFSET(Licence_Subst,MATCH($B118,'Licence Info'!$B$74:$B$98,FALSE),MATCH(Control!AI$101,'Licence Info'!$C$71:$DW$71,FALSE))*$C$9+OFFSET(Licence_OIEC,MATCH($B118,'Licence Info'!$B$108:$B$132,FALSE),MATCH(Control!AI$101,'Licence Info'!$C$105:$DW$105,FALSE))-AI56)","v":148.50000000000006},{"$f":"MAX(0,OFFSET(Licence_IBEC,MATCH($B118,'Licence Info'!$B$40:$B$64,FALSE),MATCH(Control!AJ$101,'Licence Info'!$C$37:$DW$37,FALSE))*$C$9+OFFSET(Licence_Subst,MATCH($B118,'Licence Info'!$B$74:$B$98,FALSE),MATCH(Control!AJ$101,'Licence Info'!$C$71:$DW$71,FALSE))*$C$9+OFFSET(Licence_OIEC,MATCH($B118,'Licence Info'!$B$108:$B$132,FALSE),MATCH(Control!AJ$101,'Licence Info'!$C$105:$DW$105,FALSE))-AJ56)","v":148.50000000000006},{"$f":"MAX(0,OFFSET(Licence_IBEC,MATCH($B118,'Licence Info'!$B$40:$B$64,FALSE),MATCH(Control!AK$101,'Licence Info'!$C$37:$DW$37,FALSE))*$C$9+OFFSET(Licence_Subst,MATCH($B118,'Licence Info'!$B$74:$B$98,FALSE),MATCH(Control!AK$101,'Licence Info'!$C$71:$DW$71,FALSE))*$C$9+OFFSET(Licence_OIEC,MATCH($B118,'Licence Info'!$B$108:$B$132,FALSE),MATCH(Control!AK$101,'Licence Info'!$C$105:$DW$105,FALSE))-AK56)","v":148.50000000000006},{"$f":"MAX(0,OFFSET(Licence_IBEC,MATCH($B118,'Licence Info'!$B$40:$B$64,FALSE),MATCH(Control!AL$101,'Licence Info'!$C$37:$DW$37,FALSE))*$C$9+OFFSET(Licence_Subst,MATCH($B118,'Licence Info'!$B$74:$B$98,FALSE),MATCH(Control!AL$101,'Licence Info'!$C$71:$DW$71,FALSE))*$C$9+OFFSET(Licence_OIEC,MATCH($B118,'Licence Info'!$B$108:$B$132,FALSE),MATCH(Control!AL$101,'Licence Info'!$C$105:$DW$105,FALSE))-AL56)","v":148.50000000000006},{"$f":"MAX(0,OFFSET(Licence_IBEC,MATCH($B118,'Licence Info'!$B$40:$B$64,FALSE),MATCH(Control!AM$101,'Licence Info'!$C$37:$DW$37,FALSE))*$C$9+OFFSET(Licence_Subst,MATCH($B118,'Licence Info'!$B$74:$B$98,FALSE),MATCH(Control!AM$101,'Licence Info'!$C$71:$DW$71,FALSE))*$C$9+OFFSET(Licence_OIEC,MATCH($B118,'Licence Info'!$B$108:$B$132,FALSE),MATCH(Control!AM$101,'Licence Info'!$C$105:$DW$105,FALSE))-AM56)","v":148.50000000000006},{"$f":"MAX(0,OFFSET(Licence_IBEC,MATCH($B118,'Licence Info'!$B$40:$B$64,FALSE),MATCH(Control!AN$101,'Licence Info'!$C$37:$DW$37,FALSE))*$C$9+OFFSET(Licence_Subst,MATCH($B118,'Licence Info'!$B$74:$B$98,FALSE),MATCH(Control!AN$101,'Licence Info'!$C$71:$DW$71,FALSE))*$C$9+OFFSET(Licence_OIEC,MATCH($B118,'Licence Info'!$B$108:$B$132,FALSE),MATCH(Control!AN$101,'Licence Info'!$C$105:$DW$105,FALSE))-AN56)","v":148.50000000000006},{"$f":"MAX(0,OFFSET(Licence_IBEC,MATCH($B118,'Licence Info'!$B$40:$B$64,FALSE),MATCH(Control!AO$101,'Licence Info'!$C$37:$DW$37,FALSE))*$C$9+OFFSET(Licence_Subst,MATCH($B118,'Licence Info'!$B$74:$B$98,FALSE),MATCH(Control!AO$101,'Licence Info'!$C$71:$DW$71,FALSE))*$C$9+OFFSET(Licence_OIEC,MATCH($B118,'Licence Info'!$B$108:$B$132,FALSE),MATCH(Control!AO$101,'Licence Info'!$C$105:$DW$105,FALSE))-AO56)","v":148.50000000000006},{"$f":"MAX(0,OFFSET(Licence_IBEC,MATCH($B118,'Licence Info'!$B$40:$B$64,FALSE),MATCH(Control!AP$101,'Licence Info'!$C$37:$DW$37,FALSE))*$C$9+OFFSET(Licence_Subst,MATCH($B118,'Licence Info'!$B$74:$B$98,FALSE),MATCH(Control!AP$101,'Licence Info'!$C$71:$DW$71,FALSE))*$C$9+OFFSET(Licence_OIEC,MATCH($B118,'Licence Info'!$B$108:$B$132,FALSE),MATCH(Control!AP$101,'Licence Info'!$C$105:$DW$105,FALSE))-AP56)","v":148.50000000000006},{"$f":"MAX(0,OFFSET(Licence_IBEC,MATCH($B118,'Licence Info'!$B$40:$B$64,FALSE),MATCH(Control!AQ$101,'Licence Info'!$C$37:$DW$37,FALSE))*$C$9+OFFSET(Licence_Subst,MATCH($B118,'Licence Info'!$B$74:$B$98,FALSE),MATCH(Control!AQ$101,'Licence Info'!$C$71:$DW$71,FALSE))*$C$9+OFFSET(Licence_OIEC,MATCH($B118,'Licence Info'!$B$108:$B$132,FALSE),MATCH(Control!AQ$101,'Licence Info'!$C$105:$DW$105,FALSE))-AQ56)","v":266.94000000000005},{"$f":"MAX(0,OFFSET(Licence_IBEC,MATCH($B118,'Licence Info'!$B$40:$B$64,FALSE),MATCH(Control!AR$101,'Licence Info'!$C$37:$DW$37,FALSE))*$C$9+OFFSET(Licence_Subst,MATCH($B118,'Licence Info'!$B$74:$B$98,FALSE),MATCH(Control!AR$101,'Licence Info'!$C$71:$DW$71,FALSE))*$C$9+OFFSET(Licence_OIEC,MATCH($B118,'Licence Info'!$B$108:$B$132,FALSE),MATCH(Control!AR$101,'Licence Info'!$C$105:$DW$105,FALSE))-AR56)","v":266.94000000000005},{"$f":"MAX(0,OFFSET(Licence_IBEC,MATCH($B118,'Licence Info'!$B$40:$B$64,FALSE),MATCH(Control!AS$101,'Licence Info'!$C$37:$DW$37,FALSE))*$C$9+OFFSET(Licence_Subst,MATCH($B118,'Licence Info'!$B$74:$B$98,FALSE),MATCH(Control!AS$101,'Licence Info'!$C$71:$DW$71,FALSE))*$C$9+OFFSET(Licence_OIEC,MATCH($B118,'Licence Info'!$B$108:$B$132,FALSE),MATCH(Control!AS$101,'Licence Info'!$C$105:$DW$105,FALSE))-AS56)","v":266.94000000000005},{"$f":"MAX(0,OFFSET(Licence_IBEC,MATCH($B118,'Licence Info'!$B$40:$B$64,FALSE),MATCH(Control!AT$101,'Licence Info'!$C$37:$DW$37,FALSE))*$C$9+OFFSET(Licence_Subst,MATCH($B118,'Licence Info'!$B$74:$B$98,FALSE),MATCH(Control!AT$101,'Licence Info'!$C$71:$DW$71,FALSE))*$C$9+OFFSET(Licence_OIEC,MATCH($B118,'Licence Info'!$B$108:$B$132,FALSE),MATCH(Control!AT$101,'Licence Info'!$C$105:$DW$105,FALSE))-AT56)","v":266.94000000000005},{"$f":"MAX(0,OFFSET(Licence_IBEC,MATCH($B118,'Licence Info'!$B$40:$B$64,FALSE),MATCH(Control!AU$101,'Licence Info'!$C$37:$DW$37,FALSE))*$C$9+OFFSET(Licence_Subst,MATCH($B118,'Licence Info'!$B$74:$B$98,FALSE),MATCH(Control!AU$101,'Licence Info'!$C$71:$DW$71,FALSE))*$C$9+OFFSET(Licence_OIEC,MATCH($B118,'Licence Info'!$B$108:$B$132,FALSE),MATCH(Control!AU$101,'Licence Info'!$C$105:$DW$105,FALSE))-AU56)","v":266.94000000000005},{"$f":"MAX(0,OFFSET(Licence_IBEC,MATCH($B118,'Licence Info'!$B$40:$B$64,FALSE),MATCH(Control!AV$101,'Licence Info'!$C$37:$DW$37,FALSE))*$C$9+OFFSET(Licence_Subst,MATCH($B118,'Licence Info'!$B$74:$B$98,FALSE),MATCH(Control!AV$101,'Licence Info'!$C$71:$DW$71,FALSE))*$C$9+OFFSET(Licence_OIEC,MATCH($B118,'Licence Info'!$B$108:$B$132,FALSE),MATCH(Control!AV$101,'Licence Info'!$C$105:$DW$105,FALSE))-AV56)","v":266.94000000000005},{"$f":"MAX(0,OFFSET(Licence_IBEC,MATCH($B118,'Licence Info'!$B$40:$B$64,FALSE),MATCH(Control!AW$101,'Licence Info'!$C$37:$DW$37,FALSE))*$C$9+OFFSET(Licence_Subst,MATCH($B118,'Licence Info'!$B$74:$B$98,FALSE),MATCH(Control!AW$101,'Licence Info'!$C$71:$DW$71,FALSE))*$C$9+OFFSET(Licence_OIEC,MATCH($B118,'Licence Info'!$B$108:$B$132,FALSE),MATCH(Control!AW$101,'Licence Info'!$C$105:$DW$105,FALSE))-AW56)","v":266.94000000000005},{"$f":"MAX(0,OFFSET(Licence_IBEC,MATCH($B118,'Licence Info'!$B$40:$B$64,FALSE),MATCH(Control!AX$101,'Licence Info'!$C$37:$DW$37,FALSE))*$C$9+OFFSET(Licence_Subst,MATCH($B118,'Licence Info'!$B$74:$B$98,FALSE),MATCH(Control!AX$101,'Licence Info'!$C$71:$DW$71,FALSE))*$C$9+OFFSET(Licence_OIEC,MATCH($B118,'Licence Info'!$B$108:$B$132,FALSE),MATCH(Control!AX$101,'Licence Info'!$C$105:$DW$105,FALSE))-AX56)","v":266.94000000000005},{"$f":"MAX(0,OFFSET(Licence_IBEC,MATCH($B118,'Licence Info'!$B$40:$B$64,FALSE),MATCH(Control!AY$101,'Licence Info'!$C$37:$DW$37,FALSE))*$C$9+OFFSET(Licence_Subst,MATCH($B118,'Licence Info'!$B$74:$B$98,FALSE),MATCH(Control!AY$101,'Licence Info'!$C$71:$DW$71,FALSE))*$C$9+OFFSET(Licence_OIEC,MATCH($B118,'Licence Info'!$B$108:$B$132,FALSE),MATCH(Control!AY$101,'Licence Info'!$C$105:$DW$105,FALSE))-AY56)","v":266.94000000000005},{"$f":"MAX(0,OFFSET(Licence_IBEC,MATCH($B118,'Licence Info'!$B$40:$B$64,FALSE),MATCH(Control!AZ$101,'Licence Info'!$C$37:$DW$37,FALSE))*$C$9+OFFSET(Licence_Subst,MATCH($B118,'Licence Info'!$B$74:$B$98,FALSE),MATCH(Control!AZ$101,'Licence Info'!$C$71:$DW$71,FALSE))*$C$9+OFFSET(Licence_OIEC,MATCH($B118,'Licence Info'!$B$108:$B$132,FALSE),MATCH(Control!AZ$101,'Licence Info'!$C$105:$DW$105,FALSE))-AZ56)","v":266.94000000000005},{"$f":"MAX(0,OFFSET(Licence_IBEC,MATCH($B118,'Licence Info'!$B$40:$B$64,FALSE),MATCH(Control!BA$101,'Licence Info'!$C$37:$DW$37,FALSE))*$C$9+OFFSET(Licence_Subst,MATCH($B118,'Licence Info'!$B$74:$B$98,FALSE),MATCH(Control!BA$101,'Licence Info'!$C$71:$DW$71,FALSE))*$C$9+OFFSET(Licence_OIEC,MATCH($B118,'Licence Info'!$B$108:$B$132,FALSE),MATCH(Control!BA$101,'Licence Info'!$C$105:$DW$105,FALSE))-BA56)","v":266.94000000000005},{"$f":"MAX(0,OFFSET(Licence_IBEC,MATCH($B118,'Licence Info'!$B$40:$B$64,FALSE),MATCH(Control!BB$101,'Licence Info'!$C$37:$DW$37,FALSE))*$C$9+OFFSET(Licence_Subst,MATCH($B118,'Licence Info'!$B$74:$B$98,FALSE),MATCH(Control!BB$101,'Licence Info'!$C$71:$DW$71,FALSE))*$C$9+OFFSET(Licence_OIEC,MATCH($B118,'Licence Info'!$B$108:$B$132,FALSE),MATCH(Control!BB$101,'Licence Info'!$C$105:$DW$105,FALSE))-BB56)","v":266.94000000000005},{"$f":"MAX(0,OFFSET(Licence_IBEC,MATCH($B118,'Licence Info'!$B$40:$B$64,FALSE),MATCH(Control!BC$101,'Licence Info'!$C$37:$DW$37,FALSE))*$C$9+OFFSET(Licence_Subst,MATCH($B118,'Licence Info'!$B$74:$B$98,FALSE),MATCH(Control!BC$101,'Licence Info'!$C$71:$DW$71,FALSE))*$C$9+OFFSET(Licence_OIEC,MATCH($B118,'Licence Info'!$B$108:$B$132,FALSE),MATCH(Control!BC$101,'Licence Info'!$C$105:$DW$105,FALSE))-BC56)","v":266.94000000000005},{"$f":"MAX(0,OFFSET(Licence_IBEC,MATCH($B118,'Licence Info'!$B$40:$B$64,FALSE),MATCH(Control!BD$101,'Licence Info'!$C$37:$DW$37,FALSE))*$C$9+OFFSET(Licence_Subst,MATCH($B118,'Licence Info'!$B$74:$B$98,FALSE),MATCH(Control!BD$101,'Licence Info'!$C$71:$DW$71,FALSE))*$C$9+OFFSET(Licence_OIEC,MATCH($B118,'Licence Info'!$B$108:$B$132,FALSE),MATCH(Control!BD$101,'Licence Info'!$C$105:$DW$105,FALSE))-BD56)","v":266.94000000000005},{"$f":"MAX(0,OFFSET(Licence_IBEC,MATCH($B118,'Licence Info'!$B$40:$B$64,FALSE),MATCH(Control!BE$101,'Licence Info'!$C$37:$DW$37,FALSE))*$C$9+OFFSET(Licence_Subst,MATCH($B118,'Licence Info'!$B$74:$B$98,FALSE),MATCH(Control!BE$101,'Licence Info'!$C$71:$DW$71,FALSE))*$C$9+OFFSET(Licence_OIEC,MATCH($B118,'Licence Info'!$B$108:$B$132,FALSE),MATCH(Control!BE$101,'Licence Info'!$C$105:$DW$105,FALSE))-BE56)","v":266.94000000000005},{"$f":"MAX(0,OFFSET(Licence_IBEC,MATCH($B118,'Licence Info'!$B$40:$B$64,FALSE),MATCH(Control!BF$101,'Licence Info'!$C$37:$DW$37,FALSE))*$C$9+OFFSET(Licence_Subst,MATCH($B118,'Licence Info'!$B$74:$B$98,FALSE),MATCH(Control!BF$101,'Licence Info'!$C$71:$DW$71,FALSE))*$C$9+OFFSET(Licence_OIEC,MATCH($B118,'Licence Info'!$B$108:$B$132,FALSE),MATCH(Control!BF$101,'Licence Info'!$C$105:$DW$105,FALSE))-BF56)","v":266.94000000000005},{"$f":"MAX(0,OFFSET(Licence_IBEC,MATCH($B118,'Licence Info'!$B$40:$B$64,FALSE),MATCH(Control!BG$101,'Licence Info'!$C$37:$DW$37,FALSE))*$C$9+OFFSET(Licence_Subst,MATCH($B118,'Licence Info'!$B$74:$B$98,FALSE),MATCH(Control!BG$101,'Licence Info'!$C$71:$DW$71,FALSE))*$C$9+OFFSET(Licence_OIEC,MATCH($B118,'Licence Info'!$B$108:$B$132,FALSE),MATCH(Control!BG$101,'Licence Info'!$C$105:$DW$105,FALSE))-BG56)","v":266.94000000000005},{"$f":"MAX(0,OFFSET(Licence_IBEC,MATCH($B118,'Licence Info'!$B$40:$B$64,FALSE),MATCH(Control!BH$101,'Licence Info'!$C$37:$DW$37,FALSE))*$C$9+OFFSET(Licence_Subst,MATCH($B118,'Licence Info'!$B$74:$B$98,FALSE),MATCH(Control!BH$101,'Licence Info'!$C$71:$DW$71,FALSE))*$C$9+OFFSET(Licence_OIEC,MATCH($B118,'Licence Info'!$B$108:$B$132,FALSE),MATCH(Control!BH$101,'Licence Info'!$C$105:$DW$105,FALSE))-BH56)","v":266.94000000000005},{"$f":"MAX(0,OFFSET(Licence_IBEC,MATCH($B118,'Licence Info'!$B$40:$B$64,FALSE),MATCH(Control!BI$101,'Licence Info'!$C$37:$DW$37,FALSE))*$C$9+OFFSET(Licence_Subst,MATCH($B118,'Licence Info'!$B$74:$B$98,FALSE),MATCH(Control!BI$101,'Licence Info'!$C$71:$DW$71,FALSE))*$C$9+OFFSET(Licence_OIEC,MATCH($B118,'Licence Info'!$B$108:$B$132,FALSE),MATCH(Control!BI$101,'Licence Info'!$C$105:$DW$105,FALSE))-BI56)","v":266.94000000000005},{"$f":"MAX(0,OFFSET(Licence_IBEC,MATCH($B118,'Licence Info'!$B$40:$B$64,FALSE),MATCH(Control!BJ$101,'Licence Info'!$C$37:$DW$37,FALSE))*$C$9+OFFSET(Licence_Subst,MATCH($B118,'Licence Info'!$B$74:$B$98,FALSE),MATCH(Control!BJ$101,'Licence Info'!$C$71:$DW$71,FALSE))*$C$9+OFFSET(Licence_OIEC,MATCH($B118,'Licence Info'!$B$108:$B$132,FALSE),MATCH(Control!BJ$101,'Licence Info'!$C$105:$DW$105,FALSE))-BJ56)","v":266.94000000000005},{"$f":"MAX(0,OFFSET(Licence_IBEC,MATCH($B118,'Licence Info'!$B$40:$B$64,FALSE),MATCH(Control!BK$101,'Licence Info'!$C$37:$DW$37,FALSE))*$C$9+OFFSET(Licence_Subst,MATCH($B118,'Licence Info'!$B$74:$B$98,FALSE),MATCH(Control!BK$101,'Licence Info'!$C$71:$DW$71,FALSE))*$C$9+OFFSET(Licence_OIEC,MATCH($B118,'Licence Info'!$B$108:$B$132,FALSE),MATCH(Control!BK$101,'Licence Info'!$C$105:$DW$105,FALSE))-BK56)","v":{"$error":"#N/A"}}]
[null,"Wytch Farm",{"$f":"MAX(0,OFFSET(Licence_IBEC,MATCH($B119,'Licence Info'!$B$40:$B$64,FALSE),MATCH(Control!C$101,'Licence Info'!$C$37:$DW$37,FALSE))*$C$9+OFFSET(Licence_Subst,MATCH($B119,'Licence Info'!$B$74:$B$98,FALSE),MATCH(Control!C$101,'Licence Info'!$C$71:$DW$71,FALSE))*$C$9+OFFSET(Licence_OIEC,MATCH($B119,'Licence Info'!$B$108:$B$132,FALSE),MATCH(Control!C$101,'Licence Info'!$C$105:$DW$105,FALSE))-C57)","v":2.9699999999999998},{"$f":"MAX(0,OFFSET(Licence_IBEC,MATCH($B119,'Licence Info'!$B$40:$B$64,FALSE),MATCH(Control!D$101,'Licence Info'!$C$37:$DW$37,FALSE))*$C$9+OFFSET(Licence_Subst,MATCH($B119,'Licence Info'!$B$74:$B$98,FALSE),MATCH(Control!D$101,'Licence Info'!$C$71:$DW$71,FALSE))*$C$9+OFFSET(Licence_OIEC,MATCH($B119,'Licence Info'!$B$108:$B$132,FALSE),MATCH(Control!D$101,'Licence Info'!$C$105:$DW$105,FALSE))-D57)","v":2.9699999999999998},{"$f":"MAX(0,OFFSET(Licence_IBEC,MATCH($B119,'Licence Info'!$B$40:$B$64,FALSE),MATCH(Control!E$101,'Licence Info'!$C$37:$DW$37,FALSE))*$C$9+OFFSET(Licence_Subst,MATCH($B119,'Licence Info'!$B$74:$B$98,FALSE),MATCH(Control!E$101,'Licence Info'!$C$71:$DW$71,FALSE))*$C$9+OFFSET(Licence_OIEC,MATCH($B119,'Licence Info'!$B$108:$B$132,FALSE),MATCH(Control!E$101,'Licence Info'!$C$105:$DW$105,FALSE))-E57)","v":2.9699999999999998},{"$f":"MAX(0,OFFSET(Licence_IBEC,MATCH($B119,'Licence Info'!$B$40:$B$64,FALSE),MATCH(Control!F$101,'Licence Info'!$C$37:$DW$37,FALSE))*$C$9+OFFSET(Licence_Subst,MATCH($B119,'Licence Info'!$B$74:$B$98,FALSE),MATCH(Control!F$101,'Licence Info'!$C$71:$DW$71,FALSE))*$C$9+OFFSET(Licence_OIEC,MATCH($B119,'Licence Info'!$B$108:$B$132,FALSE),MATCH(Control!F$101,'Licence Info'!$C$105:$DW$105,FALSE))-F57)","v":2.9699999999999998},{"$f":"MAX(0,OFFSET(Licence_IBEC,MATCH($B119,'Licence Info'!$B$40:$B$64,FALSE),MATCH(Control!G$101,'Licence Info'!$C$37:$DW$37,FALSE))*$C$9+OFFSET(Licence_Subst,MATCH($B119,'Licence Info'!$B$74:$B$98,FALSE),MATCH(Control!G$101,'Licence Info'!$C$71:$DW$71,FALSE))*$C$9+OFFSET(Licence_OIEC,MATCH($B119,'Licence Info'!$B$108:$B$132,FALSE),MATCH(Control!G$101,'Licence Info'!$C$105:$DW$105,FALSE))-G57)","v":2.9699999999999998},{"$f":"MAX(0,OFFSET(Licence_IBEC,MATCH($B119,'Licence Info'!$B$40:$B$64,FALSE),MATCH(Control!H$101,'Licence Info'!$C$37:$DW$37,FALSE))*$C$9+OFFSET(Licence_Subst,MATCH($B119,'Licence Info'!$B$74:$B$98,FALSE),MATCH(Control!H$101,'Licence Info'!$C$71:$DW$71,FALSE))*$C$9+OFFSET(Licence_OIEC,MATCH($B119,'Licence Info'!$B$108:$B$132,FALSE),MATCH(Control!H$101,'Licence Info'!$C$105:$DW$105,FALSE))-H57)","v":2.9699999999999998},{"$f":"MAX(0,OFFSET(Licence_IBEC,MATCH($B119,'Licence Info'!$B$40:$B$64,FALSE),MATCH(Control!I$101,'Licence Info'!$C$37:$DW$37,FALSE))*$C$9+OFFSET(Licence_Subst,MATCH($B119,'Licence Info'!$B$74:$B$98,FALSE),MATCH(Control!I$101,'Licence Info'!$C$71:$DW$71,FALSE))*$C$9+OFFSET(Licence_OIEC,MATCH($B119,'Licence Info'!$B$108:$B$132,FALSE),MATCH(Control!I$101,'Licence Info'!$C$105:$DW$105,FALSE))-I57)","v":2.9699999999999998},{"$f":"MAX(0,OFFSET(Licence_IBEC,MATCH($B119,'Licence Info'!$B$40:$B$64,FALSE),MATCH(Control!J$101,'Licence Info'!$C$37:$DW$37,FALSE))*$C$9+OFFSET(Licence_Subst,MATCH($B119,'Licence Info'!$B$74:$B$98,FALSE),MATCH(Control!J$101,'Licence Info'!$C$71:$DW$71,FALSE))*$C$9+OFFSET(Licence_OIEC,MATCH($B119,'Licence Info'!$B$108:$B$132,FALSE),MATCH(Control!J$101,'Licence Info'!$C$105:$DW$105,FALSE))-J57)","v":2.9699999999999998},{"$f":"MAX(0,OFFSET(Licence_IBEC,MATCH($B119,'Licence Info'!$B$40:$B$64,FALSE),MATCH(Control!K$101,'Licence Info'!$C$37:$DW$37,FALSE))*$C$9+OFFSET(Licence_Subst,MATCH($B119,'Licence Info'!$B$74:$B$98,FALSE),MATCH(Control!K$101,'Licence Info'!$C$71:$DW$71,FALSE))*$C$9+OFFSET(Licence_OIEC,MATCH($B119,'Licence Info'!$B$108:$B$132,FALSE),MATCH(Control!K$101,'Licence Info'!$C$105:$DW$105,FALSE))-K57)","v":2.9699999999999998},{"$f":"MAX(0,OFFSET(Licence_IBEC,MATCH($B119,'Licence Info'!$B$40:$B$64,FALSE),MATCH(Control!L$101,'Licence Info'!$C$37:$DW$37,FALSE))*$C$9+OFFSET(Licence_Subst,MATCH($B119,'Licence Info'!$B$74:$B$98,FALSE),MATCH(Control!L$101,'Licence Info'!$C$71:$DW$71,FALSE))*$C$9+OFFSET(Licence_OIEC,MATCH($B119,'Licence Info'!$B$108:$B$132,FALSE),MATCH(Control!L$101,'Licence Info'!$C$105:$DW$105,FALSE))-L57)","v":2.9699999999999998},{"$f":"MAX(0,OFFSET(Licence_IBEC,MATCH($B119,'Licence Info'!$B$40:$B$64,FALSE),MATCH(Control!M$101,'Licence Info'!$C$37:$DW$37,FALSE))*$C$9+OFFSET(Licence_Subst,MATCH($B119,'Licence Info'!$B$74:$B$98,FALSE),MATCH(Control!M$101,'Licence Info'!$C$71:$DW$71,FALSE))*$C$9+OFFSET(Licence_OIEC,MATCH($B119,'Licence Info'!$B$108:$B$132,FALSE),MATCH(Control!M$101,'Licence Info'!$C$105:$DW$105,FALSE))-M57)","v":2.9699999999999998},{"$f":"MAX(0,OFFSET(Licence_IBEC,MATCH($B119,'Licence Info'!$B$40:$B$64,FALSE),MATCH(Control!N$101,'Licence Info'!$C$37:$DW$37,FALSE))*$C$9+OFFSET(Licence_Subst,MATCH($B119,'Licence Info'!$B$74:$B$98,FALSE),MATCH(Control!N$101,'Licence Info'!$C$71:$DW$71,FALSE))*$C$9+OFFSET(Licence_OIEC,MATCH($B119,'Licence Info'!$B$108:$B$132,FALSE),MATCH(Control!N$101,'Licence Info'!$C$105:$DW$105,FALSE))-N57)","v":2.9699999999999998},{"$f":"MAX(0,OFFSET(Licence_IBEC,MATCH($B119,'Licence Info'!$B$40:$B$64,FALSE),MATCH(Control!O$101,'Licence Info'!$C$37:$DW$37,FALSE))*$C$9+OFFSET(Licence_Subst,MATCH($B119,'Licence Info'!$B$74:$B$98,FALSE),MATCH(Control!O$101,'Licence Info'!$C$71:$DW$71,FALSE))*$C$9+OFFSET(Licence_OIEC,MATCH($B119,'Licence Info'!$B$108:$B$132,FALSE),MATCH(Control!O$101,'Licence Info'!$C$105:$DW$105,FALSE))-O57)","v":2.9699999999999998},{"$f":"MAX(0,OFFSET(Licence_IBEC,MATCH($B119,'Licence Info'!$B$40:$B$64,FALSE),MATCH(Control!P$101,'Licence Info'!$C$37:$DW$37,FALSE))*$C$9+OFFSET(Licence_Subst,MATCH($B119,'Licence Info'!$B$74:$B$98,FALSE),MATCH(Control!P$101,'Licence Info'!$C$71:$DW$71,FALSE))*$C$9+OFFSET(Licence_OIEC,MATCH($B119,'Licence Info'!$B$108:$B$132,FALSE),MATCH(Control!P$101,'Licence Info'!$C$105:$DW$105,FALSE))-P57)","v":2.9699999999999998},{"$f":"MAX(0,OFFSET(Licence_IBEC,MATCH($B119,'Licence Info'!$B$40:$B$64,FALSE),MATCH(Control!Q$101,'Licence Info'!$C$37:$DW$37,FALSE))*$C$9+OFFSET(Licence_Subst,MATCH($B119,'Licence Info'!$B$74:$B$98,FALSE),MATCH(Control!Q$101,'Licence Info'!$C$71:$DW$71,FALSE))*$C$9+OFFSET(Licence_OIEC,MATCH($B119,'Licence Info'!$B$108:$B$132,FALSE),MATCH(Control!Q$101,'Licence Info'!$C$105:$DW$105,FALSE))-Q57)","v":2.9699999999999998},{"$f":"MAX(0,OFFSET(Licence_IBEC,MATCH($B119,'Licence Info'!$B$40:$B$64,FALSE),MATCH(Control!R$101,'Licence Info'!$C$37:$DW$37,FALSE))*$C$9+OFFSET(Licence_Subst,MATCH($B119,'Licence Info'!$B$74:$B$98,FALSE),MATCH(Control!R$101,'Licence Info'!$C$71:$DW$71,FALSE))*$C$9+OFFSET(Licence_OIEC,MATCH($B119,'Licence Info'!$B$108:$B$132,FALSE),MATCH(Control!R$101,'Licence Info'!$C$105:$DW$105,FALSE))-R57)","v":2.9699999999999998},{"$f":"MAX(0,OFFSET(Licence_IBEC,MATCH($B119,'Licence Info'!$B$40:$B$64,FALSE),MATCH(Control!S$101,'Licence Info'!$C$37:$DW$37,FALSE))*$C$9+OFFSET(Licence_Subst,MATCH($B119,'Licence Info'!$B$74:$B$98,FALSE),MATCH(Control!S$101,'Licence Info'!$C$71:$DW$71,FALSE))*$C$9+OFFSET(Licence_OIEC,MATCH($B119,'Licence Info'!$B$108:$B$132,FALSE),MATCH(Control!S$101,'Licence Info'!$C$105:$DW$105,FALSE))-S57)","v":2.9699999999999998},{"$f":"MAX(0,OFFSET(Licence_IBEC,MATCH($B119,'Licence Info'!$B$40:$B$64,FALSE),MATCH(Control!T$101,'Licence Info'!$C$37:$DW$37,FALSE))*$C$9+OFFSET(Licence_Subst,MATCH($B119,'Licence Info'!$B$74:$B$98,FALSE),MATCH(Control!T$101,'Licence Info'!$C$71:$DW$71,FALSE))*$C$9+OFFSET(Licence_OIEC,MATCH($B119,'Licence Info'!$B$108:$B$132,FALSE),MATCH(Control!T$101,'Licence Info'!$C$105:$DW$105,FALSE))-T57)","v":2.9699999999999998},{"$f":"MAX(0,OFFSET(Licence_IBEC,MATCH($B119,'Licence Info'!$B$40:$B$64,FALSE),MATCH(Control!U$101,'Licence Info'!$C$37:$DW$37,FALSE))*$C$9+OFFSET(Licence_Subst,MATCH($B119,'Licence Info'!$B$74:$B$98,FALSE),MATCH(Control!U$101,'Licence Info'!$C$71:$DW$71,FALSE))*$C$9+OFFSET(Licence_OIEC,MATCH($B119,'Licence Info'!$B$108:$B$132,FALSE),MATCH(Control!U$101,'Licence Info'!$C$105:$DW$105,FALSE))-U57)","v":2.9699999999999998},{"$f":"MAX(0,OFFSET(Licence_IBEC,MATCH($B119,'Licence Info'!$B$40:$B$64,FALSE),MATCH(Control!V$101,'Licence Info'!$C$37:$DW$37,FALSE))*$C$9+OFFSET(Licence_Subst,MATCH($B119,'Licence Info'!$B$74:$B$98,FALSE),MATCH(Control!V$101,'Licence Info'!$C$71:$DW$71,FALSE))*$C$9+OFFSET(Licence_OIEC,MATCH($B119,'Licence Info'!$B$108:$B$132,FALSE),MATCH(Control!V$101,'Licence Info'!$C$105:$DW$105,FALSE))-V57)","v":2.9699999999999998},{"$f":"MAX(0,OFFSET(Licence_IBEC,MATCH($B119,'Licence Info'!$B$40:$B$64,FALSE),MATCH(Control!W$101,'Licence Info'!$C$37:$DW$37,FALSE))*$C$9+OFFSET(Licence_Subst,MATCH($B119,'Licence Info'!$B$74:$B$98,FALSE),MATCH(Control!W$101,'Licence Info'!$C$71:$DW$71,FALSE))*$C$9+OFFSET(Licence_OIEC,MATCH($B119,'Licence Info'!$B$108:$B$132,FALSE),MATCH(Control!W$101,'Licence Info'!$C$105:$DW$105,FALSE))-W57)","v":2.9699999999999998},{"$f":"MAX(0,OFFSET(Licence_IBEC,MATCH($B119,'Licence Info'!$B$40:$B$64,FALSE),MATCH(Control!X$101,'Licence Info'!$C$37:$DW$37,FALSE))*$C$9+OFFSET(Licence_Subst,MATCH($B119,'Licence Info'!$B$74:$B$98,FALSE),MATCH(Control!X$101,'Licence Info'!$C$71:$DW$71,FALSE))*$C$9+OFFSET(Licence_OIEC,MATCH($B119,'Licence Info'!$B$108:$B$132,FALSE),MATCH(Control!X$101,'Licence Info'!$C$105:$DW$105,FALSE))-X57)","v":2.9699999999999998},{"$f":"MAX(0,OFFSET(Licence_IBEC,MATCH($B119,'Licence Info'!$B$40:$B$64,FALSE),MATCH(Control!Y$101,'Licence Info'!$C$37:$DW$37,FALSE))*$C$9+OFFSET(Licence_Subst,MATCH($B119,'Licence Info'!$B$74:$B$98,FALSE),MATCH(Control!Y$101,'Licence Info'!$C$71:$DW$71,FALSE))*$C$9+OFFSET(Licence_OIEC,MATCH($B119,'Licence Info'!$B$108:$B$132,FALSE),MATCH(Control!Y$101,'Licence Info'!$C$105:$DW$105,FALSE))-Y57)","v":2.9699999999999998},{"$f":"MAX(0,OFFSET(Licence_IBEC,MATCH($B119,'Licence Info'!$B$40:$B$64,FALSE),MATCH(Control!Z$101,'Licence Info'!$C$37:$DW$37,FALSE))*$C$9+OFFSET(Licence_Subst,MATCH($B119,'Licence Info'!$B$74:$B$98,FALSE),MATCH(Control!Z$101,'Licence Info'!$C$71:$DW$71,FALSE))*$C$9+OFFSET(Licence_OIEC,MATCH($B119,'Licence Info'!$B$108:$B$132,FALSE),MATCH(Control!Z$101,'Licence Info'!$C$105:$DW$105,FALSE))-Z57)","v":2.9699999999999998},{"$f":"MAX(0,OFFSET(Licence_IBEC,MATCH($B119,'Licence Info'!$B$40:$B$64,FALSE),MATCH(Control!AA$101,'Licence Info'!$C$37:$DW$37,FALSE))*$C$9+OFFSET(Licence_Subst,MATCH($B119,'Licence Info'!$B$74:$B$98,FALSE),MATCH(Control!AA$101,'Licence Info'!$C$71:$DW$71,FALSE))*$C$9+OFFSET(Licence_OIEC,MATCH($B119,'Licence Info'!$B$108:$B$132,FALSE),MATCH(Control!AA$101,'Licence Info'!$C$105:$DW$105,FALSE))-AA57)","v":2.9699999999999998},{"$f":"MAX(0,OFFSET(Licence_IBEC,MATCH($B119,'Licence Info'!$B$40:$B$64,FALSE),MATCH(Control!AB$101,'Licence Info'!$C$37:$DW$37,FALSE))*$C$9+OFFSET(Licence_Subst,MATCH($B119,'Licence Info'!$B$74:$B$98,FALSE),MATCH(Control!AB$101,'Licence Info'!$C$71:$DW$71,FALSE))*$C$9+OFFSET(Licence_OIEC,MATCH($B119,'Licence Info'!$B$108:$B$132,FALSE),MATCH(Control!AB$101,'Licence Info'!$C$105:$DW$105,FALSE))-AB57)","v":2.9699999999999998},{"$f":"MAX(0,OFFSET(Licence_IBEC,MATCH($B119,'Licence Info'!$B$40:$B$64,FALSE),MATCH(Control!AC$101,'Licence Info'!$C$37:$DW$37,FALSE))*$C$9+OFFSET(Licence_Subst,MATCH($B119,'Licence Info'!$B$74:$B$98,FALSE),MATCH(Control!AC$101,'Licence Info'!$C$71:$DW$71,FALSE))*$C$9+OFFSET(Licence_OIEC,MATCH($B119,'Licence Info'!$B$108:$B$132,FALSE),MATCH(Control!AC$101,'Licence Info'!$C$105:$DW$105,FALSE))-AC57)","v":2.9699999999999998},{"$f":"MAX(0,OFFSET(Licence_IBEC,MATCH($B119,'Licence Info'!$B$40:$B$64,FALSE),MATCH(Control!AD$101,'Licence Info'!$C$37:$DW$37,FALSE))*$C$9+OFFSET(Licence_Subst,MATCH($B119,'Licence Info'!$B$74:$B$98,FALSE),MATCH(Control!AD$101,'Licence Info'!$C$71:$DW$71,FALSE))*$C$9+OFFSET(Licence_OIEC,MATCH($B119,'Licence Info'!$B$108:$B$132,FALSE),MATCH(Control!AD$101,'Licence Info'!$C$105:$DW$105,FALSE))-AD57)","v":2.9699999999999998},{"$f":"MAX(0,OFFSET(Licence_IBEC,MATCH($B119,'Licence Info'!$B$40:$B$64,FALSE),MATCH(Control!AE$101,'Licence Info'!$C$37:$DW$37,FALSE))*$C$9+OFFSET(Licence_Subst,MATCH($B119,'Licence Info'!$B$74:$B$98,FALSE),MATCH(Control!AE$101,'Licence Info'!$C$71:$DW$71,FALSE))*$C$9+OFFSET(Licence_OIEC,MATCH($B119,'Licence Info'!$B$108:$B$132,FALSE),MATCH(Control!AE$101,'Licence Info'!$C$105:$DW$105,FALSE))-AE57)","v":2.9699999999999998},{"$f":"MAX(0,OFFSET(Licence_IBEC,MATCH($B119,'Licence Info'!$B$40:$B$64,FALSE),MATCH(Control!AF$101,'Licence Info'!$C$37:$DW$37,FALSE))*$C$9+OFFSET(Licence_Subst,MATCH($B119,'Licence Info'!$B$74:$B$98,FALSE),MATCH(Control!AF$101,'Licence Info'!$C$71:$DW$71,FALSE))*$C$9+OFFSET(Licence_OIEC,MATCH($B119,'Licence Info'!$B$108:$B$132,FALSE),MATCH(Control!AF$101,'Licence Info'!$C$105:$DW$105,FALSE))-AF57)","v":2.9699999999999998},{"$f":"MAX(0,OFFSET(Licence_IBEC,MATCH($B119,'Licence Info'!$B$40:$B$64,FALSE),MATCH(Control!AG$101,'Licence Info'!$C$37:$DW$37,FALSE))*$C$9+OFFSET(Licence_Subst,MATCH($B119,'Licence Info'!$B$74:$B$98,FALSE),MATCH(Control!AG$101,'Licence Info'!$C$71:$DW$71,FALSE))*$C$9+OFFSET(Licence_OIEC,MATCH($B119,'Licence Info'!$B$108:$B$132,FALSE),MATCH(Control!AG$101,'Licence Info'!$C$105:$DW$105,FALSE))-AG57)","v":2.9699999999999998},{"$f":"MAX(0,OFFSET(Licence_IBEC,MATCH($B119,'Licence Info'!$B$40:$B$64,FALSE),MATCH(Control!AH$101,'Licence Info'!$C$37:$DW$37,FALSE))*$C$9+OFFSET(Licence_Subst,MATCH($B119,'Licence Info'!$B$74:$B$98,FALSE),MATCH(Control!AH$101,'Licence Info'!$C$71:$DW$71,FALSE))*$C$9+OFFSET(Licence_OIEC,MATCH($B119,'Licence Info'!$B$108:$B$132,FALSE),MATCH(Control!AH$101,'Licence Info'!$C$105:$DW$105,FALSE))-AH57)","v":2.9699999999999998},{"$f":"MAX(0,OFFSET(Licence_IBEC,MATCH($B119,'Licence Info'!$B$40:$B$64,FALSE),MATCH(Control!AI$101,'Licence Info'!$C$37:$DW$37,FALSE))*$C$9+OFFSET(Licence_Subst,MATCH($B119,'Licence Info'!$B$74:$B$98,FALSE),MATCH(Control!AI$101,'Licence Info'!$C$71:$DW$71,FALSE))*$C$9+OFFSET(Licence_OIEC,MATCH($B119,'Licence Info'!$B$108:$B$132,FALSE),MATCH(Control!AI$101,'Licence Info'!$C$105:$DW$105,FALSE))-AI57)","v":2.9699999999999998},{"$f":"MAX(0,OFFSET(Licence_IBEC,MATCH($B119,'Licence Info'!$B$40:$B$64,FALSE),MATCH(Control!AJ$101,'Licence Info'!$C$37:$DW$37,FALSE))*$C$9+OFFSET(Licence_Subst,MATCH($B119,'Licence Info'!$B$74:$B$98,FALSE),MATCH(Control!AJ$101,'Licence Info'!$C$71:$DW$71,FALSE))*$C$9+OFFSET(Licence_OIEC,MATCH($B119,'Licence Info'!$B$108:$B$132,FALSE),MATCH(Control!AJ$101,'Licence Info'!$C$105:$DW$105,FALSE))-AJ57)","v":2.9699999999999998},{"$f":"MAX(0,OFFSET(Licence_IBEC,MATCH($B119,'Licence Info'!$B$40:$B$64,FALSE),MATCH(Control!AK$101,'Licence Info'!$C$37:$DW$37,FALSE))*$C$9+OFFSET(Licence_Subst,MATCH($B119,'Licence Info'!$B$74:$B$98,FALSE),MATCH(Control!AK$101,'Licence Info'!$C$71:$DW$71,FALSE))*$C$9+OFFSET(Licence_OIEC,MATCH($B119,'Licence Info'!$B$108:$B$132,FALSE),MATCH(Control!AK$101,'Licence Info'!$C$105:$DW$105,FALSE))-AK57)","v":2.9699999999999998},{"$f":"MAX(0,OFFSET(Licence_IBEC,MATCH($B119,'Licence Info'!$B$40:$B$64,FALSE),MATCH(Control!AL$101,'Licence Info'!$C$37:$DW$37,FALSE))*$C$9+OFFSET(Licence_Subst,MATCH($B119,'Licence Info'!$B$74:$B$98,FALSE),MATCH(Control!AL$101,'Licence Info'!$C$71:$DW$71,FALSE))*$C$9+OFFSET(Licence_OIEC,MATCH($B119,'Licence Info'!$B$108:$B$132,FALSE),MATCH(Control!AL$101,'Licence Info'!$C$105:$DW$105,FALSE))-AL57)","v":2.9699999999999998},{"$f":"MAX(0,OFFSET(Licence_IBEC,MATCH($B119,'Licence Info'!$B$40:$B$64,FALSE),MATCH(Control!AM$101,'Licence Info'!$C$37:$DW$37,FALSE))*$C$9+OFFSET(Licence_Subst,MATCH($B119,'Licence Info'!$B$74:$B$98,FALSE),MATCH(Control!AM$101,'Licence Info'!$C$71:$DW$71,FALSE))*$C$9+OFFSET(Licence_OIEC,MATCH($B119,'Licence Info'!$B$108:$B$132,FALSE),MATCH(Control!AM$101,'Licence Info'!$C$105:$DW$105,FALSE))-AM57)","v":2.9699999999999998},{"$f":"MAX(0,OFFSET(Licence_IBEC,MATCH($B119,'Licence Info'!$B$40:$B$64,FALSE),MATCH(Control!AN$101,'Licence Info'!$C$37:$DW$37,FALSE))*$C$9+OFFSET(Licence_Subst,MATCH($B119,'Licence Info'!$B$74:$B$98,FALSE),MATCH(Control!AN$101,'Licence Info'!$C$71:$DW$71,FALSE))*$C$9+OFFSET(Licence_OIEC,MATCH($B119,'Licence Info'!$B$108:$B$132,FALSE),MATCH(Control!AN$101,'Licence Info'!$C$105:$DW$105,FALSE))-AN57)","v":2.9699999999999998},{"$f":"MAX(0,OFFSET(Licence_IBEC,MATCH($B119,'Licence Info'!$B$40:$B$64,FALSE),MATCH(Control!AO$101,'Licence Info'!$C$37:$DW$37,FALSE))*$C$9+OFFSET(Licence_Subst,MATCH($B119,'Licence Info'!$B$74:$B$98,FALSE),MATCH(Control!AO$101,'Licence Info'!$C$71:$DW$71,FALSE))*$C$9+OFFSET(Licence_OIEC,MATCH($B119,'Licence Info'!$B$108:$B$132,FALSE),MATCH(Control!AO$101,'Licence Info'!$C$105:$DW$105,FALSE))-AO57)","v":2.9699999999999998},{"$f":"MAX(0,OFFSET(Licence_IBEC,MATCH($B119,'Licence Info'!$B$40:$B$64,FALSE),MATCH(Control!AP$101,'Licence Info'!$C$37:$DW$37,FALSE))*$C$9+OFFSET(Licence_Subst,MATCH($B119,'Licence Info'!$B$74:$B$98,FALSE),MATCH(Control!AP$101,'Licence Info'!$C$71:$DW$71,FALSE))*$C$9+OFFSET(Licence_OIEC,MATCH($B119,'Licence Info'!$B$108:$B$132,FALSE),MATCH(Control!AP$101,'Licence Info'!$C$105:$DW$105,FALSE))-AP57)","v":2.9699999999999998},{"$f":"MAX(0,OFFSET(Licence_IBEC,MATCH($B119,'Licence Info'!$B$40:$B$64,FALSE),MATCH(Control!AQ$101,'Licence Info'!$C$37:$DW$37,FALSE))*$C$9+OFFSET(Licence_Subst,MATCH($B119,'Licence Info'!$B$74:$B$98,FALSE),MATCH(Control!AQ$101,'Licence Info'!$C$71:$DW$71,FALSE))*$C$9+OFFSET(Licence_OIEC,MATCH($B119,'Licence Info'!$B$108:$B$132,FALSE),MATCH(Control!AQ$101,'Licence Info'!$C$105:$DW$105,FALSE))-AQ57)","v":2.9699999999999998},{"$f":"MAX(0,OFFSET(Licence_IBEC,MATCH($B119,'Licence Info'!$B$40:$B$64,FALSE),MATCH(Control!AR$101,'Licence Info'!$C$37:$DW$37,FALSE))*$C$9+OFFSET(Licence_Subst,MATCH($B119,'Licence Info'!$B$74:$B$98,FALSE),MATCH(Control!AR$101,'Licence Info'!$C$71:$DW$71,FALSE))*$C$9+OFFSET(Licence_OIEC,MATCH($B119,'Licence Info'!$B$108:$B$132,FALSE),MATCH(Control!AR$101,'Licence Info'!$C$105:$DW$105,FALSE))-AR57)","v":2.9699999999999998},{"$f":"MAX(0,OFFSET(Licence_IBEC,MATCH($B119,'Licence Info'!$B$40:$B$64,FALSE),MATCH(Control!AS$101,'Licence Info'!$C$37:$DW$37,FALSE))*$C$9+OFFSET(Licence_Subst,MATCH($B119,'Licence Info'!$B$74:$B$98,FALSE),MATCH(Control!AS$101,'Licence Info'!$C$71:$DW$71,FALSE))*$C$9+OFFSET(Licence_OIEC,MATCH($B119,'Licence Info'!$B$108:$B$132,FALSE),MATCH(Control!AS$101,'Licence Info'!$C$105:$DW$105,FALSE))-AS57)","v":2.9699999999999998},{"$f":"MAX(0,OFFSET(Licence_IBEC,MATCH($B119,'Licence Info'!$B$40:$B$64,FALSE),MATCH(Control!AT$101,'Licence Info'!$C$37:$DW$37,FALSE))*$C$9+OFFSET(Licence_Subst,MATCH($B119,'Licence Info'!$B$74:$B$98,FALSE),MATCH(Control!AT$101,'Licence Info'!$C$71:$DW$71,FALSE))*$C$9+OFFSET(Licence_OIEC,MATCH($B119,'Licence Info'!$B$108:$B$132,FALSE),MATCH(Control!AT$101,'Licence Info'!$C$105:$DW$105,FALSE))-AT57)","v":2.9699999999999998},{"$f":"MAX(0,OFFSET(Licence_IBEC,MATCH($B119,'Licence Info'!$B$40:$B$64,FALSE),MATCH(Control!AU$101,'Licence Info'!$C$37:$DW$37,FALSE))*$C$9+OFFSET(Licence_Subst,MATCH($B119,'Licence Info'!$B$74:$B$98,FALSE),MATCH(Control!AU$101,'Licence Info'!$C$71:$DW$71,FALSE))*$C$9+OFFSET(Licence_OIEC,MATCH($B119,'Licence Info'!$B$108:$B$132,FALSE),MATCH(Control!AU$101,'Licence Info'!$C$105:$DW$105,FALSE))-AU57)","v":2.9699999999999998},{"$f":"MAX(0,OFFSET(Licence_IBEC,MATCH($B119,'Licence Info'!$B$40:$B$64,FALSE),MATCH(Control!AV$101,'Licence Info'!$C$37:$DW$37,FALSE))*$C$9+OFFSET(Licence_Subst,MATCH($B119,'Licence Info'!$B$74:$B$98,FALSE),MATCH(Control!AV$101,'Licence Info'!$C$71:$DW$71,FALSE))*$C$9+OFFSET(Licence_OIEC,MATCH($B119,'Licence Info'!$B$108:$B$132,FALSE),MATCH(Control!AV$101,'Licence Info'!$C$105:$DW$105,FALSE))-AV57)","v":2.9699999999999998},{"$f":"MAX(0,OFFSET(Licence_IBEC,MATCH($B119,'Licence Info'!$B$40:$B$64,FALSE),MATCH(Control!AW$101,'Licence Info'!$C$37:$DW$37,FALSE))*$C$9+OFFSET(Licence_Subst,MATCH($B119,'Licence Info'!$B$74:$B$98,FALSE),MATCH(Control!AW$101,'Licence Info'!$C$71:$DW$71,FALSE))*$C$9+OFFSET(Licence_OIEC,MATCH($B119,'Licence Info'!$B$108:$B$132,FALSE),MATCH(Control!AW$101,'Licence Info'!$C$105:$DW$105,FALSE))-AW57)","v":2.9699999999999998},{"$f":"MAX(0,OFFSET(Licence_IBEC,MATCH($B119,'Licence Info'!$B$40:$B$64,FALSE),MATCH(Control!AX$101,'Licence Info'!$C$37:$DW$37,FALSE))*$C$9+OFFSET(Licence_Subst,MATCH($B119,'Licence Info'!$B$74:$B$98,FALSE),MATCH(Control!AX$101,'Licence Info'!$C$71:$DW$71,FALSE))*$C$9+OFFSET(Licence_OIEC,MATCH($B119,'Licence Info'!$B$108:$B$132,FALSE),MATCH(Control!AX$101,'Licence Info'!$C$105:$DW$105,FALSE))-AX57)","v":2.9699999999999998},{"$f":"MAX(0,OFFSET(Licence_IBEC,MATCH($B119,'Licence Info'!$B$40:$B$64,FALSE),MATCH(Control!AY$101,'Licence Info'!$C$37:$DW$37,FALSE))*$C$9+OFFSET(Licence_Subst,MATCH($B119,'Licence Info'!$B$74:$B$98,FALSE),MATCH(Control!AY$101,'Licence Info'!$C$71:$DW$71,FALSE))*$C$9+OFFSET(Licence_OIEC,MATCH($B119,'Licence Info'!$B$108:$B$132,FALSE),MATCH(Control!AY$101,'Licence Info'!$C$105:$DW$105,FALSE))-AY57)","v":2.9699999999999998},{"$f":"MAX(0,OFFSET(Licence_IBEC,MATCH($B119,'Licence Info'!$B$40:$B$64,FALSE),MATCH(Control!AZ$101,'Licence Info'!$C$37:$DW$37,FALSE))*$C$9+OFFSET(Licence_Subst,MATCH($B119,'Licence Info'!$B$74:$B$98,FALSE),MATCH(Control!AZ$101,'Licence Info'!$C$71:$DW$71,FALSE))*$C$9+OFFSET(Licence_OIEC,MATCH($B119,'Licence Info'!$B$108:$B$132,FALSE),MATCH(Control!AZ$101,'Licence Info'!$C$105:$DW$105,FALSE))-AZ57)","v":2.9699999999999998},{"$f":"MAX(0,OFFSET(Licence_IBEC,MATCH($B119,'Licence Info'!$B$40:$B$64,FALSE),MATCH(Control!BA$101,'Licence Info'!$C$37:$DW$37,FALSE))*$C$9+OFFSET(Licence_Subst,MATCH($B119,'Licence Info'!$B$74:$B$98,FALSE),MATCH(Control!BA$101,'Licence Info'!$C$71:$DW$71,FALSE))*$C$9+OFFSET(Licence_OIEC,MATCH($B119,'Licence Info'!$B$108:$B$132,FALSE),MATCH(Control!BA$101,'Licence Info'!$C$105:$DW$105,FALSE))-BA57)","v":2.9699999999999998},{"$f":"MAX(0,OFFSET(Licence_IBEC,MATCH($B119,'Licence Info'!$B$40:$B$64,FALSE),MATCH(Control!BB$101,'Licence Info'!$C$37:$DW$37,FALSE))*$C$9+OFFSET(Licence_Subst,MATCH($B119,'Licence Info'!$B$74:$B$98,FALSE),MATCH(Control!BB$101,'Licence Info'!$C$71:$DW$71,FALSE))*$C$9+OFFSET(Licence_OIEC,MATCH($B119,'Licence Info'!$B$108:$B$132,FALSE),MATCH(Control!BB$101,'Licence Info'!$C$105:$DW$105,FALSE))-BB57)","v":2.9699999999999998},{"$f":"MAX(0,OFFSET(Licence_IBEC,MATCH($B119,'Licence Info'!$B$40:$B$64,FALSE),MATCH(Control!BC$101,'Licence Info'!$C$37:$DW$37,FALSE))*$C$9+OFFSET(Licence_Subst,MATCH($B119,'Licence Info'!$B$74:$B$98,FALSE),MATCH(Control!BC$101,'Licence Info'!$C$71:$DW$71,FALSE))*$C$9+OFFSET(Licence_OIEC,MATCH($B119,'Licence Info'!$B$108:$B$132,FALSE),MATCH(Control!BC$101,'Licence Info'!$C$105:$DW$105,FALSE))-BC57)","v":2.9699999999999998},{"$f":"MAX(0,OFFSET(Licence_IBEC,MATCH($B119,'Licence Info'!$B$40:$B$64,FALSE),MATCH(Control!BD$101,'Licence Info'!$C$37:$DW$37,FALSE))*$C$9+OFFSET(Licence_Subst,MATCH($B119,'Licence Info'!$B$74:$B$98,FALSE),MATCH(Control!BD$101,'Licence Info'!$C$71:$DW$71,FALSE))*$C$9+OFFSET(Licence_OIEC,MATCH($B119,'Licence Info'!$B$108:$B$132,FALSE),MATCH(Control!BD$101,'Licence Info'!$C$105:$DW$105,FALSE))-BD57)","v":2.9699999999999998},{"$f":"MAX(0,OFFSET(Licence_IBEC,MATCH($B119,'Licence Info'!$B$40:$B$64,FALSE),MATCH(Control!BE$101,'Licence Info'!$C$37:$DW$37,FALSE))*$C$9+OFFSET(Licence_Subst,MATCH($B119,'Licence Info'!$B$74:$B$98,FALSE),MATCH(Control!BE$101,'Licence Info'!$C$71:$DW$71,FALSE))*$C$9+OFFSET(Licence_OIEC,MATCH($B119,'Licence Info'!$B$108:$B$132,FALSE),MATCH(Control!BE$101,'Licence Info'!$C$105:$DW$105,FALSE))-BE57)","v":2.9699999999999998},{"$f":"MAX(0,OFFSET(Licence_IBEC,MATCH($B119,'Licence Info'!$B$40:$B$64,FALSE),MATCH(Control!BF$101,'Licence Info'!$C$37:$DW$37,FALSE))*$C$9+OFFSET(Licence_Subst,MATCH($B119,'Licence Info'!$B$74:$B$98,FALSE),MATCH(Control!BF$101,'Licence Info'!$C$71:$DW$71,FALSE))*$C$9+OFFSET(Licence_OIEC,MATCH($B119,'Licence Info'!$B$108:$B$132,FALSE),MATCH(Control!BF$101,'Licence Info'!$C$105:$DW$105,FALSE))-BF57)","v":2.9699999999999998},{"$f":"MAX(0,OFFSET(Licence_IBEC,MATCH($B119,'Licence Info'!$B$40:$B$64,FALSE),MATCH(Control!BG$101,'Licence Info'!$C$37:$DW$37,FALSE))*$C$9+OFFSET(Licence_Subst,MATCH($B119,'Licence Info'!$B$74:$B$98,FALSE),MATCH(Control!BG$101,'Licence Info'!$C$71:$DW$71,FALSE))*$C$9+OFFSET(Licence_OIEC,MATCH($B119,'Licence Info'!$B$108:$B$132,FALSE),MATCH(Control!BG$101,'Licence Info'!$C$105:$DW$105,FALSE))-BG57)","v":2.9699999999999998},{"$f":"MAX(0,OFFSET(Licence_IBEC,MATCH($B119,'Licence Info'!$B$40:$B$64,FALSE),MATCH(Control!BH$101,'Licence Info'!$C$37:$DW$37,FALSE))*$C$9+OFFSET(Licence_Subst,MATCH($B119,'Licence Info'!$B$74:$B$98,FALSE),MATCH(Control!BH$101,'Licence Info'!$C$71:$DW$71,FALSE))*$C$9+OFFSET(Licence_OIEC,MATCH($B119,'Licence Info'!$B$108:$B$132,FALSE),MATCH(Control!BH$101,'Licence Info'!$C$105:$DW$105,FALSE))-BH57)","v":2.9699999999999998},{"$f":"MAX(0,OFFSET(Licence_IBEC,MATCH($B119,'Licence Info'!$B$40:$B$64,FALSE),MATCH(Control!BI$101,'Licence Info'!$C$37:$DW$37,FALSE))*$C$9+OFFSET(Licence_Subst,MATCH($B119,'Licence Info'!$B$74:$B$98,FALSE),MATCH(Control!BI$101,'Licence Info'!$C$71:$DW$71,FALSE))*$C$9+OFFSET(Licence_OIEC,MATCH($B119,'Licence Info'!$B$108:$B$132,FALSE),MATCH(Control!BI$101,'Licence Info'!$C$105:$DW$105,FALSE))-BI57)","v":2.9699999999999998},{"$f":"MAX(0,OFFSET(Licence_IBEC,MATCH($B119,'Licence Info'!$B$40:$B$64,FALSE),MATCH(Control!BJ$101,'Licence Info'!$C$37:$DW$37,FALSE))*$C$9+OFFSET(Licence_Subst,MATCH($B119,'Licence Info'!$B$74:$B$98,FALSE),MATCH(Control!BJ$101,'Licence Info'!$C$71:$DW$71,FALSE))*$C$9+OFFSET(Licence_OIEC,MATCH($B119,'Licence Info'!$B$108:$B$132,FALSE),MATCH(Control!BJ$101,'Licence Info'!$C$105:$DW$105,FALSE))-BJ57)","v":2.9699999999999998},{"$f":"MAX(0,OFFSET(Licence_IBEC,MATCH($B119,'Licence Info'!$B$40:$B$64,FALSE),MATCH(Control!BK$101,'Licence Info'!$C$37:$DW$37,FALSE))*$C$9+OFFSET(Licence_Subst,MATCH($B119,'Licence Info'!$B$74:$B$98,FALSE),MATCH(Control!BK$101,'Licence Info'!$C$71:$DW$71,FALSE))*$C$9+OFFSET(Licence_OIEC,MATCH($B119,'Licence Info'!$B$108:$B$132,FALSE),MATCH(Control!BK$101,'Licence Info'!$C$105:$DW$105,FALSE))-BK57)","v":{"$error":"#N/A"}}]
[null,"Burton Point",{"$f":"MAX(0,OFFSET(Licence_IBEC,MATCH($B120,'Licence Info'!$B$40:$B$64,FALSE),MATCH(Control!C$101,'Licence Info'!$C$37:$DW$37,FALSE))*$C$9+OFFSET(Licence_Subst,MATCH($B120,'Licence Info'!$B$74:$B$98,FALSE),MATCH(Control!C$101,'Licence Info'!$C$71:$DW$71,FALSE))*$C$9+OFFSET(Licence_OIEC,MATCH($B120,'Licence Info'!$B$108:$B$132,FALSE),MATCH(Control!C$101,'Licence Info'!$C$105:$DW$105,FALSE))-C58)","v":53.150000000000006},{"$f":"MAX(0,OFFSET(Licence_IBEC,MATCH($B120,'Licence Info'!$B$40:$B$64,FALSE),MATCH(Control!D$101,'Licence Info'!$C$37:$DW$37,FALSE))*$C$9+OFFSET(Licence_Subst,MATCH($B120,'Licence Info'!$B$74:$B$98,FALSE),MATCH(Control!D$101,'Licence Info'!$C$71:$DW$71,FALSE))*$C$9+OFFSET(Licence_OIEC,MATCH($B120,'Licence Info'!$B$108:$B$132,FALSE),MATCH(Control!D$101,'Licence Info'!$C$105:$DW$105,FALSE))-D58)","v":53.750000000000007},{"$f":"MAX(0,OFFSET(Licence_IBEC,MATCH($B120,'Licence Info'!$B$40:$B$64,FALSE),MATCH(Control!E$101,'Licence Info'!$C$37:$DW$37,FALSE))*$C$9+OFFSET(Licence_Subst,MATCH($B120,'Licence Info'!$B$74:$B$98,FALSE),MATCH(Control!E$101,'Licence Info'!$C$71:$DW$71,FALSE))*$C$9+OFFSET(Licence_OIEC,MATCH($B120,'Licence Info'!$B$108:$B$132,FALSE),MATCH(Control!E$101,'Licence Info'!$C$105:$DW$105,FALSE))-E58)","v":54.250000000000007},{"$f":"MAX(0,OFFSET(Licence_IBEC,MATCH($B120,'Licence Info'!$B$40:$B$64,FALSE),MATCH(Control!F$101,'Licence Info'!$C$37:$DW$37,FALSE))*$C$9+OFFSET(Licence_Subst,MATCH($B120,'Licence Info'!$B$74:$B$98,FALSE),MATCH(Control!F$101,'Licence Info'!$C$71:$DW$71,FALSE))*$C$9+OFFSET(Licence_OIEC,MATCH($B120,'Licence Info'!$B$108:$B$132,FALSE),MATCH(Control!F$101,'Licence Info'!$C$105:$DW$105,FALSE))-F58)","v":57.650000000000006},{"$f":"MAX(0,OFFSET(Licence_IBEC,MATCH($B120,'Licence Info'!$B$40:$B$64,FALSE),MATCH(Control!G$101,'Licence Info'!$C$37:$DW$37,FALSE))*$C$9+OFFSET(Licence_Subst,MATCH($B120,'Licence Info'!$B$74:$B$98,FALSE),MATCH(Control!G$101,'Licence Info'!$C$71:$DW$71,FALSE))*$C$9+OFFSET(Licence_OIEC,MATCH($B120,'Licence Info'!$B$108:$B$132,FALSE),MATCH(Control!G$101,'Licence Info'!$C$105:$DW$105,FALSE))-G58)","v":57.850000000000009},{"$f":"MAX(0,OFFSET(Licence_IBEC,MATCH($B120,'Licence Info'!$B$40:$B$64,FALSE),MATCH(Control!H$101,'Licence Info'!$C$37:$DW$37,FALSE))*$C$9+OFFSET(Licence_Subst,MATCH($B120,'Licence Info'!$B$74:$B$98,FALSE),MATCH(Control!H$101,'Licence Info'!$C$71:$DW$71,FALSE))*$C$9+OFFSET(Licence_OIEC,MATCH($B120,'Licence Info'!$B$108:$B$132,FALSE),MATCH(Control!H$101,'Licence Info'!$C$105:$DW$105,FALSE))-H58)","v":58.050000000000004},{"$f":"MAX(0,OFFSET(Licence_IBEC,MATCH($B120,'Licence Info'!$B$40:$B$64,FALSE),MATCH(Control!I$101,'Licence Info'!$C$37:$DW$37,FALSE))*$C$9+OFFSET(Licence_Subst,MATCH($B120,'Licence Info'!$B$74:$B$98,FALSE),MATCH(Control!I$101,'Licence Info'!$C$71:$DW$71,FALSE))*$C$9+OFFSET(Licence_OIEC,MATCH($B120,'Licence Info'!$B$108:$B$132,FALSE),MATCH(Control!I$101,'Licence Info'!$C$105:$DW$105,FALSE))-I58)","v":59.150000000000006},{"$f":"MAX(0,OFFSET(Licence_IBEC,MATCH($B120,'Licence Info'!$B$40:$B$64,FALSE),MATCH(Control!J$101,'Licence Info'!$C$37:$DW$37,FALSE))*$C$9+OFFSET(Licence_Subst,MATCH($B120,'Licence Info'!$B$74:$B$98,FALSE),MATCH(Control!J$101,'Licence Info'!$C$71:$DW$71,FALSE))*$C$9+OFFSET(Licence_OIEC,MATCH($B120,'Licence Info'!$B$108:$B$132,FALSE),MATCH(Control!J$101,'Licence Info'!$C$105:$DW$105,FALSE))-J58)","v":57.601588000000007},{"$f":"MAX(0,OFFSET(Licence_IBEC,MATCH($B120,'Licence Info'!$B$40:$B$64,FALSE),MATCH(Control!K$101,'Licence Info'!$C$37:$DW$37,FALSE))*$C$9+OFFSET(Licence_Subst,MATCH($B120,'Licence Info'!$B$74:$B$98,FALSE),MATCH(Control!K$101,'Licence Info'!$C$71:$DW$71,FALSE))*$C$9+OFFSET(Licence_OIEC,MATCH($B120,'Licence Info'!$B$108:$B$132,FALSE),MATCH(Control!K$101,'Licence Info'!$C$105:$DW$105,FALSE))-K58)","v":61.150000000000006},{"$f":"MAX(0,OFFSET(Licence_IBEC,MATCH($B120,'Licence Info'!$B$40:$B$64,FALSE),MATCH(Control!L$101,'Licence Info'!$C$37:$DW$37,FALSE))*$C$9+OFFSET(Licence_Subst,MATCH($B120,'Licence Info'!$B$74:$B$98,FALSE),MATCH(Control!L$101,'Licence Info'!$C$71:$DW$71,FALSE))*$C$9+OFFSET(Licence_OIEC,MATCH($B120,'Licence Info'!$B$108:$B$132,FALSE),MATCH(Control!L$101,'Licence Info'!$C$105:$DW$105,FALSE))-L58)","v":66.150000000000006},{"$f":"MAX(0,OFFSET(Licence_IBEC,MATCH($B120,'Licence Info'!$B$40:$B$64,FALSE),MATCH(Control!M$101,'Licence Info'!$C$37:$DW$37,FALSE))*$C$9+OFFSET(Licence_Subst,MATCH($B120,'Licence Info'!$B$74:$B$98,FALSE),MATCH(Control!M$101,'Licence Info'!$C$71:$DW$71,FALSE))*$C$9+OFFSET(Licence_OIEC,MATCH($B120,'Licence Info'!$B$108:$B$132,FALSE),MATCH(Control!M$101,'Licence Info'!$C$105:$DW$105,FALSE))-M58)","v":66.150000000000006},{"$f":"MAX(0,OFFSET(Licence_IBEC,MATCH($B120,'Licence Info'!$B$40:$B$64,FALSE),MATCH(Control!N$101,'Licence Info'!$C$37:$DW$37,FALSE))*$C$9+OFFSET(Licence_Subst,MATCH($B120,'Licence Info'!$B$74:$B$98,FALSE),MATCH(Control!N$101,'Licence Info'!$C$71:$DW$71,FALSE))*$C$9+OFFSET(Licence_OIEC,MATCH($B120,'Licence Info'!$B$108:$B$132,FALSE),MATCH(Control!N$101,'Licence Info'!$C$105:$DW$105,FALSE))-N58)","v":66.150000000000006},{"$f":"MAX(0,OFFSET(Licence_IBEC,MATCH($B120,'Licence Info'!$B$40:$B$64,FALSE),MATCH(Control!O$101,'Licence Info'!$C$37:$DW$37,FALSE))*$C$9+OFFSET(Licence_Subst,MATCH($B120,'Licence Info'!$B$74:$B$98,FALSE),MATCH(Control!O$101,'Licence Info'!$C$71:$DW$71,FALSE))*$C$9+OFFSET(Licence_OIEC,MATCH($B120,'Licence Info'!$B$108:$B$132,FALSE),MATCH(Control!O$101,'Licence Info'!$C$105:$DW$105,FALSE))-O58)","v":66.150000000000006},{"$f":"MAX(0,OFFSET(Licence_IBEC,MATCH($B120,'Licence Info'!$B$40:$B$64,FALSE),MATCH(Control!P$101,'Licence Info'!$C$37:$DW$37,FALSE))*$C$9+OFFSET(Licence_Subst,MATCH($B120,'Licence Info'!$B$74:$B$98,FALSE),MATCH(Control!P$101,'Licence Info'!$C$71:$DW$71,FALSE))*$C$9+OFFSET(Licence_OIEC,MATCH($B120,'Licence Info'!$B$108:$B$132,FALSE),MATCH(Control!P$101,'Licence Info'!$C$105:$DW$105,FALSE))-P58)","v":66.150000000000006},{"$f":"MAX(0,OFFSET(Licence_IBEC,MATCH($B120,'Licence Info'!$B$40:$B$64,FALSE),MATCH(Control!Q$101,'Licence Info'!$C$37:$DW$37,FALSE))*$C$9+OFFSET(Licence_Subst,MATCH($B120,'Licence Info'!$B$74:$B$98,FALSE),MATCH(Control!Q$101,'Licence Info'!$C$71:$DW$71,FALSE))*$C$9+OFFSET(Licence_OIEC,MATCH($B120,'Licence Info'!$B$108:$B$132,FALSE),MATCH(Control!Q$101,'Licence Info'!$C$105:$DW$105,FALSE))-Q58)","v":66.150000000000006},{"$f":"MAX(0,OFFSET(Licence_IBEC,MATCH($B120,'Licence Info'!$B$40:$B$64,FALSE),MATCH(Control!R$101,'Licence Info'!$C$37:$DW$37,FALSE))*$C$9+OFFSET(Licence_Subst,MATCH($B120,'Licence Info'!$B$74:$B$98,FALSE),MATCH(Control!R$101,'Licence Info'!$C$71:$DW$71,FALSE))*$C$9+OFFSET(Licence_OIEC,MATCH($B120,'Licence Info'!$B$108:$B$132,FALSE),MATCH(Control!R$101,'Licence Info'!$C$105:$DW$105,FALSE))-R58)","v":66.150000000000006},{"$f":"MAX(0,OFFSET(Licence_IBEC,MATCH($B120,'Licence Info'!$B$40:$B$64,FALSE),MATCH(Control!S$101,'Licence Info'!$C$37:$DW$37,FALSE))*$C$9+OFFSET(Licence_Subst,MATCH($B120,'Licence Info'!$B$74:$B$98,FALSE),MATCH(Control!S$101,'Licence Info'!$C$71:$DW$71,FALSE))*$C$9+OFFSET(Licence_OIEC,MATCH($B120,'Licence Info'!$B$108:$B$132,FALSE),MATCH(Control!S$101,'Licence Info'!$C$105:$DW$105,FALSE))-S58)","v":66.150000000000006},{"$f":"MAX(0,OFFSET(Licence_IBEC,MATCH($B120,'Licence Info'!$B$40:$B$64,FALSE),MATCH(Control!T$101,'Licence Info'!$C$37:$DW$37,FALSE))*$C$9+OFFSET(Licence_Subst,MATCH($B120,'Licence Info'!$B$74:$B$98,FALSE),MATCH(Control!T$101,'Licence Info'!$C$71:$DW$71,FALSE))*$C$9+OFFSET(Licence_OIEC,MATCH($B120,'Licence Info'!$B$108:$B$132,FALSE),MATCH(Control!T$101,'Licence Info'!$C$105:$DW$105,FALSE))-T58)","v":66.150000000000006},{"$f":"MAX(0,OFFSET(Licence_IBEC,MATCH($B120,'Licence Info'!$B$40:$B$64,FALSE),MATCH(Control!U$101,'Licence Info'!$C$37:$DW$37,FALSE))*$C$9+OFFSET(Licence_Subst,MATCH($B120,'Licence Info'!$B$74:$B$98,FALSE),MATCH(Control!U$101,'Licence Info'!$C$71:$DW$71,FALSE))*$C$9+OFFSET(Licence_OIEC,MATCH($B120,'Licence Info'!$B$108:$B$132,FALSE),MATCH(Control!U$101,'Licence Info'!$C$105:$DW$105,FALSE))-U58)","v":66.150000000000006},{"$f":"MAX(0,OFFSET(Licence_IBEC,MATCH($B120,'Licence Info'!$B$40:$B$64,FALSE),MATCH(Control!V$101,'Licence Info'!$C$37:$DW$37,FALSE))*$C$9+OFFSET(Licence_Subst,MATCH($B120,'Licence Info'!$B$74:$B$98,FALSE),MATCH(Control!V$101,'Licence Info'!$C$71:$DW$71,FALSE))*$C$9+OFFSET(Licence_OIEC,MATCH($B120,'Licence Info'!$B$108:$B$132,FALSE),MATCH(Control!V$101,'Licence Info'!$C$105:$DW$105,FALSE))-V58)","v":66.150000000000006},{"$f":"MAX(0,OFFSET(Licence_IBEC,MATCH($B120,'Licence Info'!$B$40:$B$64,FALSE),MATCH(Control!W$101,'Licence Info'!$C$37:$DW$37,FALSE))*$C$9+OFFSET(Licence_Subst,MATCH($B120,'Licence Info'!$B$74:$B$98,FALSE),MATCH(Control!W$101,'Licence Info'!$C$71:$DW$71,FALSE))*$C$9+OFFSET(Licence_OIEC,MATCH($B120,'Licence Info'!$B$108:$B$132,FALSE),MATCH(Control!W$101,'Licence Info'!$C$105:$DW$105,FALSE))-W58)","v":66.150000000000006},{"$f":"MAX(0,OFFSET(Licence_IBEC,MATCH($B120,'Licence Info'!$B$40:$B$64,FALSE),MATCH(Control!X$101,'Licence Info'!$C$37:$DW$37,FALSE))*$C$9+OFFSET(Licence_Subst,MATCH($B120,'Licence Info'!$B$74:$B$98,FALSE),MATCH(Control!X$101,'Licence Info'!$C$71:$DW$71,FALSE))*$C$9+OFFSET(Licence_OIEC,MATCH($B120,'Licence Info'!$B$108:$B$132,FALSE),MATCH(Control!X$101,'Licence Info'!$C$105:$DW$105,FALSE))-X58)","v":66.150000000000006},{"$f":"MAX(0,OFFSET(Licence_IBEC,MATCH($B120,'Licence Info'!$B$40:$B$64,FALSE),MATCH(Control!Y$101,'Licence Info'!$C$37:$DW$37,FALSE))*$C$9+OFFSET(Licence_Subst,MATCH($B120,'Licence Info'!$B$74:$B$98,FALSE),MATCH(Control!Y$101,'Licence Info'!$C$71:$DW$71,FALSE))*$C$9+OFFSET(Licence_OIEC,MATCH($B120,'Licence Info'!$B$108:$B$132,FALSE),MATCH(Control!Y$101,'Licence Info'!$C$105:$DW$105,FALSE))-Y58)","v":66.150000000000006},{"$f":"MAX(0,OFFSET(Licence_IBEC,MATCH($B120,'Licence Info'!$B$40:$B$64,FALSE),MATCH(Control!Z$101,'Licence Info'!$C$37:$DW$37,FALSE))*$C$9+OFFSET(Licence_Subst,MATCH($B120,'Licence Info'!$B$74:$B$98,FALSE),MATCH(Control!Z$101,'Licence Info'!$C$71:$DW$71,FALSE))*$C$9+OFFSET(Licence_OIEC,MATCH($B120,'Licence Info'!$B$108:$B$132,FALSE),MATCH(Control!Z$101,'Licence Info'!$C$105:$DW$105,FALSE))-Z58)","v":66.150000000000006},{"$f":"MAX(0,OFFSET(Licence_IBEC,MATCH($B120,'Licence Info'!$B$40:$B$64,FALSE),MATCH(Control!AA$101,'Licence Info'!$C$37:$DW$37,FALSE))*$C$9+OFFSET(Licence_Subst,MATCH($B120,'Licence Info'!$B$74:$B$98,FALSE),MATCH(Control!AA$101,'Licence Info'!$C$71:$DW$71,FALSE))*$C$9+OFFSET(Licence_OIEC,MATCH($B120,'Licence Info'!$B$108:$B$132,FALSE),MATCH(Control!AA$101,'Licence Info'!$C$105:$DW$105,FALSE))-AA58)","v":66.150000000000006},{"$f":"MAX(0,OFFSET(Licence_IBEC,MATCH($B120,'Licence Info'!$B$40:$B$64,FALSE),MATCH(Control!AB$101,'Licence Info'!$C$37:$DW$37,FALSE))*$C$9+OFFSET(Licence_Subst,MATCH($B120,'Licence Info'!$B$74:$B$98,FALSE),MATCH(Control!AB$101,'Licence Info'!$C$71:$DW$71,FALSE))*$C$9+OFFSET(Licence_OIEC,MATCH($B120,'Licence Info'!$B$108:$B$132,FALSE),MATCH(Control!AB$101,'Licence Info'!$C$105:$DW$105,FALSE))-AB58)","v":66.150000000000006},{"$f":"MAX(0,OFFSET(Licence_IBEC,MATCH($B120,'Licence Info'!$B$40:$B$64,FALSE),MATCH(Control!AC$101,'Licence Info'!$C$37:$DW$37,FALSE))*$C$9+OFFSET(Licence_Subst,MATCH($B120,'Licence Info'!$B$74:$B$98,FALSE),MATCH(Control!AC$101,'Licence Info'!$C$71:$DW$71,FALSE))*$C$9+OFFSET(Licence_OIEC,MATCH($B120,'Licence Info'!$B$108:$B$132,FALSE),MATCH(Control!AC$101,'Licence Info'!$C$105:$DW$105,FALSE))-AC58)","v":66.150000000000006},{"$f":"MAX(0,OFFSET(Licence_IBEC,MATCH($B120,'Licence Info'!$B$40:$B$64,FALSE),MATCH(Control!AD$101,'Licence Info'!$C$37:$DW$37,FALSE))*$C$9+OFFSET(Licence_Subst,MATCH($B120,'Licence Info'!$B$74:$B$98,FALSE),MATCH(Control!AD$101,'Licence Info'!$C$71:$DW$71,FALSE))*$C$9+OFFSET(Licence_OIEC,MATCH($B120,'Licence Info'!$B$108:$B$132,FALSE),MATCH(Control!AD$101,'Licence Info'!$C$105:$DW$105,FALSE))-AD58)","v":66.150000000000006},{"$f":"MAX(0,OFFSET(Licence_IBEC,MATCH($B120,'Licence Info'!$B$40:$B$64,FALSE),MATCH(Control!AE$101,'Licence Info'!$C$37:$DW$37,FALSE))*$C$9+OFFSET(Licence_Subst,MATCH($B120,'Licence Info'!$B$74:$B$98,FALSE),MATCH(Control!AE$101,'Licence Info'!$C$71:$DW$71,FALSE))*$C$9+OFFSET(Licence_OIEC,MATCH($B120,'Licence Info'!$B$108:$B$132,FALSE),MATCH(Control!AE$101,'Licence Info'!$C$105:$DW$105,FALSE))-AE58)","v":66.150000000000006},{"$f":"MAX(0,OFFSET(Licence_IBEC,MATCH($B120,'Licence Info'!$B$40:$B$64,FALSE),MATCH(Control!AF$101,'Licence Info'!$C$37:$DW$37,FALSE))*$C$9+OFFSET(Licence_Subst,MATCH($B120,'Licence Info'!$B$74:$B$98,FALSE),MATCH(Control!AF$101,'Licence Info'!$C$71:$DW$71,FALSE))*$C$9+OFFSET(Licence_OIEC,MATCH($B120,'Licence Info'!$B$108:$B$132,FALSE),MATCH(Control!AF$101,'Licence Info'!$C$105:$DW$105,FALSE))-AF58)","v":66.150000000000006},{"$f":"MAX(0,OFFSET(Licence_IBEC,MATCH($B120,'Licence Info'!$B$40:$B$64,FALSE),MATCH(Control!AG$101,'Licence Info'!$C$37:$DW$37,FALSE))*$C$9+OFFSET(Licence_Subst,MATCH($B120,'Licence Info'!$B$74:$B$98,FALSE),MATCH(Control!AG$101,'Licence Info'!$C$71:$DW$71,FALSE))*$C$9+OFFSET(Licence_OIEC,MATCH($B120,'Licence Info'!$B$108:$B$132,FALSE),MATCH(Control!AG$101,'Licence Info'!$C$105:$DW$105,FALSE))-AG58)","v":66.150000000000006},{"$f":"MAX(0,OFFSET(Licence_IBEC,MATCH($B120,'Licence Info'!$B$40:$B$64,FALSE),MATCH(Control!AH$101,'Licence Info'!$C$37:$DW$37,FALSE))*$C$9+OFFSET(Licence_Subst,MATCH($B120,'Licence Info'!$B$74:$B$98,FALSE),MATCH(Control!AH$101,'Licence Info'!$C$71:$DW$71,FALSE))*$C$9+OFFSET(Licence_OIEC,MATCH($B120,'Licence Info'!$B$108:$B$132,FALSE),MATCH(Control!AH$101,'Licence Info'!$C$105:$DW$105,FALSE))-AH58)","v":66.150000000000006},{"$f":"MAX(0,OFFSET(Licence_IBEC,MATCH($B120,'Licence Info'!$B$40:$B$64,FALSE),MATCH(Control!AI$101,'Licence Info'!$C$37:$DW$37,FALSE))*$C$9+OFFSET(Licence_Subst,MATCH($B120,'Licence Info'!$B$74:$B$98,FALSE),MATCH(Control!AI$101,'Licence Info'!$C$71:$DW$71,FALSE))*$C$9+OFFSET(Licence_OIEC,MATCH($B120,'Licence Info'!$B$108:$B$132,FALSE),MATCH(Control!AI$101,'Licence Info'!$C$105:$DW$105,FALSE))-AI58)","v":66.150000000000006},{"$f":"MAX(0,OFFSET(Licence_IBEC,MATCH($B120,'Licence Info'!$B$40:$B$64,FALSE),MATCH(Control!AJ$101,'Licence Info'!$C$37:$DW$37,FALSE))*$C$9+OFFSET(Licence_Subst,MATCH($B120,'Licence Info'!$B$74:$B$98,FALSE),MATCH(Control!AJ$101,'Licence Info'!$C$71:$DW$71,FALSE))*$C$9+OFFSET(Licence_OIEC,MATCH($B120,'Licence Info'!$B$108:$B$132,FALSE),MATCH(Control!AJ$101,'Licence Info'!$C$105:$DW$105,FALSE))-AJ58)","v":66.150000000000006},{"$f":"MAX(0,OFFSET(Licence_IBEC,MATCH($B120,'Licence Info'!$B$40:$B$64,FALSE),MATCH(Control!AK$101,'Licence Info'!$C$37:$DW$37,FALSE))*$C$9+OFFSET(Licence_Subst,MATCH($B120,'Licence Info'!$B$74:$B$98,FALSE),MATCH(Control!AK$101,'Licence Info'!$C$71:$DW$71,FALSE))*$C$9+OFFSET(Licence_OIEC,MATCH($B120,'Licence Info'!$B$108:$B$132,FALSE),MATCH(Control!AK$101,'Licence Info'!$C$105:$DW$105,FALSE))-AK58)","v":66.150000000000006},{"$f":"MAX(0,OFFSET(Licence_IBEC,MATCH($B120,'Licence Info'!$B$40:$B$64,FALSE),MATCH(Control!AL$101,'Licence Info'!$C$37:$DW$37,FALSE))*$C$9+OFFSET(Licence_Subst,MATCH($B120,'Licence Info'!$B$74:$B$98,FALSE),MATCH(Control!AL$101,'Licence Info'!$C$71:$DW$71,FALSE))*$C$9+OFFSET(Licence_OIEC,MATCH($B120,'Licence Info'!$B$108:$B$132,FALSE),MATCH(Control!AL$101,'Licence Info'!$C$105:$DW$105,FALSE))-AL58)","v":66.150000000000006},{"$f":"MAX(0,OFFSET(Licence_IBEC,MATCH($B120,'Licence Info'!$B$40:$B$64,FALSE),MATCH(Control!AM$101,'Licence Info'!$C$37:$DW$37,FALSE))*$C$9+OFFSET(Licence_Subst,MATCH($B120,'Licence Info'!$B$74:$B$98,FALSE),MATCH(Control!AM$101,'Licence Info'!$C$71:$DW$71,FALSE))*$C$9+OFFSET(Licence_OIEC,MATCH($B120,'Licence Info'!$B$108:$B$132,FALSE),MATCH(Control!AM$101,'Licence Info'!$C$105:$DW$105,FALSE))-AM58)","v":66.150000000000006},{"$f":"MAX(0,OFFSET(Licence_IBEC,MATCH($B120,'Licence Info'!$B$40:$B$64,FALSE),MATCH(Control!AN$101,'Licence Info'!$C$37:$DW$37,FALSE))*$C$9+OFFSET(Licence_Subst,MATCH($B120,'Licence Info'!$B$74:$B$98,FALSE),MATCH(Control!AN$101,'Licence Info'!$C$71:$DW$71,FALSE))*$C$9+OFFSET(Licence_OIEC,MATCH($B120,'Licence Info'!$B$108:$B$132,FALSE),MATCH(Control!AN$101,'Licence Info'!$C$105:$DW$105,FALSE))-AN58)","v":66.150000000000006},{"$f":"MAX(0,OFFSET(Licence_IBEC,MATCH($B120,'Licence Info'!$B$40:$B$64,FALSE),MATCH(Control!AO$101,'Licence Info'!$C$37:$DW$37,FALSE))*$C$9+OFFSET(Licence_Subst,MATCH($B120,'Licence Info'!$B$74:$B$98,FALSE),MATCH(Control!AO$101,'Licence Info'!$C$71:$DW$71,FALSE))*$C$9+OFFSET(Licence_OIEC,MATCH($B120,'Licence Info'!$B$108:$B$132,FALSE),MATCH(Control!AO$101,'Licence Info'!$C$105:$DW$105,FALSE))-AO58)","v":66.150000000000006},{"$f":"MAX(0,OFFSET(Licence_IBEC,MATCH($B120,'Licence Info'!$B$40:$B$64,FALSE),MATCH(Control!AP$101,'Licence Info'!$C$37:$DW$37,FALSE))*$C$9+OFFSET(Licence_Subst,MATCH($B120,'Licence Info'!$B$74:$B$98,FALSE),MATCH(Control!AP$101,'Licence Info'!$C$71:$DW$71,FALSE))*$C$9+OFFSET(Licence_OIEC,MATCH($B120,'Licence Info'!$B$108:$B$132,FALSE),MATCH(Control!AP$101,'Licence Info'!$C$105:$DW$105,FALSE))-AP58)","v":66.150000000000006},{"$f":"MAX(0,OFFSET(Licence_IBEC,MATCH($B120,'Licence Info'!$B$40:$B$64,FALSE),MATCH(Control!AQ$101,'Licence Info'!$C$37:$DW$37,FALSE))*$C$9+OFFSET(Licence_Subst,MATCH($B120,'Licence Info'!$B$74:$B$98,FALSE),MATCH(Control!AQ$101,'Licence Info'!$C$71:$DW$71,FALSE))*$C$9+OFFSET(Licence_OIEC,MATCH($B120,'Licence Info'!$B$108:$B$132,FALSE),MATCH(Control!AQ$101,'Licence Info'!$C$105:$DW$105,FALSE))-AQ58)","v":66.150000000000006},{"$f":"MAX(0,OFFSET(Licence_IBEC,MATCH($B120,'Licence Info'!$B$40:$B$64,FALSE),MATCH(Control!AR$101,'Licence Info'!$C$37:$DW$37,FALSE))*$C$9+OFFSET(Licence_Subst,MATCH($B120,'Licence Info'!$B$74:$B$98,FALSE),MATCH(Control!AR$101,'Licence Info'!$C$71:$DW$71,FALSE))*$C$9+OFFSET(Licence_OIEC,MATCH($B120,'Licence Info'!$B$108:$B$132,FALSE),MATCH(Control!AR$101,'Licence Info'!$C$105:$DW$105,FALSE))-AR58)","v":66.150000000000006},{"$f":"MAX(0,OFFSET(Licence_IBEC,MATCH($B120,'Licence Info'!$B$40:$B$64,FALSE),MATCH(Control!AS$101,'Licence Info'!$C$37:$DW$37,FALSE))*$C$9+OFFSET(Licence_Subst,MATCH($B120,'Licence Info'!$B$74:$B$98,FALSE),MATCH(Control!AS$101,'Licence Info'!$C$71:$DW$71,FALSE))*$C$9+OFFSET(Licence_OIEC,MATCH($B120,'Licence Info'!$B$108:$B$132,FALSE),MATCH(Control!AS$101,'Licence Info'!$C$105:$DW$105,FALSE))-AS58)","v":66.150000000000006},{"$f":"MAX(0,OFFSET(Licence_IBEC,MATCH($B120,'Licence Info'!$B$40:$B$64,FALSE),MATCH(Control!AT$101,'Licence Info'!$C$37:$DW$37,FALSE))*$C$9+OFFSET(Licence_Subst,MATCH($B120,'Licence Info'!$B$74:$B$98,FALSE),MATCH(Control!AT$101,'Licence Info'!$C$71:$DW$71,FALSE))*$C$9+OFFSET(Licence_OIEC,MATCH($B120,'Licence Info'!$B$108:$B$132,FALSE),MATCH(Control!AT$101,'Licence Info'!$C$105:$DW$105,FALSE))-AT58)","v":66.150000000000006},{"$f":"MAX(0,OFFSET(Licence_IBEC,MATCH($B120,'Licence Info'!$B$40:$B$64,FALSE),MATCH(Control!AU$101,'Licence Info'!$C$37:$DW$37,FALSE))*$C$9+OFFSET(Licence_Subst,MATCH($B120,'Licence Info'!$B$74:$B$98,FALSE),MATCH(Control!AU$101,'Licence Info'!$C$71:$DW$71,FALSE))*$C$9+OFFSET(Licence_OIEC,MATCH($B120,'Licence Info'!$B$108:$B$132,FALSE),MATCH(Control!AU$101,'Licence Info'!$C$105:$DW$105,FALSE))-AU58)","v":66.150000000000006},{"$f":"MAX(0,OFFSET(Licence_IBEC,MATCH($B120,'Licence Info'!$B$40:$B$64,FALSE),MATCH(Control!AV$101,'Licence Info'!$C$37:$DW$37,FALSE))*$C$9+OFFSET(Licence_Subst,MATCH($B120,'Licence Info'!$B$74:$B$98,FALSE),MATCH(Control!AV$101,'Licence Info'!$C$71:$DW$71,FALSE))*$C$9+OFFSET(Licence_OIEC,MATCH($B120,'Licence Info'!$B$108:$B$132,FALSE),MATCH(Control!AV$101,'Licence Info'!$C$105:$DW$105,FALSE))-AV58)","v":66.150000000000006},{"$f":"MAX(0,OFFSET(Licence_IBEC,MATCH($B120,'Licence Info'!$B$40:$B$64,FALSE),MATCH(Control!AW$101,'Licence Info'!$C$37:$DW$37,FALSE))*$C$9+OFFSET(Licence_Subst,MATCH($B120,'Licence Info'!$B$74:$B$98,FALSE),MATCH(Control!AW$101,'Licence Info'!$C$71:$DW$71,FALSE))*$C$9+OFFSET(Licence_OIEC,MATCH($B120,'Licence Info'!$B$108:$B$132,FALSE),MATCH(Control!AW$101,'Licence Info'!$C$105:$DW$105,FALSE))-AW58)","v":66.150000000000006},{"$f":"MAX(0,OFFSET(Licence_IBEC,MATCH($B120,'Licence Info'!$B$40:$B$64,FALSE),MATCH(Control!AX$101,'Licence Info'!$C$37:$DW$37,FALSE))*$C$9+OFFSET(Licence_Subst,MATCH($B120,'Licence Info'!$B$74:$B$98,FALSE),MATCH(Control!AX$101,'Licence Info'!$C$71:$DW$71,FALSE))*$C$9+OFFSET(Licence_OIEC,MATCH($B120,'Licence Info'!$B$108:$B$132,FALSE),MATCH(Control!AX$101,'Licence Info'!$C$105:$DW$105,FALSE))-AX58)","v":66.150000000000006},{"$f":"MAX(0,OFFSET(Licence_IBEC,MATCH($B120,'Licence Info'!$B$40:$B$64,FALSE),MATCH(Control!AY$101,'Licence Info'!$C$37:$DW$37,FALSE))*$C$9+OFFSET(Licence_Subst,MATCH($B120,'Licence Info'!$B$74:$B$98,FALSE),MATCH(Control!AY$101,'Licence Info'!$C$71:$DW$71,FALSE))*$C$9+OFFSET(Licence_OIEC,MATCH($B120,'Licence Info'!$B$108:$B$132,FALSE),MATCH(Control!AY$101,'Licence Info'!$C$105:$DW$105,FALSE))-AY58)","v":66.150000000000006},{"$f":"MAX(0,OFFSET(Licence_IBEC,MATCH($B120,'Licence Info'!$B$40:$B$64,FALSE),MATCH(Control!AZ$101,'Licence Info'!$C$37:$DW$37,FALSE))*$C$9+OFFSET(Licence_Subst,MATCH($B120,'Licence Info'!$B$74:$B$98,FALSE),MATCH(Control!AZ$101,'Licence Info'!$C$71:$DW$71,FALSE))*$C$9+OFFSET(Licence_OIEC,MATCH($B120,'Licence Info'!$B$108:$B$132,FALSE),MATCH(Control!AZ$101,'Licence Info'!$C$105:$DW$105,FALSE))-AZ58)","v":66.150000000000006},{"$f":"MAX(0,OFFSET(Licence_IBEC,MATCH($B120,'Licence Info'!$B$40:$B$64,FALSE),MATCH(Control!BA$101,'Licence Info'!$C$37:$DW$37,FALSE))*$C$9+OFFSET(Licence_Subst,MATCH($B120,'Licence Info'!$B$74:$B$98,FALSE),MATCH(Control!BA$101,'Licence Info'!$C$71:$DW$71,FALSE))*$C$9+OFFSET(Licence_OIEC,MATCH($B120,'Licence Info'!$B$108:$B$132,FALSE),MATCH(Control!BA$101,'Licence Info'!$C$105:$DW$105,FALSE))-BA58)","v":66.150000000000006},{"$f":"MAX(0,OFFSET(Licence_IBEC,MATCH($B120,'Licence Info'!$B$40:$B$64,FALSE),MATCH(Control!BB$101,'Licence Info'!$C$37:$DW$37,FALSE))*$C$9+OFFSET(Licence_Subst,MATCH($B120,'Licence Info'!$B$74:$B$98,FALSE),MATCH(Control!BB$101,'Licence Info'!$C$71:$DW$71,FALSE))*$C$9+OFFSET(Licence_OIEC,MATCH($B120,'Licence Info'!$B$108:$B$132,FALSE),MATCH(Control!BB$101,'Licence Info'!$C$105:$DW$105,FALSE))-BB58)","v":66.150000000000006},{"$f":"MAX(0,OFFSET(Licence_IBEC,MATCH($B120,'Licence Info'!$B$40:$B$64,FALSE),MATCH(Control!BC$101,'Licence Info'!$C$37:$DW$37,FALSE))*$C$9+OFFSET(Licence_Subst,MATCH($B120,'Licence Info'!$B$74:$B$98,FALSE),MATCH(Control!BC$101,'Licence Info'!$C$71:$DW$71,FALSE))*$C$9+OFFSET(Licence_OIEC,MATCH($B120,'Licence Info'!$B$108:$B$132,FALSE),MATCH(Control!BC$101,'Licence Info'!$C$105:$DW$105,FALSE))-BC58)","v":66.150000000000006},{"$f":"MAX(0,OFFSET(Licence_IBEC,MATCH($B120,'Licence Info'!$B$40:$B$64,FALSE),MATCH(Control!BD$101,'Licence Info'!$C$37:$DW$37,FALSE))*$C$9+OFFSET(Licence_Subst,MATCH($B120,'Licence Info'!$B$74:$B$98,FALSE),MATCH(Control!BD$101,'Licence Info'!$C$71:$DW$71,FALSE))*$C$9+OFFSET(Licence_OIEC,MATCH($B120,'Licence Info'!$B$108:$B$132,FALSE),MATCH(Control!BD$101,'Licence Info'!$C$105:$DW$105,FALSE))-BD58)","v":66.150000000000006},{"$f":"MAX(0,OFFSET(Licence_IBEC,MATCH($B120,'Licence Info'!$B$40:$B$64,FALSE),MATCH(Control!BE$101,'Licence Info'!$C$37:$DW$37,FALSE))*$C$9+OFFSET(Licence_Subst,MATCH($B120,'Licence Info'!$B$74:$B$98,FALSE),MATCH(Control!BE$101,'Licence Info'!$C$71:$DW$71,FALSE))*$C$9+OFFSET(Licence_OIEC,MATCH($B120,'Licence Info'!$B$108:$B$132,FALSE),MATCH(Control!BE$101,'Licence Info'!$C$105:$DW$105,FALSE))-BE58)","v":66.150000000000006},{"$f":"MAX(0,OFFSET(Licence_IBEC,MATCH($B120,'Licence Info'!$B$40:$B$64,FALSE),MATCH(Control!BF$101,'Licence Info'!$C$37:$DW$37,FALSE))*$C$9+OFFSET(Licence_Subst,MATCH($B120,'Licence Info'!$B$74:$B$98,FALSE),MATCH(Control!BF$101,'Licence Info'!$C$71:$DW$71,FALSE))*$C$9+OFFSET(Licence_OIEC,MATCH($B120,'Licence Info'!$B$108:$B$132,FALSE),MATCH(Control!BF$101,'Licence Info'!$C$105:$DW$105,FALSE))-BF58)","v":66.150000000000006},{"$f":"MAX(0,OFFSET(Licence_IBEC,MATCH($B120,'Licence Info'!$B$40:$B$64,FALSE),MATCH(Control!BG$101,'Licence Info'!$C$37:$DW$37,FALSE))*$C$9+OFFSET(Licence_Subst,MATCH($B120,'Licence Info'!$B$74:$B$98,FALSE),MATCH(Control!BG$101,'Licence Info'!$C$71:$DW$71,FALSE))*$C$9+OFFSET(Licence_OIEC,MATCH($B120,'Licence Info'!$B$108:$B$132,FALSE),MATCH(Control!BG$101,'Licence Info'!$C$105:$DW$105,FALSE))-BG58)","v":66.150000000000006},{"$f":"MAX(0,OFFSET(Licence_IBEC,MATCH($B120,'Licence Info'!$B$40:$B$64,FALSE),MATCH(Control!BH$101,'Licence Info'!$C$37:$DW$37,FALSE))*$C$9+OFFSET(Licence_Subst,MATCH($B120,'Licence Info'!$B$74:$B$98,FALSE),MATCH(Control!BH$101,'Licence Info'!$C$71:$DW$71,FALSE))*$C$9+OFFSET(Licence_OIEC,MATCH($B120,'Licence Info'!$B$108:$B$132,FALSE),MATCH(Control!BH$101,'Licence Info'!$C$105:$DW$105,FALSE))-BH58)","v":66.150000000000006},{"$f":"MAX(0,OFFSET(Licence_IBEC,MATCH($B120,'Licence Info'!$B$40:$B$64,FALSE),MATCH(Control!BI$101,'Licence Info'!$C$37:$DW$37,FALSE))*$C$9+OFFSET(Licence_Subst,MATCH($B120,'Licence Info'!$B$74:$B$98,FALSE),MATCH(Control!BI$101,'Licence Info'!$C$71:$DW$71,FALSE))*$C$9+OFFSET(Licence_OIEC,MATCH($B120,'Licence Info'!$B$108:$B$132,FALSE),MATCH(Control!BI$101,'Licence Info'!$C$105:$DW$105,FALSE))-BI58)","v":66.150000000000006},{"$f":"MAX(0,OFFSET(Licence_IBEC,MATCH($B120,'Licence Info'!$B$40:$B$64,FALSE),MATCH(Control!BJ$101,'Licence Info'!$C$37:$DW$37,FALSE))*$C$9+OFFSET(Licence_Subst,MATCH($B120,'Licence Info'!$B$74:$B$98,FALSE),MATCH(Control!BJ$101,'Licence Info'!$C$71:$DW$71,FALSE))*$C$9+OFFSET(Licence_OIEC,MATCH($B120,'Licence Info'!$B$108:$B$132,FALSE),MATCH(Control!BJ$101,'Licence Info'!$C$105:$DW$105,FALSE))-BJ58)","v":66.150000000000006},{"$f":"MAX(0,OFFSET(Licence_IBEC,MATCH($B120,'Licence Info'!$B$40:$B$64,FALSE),MATCH(Control!BK$101,'Licence Info'!$C$37:$DW$37,FALSE))*$C$9+OFFSET(Licence_Subst,MATCH($B120,'Licence Info'!$B$74:$B$98,FALSE),MATCH(Control!BK$101,'Licence Info'!$C$71:$DW$71,FALSE))*$C$9+OFFSET(Licence_OIEC,MATCH($B120,'Licence Info'!$B$108:$B$132,FALSE),MATCH(Control!BK$101,'Licence Info'!$C$105:$DW$105,FALSE))-BK58)","v":{"$error":"#N/A"}}]
[null,"Garton",{"$f":"MAX(0,OFFSET(Licence_IBEC,MATCH($B121,'Licence Info'!$B$40:$B$64,FALSE),MATCH(Control!C$101,'Licence Info'!$C$37:$DW$37,FALSE))*$C$9+OFFSET(Licence_Subst,MATCH($B121,'Licence Info'!$B$74:$B$98,FALSE),MATCH(Control!C$101,'Licence Info'!$C$71:$DW$71,FALSE))*$C$9+OFFSET(Licence_OIEC,MATCH($B121,'Licence Info'!$B$108:$B$132,FALSE),MATCH(Control!C$101,'Licence Info'!$C$105:$DW$105,FALSE))-C59)","v":0},{"$f":"MAX(0,OFFSET(Licence_IBEC,MATCH($B121,'Licence Info'!$B$40:$B$64,FALSE),MATCH(Control!D$101,'Licence Info'!$C$37:$DW$37,FALSE))*$C$9+OFFSET(Licence_Subst,MATCH($B121,'Licence Info'!$B$74:$B$98,FALSE),MATCH(Control!D$101,'Licence Info'!$C$71:$DW$71,FALSE))*$C$9+OFFSET(Licence_OIEC,MATCH($B121,'Licence Info'!$B$108:$B$132,FALSE),MATCH(Control!D$101,'Licence Info'!$C$105:$DW$105,FALSE))-D59)","v":0},{"$f":"MAX(0,OFFSET(Licence_IBEC,MATCH($B121,'Licence Info'!$B$40:$B$64,FALSE),MATCH(Control!E$101,'Licence Info'!$C$37:$DW$37,FALSE))*$C$9+OFFSET(Licence_Subst,MATCH($B121,'Licence Info'!$B$74:$B$98,FALSE),MATCH(Control!E$101,'Licence Info'!$C$71:$DW$71,FALSE))*$C$9+OFFSET(Licence_OIEC,MATCH($B121,'Licence Info'!$B$108:$B$132,FALSE),MATCH(Control!E$101,'Licence Info'!$C$105:$DW$105,FALSE))-E59)","v":0},{"$f":"MAX(0,OFFSET(Licence_IBEC,MATCH($B121,'Licence Info'!$B$40:$B$64,FALSE),MATCH(Control!F$101,'Licence Info'!$C$37:$DW$37,FALSE))*$C$9+OFFSET(Licence_Subst,MATCH($B121,'Licence Info'!$B$74:$B$98,FALSE),MATCH(Control!F$101,'Licence Info'!$C$71:$DW$71,FALSE))*$C$9+OFFSET(Licence_OIEC,MATCH($B121,'Licence Info'!$B$108:$B$132,FALSE),MATCH(Control!F$101,'Licence Info'!$C$105:$DW$105,FALSE))-F59)","v":0},{"$f":"MAX(0,OFFSET(Licence_IBEC,MATCH($B121,'Licence Info'!$B$40:$B$64,FALSE),MATCH(Control!G$101,'Licence Info'!$C$37:$DW$37,FALSE))*$C$9+OFFSET(Licence_Subst,MATCH($B121,'Licence Info'!$B$74:$B$98,FALSE),MATCH(Control!G$101,'Licence Info'!$C$71:$DW$71,FALSE))*$C$9+OFFSET(Licence_OIEC,MATCH($B121,'Licence Info'!$B$108:$B$132,FALSE),MATCH(Control!G$101,'Licence Info'!$C$105:$DW$105,FALSE))-G59)","v":0},{"$f":"MAX(0,OFFSET(Licence_IBEC,MATCH($B121,'Licence Info'!$B$40:$B$64,FALSE),MATCH(Control!H$101,'Licence Info'!$C$37:$DW$37,FALSE))*$C$9+OFFSET(Licence_Subst,MATCH($B121,'Licence Info'!$B$74:$B$98,FALSE),MATCH(Control!H$101,'Licence Info'!$C$71:$DW$71,FALSE))*$C$9+OFFSET(Licence_OIEC,MATCH($B121,'Licence Info'!$B$108:$B$132,FALSE),MATCH(Control!H$101,'Licence Info'!$C$105:$DW$105,FALSE))-H59)","v":0},{"$f":"MAX(0,OFFSET(Licence_IBEC,MATCH($B121,'Licence Info'!$B$40:$B$64,FALSE),MATCH(Control!I$101,'Licence Info'!$C$37:$DW$37,FALSE))*$C$9+OFFSET(Licence_Subst,MATCH($B121,'Licence Info'!$B$74:$B$98,FALSE),MATCH(Control!I$101,'Licence Info'!$C$71:$DW$71,FALSE))*$C$9+OFFSET(Licence_OIEC,MATCH($B121,'Licence Info'!$B$108:$B$132,FALSE),MATCH(Control!I$101,'Licence Info'!$C$105:$DW$105,FALSE))-I59)","v":0},{"$f":"MAX(0,OFFSET(Licence_IBEC,MATCH($B121,'Licence Info'!$B$40:$B$64,FALSE),MATCH(Control!J$101,'Licence Info'!$C$37:$DW$37,FALSE))*$C$9+OFFSET(Licence_Subst,MATCH($B121,'Licence Info'!$B$74:$B$98,FALSE),MATCH(Control!J$101,'Licence Info'!$C$71:$DW$71,FALSE))*$C$9+OFFSET(Licence_OIEC,MATCH($B121,'Licence Info'!$B$108:$B$132,FALSE),MATCH(Control!J$101,'Licence Info'!$C$105:$DW$105,FALSE))-J59)","v":0},{"$f":"MAX(0,OFFSET(Licence_IBEC,MATCH($B121,'Licence Info'!$B$40:$B$64,FALSE),MATCH(Control!K$101,'Licence Info'!$C$37:$DW$37,FALSE))*$C$9+OFFSET(Licence_Subst,MATCH($B121,'Licence Info'!$B$74:$B$98,FALSE),MATCH(Control!K$101,'Licence Info'!$C$71:$DW$71,FALSE))*$C$9+OFFSET(Licence_OIEC,MATCH($B121,'Licence Info'!$B$108:$B$132,FALSE),MATCH(Control!K$101,'Licence Info'!$C$105:$DW$105,FALSE))-K59)","v":0},{"$f":"MAX(0,OFFSET(Licence_IBEC,MATCH($B121,'Licence Info'!$B$40:$B$64,FALSE),MATCH(Control!L$101,'Licence Info'!$C$37:$DW$37,FALSE))*$C$9+OFFSET(Licence_Subst,MATCH($B121,'Licence Info'!$B$74:$B$98,FALSE),MATCH(Control!L$101,'Licence Info'!$C$71:$DW$71,FALSE))*$C$9+OFFSET(Licence_OIEC,MATCH($B121,'Licence Info'!$B$108:$B$132,FALSE),MATCH(Control!L$101,'Licence Info'!$C$105:$DW$105,FALSE))-L59)","v":0},{"$f":"MAX(0,OFFSET(Licence_IBEC,MATCH($B121,'Licence Info'!$B$40:$B$64,FALSE),MATCH(Control!M$101,'Licence Info'!$C$37:$DW$37,FALSE))*$C$9+OFFSET(Licence_Subst,MATCH($B121,'Licence Info'!$B$74:$B$98,FALSE),MATCH(Control!M$101,'Licence Info'!$C$71:$DW$71,FALSE))*$C$9+OFFSET(Licence_OIEC,MATCH($B121,'Licence Info'!$B$108:$B$132,FALSE),MATCH(Control!M$101,'Licence Info'!$C$105:$DW$105,FALSE))-M59)","v":0},{"$f":"MAX(0,OFFSET(Licence_IBEC,MATCH($B121,'Licence Info'!$B$40:$B$64,FALSE),MATCH(Control!N$101,'Licence Info'!$C$37:$DW$37,FALSE))*$C$9+OFFSET(Licence_Subst,MATCH($B121,'Licence Info'!$B$74:$B$98,FALSE),MATCH(Control!N$101,'Licence Info'!$C$71:$DW$71,FALSE))*$C$9+OFFSET(Licence_OIEC,MATCH($B121,'Licence Info'!$B$108:$B$132,FALSE),MATCH(Control!N$101,'Licence Info'!$C$105:$DW$105,FALSE))-N59)","v":0},{"$f":"MAX(0,OFFSET(Licence_IBEC,MATCH($B121,'Licence Info'!$B$40:$B$64,FALSE),MATCH(Control!O$101,'Licence Info'!$C$37:$DW$37,FALSE))*$C$9+OFFSET(Licence_Subst,MATCH($B121,'Licence Info'!$B$74:$B$98,FALSE),MATCH(Control!O$101,'Licence Info'!$C$71:$DW$71,FALSE))*$C$9+OFFSET(Licence_OIEC,MATCH($B121,'Licence Info'!$B$108:$B$132,FALSE),MATCH(Control!O$101,'Licence Info'!$C$105:$DW$105,FALSE))-O59)","v":0},{"$f":"MAX(0,OFFSET(Licence_IBEC,MATCH($B121,'Licence Info'!$B$40:$B$64,FALSE),MATCH(Control!P$101,'Licence Info'!$C$37:$DW$37,FALSE))*$C$9+OFFSET(Licence_Subst,MATCH($B121,'Licence Info'!$B$74:$B$98,FALSE),MATCH(Control!P$101,'Licence Info'!$C$71:$DW$71,FALSE))*$C$9+OFFSET(Licence_OIEC,MATCH($B121,'Licence Info'!$B$108:$B$132,FALSE),MATCH(Control!P$101,'Licence Info'!$C$105:$DW$105,FALSE))-P59)","v":0},{"$f":"MAX(0,OFFSET(Licence_IBEC,MATCH($B121,'Licence Info'!$B$40:$B$64,FALSE),MATCH(Control!Q$101,'Licence Info'!$C$37:$DW$37,FALSE))*$C$9+OFFSET(Licence_Subst,MATCH($B121,'Licence Info'!$B$74:$B$98,FALSE),MATCH(Control!Q$101,'Licence Info'!$C$71:$DW$71,FALSE))*$C$9+OFFSET(Licence_OIEC,MATCH($B121,'Licence Info'!$B$108:$B$132,FALSE),MATCH(Control!Q$101,'Licence Info'!$C$105:$DW$105,FALSE))-Q59)","v":0},{"$f":"MAX(0,OFFSET(Licence_IBEC,MATCH($B121,'Licence Info'!$B$40:$B$64,FALSE),MATCH(Control!R$101,'Licence Info'!$C$37:$DW$37,FALSE))*$C$9+OFFSET(Licence_Subst,MATCH($B121,'Licence Info'!$B$74:$B$98,FALSE),MATCH(Control!R$101,'Licence Info'!$C$71:$DW$71,FALSE))*$C$9+OFFSET(Licence_OIEC,MATCH($B121,'Licence Info'!$B$108:$B$132,FALSE),MATCH(Control!R$101,'Licence Info'!$C$105:$DW$105,FALSE))-R59)","v":238},{"$f":"MAX(0,OFFSET(Licence_IBEC,MATCH($B121,'Licence Info'!$B$40:$B$64,FALSE),MATCH(Control!S$101,'Licence Info'!$C$37:$DW$37,FALSE))*$C$9+OFFSET(Licence_Subst,MATCH($B121,'Licence Info'!$B$74:$B$98,FALSE),MATCH(Control!S$101,'Licence Info'!$C$71:$DW$71,FALSE))*$C$9+OFFSET(Licence_OIEC,MATCH($B121,'Licence Info'!$B$108:$B$132,FALSE),MATCH(Control!S$101,'Licence Info'!$C$105:$DW$105,FALSE))-S59)","v":238},{"$f":"MAX(0,OFFSET(Licence_IBEC,MATCH($B121,'Licence Info'!$B$40:$B$64,FALSE),MATCH(Control!T$101,'Licence Info'!$C$37:$DW$37,FALSE))*$C$9+OFFSET(Licence_Subst,MATCH($B121,'Licence Info'!$B$74:$B$98,FALSE),MATCH(Control!T$101,'Licence Info'!$C$71:$DW$71,FALSE))*$C$9+OFFSET(Licence_OIEC,MATCH($B121,'Licence Info'!$B$108:$B$132,FALSE),MATCH(Control!T$101,'Licence Info'!$C$105:$DW$105,FALSE))-T59)","v":238},{"$f":"MAX(0,OFFSET(Licence_IBEC,MATCH($B121,'Licence Info'!$B$40:$B$64,FALSE),MATCH(Control!U$101,'Licence Info'!$C$37:$DW$37,FALSE))*$C$9+OFFSET(Licence_Subst,MATCH($B121,'Licence Info'!$B$74:$B$98,FALSE),MATCH(Control!U$101,'Licence Info'!$C$71:$DW$71,FALSE))*$C$9+OFFSET(Licence_OIEC,MATCH($B121,'Licence Info'!$B$108:$B$132,FALSE),MATCH(Control!U$101,'Licence Info'!$C$105:$DW$105,FALSE))-U59)","v":378},{"$f":"MAX(0,OFFSET(Licence_IBEC,MATCH($B121,'Licence Info'!$B$40:$B$64,FALSE),MATCH(Control!V$101,'Licence Info'!$C$37:$DW$37,FALSE))*$C$9+OFFSET(Licence_Subst,MATCH($B121,'Licence Info'!$B$74:$B$98,FALSE),MATCH(Control!V$101,'Licence Info'!$C$71:$DW$71,FALSE))*$C$9+OFFSET(Licence_OIEC,MATCH($B121,'Licence Info'!$B$108:$B$132,FALSE),MATCH(Control!V$101,'Licence Info'!$C$105:$DW$105,FALSE))-V59)","v":378},{"$f":"MAX(0,OFFSET(Licence_IBEC,MATCH($B121,'Licence Info'!$B$40:$B$64,FALSE),MATCH(Control!W$101,'Licence Info'!$C$37:$DW$37,FALSE))*$C$9+OFFSET(Licence_Subst,MATCH($B121,'Licence Info'!$B$74:$B$98,FALSE),MATCH(Control!W$101,'Licence Info'!$C$71:$DW$71,FALSE))*$C$9+OFFSET(Licence_OIEC,MATCH($B121,'Licence Info'!$B$108:$B$132,FALSE),MATCH(Control!W$101,'Licence Info'!$C$105:$DW$105,FALSE))-W59)","v":378},{"$f":"MAX(0,OFFSET(Licence_IBEC,MATCH($B121,'Licence Info'!$B$40:$B$64,FALSE),MATCH(Control!X$101,'Licence Info'!$C$37:$DW$37,FALSE))*$C$9+OFFSET(Licence_Subst,MATCH($B121,'Licence Info'!$B$74:$B$98,FALSE),MATCH(Control!X$101,'Licence Info'!$C$71:$DW$71,FALSE))*$C$9+OFFSET(Licence_OIEC,MATCH($B121,'Licence Info'!$B$108:$B$132,FALSE),MATCH(Control!X$101,'Licence Info'!$C$105:$DW$105,FALSE))-X59)","v":378},{"$f":"MAX(0,OFFSET(Licence_IBEC,MATCH($B121,'Licence Info'!$B$40:$B$64,FALSE),MATCH(Control!Y$101,'Licence Info'!$C$37:$DW$37,FALSE))*$C$9+OFFSET(Licence_Subst,MATCH($B121,'Licence Info'!$B$74:$B$98,FALSE),MATCH(Control!Y$101,'Licence Info'!$C$71:$DW$71,FALSE))*$C$9+OFFSET(Licence_OIEC,MATCH($B121,'Licence Info'!$B$108:$B$132,FALSE),MATCH(Control!Y$101,'Licence Info'!$C$105:$DW$105,FALSE))-Y59)","v":378},{"$f":"MAX(0,OFFSET(Licence_IBEC,MATCH($B121,'Licence Info'!$B$40:$B$64,FALSE),MATCH(Control!Z$101,'Licence Info'!$C$37:$DW$37,FALSE))*$C$9+OFFSET(Licence_Subst,MATCH($B121,'Licence Info'!$B$74:$B$98,FALSE),MATCH(Control!Z$101,'Licence Info'!$C$71:$DW$71,FALSE))*$C$9+OFFSET(Licence_OIEC,MATCH($B121,'Licence Info'!$B$108:$B$132,FALSE),MATCH(Control!Z$101,'Licence Info'!$C$105:$DW$105,FALSE))-Z59)","v":378},{"$f":"MAX(0,OFFSET(Licence_IBEC,MATCH($B121,'Licence Info'!$B$40:$B$64,FALSE),MATCH(Control!AA$101,'Licence Info'!$C$37:$DW$37,FALSE))*$C$9+OFFSET(Licence_Subst,MATCH($B121,'Licence Info'!$B$74:$B$98,FALSE),MATCH(Control!AA$101,'Licence Info'!$C$71:$DW$71,FALSE))*$C$9+OFFSET(Licence_OIEC,MATCH($B121,'Licence Info'!$B$108:$B$132,FALSE),MATCH(Control!AA$101,'Licence Info'!$C$105:$DW$105,FALSE))-AA59)","v":378},{"$f":"MAX(0,OFFSET(Licence_IBEC,MATCH($B121,'Licence Info'!$B$40:$B$64,FALSE),MATCH(Control!AB$101,'Licence Info'!$C$37:$DW$37,FALSE))*$C$9+OFFSET(Licence_Subst,MATCH($B121,'Licence Info'!$B$74:$B$98,FALSE),MATCH(Control!AB$101,'Licence Info'!$C$71:$DW$71,FALSE))*$C$9+OFFSET(Licence_OIEC,MATCH($B121,'Licence Info'!$B$108:$B$132,FALSE),MATCH(Control!AB$101,'Licence Info'!$C$105:$DW$105,FALSE))-AB59)","v":378},{"$f":"MAX(0,OFFSET(Licence_IBEC,MATCH($B121,'Licence Info'!$B$40:$B$64,FALSE),MATCH(Control!AC$101,'Licence Info'!$C$37:$DW$37,FALSE))*$C$9+OFFSET(Licence_Subst,MATCH($B121,'Licence Info'!$B$74:$B$98,FALSE),MATCH(Control!AC$101,'Licence Info'!$C$71:$DW$71,FALSE))*$C$9+OFFSET(Licence_OIEC,MATCH($B121,'Licence Info'!$B$108:$B$132,FALSE),MATCH(Control!AC$101,'Licence Info'!$C$105:$DW$105,FALSE))-AC59)","v":378},{"$f":"MAX(0,OFFSET(Licence_IBEC,MATCH($B121,'Licence Info'!$B$40:$B$64,FALSE),MATCH(Control!AD$101,'Licence Info'!$C$37:$DW$37,FALSE))*$C$9+OFFSET(Licence_Subst,MATCH($B121,'Licence Info'!$B$74:$B$98,FALSE),MATCH(Control!AD$101,'Licence Info'!$C$71:$DW$71,FALSE))*$C$9+OFFSET(Licence_OIEC,MATCH($B121,'Licence Info'!$B$108:$B$132,FALSE),MATCH(Control!AD$101,'Licence Info'!$C$105:$DW$105,FALSE))-AD59)","v":378},{"$f":"MAX(0,OFFSET(Licence_IBEC,MATCH($B121,'Licence Info'!$B$40:$B$64,FALSE),MATCH(Control!AE$101,'Licence Info'!$C$37:$DW$37,FALSE))*$C$9+OFFSET(Licence_Subst,MATCH($B121,'Licence Info'!$B$74:$B$98,FALSE),MATCH(Control!AE$101,'Licence Info'!$C$71:$DW$71,FALSE))*$C$9+OFFSET(Licence_OIEC,MATCH($B121,'Licence Info'!$B$108:$B$132,FALSE),MATCH(Control!AE$101,'Licence Info'!$C$105:$DW$105,FALSE))-AE59)","v":378},{"$f":"MAX(0,OFFSET(Licence_IBEC,MATCH($B121,'Licence Info'!$B$40:$B$64,FALSE),MATCH(Control!AF$101,'Licence Info'!$C$37:$DW$37,FALSE))*$C$9+OFFSET(Licence_Subst,MATCH($B121,'Licence Info'!$B$74:$B$98,FALSE),MATCH(Control!AF$101,'Licence Info'!$C$71:$DW$71,FALSE))*$C$9+OFFSET(Licence_OIEC,MATCH($B121,'Licence Info'!$B$108:$B$132,FALSE),MATCH(Control!AF$101,'Licence Info'!$C$105:$DW$105,FALSE))-AF59)","v":378},{"$f":"MAX(0,OFFSET(Licence_IBEC,MATCH($B121,'Licence Info'!$B$40:$B$64,FALSE),MATCH(Control!AG$101,'Licence Info'!$C$37:$DW$37,FALSE))*$C$9+OFFSET(Licence_Subst,MATCH($B121,'Licence Info'!$B$74:$B$98,FALSE),MATCH(Control!AG$101,'Licence Info'!$C$71:$DW$71,FALSE))*$C$9+OFFSET(Licence_OIEC,MATCH($B121,'Licence Info'!$B$108:$B$132,FALSE),MATCH(Control!AG$101,'Licence Info'!$C$105:$DW$105,FALSE))-AG59)","v":378},{"$f":"MAX(0,OFFSET(Licence_IBEC,MATCH($B121,'Licence Info'!$B$40:$B$64,FALSE),MATCH(Control!AH$101,'Licence Info'!$C$37:$DW$37,FALSE))*$C$9+OFFSET(Licence_Subst,MATCH($B121,'Licence Info'!$B$74:$B$98,FALSE),MATCH(Control!AH$101,'Licence Info'!$C$71:$DW$71,FALSE))*$C$9+OFFSET(Licence_OIEC,MATCH($B121,'Licence Info'!$B$108:$B$132,FALSE),MATCH(Control!AH$101,'Licence Info'!$C$105:$DW$105,FALSE))-AH59)","v":378},{"$f":"MAX(0,OFFSET(Licence_IBEC,MATCH($B121,'Licence Info'!$B$40:$B$64,FALSE),MATCH(Control!AI$101,'Licence Info'!$C$37:$DW$37,FALSE))*$C$9+OFFSET(Licence_Subst,MATCH($B121,'Licence Info'!$B$74:$B$98,FALSE),MATCH(Control!AI$101,'Licence Info'!$C$71:$DW$71,FALSE))*$C$9+OFFSET(Licence_OIEC,MATCH($B121,'Licence Info'!$B$108:$B$132,FALSE),MATCH(Control!AI$101,'Licence Info'!$C$105:$DW$105,FALSE))-AI59)","v":378},{"$f":"MAX(0,OFFSET(Licence_IBEC,MATCH($B121,'Licence Info'!$B$40:$B$64,FALSE),MATCH(Control!AJ$101,'Licence Info'!$C$37:$DW$37,FALSE))*$C$9+OFFSET(Licence_Subst,MATCH($B121,'Licence Info'!$B$74:$B$98,FALSE),MATCH(Control!AJ$101,'Licence Info'!$C$71:$DW$71,FALSE))*$C$9+OFFSET(Licence_OIEC,MATCH($B121,'Licence Info'!$B$108:$B$132,FALSE),MATCH(Control!AJ$101,'Licence Info'!$C$105:$DW$105,FALSE))-AJ59)","v":378},{"$f":"MAX(0,OFFSET(Licence_IBEC,MATCH($B121,'Licence Info'!$B$40:$B$64,FALSE),MATCH(Control!AK$101,'Licence Info'!$C$37:$DW$37,FALSE))*$C$9+OFFSET(Licence_Subst,MATCH($B121,'Licence Info'!$B$74:$B$98,FALSE),MATCH(Control!AK$101,'Licence Info'!$C$71:$DW$71,FALSE))*$C$9+OFFSET(Licence_OIEC,MATCH($B121,'Licence Info'!$B$108:$B$132,FALSE),MATCH(Control!AK$101,'Licence Info'!$C$105:$DW$105,FALSE))-AK59)","v":378},{"$f":"MAX(0,OFFSET(Licence_IBEC,MATCH($B121,'Licence Info'!$B$40:$B$64,FALSE),MATCH(Control!AL$101,'Licence Info'!$C$37:$DW$37,FALSE))*$C$9+OFFSET(Licence_Subst,MATCH($B121,'Licence Info'!$B$74:$B$98,FALSE),MATCH(Control!AL$101,'Licence Info'!$C$71:$DW$71,FALSE))*$C$9+OFFSET(Licence_OIEC,MATCH($B121,'Licence Info'!$B$108:$B$132,FALSE),MATCH(Control!AL$101,'Licence Info'!$C$105:$DW$105,FALSE))-AL59)","v":378},{"$f":"MAX(0,OFFSET(Licence_IBEC,MATCH($B121,'Licence Info'!$B$40:$B$64,FALSE),MATCH(Control!AM$101,'Licence Info'!$C$37:$DW$37,FALSE))*$C$9+OFFSET(Licence_Subst,MATCH($B121,'Licence Info'!$B$74:$B$98,FALSE),MATCH(Control!AM$101,'Licence Info'!$C$71:$DW$71,FALSE))*$C$9+OFFSET(Licence_OIEC,MATCH($B121,'Licence Info'!$B$108:$B$132,FALSE),MATCH(Control!AM$101,'Licence Info'!$C$105:$DW$105,FALSE))-AM59)","v":378},{"$f":"MAX(0,OFFSET(Licence_IBEC,MATCH($B121,'Licence Info'!$B$40:$B$64,FALSE),MATCH(Control!AN$101,'Licence Info'!$C$37:$DW$37,FALSE))*$C$9+OFFSET(Licence_Subst,MATCH($B121,'Licence Info'!$B$74:$B$98,FALSE),MATCH(Control!AN$101,'Licence Info'!$C$71:$DW$71,FALSE))*$C$9+OFFSET(Licence_OIEC,MATCH($B121,'Licence Info'!$B$108:$B$132,FALSE),MATCH(Control!AN$101,'Licence Info'!$C$105:$DW$105,FALSE))-AN59)","v":378},{"$f":"MAX(0,OFFSET(Licence_IBEC,MATCH($B121,'Licence Info'!$B$40:$B$64,FALSE),MATCH(Control!AO$101,'Licence Info'!$C$37:$DW$37,FALSE))*$C$9+OFFSET(Licence_Subst,MATCH($B121,'Licence Info'!$B$74:$B$98,FALSE),MATCH(Control!AO$101,'Licence Info'!$C$71:$DW$71,FALSE))*$C$9+OFFSET(Licence_OIEC,MATCH($B121,'Licence Info'!$B$108:$B$132,FALSE),MATCH(Control!AO$101,'Licence Info'!$C$105:$DW$105,FALSE))-AO59)","v":378},{"$f":"MAX(0,OFFSET(Licence_IBEC,MATCH($B121,'Licence Info'!$B$40:$B$64,FALSE),MATCH(Control!AP$101,'Licence Info'!$C$37:$DW$37,FALSE))*$C$9+OFFSET(Licence_Subst,MATCH($B121,'Licence Info'!$B$74:$B$98,FALSE),MATCH(Control!AP$101,'Licence Info'!$C$71:$DW$71,FALSE))*$C$9+OFFSET(Licence_OIEC,MATCH($B121,'Licence Info'!$B$108:$B$132,FALSE),MATCH(Control!AP$101,'Licence Info'!$C$105:$DW$105,FALSE))-AP59)","v":378},{"$f":"MAX(0,OFFSET(Licence_IBEC,MATCH($B121,'Licence Info'!$B$40:$B$64,FALSE),MATCH(Control!AQ$101,'Licence Info'!$C$37:$DW$37,FALSE))*$C$9+OFFSET(Licence_Subst,MATCH($B121,'Licence Info'!$B$74:$B$98,FALSE),MATCH(Control!AQ$101,'Licence Info'!$C$71:$DW$71,FALSE))*$C$9+OFFSET(Licence_OIEC,MATCH($B121,'Licence Info'!$B$108:$B$132,FALSE),MATCH(Control!AQ$101,'Licence Info'!$C$105:$DW$105,FALSE))-AQ59)","v":378},{"$f":"MAX(0,OFFSET(Licence_IBEC,MATCH($B121,'Licence Info'!$B$40:$B$64,FALSE),MATCH(Control!AR$101,'Licence Info'!$C$37:$DW$37,FALSE))*$C$9+OFFSET(Licence_Subst,MATCH($B121,'Licence Info'!$B$74:$B$98,FALSE),MATCH(Control!AR$101,'Licence Info'!$C$71:$DW$71,FALSE))*$C$9+OFFSET(Licence_OIEC,MATCH($B121,'Licence Info'!$B$108:$B$132,FALSE),MATCH(Control!AR$101,'Licence Info'!$C$105:$DW$105,FALSE))-AR59)","v":378},{"$f":"MAX(0,OFFSET(Licence_IBEC,MATCH($B121,'Licence Info'!$B$40:$B$64,FALSE),MATCH(Control!AS$101,'Licence Info'!$C$37:$DW$37,FALSE))*$C$9+OFFSET(Licence_Subst,MATCH($B121,'Licence Info'!$B$74:$B$98,FALSE),MATCH(Control!AS$101,'Licence Info'!$C$71:$DW$71,FALSE))*$C$9+OFFSET(Licence_OIEC,MATCH($B121,'Licence Info'!$B$108:$B$132,FALSE),MATCH(Control!AS$101,'Licence Info'!$C$105:$DW$105,FALSE))-AS59)","v":378},{"$f":"MAX(0,OFFSET(Licence_IBEC,MATCH($B121,'Licence Info'!$B$40:$B$64,FALSE),MATCH(Control!AT$101,'Licence Info'!$C$37:$DW$37,FALSE))*$C$9+OFFSET(Licence_Subst,MATCH($B121,'Licence Info'!$B$74:$B$98,FALSE),MATCH(Control!AT$101,'Licence Info'!$C$71:$DW$71,FALSE))*$C$9+OFFSET(Licence_OIEC,MATCH($B121,'Licence Info'!$B$108:$B$132,FALSE),MATCH(Control!AT$101,'Licence Info'!$C$105:$DW$105,FALSE))-AT59)","v":378},{"$f":"MAX(0,OFFSET(Licence_IBEC,MATCH($B121,'Licence Info'!$B$40:$B$64,FALSE),MATCH(Control!AU$101,'Licence Info'!$C$37:$DW$37,FALSE))*$C$9+OFFSET(Licence_Subst,MATCH($B121,'Licence Info'!$B$74:$B$98,FALSE),MATCH(Control!AU$101,'Licence Info'!$C$71:$DW$71,FALSE))*$C$9+OFFSET(Licence_OIEC,MATCH($B121,'Licence Info'!$B$108:$B$132,FALSE),MATCH(Control!AU$101,'Licence Info'!$C$105:$DW$105,FALSE))-AU59)","v":378},{"$f":"MAX(0,OFFSET(Licence_IBEC,MATCH($B121,'Licence Info'!$B$40:$B$64,FALSE),MATCH(Control!AV$101,'Licence Info'!$C$37:$DW$37,FALSE))*$C$9+OFFSET(Licence_Subst,MATCH($B121,'Licence Info'!$B$74:$B$98,FALSE),MATCH(Control!AV$101,'Licence Info'!$C$71:$DW$71,FALSE))*$C$9+OFFSET(Licence_OIEC,MATCH($B121,'Licence Info'!$B$108:$B$132,FALSE),MATCH(Control!AV$101,'Licence Info'!$C$105:$DW$105,FALSE))-AV59)","v":378},{"$f":"MAX(0,OFFSET(Licence_IBEC,MATCH($B121,'Licence Info'!$B$40:$B$64,FALSE),MATCH(Control!AW$101,'Licence Info'!$C$37:$DW$37,FALSE))*$C$9+OFFSET(Licence_Subst,MATCH($B121,'Licence Info'!$B$74:$B$98,FALSE),MATCH(Control!AW$101,'Licence Info'!$C$71:$DW$71,FALSE))*$C$9+OFFSET(Licence_OIEC,MATCH($B121,'Licence Info'!$B$108:$B$132,FALSE),MATCH(Control!AW$101,'Licence Info'!$C$105:$DW$105,FALSE))-AW59)","v":378},{"$f":"MAX(0,OFFSET(Licence_IBEC,MATCH($B121,'Licence Info'!$B$40:$B$64,FALSE),MATCH(Control!AX$101,'Licence Info'!$C$37:$DW$37,FALSE))*$C$9+OFFSET(Licence_Subst,MATCH($B121,'Licence Info'!$B$74:$B$98,FALSE),MATCH(Control!AX$101,'Licence Info'!$C$71:$DW$71,FALSE))*$C$9+OFFSET(Licence_OIEC,MATCH($B121,'Licence Info'!$B$108:$B$132,FALSE),MATCH(Control!AX$101,'Licence Info'!$C$105:$DW$105,FALSE))-AX59)","v":378},{"$f":"MAX(0,OFFSET(Licence_IBEC,MATCH($B121,'Licence Info'!$B$40:$B$64,FALSE),MATCH(Control!AY$101,'Licence Info'!$C$37:$DW$37,FALSE))*$C$9+OFFSET(Licence_Subst,MATCH($B121,'Licence Info'!$B$74:$B$98,FALSE),MATCH(Control!AY$101,'Licence Info'!$C$71:$DW$71,FALSE))*$C$9+OFFSET(Licence_OIEC,MATCH($B121,'Licence Info'!$B$108:$B$132,FALSE),MATCH(Control!AY$101,'Licence Info'!$C$105:$DW$105,FALSE))-AY59)","v":378},{"$f":"MAX(0,OFFSET(Licence_IBEC,MATCH($B121,'Licence Info'!$B$40:$B$64,FALSE),MATCH(Control!AZ$101,'Licence Info'!$C$37:$DW$37,FALSE))*$C$9+OFFSET(Licence_Subst,MATCH($B121,'Licence Info'!$B$74:$B$98,FALSE),MATCH(Control!AZ$101,'Licence Info'!$C$71:$DW$71,FALSE))*$C$9+OFFSET(Licence_OIEC,MATCH($B121,'Licence Info'!$B$108:$B$132,FALSE),MATCH(Control!AZ$101,'Licence Info'!$C$105:$DW$105,FALSE))-AZ59)","v":378},{"$f":"MAX(0,OFFSET(Licence_IBEC,MATCH($B121,'Licence Info'!$B$40:$B$64,FALSE),MATCH(Control!BA$101,'Licence Info'!$C$37:$DW$37,FALSE))*$C$9+OFFSET(Licence_Subst,MATCH($B121,'Licence Info'!$B$74:$B$98,FALSE),MATCH(Control!BA$101,'Licence Info'!$C$71:$DW$71,FALSE))*$C$9+OFFSET(Licence_OIEC,MATCH($B121,'Licence Info'!$B$108:$B$132,FALSE),MATCH(Control!BA$101,'Licence Info'!$C$105:$DW$105,FALSE))-BA59)","v":378},{"$f":"MAX(0,OFFSET(Licence_IBEC,MATCH($B121,'Licence Info'!$B$40:$B$64,FALSE),MATCH(Control!BB$101,'Licence Info'!$C$37:$DW$37,FALSE))*$C$9+OFFSET(Licence_Subst,MATCH($B121,'Licence Info'!$B$74:$B$98,FALSE),MATCH(Control!BB$101,'Licence Info'!$C$71:$DW$71,FALSE))*$C$9+OFFSET(Licence_OIEC,MATCH($B121,'Licence Info'!$B$108:$B$132,FALSE),MATCH(Control!BB$101,'Licence Info'!$C$105:$DW$105,FALSE))-BB59)","v":378},{"$f":"MAX(0,OFFSET(Licence_IBEC,MATCH($B121,'Licence Info'!$B$40:$B$64,FALSE),MATCH(Control!BC$101,'Licence Info'!$C$37:$DW$37,FALSE))*$C$9+OFFSET(Licence_Subst,MATCH($B121,'Licence Info'!$B$74:$B$98,FALSE),MATCH(Control!BC$101,'Licence Info'!$C$71:$DW$71,FALSE))*$C$9+OFFSET(Licence_OIEC,MATCH($B121,'Licence Info'!$B$108:$B$132,FALSE),MATCH(Control!BC$101,'Licence Info'!$C$105:$DW$105,FALSE))-BC59)","v":378},{"$f":"MAX(0,OFFSET(Licence_IBEC,MATCH($B121,'Licence Info'!$B$40:$B$64,FALSE),MATCH(Control!BD$101,'Licence Info'!$C$37:$DW$37,FALSE))*$C$9+OFFSET(Licence_Subst,MATCH($B121,'Licence Info'!$B$74:$B$98,FALSE),MATCH(Control!BD$101,'Licence Info'!$C$71:$DW$71,FALSE))*$C$9+OFFSET(Licence_OIEC,MATCH($B121,'Licence Info'!$B$108:$B$132,FALSE),MATCH(Control!BD$101,'Licence Info'!$C$105:$DW$105,FALSE))-BD59)","v":378},{"$f":"MAX(0,OFFSET(Licence_IBEC,MATCH($B121,'Licence Info'!$B$40:$B$64,FALSE),MATCH(Control!BE$101,'Licence Info'!$C$37:$DW$37,FALSE))*$C$9+OFFSET(Licence_Subst,MATCH($B121,'Licence Info'!$B$74:$B$98,FALSE),MATCH(Control!BE$101,'Licence Info'!$C$71:$DW$71,FALSE))*$C$9+OFFSET(Licence_OIEC,MATCH($B121,'Licence Info'!$B$108:$B$132,FALSE),MATCH(Control!BE$101,'Licence Info'!$C$105:$DW$105,FALSE))-BE59)","v":378},{"$f":"MAX(0,OFFSET(Licence_IBEC,MATCH($B121,'Licence Info'!$B$40:$B$64,FALSE),MATCH(Control!BF$101,'Licence Info'!$C$37:$DW$37,FALSE))*$C$9+OFFSET(Licence_Subst,MATCH($B121,'Licence Info'!$B$74:$B$98,FALSE),MATCH(Control!BF$101,'Licence Info'!$C$71:$DW$71,FALSE))*$C$9+OFFSET(Licence_OIEC,MATCH($B121,'Licence Info'!$B$108:$B$132,FALSE),MATCH(Control!BF$101,'Licence Info'!$C$105:$DW$105,FALSE))-BF59)","v":378},{"$f":"MAX(0,OFFSET(Licence_IBEC,MATCH($B121,'Licence Info'!$B$40:$B$64,FALSE),MATCH(Control!BG$101,'Licence Info'!$C$37:$DW$37,FALSE))*$C$9+OFFSET(Licence_Subst,MATCH($B121,'Licence Info'!$B$74:$B$98,FALSE),MATCH(Control!BG$101,'Licence Info'!$C$71:$DW$71,FALSE))*$C$9+OFFSET(Licence_OIEC,MATCH($B121,'Licence Info'!$B$108:$B$132,FALSE),MATCH(Control!BG$101,'Licence Info'!$C$105:$DW$105,FALSE))-BG59)","v":378},{"$f":"MAX(0,OFFSET(Licence_IBEC,MATCH($B121,'Licence Info'!$B$40:$B$64,FALSE),MATCH(Control!BH$101,'Licence Info'!$C$37:$DW$37,FALSE))*$C$9+OFFSET(Licence_Subst,MATCH($B121,'Licence Info'!$B$74:$B$98,FALSE),MATCH(Control!BH$101,'Licence Info'!$C$71:$DW$71,FALSE))*$C$9+OFFSET(Licence_OIEC,MATCH($B121,'Licence Info'!$B$108:$B$132,FALSE),MATCH(Control!BH$101,'Licence Info'!$C$105:$DW$105,FALSE))-BH59)","v":378},{"$f":"MAX(0,OFFSET(Licence_IBEC,MATCH($B121,'Licence Info'!$B$40:$B$64,FALSE),MATCH(Control!BI$101,'Licence Info'!$C$37:$DW$37,FALSE))*$C$9+OFFSET(Licence_Subst,MATCH($B121,'Licence Info'!$B$74:$B$98,FALSE),MATCH(Control!BI$101,'Licence Info'!$C$71:$DW$71,FALSE))*$C$9+OFFSET(Licence_OIEC,MATCH($B121,'Licence Info'!$B$108:$B$132,FALSE),MATCH(Control!BI$101,'Licence Info'!$C$105:$DW$105,FALSE))-BI59)","v":378},{"$f":"MAX(0,OFFSET(Licence_IBEC,MATCH($B121,'Licence Info'!$B$40:$B$64,FALSE),MATCH(Control!BJ$101,'Licence Info'!$C$37:$DW$37,FALSE))*$C$9+OFFSET(Licence_Subst,MATCH($B121,'Licence Info'!$B$74:$B$98,FALSE),MATCH(Control!BJ$101,'Licence Info'!$C$71:$DW$71,FALSE))*$C$9+OFFSET(Licence_OIEC,MATCH($B121,'Licence Info'!$B$108:$B$132,FALSE),MATCH(Control!BJ$101,'Licence Info'!$C$105:$DW$105,FALSE))-BJ59)","v":378},{"$f":"MAX(0,OFFSET(Licence_IBEC,MATCH($B121,'Licence Info'!$B$40:$B$64,FALSE),MATCH(Control!BK$101,'Licence Info'!$C$37:$DW$37,FALSE))*$C$9+OFFSET(Licence_Subst,MATCH($B121,'Licence Info'!$B$74:$B$98,FALSE),MATCH(Control!BK$101,'Licence Info'!$C$71:$DW$71,FALSE))*$C$9+OFFSET(Licence_OIEC,MATCH($B121,'Licence Info'!$B$108:$B$132,FALSE),MATCH(Control!BK$101,'Licence Info'!$C$105:$DW$105,FALSE))-BK59)","v":{"$error":"#N/A"}}]
[null,"Milford Haven",{"$f":"MAX(0,OFFSET(Licence_IBEC,MATCH($B122,'Licence Info'!$B$40:$B$64,FALSE),MATCH(Control!C$101,'Licence Info'!$C$37:$DW$37,FALSE))*$C$9+OFFSET(Licence_Subst,MATCH($B122,'Licence Info'!$B$74:$B$98,FALSE),MATCH(Control!C$101,'Licence Info'!$C$71:$DW$71,FALSE))*$C$9+OFFSET(Licence_OIEC,MATCH($B122,'Licence Info'!$B$108:$B$132,FALSE),MATCH(Control!C$101,'Licence Info'!$C$105:$DW$105,FALSE))-C60)","v":0},{"$f":"MAX(0,OFFSET(Licence_IBEC,MATCH($B122,'Licence Info'!$B$40:$B$64,FALSE),MATCH(Control!D$101,'Licence Info'!$C$37:$DW$37,FALSE))*$C$9+OFFSET(Licence_Subst,MATCH($B122,'Licence Info'!$B$74:$B$98,FALSE),MATCH(Control!D$101,'Licence Info'!$C$71:$DW$71,FALSE))*$C$9+OFFSET(Licence_OIEC,MATCH($B122,'Licence Info'!$B$108:$B$132,FALSE),MATCH(Control!D$101,'Licence Info'!$C$105:$DW$105,FALSE))-D60)","v":0},{"$f":"MAX(0,OFFSET(Licence_IBEC,MATCH($B122,'Licence Info'!$B$40:$B$64,FALSE),MATCH(Control!E$101,'Licence Info'!$C$37:$DW$37,FALSE))*$C$9+OFFSET(Licence_Subst,MATCH($B122,'Licence Info'!$B$74:$B$98,FALSE),MATCH(Control!E$101,'Licence Info'!$C$71:$DW$71,FALSE))*$C$9+OFFSET(Licence_OIEC,MATCH($B122,'Licence Info'!$B$108:$B$132,FALSE),MATCH(Control!E$101,'Licence Info'!$C$105:$DW$105,FALSE))-E60)","v":0},{"$f":"MAX(0,OFFSET(Licence_IBEC,MATCH($B122,'Licence Info'!$B$40:$B$64,FALSE),MATCH(Control!F$101,'Licence Info'!$C$37:$DW$37,FALSE))*$C$9+OFFSET(Licence_Subst,MATCH($B122,'Licence Info'!$B$74:$B$98,FALSE),MATCH(Control!F$101,'Licence Info'!$C$71:$DW$71,FALSE))*$C$9+OFFSET(Licence_OIEC,MATCH($B122,'Licence Info'!$B$108:$B$132,FALSE),MATCH(Control!F$101,'Licence Info'!$C$105:$DW$105,FALSE))-F60)","v":0},{"$f":"MAX(0,OFFSET(Licence_IBEC,MATCH($B122,'Licence Info'!$B$40:$B$64,FALSE),MATCH(Control!G$101,'Licence Info'!$C$37:$DW$37,FALSE))*$C$9+OFFSET(Licence_Subst,MATCH($B122,'Licence Info'!$B$74:$B$98,FALSE),MATCH(Control!G$101,'Licence Info'!$C$71:$DW$71,FALSE))*$C$9+OFFSET(Licence_OIEC,MATCH($B122,'Licence Info'!$B$108:$B$132,FALSE),MATCH(Control!G$101,'Licence Info'!$C$105:$DW$105,FALSE))-G60)","v":0},{"$f":"MAX(0,OFFSET(Licence_IBEC,MATCH($B122,'Licence Info'!$B$40:$B$64,FALSE),MATCH(Control!H$101,'Licence Info'!$C$37:$DW$37,FALSE))*$C$9+OFFSET(Licence_Subst,MATCH($B122,'Licence Info'!$B$74:$B$98,FALSE),MATCH(Control!H$101,'Licence Info'!$C$71:$DW$71,FALSE))*$C$9+OFFSET(Licence_OIEC,MATCH($B122,'Licence Info'!$B$108:$B$132,FALSE),MATCH(Control!H$101,'Licence Info'!$C$105:$DW$105,FALSE))-H60)","v":0},{"$f":"MAX(0,OFFSET(Licence_IBEC,MATCH($B122,'Licence Info'!$B$40:$B$64,FALSE),MATCH(Control!I$101,'Licence Info'!$C$37:$DW$37,FALSE))*$C$9+OFFSET(Licence_Subst,MATCH($B122,'Licence Info'!$B$74:$B$98,FALSE),MATCH(Control!I$101,'Licence Info'!$C$71:$DW$71,FALSE))*$C$9+OFFSET(Licence_OIEC,MATCH($B122,'Licence Info'!$B$108:$B$132,FALSE),MATCH(Control!I$101,'Licence Info'!$C$105:$DW$105,FALSE))-I60)","v":505},{"$f":"MAX(0,OFFSET(Licence_IBEC,MATCH($B122,'Licence Info'!$B$40:$B$64,FALSE),MATCH(Control!J$101,'Licence Info'!$C$37:$DW$37,FALSE))*$C$9+OFFSET(Licence_Subst,MATCH($B122,'Licence Info'!$B$74:$B$98,FALSE),MATCH(Control!J$101,'Licence Info'!$C$71:$DW$71,FALSE))*$C$9+OFFSET(Licence_OIEC,MATCH($B122,'Licence Info'!$B$108:$B$132,FALSE),MATCH(Control!J$101,'Licence Info'!$C$105:$DW$105,FALSE))-J60)","v":505},{"$f":"MAX(0,OFFSET(Licence_IBEC,MATCH($B122,'Licence Info'!$B$40:$B$64,FALSE),MATCH(Control!K$101,'Licence Info'!$C$37:$DW$37,FALSE))*$C$9+OFFSET(Licence_Subst,MATCH($B122,'Licence Info'!$B$74:$B$98,FALSE),MATCH(Control!K$101,'Licence Info'!$C$71:$DW$71,FALSE))*$C$9+OFFSET(Licence_OIEC,MATCH($B122,'Licence Info'!$B$108:$B$132,FALSE),MATCH(Control!K$101,'Licence Info'!$C$105:$DW$105,FALSE))-K60)","v":55},{"$f":"MAX(0,OFFSET(Licence_IBEC,MATCH($B122,'Licence Info'!$B$40:$B$64,FALSE),MATCH(Control!L$101,'Licence Info'!$C$37:$DW$37,FALSE))*$C$9+OFFSET(Licence_Subst,MATCH($B122,'Licence Info'!$B$74:$B$98,FALSE),MATCH(Control!L$101,'Licence Info'!$C$71:$DW$71,FALSE))*$C$9+OFFSET(Licence_OIEC,MATCH($B122,'Licence Info'!$B$108:$B$132,FALSE),MATCH(Control!L$101,'Licence Info'!$C$105:$DW$105,FALSE))-L60)","v":55},{"$f":"MAX(0,OFFSET(Licence_IBEC,MATCH($B122,'Licence Info'!$B$40:$B$64,FALSE),MATCH(Control!M$101,'Licence Info'!$C$37:$DW$37,FALSE))*$C$9+OFFSET(Licence_Subst,MATCH($B122,'Licence Info'!$B$74:$B$98,FALSE),MATCH(Control!M$101,'Licence Info'!$C$71:$DW$71,FALSE))*$C$9+OFFSET(Licence_OIEC,MATCH($B122,'Licence Info'!$B$108:$B$132,FALSE),MATCH(Control!M$101,'Licence Info'!$C$105:$DW$105,FALSE))-M60)","v":505},{"$f":"MAX(0,OFFSET(Licence_IBEC,MATCH($B122,'Licence Info'!$B$40:$B$64,FALSE),MATCH(Control!N$101,'Licence Info'!$C$37:$DW$37,FALSE))*$C$9+OFFSET(Licence_Subst,MATCH($B122,'Licence Info'!$B$74:$B$98,FALSE),MATCH(Control!N$101,'Licence Info'!$C$71:$DW$71,FALSE))*$C$9+OFFSET(Licence_OIEC,MATCH($B122,'Licence Info'!$B$108:$B$132,FALSE),MATCH(Control!N$101,'Licence Info'!$C$105:$DW$105,FALSE))-N60)","v":505},{"$f":"MAX(0,OFFSET(Licence_IBEC,MATCH($B122,'Licence Info'!$B$40:$B$64,FALSE),MATCH(Control!O$101,'Licence Info'!$C$37:$DW$37,FALSE))*$C$9+OFFSET(Licence_Subst,MATCH($B122,'Licence Info'!$B$74:$B$98,FALSE),MATCH(Control!O$101,'Licence Info'!$C$71:$DW$71,FALSE))*$C$9+OFFSET(Licence_OIEC,MATCH($B122,'Licence Info'!$B$108:$B$132,FALSE),MATCH(Control!O$101,'Licence Info'!$C$105:$DW$105,FALSE))-O60)","v":55},{"$f":"MAX(0,OFFSET(Licence_IBEC,MATCH($B122,'Licence Info'!$B$40:$B$64,FALSE),MATCH(Control!P$101,'Licence Info'!$C$37:$DW$37,FALSE))*$C$9+OFFSET(Licence_Subst,MATCH($B122,'Licence Info'!$B$74:$B$98,FALSE),MATCH(Control!P$101,'Licence Info'!$C$71:$DW$71,FALSE))*$C$9+OFFSET(Licence_OIEC,MATCH($B122,'Licence Info'!$B$108:$B$132,FALSE),MATCH(Control!P$101,'Licence Info'!$C$105:$DW$105,FALSE))-P60)","v":55},{"$f":"MAX(0,OFFSET(Licence_IBEC,MATCH($B122,'Licence Info'!$B$40:$B$64,FALSE),MATCH(Control!Q$101,'Licence Info'!$C$37:$DW$37,FALSE))*$C$9+OFFSET(Licence_Subst,MATCH($B122,'Licence Info'!$B$74:$B$98,FALSE),MATCH(Control!Q$101,'Licence Info'!$C$71:$DW$71,FALSE))*$C$9+OFFSET(Licence_OIEC,MATCH($B122,'Licence Info'!$B$108:$B$132,FALSE),MATCH(Control!Q$101,'Licence Info'!$C$105:$DW$105,FALSE))-Q60)","v":855},{"$f":"MAX(0,OFFSET(Licence_IBEC,MATCH($B122,'Licence Info'!$B$40:$B$64,FALSE),MATCH(Control!R$101,'Licence Info'!$C$37:$DW$37,FALSE))*$C$9+OFFSET(Licence_Subst,MATCH($B122,'Licence Info'!$B$74:$B$98,FALSE),MATCH(Control!R$101,'Licence Info'!$C$71:$DW$71,FALSE))*$C$9+OFFSET(Licence_OIEC,MATCH($B122,'Licence Info'!$B$108:$B$132,FALSE),MATCH(Control!R$101,'Licence Info'!$C$105:$DW$105,FALSE))-R60)","v":855},{"$f":"MAX(0,OFFSET(Licence_IBEC,MATCH($B122,'Licence Info'!$B$40:$B$64,FALSE),MATCH(Control!S$101,'Licence Info'!$C$37:$DW$37,FALSE))*$C$9+OFFSET(Licence_Subst,MATCH($B122,'Licence Info'!$B$74:$B$98,FALSE),MATCH(Control!S$101,'Licence Info'!$C$71:$DW$71,FALSE))*$C$9+OFFSET(Licence_OIEC,MATCH($B122,'Licence Info'!$B$108:$B$132,FALSE),MATCH(Control!S$101,'Licence Info'!$C$105:$DW$105,FALSE))-S60)","v":85.5},{"$f":"MAX(0,OFFSET(Licence_IBEC,MATCH($B122,'Licence Info'!$B$40:$B$64,FALSE),MATCH(Control!T$101,'Licence Info'!$C$37:$DW$37,FALSE))*$C$9+OFFSET(Licence_Subst,MATCH($B122,'Licence Info'!$B$74:$B$98,FALSE),MATCH(Control!T$101,'Licence Info'!$C$71:$DW$71,FALSE))*$C$9+OFFSET(Licence_OIEC,MATCH($B122,'Licence Info'!$B$108:$B$132,FALSE),MATCH(Control!T$101,'Licence Info'!$C$105:$DW$105,FALSE))-T60)","v":55},{"$f":"MAX(0,OFFSET(Licence_IBEC,MATCH($B122,'Licence Info'!$B$40:$B$64,FALSE),MATCH(Control!U$101,'Licence Info'!$C$37:$DW$37,FALSE))*$C$9+OFFSET(Licence_Subst,MATCH($B122,'Licence Info'!$B$74:$B$98,FALSE),MATCH(Control!U$101,'Licence Info'!$C$71:$DW$71,FALSE))*$C$9+OFFSET(Licence_OIEC,MATCH($B122,'Licence Info'!$B$108:$B$132,FALSE),MATCH(Control!U$101,'Licence Info'!$C$105:$DW$105,FALSE))-U60)","v":855},{"$f":"MAX(0,OFFSET(Licence_IBEC,MATCH($B122,'Licence Info'!$B$40:$B$64,FALSE),MATCH(Control!V$101,'Licence Info'!$C$37:$DW$37,FALSE))*$C$9+OFFSET(Licence_Subst,MATCH($B122,'Licence Info'!$B$74:$B$98,FALSE),MATCH(Control!V$101,'Licence Info'!$C$71:$DW$71,FALSE))*$C$9+OFFSET(Licence_OIEC,MATCH($B122,'Licence Info'!$B$108:$B$132,FALSE),MATCH(Control!V$101,'Licence Info'!$C$105:$DW$105,FALSE))-V60)","v":855},{"$f":"MAX(0,OFFSET(Licence_IBEC,MATCH($B122,'Licence Info'!$B$40:$B$64,FALSE),MATCH(Control!W$101,'Licence Info'!$C$37:$DW$37,FALSE))*$C$9+OFFSET(Licence_Subst,MATCH($B122,'Licence Info'!$B$74:$B$98,FALSE),MATCH(Control!W$101,'Licence Info'!$C$71:$DW$71,FALSE))*$C$9+OFFSET(Licence_OIEC,MATCH($B122,'Licence Info'!$B$108:$B$132,FALSE),MATCH(Control!W$101,'Licence Info'!$C$105:$DW$105,FALSE))-W60)","v":205},{"$f":"MAX(0,OFFSET(Licence_IBEC,MATCH($B122,'Licence Info'!$B$40:$B$64,FALSE),MATCH(Control!X$101,'Licence Info'!$C$37:$DW$37,FALSE))*$C$9+OFFSET(Licence_Subst,MATCH($B122,'Licence Info'!$B$74:$B$98,FALSE),MATCH(Control!X$101,'Licence Info'!$C$71:$DW$71,FALSE))*$C$9+OFFSET(Licence_OIEC,MATCH($B122,'Licence Info'!$B$108:$B$132,FALSE),MATCH(Control!X$101,'Licence Info'!$C$105:$DW$105,FALSE))-X60)","v":55},{"$f":"MAX(0,OFFSET(Licence_IBEC,MATCH($B122,'Licence Info'!$B$40:$B$64,FALSE),MATCH(Control!Y$101,'Licence Info'!$C$37:$DW$37,FALSE))*$C$9+OFFSET(Licence_Subst,MATCH($B122,'Licence Info'!$B$74:$B$98,FALSE),MATCH(Control!Y$101,'Licence Info'!$C$71:$DW$71,FALSE))*$C$9+OFFSET(Licence_OIEC,MATCH($B122,'Licence Info'!$B$108:$B$132,FALSE),MATCH(Control!Y$101,'Licence Info'!$C$105:$DW$105,FALSE))-Y60)","v":855},{"$f":"MAX(0,OFFSET(Licence_IBEC,MATCH($B122,'Licence Info'!$B$40:$B$64,FALSE),MATCH(Control!Z$101,'Licence Info'!$C$37:$DW$37,FALSE))*$C$9+OFFSET(Licence_Subst,MATCH($B122,'Licence Info'!$B$74:$B$98,FALSE),MATCH(Control!Z$101,'Licence Info'!$C$71:$DW$71,FALSE))*$C$9+OFFSET(Licence_OIEC,MATCH($B122,'Licence Info'!$B$108:$B$132,FALSE),MATCH(Control!Z$101,'Licence Info'!$C$105:$DW$105,FALSE))-Z60)","v":855},{"$f":"MAX(0,OFFSET(Licence_IBEC,MATCH($B122,'Licence Info'!$B$40:$B$64,FALSE),MATCH(Control!AA$101,'Licence Info'!$C$37:$DW$37,FALSE))*$C$9+OFFSET(Licence_Subst,MATCH($B122,'Licence Info'!$B$74:$B$98,FALSE),MATCH(Control!AA$101,'Licence Info'!$C$71:$DW$71,FALSE))*$C$9+OFFSET(Licence_OIEC,MATCH($B122,'Licence Info'!$B$108:$B$132,FALSE),MATCH(Control!AA$101,'Licence Info'!$C$105:$DW$105,FALSE))-AA60)","v":205},{"$f":"MAX(0,OFFSET(Licence_IBEC,MATCH($B122,'Licence Info'!$B$40:$B$64,FALSE),MATCH(Control!AB$101,'Licence Info'!$C$37:$DW$37,FALSE))*$C$9+OFFSET(Licence_Subst,MATCH($B122,'Licence Info'!$B$74:$B$98,FALSE),MATCH(Control!AB$101,'Licence Info'!$C$71:$DW$71,FALSE))*$C$9+OFFSET(Licence_OIEC,MATCH($B122,'Licence Info'!$B$108:$B$132,FALSE),MATCH(Control!AB$101,'Licence Info'!$C$105:$DW$105,FALSE))-AB60)","v":55},{"$f":"MAX(0,OFFSET(Licence_IBEC,MATCH($B122,'Licence Info'!$B$40:$B$64,FALSE),MATCH(Control!AC$101,'Licence Info'!$C$37:$DW$37,FALSE))*$C$9+OFFSET(Licence_Subst,MATCH($B122,'Licence Info'!$B$74:$B$98,FALSE),MATCH(Control!AC$101,'Licence Info'!$C$71:$DW$71,FALSE))*$C$9+OFFSET(Licence_OIEC,MATCH($B122,'Licence Info'!$B$108:$B$132,FALSE),MATCH(Control!AC$101,'Licence Info'!$C$105:$DW$105,FALSE))-AC60)","v":855},{"$f":"MAX(0,OFFSET(Licence_IBEC,MATCH($B122,'Licence Info'!$B$40:$B$64,FALSE),MATCH(Control!AD$101,'Licence Info'!$C$37:$DW$37,FALSE))*$C$9+OFFSET(Licence_Subst,MATCH($B122,'Licence Info'!$B$74:$B$98,FALSE),MATCH(Control!AD$101,'Licence Info'!$C$71:$DW$71,FALSE))*$C$9+OFFSET(Licence_OIEC,MATCH($B122,'Licence Info'!$B$108:$B$132,FALSE),MATCH(Control!AD$101,'Licence Info'!$C$105:$DW$105,FALSE))-AD60)","v":855},{"$f":"MAX(0,OFFSET(Licence_IBEC,MATCH($B122,'Licence Info'!$B$40:$B$64,FALSE),MATCH(Control!AE$101,'Licence Info'!$C$37:$DW$37,FALSE))*$C$9+OFFSET(Licence_Subst,MATCH($B122,'Licence Info'!$B$74:$B$98,FALSE),MATCH(Control!AE$101,'Licence Info'!$C$71:$DW$71,FALSE))*$C$9+OFFSET(Licence_OIEC,MATCH($B122,'Licence Info'!$B$108:$B$132,FALSE),MATCH(Control!AE$101,'Licence Info'!$C$105:$DW$105,FALSE))-AE60)","v":205},{"$f":"MAX(0,OFFSET(Licence_IBEC,MATCH($B122,'Licence Info'!$B$40:$B$64,FALSE),MATCH(Control!AF$101,'Licence Info'!$C$37:$DW$37,FALSE))*$C$9+OFFSET(Licence_Subst,MATCH($B122,'Licence Info'!$B$74:$B$98,FALSE),MATCH(Control!AF$101,'Licence Info'!$C$71:$DW$71,FALSE))*$C$9+OFFSET(Licence_OIEC,MATCH($B122,'Licence Info'!$B$108:$B$132,FALSE),MATCH(Control!AF$101,'Licence Info'!$C$105:$DW$105,FALSE))-AF60)","v":55},{"$f":"MAX(0,OFFSET(Licence_IBEC,MATCH($B122,'Licence Info'!$B$40:$B$64,FALSE),MATCH(Control!AG$101,'Licence Info'!$C$37:$DW$37,FALSE))*$C$9+OFFSET(Licence_Subst,MATCH($B122,'Licence Info'!$B$74:$B$98,FALSE),MATCH(Control!AG$101,'Licence Info'!$C$71:$DW$71,FALSE))*$C$9+OFFSET(Licence_OIEC,MATCH($B122,'Licence Info'!$B$108:$B$132,FALSE),MATCH(Control!AG$101,'Licence Info'!$C$105:$DW$105,FALSE))-AG60)","v":855},{"$f":"MAX(0,OFFSET(Licence_IBEC,MATCH($B122,'Licence Info'!$B$40:$B$64,FALSE),MATCH(Control!AH$101,'Licence Info'!$C$37:$DW$37,FALSE))*$C$9+OFFSET(Licence_Subst,MATCH($B122,'Licence Info'!$B$74:$B$98,FALSE),MATCH(Control!AH$101,'Licence Info'!$C$71:$DW$71,FALSE))*$C$9+OFFSET(Licence_OIEC,MATCH($B122,'Licence Info'!$B$108:$B$132,FALSE),MATCH(Control!AH$101,'Licence Info'!$C$105:$DW$105,FALSE))-AH60)","v":855},{"$f":"MAX(0,OFFSET(Licence_IBEC,MATCH($B122,'Licence Info'!$B$40:$B$64,FALSE),MATCH(Control!AI$101,'Licence Info'!$C$37:$DW$37,FALSE))*$C$9+OFFSET(Licence_Subst,MATCH($B122,'Licence Info'!$B$74:$B$98,FALSE),MATCH(Control!AI$101,'Licence Info'!$C$71:$DW$71,FALSE))*$C$9+OFFSET(Licence_OIEC,MATCH($B122,'Licence Info'!$B$108:$B$132,FALSE),MATCH(Control!AI$101,'Licence Info'!$C$105:$DW$105,FALSE))-AI60)","v":855},{"$f":"MAX(0,OFFSET(Licence_IBEC,MATCH($B122,'Licence Info'!$B$40:$B$64,FALSE),MATCH(Control!AJ$101,'Licence Info'!$C$37:$DW$37,FALSE))*$C$9+OFFSET(Licence_Subst,MATCH($B122,'Licence Info'!$B$74:$B$98,FALSE),MATCH(Control!AJ$101,'Licence Info'!$C$71:$DW$71,FALSE))*$C$9+OFFSET(Licence_OIEC,MATCH($B122,'Licence Info'!$B$108:$B$132,FALSE),MATCH(Control!AJ$101,'Licence Info'!$C$105:$DW$105,FALSE))-AJ60)","v":55},{"$f":"MAX(0,OFFSET(Licence_IBEC,MATCH($B122,'Licence Info'!$B$40:$B$64,FALSE),MATCH(Control!AK$101,'Licence Info'!$C$37:$DW$37,FALSE))*$C$9+OFFSET(Licence_Subst,MATCH($B122,'Licence Info'!$B$74:$B$98,FALSE),MATCH(Control!AK$101,'Licence Info'!$C$71:$DW$71,FALSE))*$C$9+OFFSET(Licence_OIEC,MATCH($B122,'Licence Info'!$B$108:$B$132,FALSE),MATCH(Control!AK$101,'Licence Info'!$C$105:$DW$105,FALSE))-AK60)","v":855},{"$f":"MAX(0,OFFSET(Licence_IBEC,MATCH($B122,'Licence Info'!$B$40:$B$64,FALSE),MATCH(Control!AL$101,'Licence Info'!$C$37:$DW$37,FALSE))*$C$9+OFFSET(Licence_Subst,MATCH($B122,'Licence Info'!$B$74:$B$98,FALSE),MATCH(Control!AL$101,'Licence Info'!$C$71:$DW$71,FALSE))*$C$9+OFFSET(Licence_OIEC,MATCH($B122,'Licence Info'!$B$108:$B$132,FALSE),MATCH(Control!AL$101,'Licence Info'!$C$105:$DW$105,FALSE))-AL60)","v":855},{"$f":"MAX(0,OFFSET(Licence_IBEC,MATCH($B122,'Licence Info'!$B$40:$B$64,FALSE),MATCH(Control!AM$101,'Licence Info'!$C$37:$DW$37,FALSE))*$C$9+OFFSET(Licence_Subst,MATCH($B122,'Licence Info'!$B$74:$B$98,FALSE),MATCH(Control!AM$101,'Licence Info'!$C$71:$DW$71,FALSE))*$C$9+OFFSET(Licence_OIEC,MATCH($B122,'Licence Info'!$B$108:$B$132,FALSE),MATCH(Control!AM$101,'Licence Info'!$C$105:$DW$105,FALSE))-AM60)","v":855},{"$f":"MAX(0,OFFSET(Licence_IBEC,MATCH($B122,'Licence Info'!$B$40:$B$64,FALSE),MATCH(Control!AN$101,'Licence Info'!$C$37:$DW$37,FALSE))*$C$9+OFFSET(Licence_Subst,MATCH($B122,'Licence Info'!$B$74:$B$98,FALSE),MATCH(Control!AN$101,'Licence Info'!$C$71:$DW$71,FALSE))*$C$9+OFFSET(Licence_OIEC,MATCH($B122,'Licence Info'!$B$108:$B$132,FALSE),MATCH(Control!AN$101,'Licence Info'!$C$105:$DW$105,FALSE))-AN60)","v":55},{"$f":"MAX(0,OFFSET(Licence_IBEC,MATCH($B122,'Licence Info'!$B$40:$B$64,FALSE),MATCH(Control!AO$101,'Licence Info'!$C$37:$DW$37,FALSE))*$C$9+OFFSET(Licence_Subst,MATCH($B122,'Licence Info'!$B$74:$B$98,FALSE),MATCH(Control!AO$101,'Licence Info'!$C$71:$DW$71,FALSE))*$C$9+OFFSET(Licence_OIEC,MATCH($B122,'Licence Info'!$B$108:$B$132,FALSE),MATCH(Control!AO$101,'Licence Info'!$C$105:$DW$105,FALSE))-AO60)","v":855},{"$f":"MAX(0,OFFSET(Licence_IBEC,MATCH($B122,'Licence Info'!$B$40:$B$64,FALSE),MATCH(Control!AP$101,'Licence Info'!$C$37:$DW$37,FALSE))*$C$9+OFFSET(Licence_Subst,MATCH($B122,'Licence Info'!$B$74:$B$98,FALSE),MATCH(Control!AP$101,'Licence Info'!$C$71:$DW$71,FALSE))*$C$9+OFFSET(Licence_OIEC,MATCH($B122,'Licence Info'!$B$108:$B$132,FALSE),MATCH(Control!AP$101,'Licence Info'!$C$105:$DW$105,FALSE))-AP60)","v":855},{"$f":"MAX(0,OFFSET(Licence_IBEC,MATCH($B122,'Licence Info'!$B$40:$B$64,FALSE),MATCH(Control!AQ$101,'Licence Info'!$C$37:$DW$37,FALSE))*$C$9+OFFSET(Licence_Subst,MATCH($B122,'Licence Info'!$B$74:$B$98,FALSE),MATCH(Control!AQ$101,'Licence Info'!$C$71:$DW$71,FALSE))*$C$9+OFFSET(Licence_OIEC,MATCH($B122,'Licence Info'!$B$108:$B$132,FALSE),MATCH(Control!AQ$101,'Licence Info'!$C$105:$DW$105,FALSE))-AQ60)","v":855},{"$f":"MAX(0,OFFSET(Licence_IBEC,MATCH($B122,'Licence Info'!$B$40:$B$64,FALSE),MATCH(Control!AR$101,'Licence Info'!$C$37:$DW$37,FALSE))*$C$9+OFFSET(Licence_Subst,MATCH($B122,'Licence Info'!$B$74:$B$98,FALSE),MATCH(Control!AR$101,'Licence Info'!$C$71:$DW$71,FALSE))*$C$9+OFFSET(Licence_OIEC,MATCH($B122,'Licence Info'!$B$108:$B$132,FALSE),MATCH(Control!AR$101,'Licence Info'!$C$105:$DW$105,FALSE))-AR60)","v":205},{"$f":"MAX(0,OFFSET(Licence_IBEC,MATCH($B122,'Licence Info'!$B$40:$B$64,FALSE),MATCH(Control!AS$101,'Licence Info'!$C$37:$DW$37,FALSE))*$C$9+OFFSET(Licence_Subst,MATCH($B122,'Licence Info'!$B$74:$B$98,FALSE),MATCH(Control!AS$101,'Licence Info'!$C$71:$DW$71,FALSE))*$C$9+OFFSET(Licence_OIEC,MATCH($B122,'Licence Info'!$B$108:$B$132,FALSE),MATCH(Control!AS$101,'Licence Info'!$C$105:$DW$105,FALSE))-AS60)","v":855},{"$f":"MAX(0,OFFSET(Licence_IBEC,MATCH($B122,'Licence Info'!$B$40:$B$64,FALSE),MATCH(Control!AT$101,'Licence Info'!$C$37:$DW$37,FALSE))*$C$9+OFFSET(Licence_Subst,MATCH($B122,'Licence Info'!$B$74:$B$98,FALSE),MATCH(Control!AT$101,'Licence Info'!$C$71:$DW$71,FALSE))*$C$9+OFFSET(Licence_OIEC,MATCH($B122,'Licence Info'!$B$108:$B$132,FALSE),MATCH(Control!AT$101,'Licence Info'!$C$105:$DW$105,FALSE))-AT60)","v":855},{"$f":"MAX(0,OFFSET(Licence_IBEC,MATCH($B122,'Licence Info'!$B$40:$B$64,FALSE),MATCH(Control!AU$101,'Licence Info'!$C$37:$DW$37,FALSE))*$C$9+OFFSET(Licence_Subst,MATCH($B122,'Licence Info'!$B$74:$B$98,FALSE),MATCH(Control!AU$101,'Licence Info'!$C$71:$DW$71,FALSE))*$C$9+OFFSET(Licence_OIEC,MATCH($B122,'Licence Info'!$B$108:$B$132,FALSE),MATCH(Control!AU$101,'Licence Info'!$C$105:$DW$105,FALSE))-AU60)","v":855},{"$f":"MAX(0,OFFSET(Licence_IBEC,MATCH($B122,'Licence Info'!$B$40:$B$64,FALSE),MATCH(Control!AV$101,'Licence Info'!$C$37:$DW$37,FALSE))*$C$9+OFFSET(Licence_Subst,MATCH($B122,'Licence Info'!$B$74:$B$98,FALSE),MATCH(Control!AV$101,'Licence Info'!$C$71:$DW$71,FALSE))*$C$9+OFFSET(Licence_OIEC,MATCH($B122,'Licence Info'!$B$108:$B$132,FALSE),MATCH(Control!AV$101,'Licence Info'!$C$105:$DW$105,FALSE))-AV60)","v":855},{"$f":"MAX(0,OFFSET(Licence_IBEC,MATCH($B122,'Licence Info'!$B$40:$B$64,FALSE),MATCH(Control!AW$101,'Licence Info'!$C$37:$DW$37,FALSE))*$C$9+OFFSET(Licence_Subst,MATCH($B122,'Licence Info'!$B$74:$B$98,FALSE),MATCH(Control!AW$101,'Licence Info'!$C$71:$DW$71,FALSE))*$C$9+OFFSET(Licence_OIEC,MATCH($B122,'Licence Info'!$B$108:$B$132,FALSE),MATCH(Control!AW$101,'Licence Info'!$C$105:$DW$105,FALSE))-AW60)","v":855},{"$f":"MAX(0,OFFSET(Licence_IBEC,MATCH($B122,'Licence Info'!$B$40:$B$64,FALSE),MATCH(Control!AX$101,'Licence Info'!$C$37:$DW$37,FALSE))*$C$9+OFFSET(Licence_Subst,MATCH($B122,'Licence Info'!$B$74:$B$98,FALSE),MATCH(Control!AX$101,'Licence Info'!$C$71:$DW$71,FALSE))*$C$9+OFFSET(Licence_OIEC,MATCH($B122,'Licence Info'!$B$108:$B$132,FALSE),MATCH(Control!AX$101,'Licence Info'!$C$105:$DW$105,FALSE))-AX60)","v":855},{"$f":"MAX(0,OFFSET(Licence_IBEC,MATCH($B122,'Licence Info'!$B$40:$B$64,FALSE),MATCH(Control!AY$101,'Licence Info'!$C$37:$DW$37,FALSE))*$C$9+OFFSET(Licence_Subst,MATCH($B122,'Licence Info'!$B$74:$B$98,FALSE),MATCH(Control!AY$101,'Licence Info'!$C$71:$DW$71,FALSE))*$C$9+OFFSET(Licence_OIEC,MATCH($B122,'Licence Info'!$B$108:$B$132,FALSE),MATCH(Control!AY$101,'Licence Info'!$C$105:$DW$105,FALSE))-AY60)","v":855},{"$f":"MAX(0,OFFSET(Licence_IBEC,MATCH($B122,'Licence Info'!$B$40:$B$64,FALSE),MATCH(Control!AZ$101,'Licence Info'!$C$37:$DW$37,FALSE))*$C$9+OFFSET(Licence_Subst,MATCH($B122,'Licence Info'!$B$74:$B$98,FALSE),MATCH(Control!AZ$101,'Licence Info'!$C$71:$DW$71,FALSE))*$C$9+OFFSET(Licence_OIEC,MATCH($B122,'Licence Info'!$B$108:$B$132,FALSE),MATCH(Control!AZ$101,'Licence Info'!$C$105:$DW$105,FALSE))-AZ60)","v":855},{"$f":"MAX(0,OFFSET(Licence_IBEC,MATCH($B122,'Licence Info'!$B$40:$B$64,FALSE),MATCH(Control!BA$101,'Licence Info'!$C$37:$DW$37,FALSE))*$C$9+OFFSET(Licence_Subst,MATCH($B122,'Licence Info'!$B$74:$B$98,FALSE),MATCH(Control!BA$101,'Licence Info'!$C$71:$DW$71,FALSE))*$C$9+OFFSET(Licence_OIEC,MATCH($B122,'Licence Info'!$B$108:$B$132,FALSE),MATCH(Control!BA$101,'Licence Info'!$C$105:$DW$105,FALSE))-BA60)","v":855},{"$f":"MAX(0,OFFSET(Licence_IBEC,MATCH($B122,'Licence Info'!$B$40:$B$64,FALSE),MATCH(Control!BB$101,'Licence Info'!$C$37:$DW$37,FALSE))*$C$9+OFFSET(Licence_Subst,MATCH($B122,'Licence Info'!$B$74:$B$98,FALSE),MATCH(Control!BB$101,'Licence Info'!$C$71:$DW$71,FALSE))*$C$9+OFFSET(Licence_OIEC,MATCH($B122,'Licence Info'!$B$108:$B$132,FALSE),MATCH(Control!BB$101,'Licence Info'!$C$105:$DW$105,FALSE))-BB60)","v":855},{"$f":"MAX(0,OFFSET(Licence_IBEC,MATCH($B122,'Licence Info'!$B$40:$B$64,FALSE),MATCH(Control!BC$101,'Licence Info'!$C$37:$DW$37,FALSE))*$C$9+OFFSET(Licence_Subst,MATCH($B122,'Licence Info'!$B$74:$B$98,FALSE),MATCH(Control!BC$101,'Licence Info'!$C$71:$DW$71,FALSE))*$C$9+OFFSET(Licence_OIEC,MATCH($B122,'Licence Info'!$B$108:$B$132,FALSE),MATCH(Control!BC$101,'Licence Info'!$C$105:$DW$105,FALSE))-BC60)","v":855},{"$f":"MAX(0,OFFSET(Licence_IBEC,MATCH($B122,'Licence Info'!$B$40:$B$64,FALSE),MATCH(Control!BD$101,'Licence Info'!$C$37:$DW$37,FALSE))*$C$9+OFFSET(Licence_Subst,MATCH($B122,'Licence Info'!$B$74:$B$98,FALSE),MATCH(Control!BD$101,'Licence Info'!$C$71:$DW$71,FALSE))*$C$9+OFFSET(Licence_OIEC,MATCH($B122,'Licence Info'!$B$108:$B$132,FALSE),MATCH(Control!BD$101,'Licence Info'!$C$105:$DW$105,FALSE))-BD60)","v":855},{"$f":"MAX(0,OFFSET(Licence_IBEC,MATCH($B122,'Licence Info'!$B$40:$B$64,FALSE),MATCH(Control!BE$101,'Licence Info'!$C$37:$DW$37,FALSE))*$C$9+OFFSET(Licence_Subst,MATCH($B122,'Licence Info'!$B$74:$B$98,FALSE),MATCH(Control!BE$101,'Licence Info'!$C$71:$DW$71,FALSE))*$C$9+OFFSET(Licence_OIEC,MATCH($B122,'Licence Info'!$B$108:$B$132,FALSE),MATCH(Control!BE$101,'Licence Info'!$C$105:$DW$105,FALSE))-BE60)","v":855},{"$f":"MAX(0,OFFSET(Licence_IBEC,MATCH($B122,'Licence Info'!$B$40:$B$64,FALSE),MATCH(Control!BF$101,'Licence Info'!$C$37:$DW$37,FALSE))*$C$9+OFFSET(Licence_Subst,MATCH($B122,'Licence Info'!$B$74:$B$98,FALSE),MATCH(Control!BF$101,'Licence Info'!$C$71:$DW$71,FALSE))*$C$9+OFFSET(Licence_OIEC,MATCH($B122,'Licence Info'!$B$108:$B$132,FALSE),MATCH(Control!BF$101,'Licence Info'!$C$105:$DW$105,FALSE))-BF60)","v":855},{"$f":"MAX(0,OFFSET(Licence_IBEC,MATCH($B122,'Licence Info'!$B$40:$B$64,FALSE),MATCH(Control!BG$101,'Licence Info'!$C$37:$DW$37,FALSE))*$C$9+OFFSET(Licence_Subst,MATCH($B122,'Licence Info'!$B$74:$B$98,FALSE),MATCH(Control!BG$101,'Licence Info'!$C$71:$DW$71,FALSE))*$C$9+OFFSET(Licence_OIEC,MATCH($B122,'Licence Info'!$B$108:$B$132,FALSE),MATCH(Control!BG$101,'Licence Info'!$C$105:$DW$105,FALSE))-BG60)","v":855},{"$f":"MAX(0,OFFSET(Licence_IBEC,MATCH($B122,'Licence Info'!$B$40:$B$64,FALSE),MATCH(Control!BH$101,'Licence Info'!$C$37:$DW$37,FALSE))*$C$9+OFFSET(Licence_Subst,MATCH($B122,'Licence Info'!$B$74:$B$98,FALSE),MATCH(Control!BH$101,'Licence Info'!$C$71:$DW$71,FALSE))*$C$9+OFFSET(Licence_OIEC,MATCH($B122,'Licence Info'!$B$108:$B$132,FALSE),MATCH(Control!BH$101,'Licence Info'!$C$105:$DW$105,FALSE))-BH60)","v":855},{"$f":"MAX(0,OFFSET(Licence_IBEC,MATCH($B122,'Licence Info'!$B$40:$B$64,FALSE),MATCH(Control!BI$101,'Licence Info'!$C$37:$DW$37,FALSE))*$C$9+OFFSET(Licence_Subst,MATCH($B122,'Licence Info'!$B$74:$B$98,FALSE),MATCH(Control!BI$101,'Licence Info'!$C$71:$DW$71,FALSE))*$C$9+OFFSET(Licence_OIEC,MATCH($B122,'Licence Info'!$B$108:$B$132,FALSE),MATCH(Control!BI$101,'Licence Info'!$C$105:$DW$105,FALSE))-BI60)","v":855},{"$f":"MAX(0,OFFSET(Licence_IBEC,MATCH($B122,'Licence Info'!$B$40:$B$64,FALSE),MATCH(Control!BJ$101,'Licence Info'!$C$37:$DW$37,FALSE))*$C$9+OFFSET(Licence_Subst,MATCH($B122,'Licence Info'!$B$74:$B$98,FALSE),MATCH(Control!BJ$101,'Licence Info'!$C$71:$DW$71,FALSE))*$C$9+OFFSET(Licence_OIEC,MATCH($B122,'Licence Info'!$B$108:$B$132,FALSE),MATCH(Control!BJ$101,'Licence Info'!$C$105:$DW$105,FALSE))-BJ60)","v":855},{"$f":"MAX(0,OFFSET(Licence_IBEC,MATCH($B122,'Licence Info'!$B$40:$B$64,FALSE),MATCH(Control!BK$101,'Licence Info'!$C$37:$DW$37,FALSE))*$C$9+OFFSET(Licence_Subst,MATCH($B122,'Licence Info'!$B$74:$B$98,FALSE),MATCH(Control!BK$101,'Licence Info'!$C$71:$DW$71,FALSE))*$C$9+OFFSET(Licence_OIEC,MATCH($B122,'Licence Info'!$B$108:$B$132,FALSE),MATCH(Control!BK$101,'Licence Info'!$C$105:$DW$105,FALSE))-BK60)","v":{"$error":"#N/A"}}]
[null,"Barton Stacey",{"$f":"MAX(0,OFFSET(Licence_IBEC,MATCH($B123,'Licence Info'!$B$40:$B$64,FALSE),MATCH(Control!C$101,'Licence Info'!$C$37:$DW$37,FALSE))*$C$9+OFFSET(Licence_Subst,MATCH($B123,'Licence Info'!$B$74:$B$98,FALSE),MATCH(Control!C$101,'Licence Info'!$C$71:$DW$71,FALSE))*$C$9+OFFSET(Licence_OIEC,MATCH($B123,'Licence Info'!$B$108:$B$132,FALSE),MATCH(Control!C$101,'Licence Info'!$C$105:$DW$105,FALSE))-C61)","v":65.34},{"$f":"MAX(0,OFFSET(Licence_IBEC,MATCH($B123,'Licence Info'!$B$40:$B$64,FALSE),MATCH(Control!D$101,'Licence Info'!$C$37:$DW$37,FALSE))*$C$9+OFFSET(Licence_Subst,MATCH($B123,'Licence Info'!$B$74:$B$98,FALSE),MATCH(Control!D$101,'Licence Info'!$C$71:$DW$71,FALSE))*$C$9+OFFSET(Licence_OIEC,MATCH($B123,'Licence Info'!$B$108:$B$132,FALSE),MATCH(Control!D$101,'Licence Info'!$C$105:$DW$105,FALSE))-D61)","v":65.34},{"$f":"MAX(0,OFFSET(Licence_IBEC,MATCH($B123,'Licence Info'!$B$40:$B$64,FALSE),MATCH(Control!E$101,'Licence Info'!$C$37:$DW$37,FALSE))*$C$9+OFFSET(Licence_Subst,MATCH($B123,'Licence Info'!$B$74:$B$98,FALSE),MATCH(Control!E$101,'Licence Info'!$C$71:$DW$71,FALSE))*$C$9+OFFSET(Licence_OIEC,MATCH($B123,'Licence Info'!$B$108:$B$132,FALSE),MATCH(Control!E$101,'Licence Info'!$C$105:$DW$105,FALSE))-E61)","v":65.34},{"$f":"MAX(0,OFFSET(Licence_IBEC,MATCH($B123,'Licence Info'!$B$40:$B$64,FALSE),MATCH(Control!F$101,'Licence Info'!$C$37:$DW$37,FALSE))*$C$9+OFFSET(Licence_Subst,MATCH($B123,'Licence Info'!$B$74:$B$98,FALSE),MATCH(Control!F$101,'Licence Info'!$C$71:$DW$71,FALSE))*$C$9+OFFSET(Licence_OIEC,MATCH($B123,'Licence Info'!$B$108:$B$132,FALSE),MATCH(Control!F$101,'Licence Info'!$C$105:$DW$105,FALSE))-F61)","v":65.34},{"$f":"MAX(0,OFFSET(Licence_IBEC,MATCH($B123,'Licence Info'!$B$40:$B$64,FALSE),MATCH(Control!G$101,'Licence Info'!$C$37:$DW$37,FALSE))*$C$9+OFFSET(Licence_Subst,MATCH($B123,'Licence Info'!$B$74:$B$98,FALSE),MATCH(Control!G$101,'Licence Info'!$C$71:$DW$71,FALSE))*$C$9+OFFSET(Licence_OIEC,MATCH($B123,'Licence Info'!$B$108:$B$132,FALSE),MATCH(Control!G$101,'Licence Info'!$C$105:$DW$105,FALSE))-G61)","v":65.34},{"$f":"MAX(0,OFFSET(Licence_IBEC,MATCH($B123,'Licence Info'!$B$40:$B$64,FALSE),MATCH(Control!H$101,'Licence Info'!$C$37:$DW$37,FALSE))*$C$9+OFFSET(Licence_Subst,MATCH($B123,'Licence Info'!$B$74:$B$98,FALSE),MATCH(Control!H$101,'Licence Info'!$C$71:$DW$71,FALSE))*$C$9+OFFSET(Licence_OIEC,MATCH($B123,'Licence Info'!$B$108:$B$132,FALSE),MATCH(Control!H$101,'Licence Info'!$C$105:$DW$105,FALSE))-H61)","v":65.34},{"$f":"MAX(0,OFFSET(Licence_IBEC,MATCH($B123,'Licence Info'!$B$40:$B$64,FALSE),MATCH(Control!I$101,'Licence Info'!$C$37:$DW$37,FALSE))*$C$9+OFFSET(Licence_Subst,MATCH($B123,'Licence Info'!$B$74:$B$98,FALSE),MATCH(Control!I$101,'Licence Info'!$C$71:$DW$71,FALSE))*$C$9+OFFSET(Licence_OIEC,MATCH($B123,'Licence Info'!$B$108:$B$132,FALSE),MATCH(Control!I$101,'Licence Info'!$C$105:$DW$105,FALSE))-I61)","v":83.34},{"$f":"MAX(0,OFFSET(Licence_IBEC,MATCH($B123,'Licence Info'!$B$40:$B$64,FALSE),MATCH(Control!J$101,'Licence Info'!$C$37:$DW$37,FALSE))*$C$9+OFFSET(Licence_Subst,MATCH($B123,'Licence Info'!$B$74:$B$98,FALSE),MATCH(Control!J$101,'Licence Info'!$C$71:$DW$71,FALSE))*$C$9+OFFSET(Licence_OIEC,MATCH($B123,'Licence Info'!$B$108:$B$132,FALSE),MATCH(Control!J$101,'Licence Info'!$C$105:$DW$105,FALSE))-J61)","v":83.34},{"$f":"MAX(0,OFFSET(Licence_IBEC,MATCH($B123,'Licence Info'!$B$40:$B$64,FALSE),MATCH(Control!K$101,'Licence Info'!$C$37:$DW$37,FALSE))*$C$9+OFFSET(Licence_Subst,MATCH($B123,'Licence Info'!$B$74:$B$98,FALSE),MATCH(Control!K$101,'Licence Info'!$C$71:$DW$71,FALSE))*$C$9+OFFSET(Licence_OIEC,MATCH($B123,'Licence Info'!$B$108:$B$132,FALSE),MATCH(Control!K$101,'Licence Info'!$C$105:$DW$105,FALSE))-K61)","v":83.34},{"$f":"MAX(0,OFFSET(Licence_IBEC,MATCH($B123,'Licence Info'!$B$40:$B$64,FALSE),MATCH(Control!L$101,'Licence Info'!$C$37:$DW$37,FALSE))*$C$9+OFFSET(Licence_Subst,MATCH($B123,'Licence Info'!$B$74:$B$98,FALSE),MATCH(Control!L$101,'Licence Info'!$C$71:$DW$71,FALSE))*$C$9+OFFSET(Licence_OIEC,MATCH($B123,'Licence Info'!$B$108:$B$132,FALSE),MATCH(Control!L$101,'Licence Info'!$C$105:$DW$105,FALSE))-L61)","v":83.34},{"$f":"MAX(0,OFFSET(Licence_IBEC,MATCH($B123,'Licence Info'!$B$40:$B$64,FALSE),MATCH(Control!M$101,'Licence Info'!$C$37:$DW$37,FALSE))*$C$9+OFFSET(Licence_Subst,MATCH($B123,'Licence Info'!$B$74:$B$98,FALSE),MATCH(Control!M$101,'Licence Info'!$C$71:$DW$71,FALSE))*$C$9+OFFSET(Licence_OIEC,MATCH($B123,'Licence Info'!$B$108:$B$132,FALSE),MATCH(Control!M$101,'Licence Info'!$C$105:$DW$105,FALSE))-M61)","v":155.34},{"$f":"MAX(0,OFFSET(Licence_IBEC,MATCH($B123,'Licence Info'!$B$40:$B$64,FALSE),MATCH(Control!N$101,'Licence Info'!$C$37:$DW$37,FALSE))*$C$9+OFFSET(Licence_Subst,MATCH($B123,'Licence Info'!$B$74:$B$98,FALSE),MATCH(Control!N$101,'Licence Info'!$C$71:$DW$71,FALSE))*$C$9+OFFSET(Licence_OIEC,MATCH($B123,'Licence Info'!$B$108:$B$132,FALSE),MATCH(Control!N$101,'Licence Info'!$C$105:$DW$105,FALSE))-N61)","v":155.34},{"$f":"MAX(0,OFFSET(Licence_IBEC,MATCH($B123,'Licence Info'!$B$40:$B$64,FALSE),MATCH(Control!O$101,'Licence Info'!$C$37:$DW$37,FALSE))*$C$9+OFFSET(Licence_Subst,MATCH($B123,'Licence Info'!$B$74:$B$98,FALSE),MATCH(Control!O$101,'Licence Info'!$C$71:$DW$71,FALSE))*$C$9+OFFSET(Licence_OIEC,MATCH($B123,'Licence Info'!$B$108:$B$132,FALSE),MATCH(Control!O$101,'Licence Info'!$C$105:$DW$105,FALSE))-O61)","v":155.34},{"$f":"MAX(0,OFFSET(Licence_IBEC,MATCH($B123,'Licence Info'!$B$40:$B$64,FALSE),MATCH(Control!P$101,'Licence Info'!$C$37:$DW$37,FALSE))*$C$9+OFFSET(Licence_Subst,MATCH($B123,'Licence Info'!$B$74:$B$98,FALSE),MATCH(Control!P$101,'Licence Info'!$C$71:$DW$71,FALSE))*$C$9+OFFSET(Licence_OIEC,MATCH($B123,'Licence Info'!$B$108:$B$132,FALSE),MATCH(Control!P$101,'Licence Info'!$C$105:$DW$105,FALSE))-P61)","v":155.34},{"$f":"MAX(0,OFFSET(Licence_IBEC,MATCH($B123,'Licence Info'!$B$40:$B$64,FALSE),MATCH(Control!Q$101,'Licence Info'!$C$37:$DW$37,FALSE))*$C$9+OFFSET(Licence_Subst,MATCH($B123,'Licence Info'!$B$74:$B$98,FALSE),MATCH(Control!Q$101,'Licence Info'!$C$71:$DW$71,FALSE))*$C$9+OFFSET(Licence_OIEC,MATCH($B123,'Licence Info'!$B$108:$B$132,FALSE),MATCH(Control!Q$101,'Licence Info'!$C$105:$DW$105,FALSE))-Q61)","v":155.34},{"$f":"MAX(0,OFFSET(Licence_IBEC,MATCH($B123,'Licence Info'!$B$40:$B$64,FALSE),MATCH(Control!R$101,'Licence Info'!$C$37:$DW$37,FALSE))*$C$9+OFFSET(Licence_Subst,MATCH($B123,'Licence Info'!$B$74:$B$98,FALSE),MATCH(Control!R$101,'Licence Info'!$C$71:$DW$71,FALSE))*$C$9+OFFSET(Licence_OIEC,MATCH($B123,'Licence Info'!$B$108:$B$132,FALSE),MATCH(Control!R$101,'Licence Info'!$C$105:$DW$105,FALSE))-R61)","v":155.34},{"$f":"MAX(0,OFFSET(Licence_IBEC,MATCH($B123,'Licence Info'!$B$40:$B$64,FALSE),MATCH(Control!S$101,'Licence Info'!$C$37:$DW$37,FALSE))*$C$9+OFFSET(Licence_Subst,MATCH($B123,'Licence Info'!$B$74:$B$98,FALSE),MATCH(Control!S$101,'Licence Info'!$C$71:$DW$71,FALSE))*$C$9+OFFSET(Licence_OIEC,MATCH($B123,'Licence Info'!$B$108:$B$132,FALSE),MATCH(Control!S$101,'Licence Info'!$C$105:$DW$105,FALSE))-S61)","v":155.34},{"$f":"MAX(0,OFFSET(Licence_IBEC,MATCH($B123,'Licence Info'!$B$40:$B$64,FALSE),MATCH(Control!T$101,'Licence Info'!$C$37:$DW$37,FALSE))*$C$9+OFFSET(Licence_Subst,MATCH($B123,'Licence Info'!$B$74:$B$98,FALSE),MATCH(Control!T$101,'Licence Info'!$C$71:$DW$71,FALSE))*$C$9+OFFSET(Licence_OIEC,MATCH($B123,'Licence Info'!$B$108:$B$132,FALSE),MATCH(Control!T$101,'Licence Info'!$C$105:$DW$105,FALSE))-T61)","v":155.34},{"$f":"MAX(0,OFFSET(Licence_IBEC,MATCH($B123,'Licence Info'!$B$40:$B$64,FALSE),MATCH(Control!U$101,'Licence Info'!$C$37:$DW$37,FALSE))*$C$9+OFFSET(Licence_Subst,MATCH($B123,'Licence Info'!$B$74:$B$98,FALSE),MATCH(Control!U$101,'Licence Info'!$C$71:$DW$71,FALSE))*$C$9+OFFSET(Licence_OIEC,MATCH($B123,'Licence Info'!$B$108:$B$132,FALSE),MATCH(Control!U$101,'Licence Info'!$C$105:$DW$105,FALSE))-U61)","v":155.34},{"$f":"MAX(0,OFFSET(Licence_IBEC,MATCH($B123,'Licence Info'!$B$40:$B$64,FALSE),MATCH(Control!V$101,'Licence Info'!$C$37:$DW$37,FALSE))*$C$9+OFFSET(Licence_Subst,MATCH($B123,'Licence Info'!$B$74:$B$98,FALSE),MATCH(Control!V$101,'Licence Info'!$C$71:$DW$71,FALSE))*$C$9+OFFSET(Licence_OIEC,MATCH($B123,'Licence Info'!$B$108:$B$132,FALSE),MATCH(Control!V$101,'Licence Info'!$C$105:$DW$105,FALSE))-V61)","v":155.34},{"$f":"MAX(0,OFFSET(Licence_IBEC,MATCH($B123,'Licence Info'!$B$40:$B$64,FALSE),MATCH(Control!W$101,'Licence Info'!$C$37:$DW$37,FALSE))*$C$9+OFFSET(Licence_Subst,MATCH($B123,'Licence Info'!$B$74:$B$98,FALSE),MATCH(Control!W$101,'Licence Info'!$C$71:$DW$71,FALSE))*$C$9+OFFSET(Licence_OIEC,MATCH($B123,'Licence Info'!$B$108:$B$132,FALSE),MATCH(Control!W$101,'Licence Info'!$C$105:$DW$105,FALSE))-W61)","v":155.34},{"$f":"MAX(0,OFFSET(Licence_IBEC,MATCH($B123,'Licence Info'!$B$40:$B$64,FALSE),MATCH(Control!X$101,'Licence Info'!$C$37:$DW$37,FALSE))*$C$9+OFFSET(Licence_Subst,MATCH($B123,'Licence Info'!$B$74:$B$98,FALSE),MATCH(Control!X$101,'Licence Info'!$C$71:$DW$71,FALSE))*$C$9+OFFSET(Licence_OIEC,MATCH($B123,'Licence Info'!$B$108:$B$132,FALSE),MATCH(Control!X$101,'Licence Info'!$C$105:$DW$105,FALSE))-X61)","v":155.34},{"$f":"MAX(0,OFFSET(Licence_IBEC,MATCH($B123,'Licence Info'!$B$40:$B$64,FALSE),MATCH(Control!Y$101,'Licence Info'!$C$37:$DW$37,FALSE))*$C$9+OFFSET(Licence_Subst,MATCH($B123,'Licence Info'!$B$74:$B$98,FALSE),MATCH(Control!Y$101,'Licence Info'!$C$71:$DW$71,FALSE))*$C$9+OFFSET(Licence_OIEC,MATCH($B123,'Licence Info'!$B$108:$B$132,FALSE),MATCH(Control!Y$101,'Licence Info'!$C$105:$DW$105,FALSE))-Y61)","v":155.34},{"$f":"MAX(0,OFFSET(Licence_IBEC,MATCH($B123,'Licence Info'!$B$40:$B$64,FALSE),MATCH(Control!Z$101,'Licence Info'!$C$37:$DW$37,FALSE))*$C$9+OFFSET(Licence_Subst,MATCH($B123,'Licence Info'!$B$74:$B$98,FALSE),MATCH(Control!Z$101,'Licence Info'!$C$71:$DW$71,FALSE))*$C$9+OFFSET(Licence_OIEC,MATCH($B123,'Licence Info'!$B$108:$B$132,FALSE),MATCH(Control!Z$101,'Licence Info'!$C$105:$DW$105,FALSE))-Z61)","v":155.34},{"$f":"MAX(0,OFFSET(Licence_IBEC,MATCH($B123,'Licence Info'!$B$40:$B$64,FALSE),MATCH(Control!AA$101,'Licence Info'!$C$37:$DW$37,FALSE))*$C$9+OFFSET(Licence_Subst,MATCH($B123,'Licence Info'!$B$74:$B$98,FALSE),MATCH(Control!AA$101,'Licence Info'!$C$71:$DW$71,FALSE))*$C$9+OFFSET(Licence_OIEC,MATCH($B123,'Licence Info'!$B$108:$B$132,FALSE),MATCH(Control!AA$101,'Licence Info'!$C$105:$DW$105,FALSE))-AA61)","v":155.34},{"$f":"MAX(0,OFFSET(Licence_IBEC,MATCH($B123,'Licence Info'!$B$40:$B$64,FALSE),MATCH(Control!AB$101,'Licence Info'!$C$37:$DW$37,FALSE))*$C$9+OFFSET(Licence_Subst,MATCH($B123,'Licence Info'!$B$74:$B$98,FALSE),MATCH(Control!AB$101,'Licence Info'!$C$71:$DW$71,FALSE))*$C$9+OFFSET(Licence_OIEC,MATCH($B123,'Licence Info'!$B$108:$B$132,FALSE),MATCH(Control!AB$101,'Licence Info'!$C$105:$DW$105,FALSE))-AB61)","v":155.34},{"$f":"MAX(0,OFFSET(Licence_IBEC,MATCH($B123,'Licence Info'!$B$40:$B$64,FALSE),MATCH(Control!AC$101,'Licence Info'!$C$37:$DW$37,FALSE))*$C$9+OFFSET(Licence_Subst,MATCH($B123,'Licence Info'!$B$74:$B$98,FALSE),MATCH(Control!AC$101,'Licence Info'!$C$71:$DW$71,FALSE))*$C$9+OFFSET(Licence_OIEC,MATCH($B123,'Licence Info'!$B$108:$B$132,FALSE),MATCH(Control!AC$101,'Licence Info'!$C$105:$DW$105,FALSE))-AC61)","v":155.34},{"$f":"MAX(0,OFFSET(Licence_IBEC,MATCH($B123,'Licence Info'!$B$40:$B$64,FALSE),MATCH(Control!AD$101,'Licence Info'!$C$37:$DW$37,FALSE))*$C$9+OFFSET(Licence_Subst,MATCH($B123,'Licence Info'!$B$74:$B$98,FALSE),MATCH(Control!AD$101,'Licence Info'!$C$71:$DW$71,FALSE))*$C$9+OFFSET(Licence_OIEC,MATCH($B123,'Licence Info'!$B$108:$B$132,FALSE),MATCH(Control!AD$101,'Licence Info'!$C$105:$DW$105,FALSE))-AD61)","v":155.34},{"$f":"MAX(0,OFFSET(Licence_IBEC,MATCH($B123,'Licence Info'!$B$40:$B$64,FALSE),MATCH(Control!AE$101,'Licence Info'!$C$37:$DW$37,FALSE))*$C$9+OFFSET(Licence_Subst,MATCH($B123,'Licence Info'!$B$74:$B$98,FALSE),MATCH(Control!AE$101,'Licence Info'!$C$71:$DW$71,FALSE))*$C$9+OFFSET(Licence_OIEC,MATCH($B123,'Licence Info'!$B$108:$B$132,FALSE),MATCH(Control!AE$101,'Licence Info'!$C$105:$DW$105,FALSE))-AE61)","v":155.34},{"$f":"MAX(0,OFFSET(Licence_IBEC,MATCH($B123,'Licence Info'!$B$40:$B$64,FALSE),MATCH(Control!AF$101,'Licence Info'!$C$37:$DW$37,FALSE))*$C$9+OFFSET(Licence_Subst,MATCH($B123,'Licence Info'!$B$74:$B$98,FALSE),MATCH(Control!AF$101,'Licence Info'!$C$71:$DW$71,FALSE))*$C$9+OFFSET(Licence_OIEC,MATCH($B123,'Licence Info'!$B$108:$B$132,FALSE),MATCH(Control!AF$101,'Licence Info'!$C$105:$DW$105,FALSE))-AF61)","v":155.34},{"$f":"MAX(0,OFFSET(Licence_IBEC,MATCH($B123,'Licence Info'!$B$40:$B$64,FALSE),MATCH(Control!AG$101,'Licence Info'!$C$37:$DW$37,FALSE))*$C$9+OFFSET(Licence_Subst,MATCH($B123,'Licence Info'!$B$74:$B$98,FALSE),MATCH(Control!AG$101,'Licence Info'!$C$71:$DW$71,FALSE))*$C$9+OFFSET(Licence_OIEC,MATCH($B123,'Licence Info'!$B$108:$B$132,FALSE),MATCH(Control!AG$101,'Licence Info'!$C$105:$DW$105,FALSE))-AG61)","v":155.34},{"$f":"MAX(0,OFFSET(Licence_IBEC,MATCH($B123,'Licence Info'!$B$40:$B$64,FALSE),MATCH(Control!AH$101,'Licence Info'!$C$37:$DW$37,FALSE))*$C$9+OFFSET(Licence_Subst,MATCH($B123,'Licence Info'!$B$74:$B$98,FALSE),MATCH(Control!AH$101,'Licence Info'!$C$71:$DW$71,FALSE))*$C$9+OFFSET(Licence_OIEC,MATCH($B123,'Licence Info'!$B$108:$B$132,FALSE),MATCH(Control!AH$101,'Licence Info'!$C$105:$DW$105,FALSE))-AH61)","v":155.34},{"$f":"MAX(0,OFFSET(Licence_IBEC,MATCH($B123,'Licence Info'!$B$40:$B$64,FALSE),MATCH(Control!AI$101,'Licence Info'!$C$37:$DW$37,FALSE))*$C$9+OFFSET(Licence_Subst,MATCH($B123,'Licence Info'!$B$74:$B$98,FALSE),MATCH(Control!AI$101,'Licence Info'!$C$71:$DW$71,FALSE))*$C$9+OFFSET(Licence_OIEC,MATCH($B123,'Licence Info'!$B$108:$B$132,FALSE),MATCH(Control!AI$101,'Licence Info'!$C$105:$DW$105,FALSE))-AI61)","v":155.34},{"$f":"MAX(0,OFFSET(Licence_IBEC,MATCH($B123,'Licence Info'!$B$40:$B$64,FALSE),MATCH(Control!AJ$101,'Licence Info'!$C$37:$DW$37,FALSE))*$C$9+OFFSET(Licence_Subst,MATCH($B123,'Licence Info'!$B$74:$B$98,FALSE),MATCH(Control!AJ$101,'Licence Info'!$C$71:$DW$71,FALSE))*$C$9+OFFSET(Licence_OIEC,MATCH($B123,'Licence Info'!$B$108:$B$132,FALSE),MATCH(Control!AJ$101,'Licence Info'!$C$105:$DW$105,FALSE))-AJ61)","v":155.34},{"$f":"MAX(0,OFFSET(Licence_IBEC,MATCH($B123,'Licence Info'!$B$40:$B$64,FALSE),MATCH(Control!AK$101,'Licence Info'!$C$37:$DW$37,FALSE))*$C$9+OFFSET(Licence_Subst,MATCH($B123,'Licence Info'!$B$74:$B$98,FALSE),MATCH(Control!AK$101,'Licence Info'!$C$71:$DW$71,FALSE))*$C$9+OFFSET(Licence_OIEC,MATCH($B123,'Licence Info'!$B$108:$B$132,FALSE),MATCH(Control!AK$101,'Licence Info'!$C$105:$DW$105,FALSE))-AK61)","v":155.34},{"$f":"MAX(0,OFFSET(Licence_IBEC,MATCH($B123,'Licence Info'!$B$40:$B$64,FALSE),MATCH(Control!AL$101,'Licence Info'!$C$37:$DW$37,FALSE))*$C$9+OFFSET(Licence_Subst,MATCH($B123,'Licence Info'!$B$74:$B$98,FALSE),MATCH(Control!AL$101,'Licence Info'!$C$71:$DW$71,FALSE))*$C$9+OFFSET(Licence_OIEC,MATCH($B123,'Licence Info'!$B$108:$B$132,FALSE),MATCH(Control!AL$101,'Licence Info'!$C$105:$DW$105,FALSE))-AL61)","v":155.34},{"$f":"MAX(0,OFFSET(Licence_IBEC,MATCH($B123,'Licence Info'!$B$40:$B$64,FALSE),MATCH(Control!AM$101,'Licence Info'!$C$37:$DW$37,FALSE))*$C$9+OFFSET(Licence_Subst,MATCH($B123,'Licence Info'!$B$74:$B$98,FALSE),MATCH(Control!AM$101,'Licence Info'!$C$71:$DW$71,FALSE))*$C$9+OFFSET(Licence_OIEC,MATCH($B123,'Licence Info'!$B$108:$B$132,FALSE),MATCH(Control!AM$101,'Licence Info'!$C$105:$DW$105,FALSE))-AM61)","v":155.34},{"$f":"MAX(0,OFFSET(Licence_IBEC,MATCH($B123,'Licence Info'!$B$40:$B$64,FALSE),MATCH(Control!AN$101,'Licence Info'!$C$37:$DW$37,FALSE))*$C$9+OFFSET(Licence_Subst,MATCH($B123,'Licence Info'!$B$74:$B$98,FALSE),MATCH(Control!AN$101,'Licence Info'!$C$71:$DW$71,FALSE))*$C$9+OFFSET(Licence_OIEC,MATCH($B123,'Licence Info'!$B$108:$B$132,FALSE),MATCH(Control!AN$101,'Licence Info'!$C$105:$DW$105,FALSE))-AN61)","v":155.34},{"$f":"MAX(0,OFFSET(Licence_IBEC,MATCH($B123,'Licence Info'!$B$40:$B$64,FALSE),MATCH(Control!AO$101,'Licence Info'!$C$37:$DW$37,FALSE))*$C$9+OFFSET(Licence_Subst,MATCH($B123,'Licence Info'!$B$74:$B$98,FALSE),MATCH(Control!AO$101,'Licence Info'!$C$71:$DW$71,FALSE))*$C$9+OFFSET(Licence_OIEC,MATCH($B123,'Licence Info'!$B$108:$B$132,FALSE),MATCH(Control!AO$101,'Licence Info'!$C$105:$DW$105,FALSE))-AO61)","v":155.34},{"$f":"MAX(0,OFFSET(Licence_IBEC,MATCH($B123,'Licence Info'!$B$40:$B$64,FALSE),MATCH(Control!AP$101,'Licence Info'!$C$37:$DW$37,FALSE))*$C$9+OFFSET(Licence_Subst,MATCH($B123,'Licence Info'!$B$74:$B$98,FALSE),MATCH(Control!AP$101,'Licence Info'!$C$71:$DW$71,FALSE))*$C$9+OFFSET(Licence_OIEC,MATCH($B123,'Licence Info'!$B$108:$B$132,FALSE),MATCH(Control!AP$101,'Licence Info'!$C$105:$DW$105,FALSE))-AP61)","v":155.34},{"$f":"MAX(0,OFFSET(Licence_IBEC,MATCH($B123,'Licence Info'!$B$40:$B$64,FALSE),MATCH(Control!AQ$101,'Licence Info'!$C$37:$DW$37,FALSE))*$C$9+OFFSET(Licence_Subst,MATCH($B123,'Licence Info'!$B$74:$B$98,FALSE),MATCH(Control!AQ$101,'Licence Info'!$C$71:$DW$71,FALSE))*$C$9+OFFSET(Licence_OIEC,MATCH($B123,'Licence Info'!$B$108:$B$132,FALSE),MATCH(Control!AQ$101,'Licence Info'!$C$105:$DW$105,FALSE))-AQ61)","v":155.34},{"$f":"MAX(0,OFFSET(Licence_IBEC,MATCH($B123,'Licence Info'!$B$40:$B$64,FALSE),MATCH(Control!AR$101,'Licence Info'!$C$37:$DW$37,FALSE))*$C$9+OFFSET(Licence_Subst,MATCH($B123,'Licence Info'!$B$74:$B$98,FALSE),MATCH(Control!AR$101,'Licence Info'!$C$71:$DW$71,FALSE))*$C$9+OFFSET(Licence_OIEC,MATCH($B123,'Licence Info'!$B$108:$B$132,FALSE),MATCH(Control!AR$101,'Licence Info'!$C$105:$DW$105,FALSE))-AR61)","v":155.34},{"$f":"MAX(0,OFFSET(Licence_IBEC,MATCH($B123,'Licence Info'!$B$40:$B$64,FALSE),MATCH(Control!AS$101,'Licence Info'!$C$37:$DW$37,FALSE))*$C$9+OFFSET(Licence_Subst,MATCH($B123,'Licence Info'!$B$74:$B$98,FALSE),MATCH(Control!AS$101,'Licence Info'!$C$71:$DW$71,FALSE))*$C$9+OFFSET(Licence_OIEC,MATCH($B123,'Licence Info'!$B$108:$B$132,FALSE),MATCH(Control!AS$101,'Licence Info'!$C$105:$DW$105,FALSE))-AS61)","v":155.34},{"$f":"MAX(0,OFFSET(Licence_IBEC,MATCH($B123,'Licence Info'!$B$40:$B$64,FALSE),MATCH(Control!AT$101,'Licence Info'!$C$37:$DW$37,FALSE))*$C$9+OFFSET(Licence_Subst,MATCH($B123,'Licence Info'!$B$74:$B$98,FALSE),MATCH(Control!AT$101,'Licence Info'!$C$71:$DW$71,FALSE))*$C$9+OFFSET(Licence_OIEC,MATCH($B123,'Licence Info'!$B$108:$B$132,FALSE),MATCH(Control!AT$101,'Licence Info'!$C$105:$DW$105,FALSE))-AT61)","v":155.34},{"$f":"MAX(0,OFFSET(Licence_IBEC,MATCH($B123,'Licence Info'!$B$40:$B$64,FALSE),MATCH(Control!AU$101,'Licence Info'!$C$37:$DW$37,FALSE))*$C$9+OFFSET(Licence_Subst,MATCH($B123,'Licence Info'!$B$74:$B$98,FALSE),MATCH(Control!AU$101,'Licence Info'!$C$71:$DW$71,FALSE))*$C$9+OFFSET(Licence_OIEC,MATCH($B123,'Licence Info'!$B$108:$B$132,FALSE),MATCH(Control!AU$101,'Licence Info'!$C$105:$DW$105,FALSE))-AU61)","v":155.34},{"$f":"MAX(0,OFFSET(Licence_IBEC,MATCH($B123,'Licence Info'!$B$40:$B$64,FALSE),MATCH(Control!AV$101,'Licence Info'!$C$37:$DW$37,FALSE))*$C$9+OFFSET(Licence_Subst,MATCH($B123,'Licence Info'!$B$74:$B$98,FALSE),MATCH(Control!AV$101,'Licence Info'!$C$71:$DW$71,FALSE))*$C$9+OFFSET(Licence_OIEC,MATCH($B123,'Licence Info'!$B$108:$B$132,FALSE),MATCH(Control!AV$101,'Licence Info'!$C$105:$DW$105,FALSE))-AV61)","v":155.34},{"$f":"MAX(0,OFFSET(Licence_IBEC,MATCH($B123,'Licence Info'!$B$40:$B$64,FALSE),MATCH(Control!AW$101,'Licence Info'!$C$37:$DW$37,FALSE))*$C$9+OFFSET(Licence_Subst,MATCH($B123,'Licence Info'!$B$74:$B$98,FALSE),MATCH(Control!AW$101,'Licence Info'!$C$71:$DW$71,FALSE))*$C$9+OFFSET(Licence_OIEC,MATCH($B123,'Licence Info'!$B$108:$B$132,FALSE),MATCH(Control!AW$101,'Licence Info'!$C$105:$DW$105,FALSE))-AW61)","v":155.34},{"$f":"MAX(0,OFFSET(Licence_IBEC,MATCH($B123,'Licence Info'!$B$40:$B$64,FALSE),MATCH(Control!AX$101,'Licence Info'!$C$37:$DW$37,FALSE))*$C$9+OFFSET(Licence_Subst,MATCH($B123,'Licence Info'!$B$74:$B$98,FALSE),MATCH(Control!AX$101,'Licence Info'!$C$71:$DW$71,FALSE))*$C$9+OFFSET(Licence_OIEC,MATCH($B123,'Licence Info'!$B$108:$B$132,FALSE),MATCH(Control!AX$101,'Licence Info'!$C$105:$DW$105,FALSE))-AX61)","v":155.34},{"$f":"MAX(0,OFFSET(Licence_IBEC,MATCH($B123,'Licence Info'!$B$40:$B$64,FALSE),MATCH(Control!AY$101,'Licence Info'!$C$37:$DW$37,FALSE))*$C$9+OFFSET(Licence_Subst,MATCH($B123,'Licence Info'!$B$74:$B$98,FALSE),MATCH(Control!AY$101,'Licence Info'!$C$71:$DW$71,FALSE))*$C$9+OFFSET(Licence_OIEC,MATCH($B123,'Licence Info'!$B$108:$B$132,FALSE),MATCH(Control!AY$101,'Licence Info'!$C$105:$DW$105,FALSE))-AY61)","v":155.34},{"$f":"MAX(0,OFFSET(Licence_IBEC,MATCH($B123,'Licence Info'!$B$40:$B$64,FALSE),MATCH(Control!AZ$101,'Licence Info'!$C$37:$DW$37,FALSE))*$C$9+OFFSET(Licence_Subst,MATCH($B123,'Licence Info'!$B$74:$B$98,FALSE),MATCH(Control!AZ$101,'Licence Info'!$C$71:$DW$71,FALSE))*$C$9+OFFSET(Licence_OIEC,MATCH($B123,'Licence Info'!$B$108:$B$132,FALSE),MATCH(Control!AZ$101,'Licence Info'!$C$105:$DW$105,FALSE))-AZ61)","v":155.34},{"$f":"MAX(0,OFFSET(Licence_IBEC,MATCH($B123,'Licence Info'!$B$40:$B$64,FALSE),MATCH(Control!BA$101,'Licence Info'!$C$37:$DW$37,FALSE))*$C$9+OFFSET(Licence_Subst,MATCH($B123,'Licence Info'!$B$74:$B$98,FALSE),MATCH(Control!BA$101,'Licence Info'!$C$71:$DW$71,FALSE))*$C$9+OFFSET(Licence_OIEC,MATCH($B123,'Licence Info'!$B$108:$B$132,FALSE),MATCH(Control!BA$101,'Licence Info'!$C$105:$DW$105,FALSE))-BA61)","v":155.34},{"$f":"MAX(0,OFFSET(Licence_IBEC,MATCH($B123,'Licence Info'!$B$40:$B$64,FALSE),MATCH(Control!BB$101,'Licence Info'!$C$37:$DW$37,FALSE))*$C$9+OFFSET(Licence_Subst,MATCH($B123,'Licence Info'!$B$74:$B$98,FALSE),MATCH(Control!BB$101,'Licence Info'!$C$71:$DW$71,FALSE))*$C$9+OFFSET(Licence_OIEC,MATCH($B123,'Licence Info'!$B$108:$B$132,FALSE),MATCH(Control!BB$101,'Licence Info'!$C$105:$DW$105,FALSE))-BB61)","v":155.34},{"$f":"MAX(0,OFFSET(Licence_IBEC,MATCH($B123,'Licence Info'!$B$40:$B$64,FALSE),MATCH(Control!BC$101,'Licence Info'!$C$37:$DW$37,FALSE))*$C$9+OFFSET(Licence_Subst,MATCH($B123,'Licence Info'!$B$74:$B$98,FALSE),MATCH(Control!BC$101,'Licence Info'!$C$71:$DW$71,FALSE))*$C$9+OFFSET(Licence_OIEC,MATCH($B123,'Licence Info'!$B$108:$B$132,FALSE),MATCH(Control!BC$101,'Licence Info'!$C$105:$DW$105,FALSE))-BC61)","v":155.34},{"$f":"MAX(0,OFFSET(Licence_IBEC,MATCH($B123,'Licence Info'!$B$40:$B$64,FALSE),MATCH(Control!BD$101,'Licence Info'!$C$37:$DW$37,FALSE))*$C$9+OFFSET(Licence_Subst,MATCH($B123,'Licence Info'!$B$74:$B$98,FALSE),MATCH(Control!BD$101,'Licence Info'!$C$71:$DW$71,FALSE))*$C$9+OFFSET(Licence_OIEC,MATCH($B123,'Licence Info'!$B$108:$B$132,FALSE),MATCH(Control!BD$101,'Licence Info'!$C$105:$DW$105,FALSE))-BD61)","v":155.34},{"$f":"MAX(0,OFFSET(Licence_IBEC,MATCH($B123,'Licence Info'!$B$40:$B$64,FALSE),MATCH(Control!BE$101,'Licence Info'!$C$37:$DW$37,FALSE))*$C$9+OFFSET(Licence_Subst,MATCH($B123,'Licence Info'!$B$74:$B$98,FALSE),MATCH(Control!BE$101,'Licence Info'!$C$71:$DW$71,FALSE))*$C$9+OFFSET(Licence_OIEC,MATCH($B123,'Licence Info'!$B$108:$B$132,FALSE),MATCH(Control!BE$101,'Licence Info'!$C$105:$DW$105,FALSE))-BE61)","v":155.34},{"$f":"MAX(0,OFFSET(Licence_IBEC,MATCH($B123,'Licence Info'!$B$40:$B$64,FALSE),MATCH(Control!BF$101,'Licence Info'!$C$37:$DW$37,FALSE))*$C$9+OFFSET(Licence_Subst,MATCH($B123,'Licence Info'!$B$74:$B$98,FALSE),MATCH(Control!BF$101,'Licence Info'!$C$71:$DW$71,FALSE))*$C$9+OFFSET(Licence_OIEC,MATCH($B123,'Licence Info'!$B$108:$B$132,FALSE),MATCH(Control!BF$101,'Licence Info'!$C$105:$DW$105,FALSE))-BF61)","v":155.34},{"$f":"MAX(0,OFFSET(Licence_IBEC,MATCH($B123,'Licence Info'!$B$40:$B$64,FALSE),MATCH(Control!BG$101,'Licence Info'!$C$37:$DW$37,FALSE))*$C$9+OFFSET(Licence_Subst,MATCH($B123,'Licence Info'!$B$74:$B$98,FALSE),MATCH(Control!BG$101,'Licence Info'!$C$71:$DW$71,FALSE))*$C$9+OFFSET(Licence_OIEC,MATCH($B123,'Licence Info'!$B$108:$B$132,FALSE),MATCH(Control!BG$101,'Licence Info'!$C$105:$DW$105,FALSE))-BG61)","v":155.34},{"$f":"MAX(0,OFFSET(Licence_IBEC,MATCH($B123,'Licence Info'!$B$40:$B$64,FALSE),MATCH(Control!BH$101,'Licence Info'!$C$37:$DW$37,FALSE))*$C$9+OFFSET(Licence_Subst,MATCH($B123,'Licence Info'!$B$74:$B$98,FALSE),MATCH(Control!BH$101,'Licence Info'!$C$71:$DW$71,FALSE))*$C$9+OFFSET(Licence_OIEC,MATCH($B123,'Licence Info'!$B$108:$B$132,FALSE),MATCH(Control!BH$101,'Licence Info'!$C$105:$DW$105,FALSE))-BH61)","v":155.34},{"$f":"MAX(0,OFFSET(Licence_IBEC,MATCH($B123,'Licence Info'!$B$40:$B$64,FALSE),MATCH(Control!BI$101,'Licence Info'!$C$37:$DW$37,FALSE))*$C$9+OFFSET(Licence_Subst,MATCH($B123,'Licence Info'!$B$74:$B$98,FALSE),MATCH(Control!BI$101,'Licence Info'!$C$71:$DW$71,FALSE))*$C$9+OFFSET(Licence_OIEC,MATCH($B123,'Licence Info'!$B$108:$B$132,FALSE),MATCH(Control!BI$101,'Licence Info'!$C$105:$DW$105,FALSE))-BI61)","v":155.34},{"$f":"MAX(0,OFFSET(Licence_IBEC,MATCH($B123,'Licence Info'!$B$40:$B$64,FALSE),MATCH(Control!BJ$101,'Licence Info'!$C$37:$DW$37,FALSE))*$C$9+OFFSET(Licence_Subst,MATCH($B123,'Licence Info'!$B$74:$B$98,FALSE),MATCH(Control!BJ$101,'Licence Info'!$C$71:$DW$71,FALSE))*$C$9+OFFSET(Licence_OIEC,MATCH($B123,'Licence Info'!$B$108:$B$132,FALSE),MATCH(Control!BJ$101,'Licence Info'!$C$105:$DW$105,FALSE))-BJ61)","v":155.34},{"$f":"MAX(0,OFFSET(Licence_IBEC,MATCH($B123,'Licence Info'!$B$40:$B$64,FALSE),MATCH(Control!BK$101,'Licence Info'!$C$37:$DW$37,FALSE))*$C$9+OFFSET(Licence_Subst,MATCH($B123,'Licence Info'!$B$74:$B$98,FALSE),MATCH(Control!BK$101,'Licence Info'!$C$71:$DW$71,FALSE))*$C$9+OFFSET(Licence_OIEC,MATCH($B123,'Licence Info'!$B$108:$B$132,FALSE),MATCH(Control!BK$101,'Licence Info'!$C$105:$DW$105,FALSE))-BK61)","v":{"$error":"#N/A"}}]
[null,"Fleetwood",{"$f":"MAX(0,OFFSET(Licence_IBEC,MATCH($B124,'Licence Info'!$B$40:$B$64,FALSE),MATCH(Control!C$101,'Licence Info'!$C$37:$DW$37,FALSE))*$C$9+OFFSET(Licence_Subst,MATCH($B124,'Licence Info'!$B$74:$B$98,FALSE),MATCH(Control!C$101,'Licence Info'!$C$71:$DW$71,FALSE))*$C$9+OFFSET(Licence_OIEC,MATCH($B124,'Licence Info'!$B$108:$B$132,FALSE),MATCH(Control!C$101,'Licence Info'!$C$105:$DW$105,FALSE))-C62)","v":315},{"$f":"MAX(0,OFFSET(Licence_IBEC,MATCH($B124,'Licence Info'!$B$40:$B$64,FALSE),MATCH(Control!D$101,'Licence Info'!$C$37:$DW$37,FALSE))*$C$9+OFFSET(Licence_Subst,MATCH($B124,'Licence Info'!$B$74:$B$98,FALSE),MATCH(Control!D$101,'Licence Info'!$C$71:$DW$71,FALSE))*$C$9+OFFSET(Licence_OIEC,MATCH($B124,'Licence Info'!$B$108:$B$132,FALSE),MATCH(Control!D$101,'Licence Info'!$C$105:$DW$105,FALSE))-D62)","v":315},{"$f":"MAX(0,OFFSET(Licence_IBEC,MATCH($B124,'Licence Info'!$B$40:$B$64,FALSE),MATCH(Control!E$101,'Licence Info'!$C$37:$DW$37,FALSE))*$C$9+OFFSET(Licence_Subst,MATCH($B124,'Licence Info'!$B$74:$B$98,FALSE),MATCH(Control!E$101,'Licence Info'!$C$71:$DW$71,FALSE))*$C$9+OFFSET(Licence_OIEC,MATCH($B124,'Licence Info'!$B$108:$B$132,FALSE),MATCH(Control!E$101,'Licence Info'!$C$105:$DW$105,FALSE))-E62)","v":315},{"$f":"MAX(0,OFFSET(Licence_IBEC,MATCH($B124,'Licence Info'!$B$40:$B$64,FALSE),MATCH(Control!F$101,'Licence Info'!$C$37:$DW$37,FALSE))*$C$9+OFFSET(Licence_Subst,MATCH($B124,'Licence Info'!$B$74:$B$98,FALSE),MATCH(Control!F$101,'Licence Info'!$C$71:$DW$71,FALSE))*$C$9+OFFSET(Licence_OIEC,MATCH($B124,'Licence Info'!$B$108:$B$132,FALSE),MATCH(Control!F$101,'Licence Info'!$C$105:$DW$105,FALSE))-F62)","v":315},{"$f":"MAX(0,OFFSET(Licence_IBEC,MATCH($B124,'Licence Info'!$B$40:$B$64,FALSE),MATCH(Control!G$101,'Licence Info'!$C$37:$DW$37,FALSE))*$C$9+OFFSET(Licence_Subst,MATCH($B124,'Licence Info'!$B$74:$B$98,FALSE),MATCH(Control!G$101,'Licence Info'!$C$71:$DW$71,FALSE))*$C$9+OFFSET(Licence_OIEC,MATCH($B124,'Licence Info'!$B$108:$B$132,FALSE),MATCH(Control!G$101,'Licence Info'!$C$105:$DW$105,FALSE))-G62)","v":315},{"$f":"MAX(0,OFFSET(Licence_IBEC,MATCH($B124,'Licence Info'!$B$40:$B$64,FALSE),MATCH(Control!H$101,'Licence Info'!$C$37:$DW$37,FALSE))*$C$9+OFFSET(Licence_Subst,MATCH($B124,'Licence Info'!$B$74:$B$98,FALSE),MATCH(Control!H$101,'Licence Info'!$C$71:$DW$71,FALSE))*$C$9+OFFSET(Licence_OIEC,MATCH($B124,'Licence Info'!$B$108:$B$132,FALSE),MATCH(Control!H$101,'Licence Info'!$C$105:$DW$105,FALSE))-H62)","v":315},{"$f":"MAX(0,OFFSET(Licence_IBEC,MATCH($B124,'Licence Info'!$B$40:$B$64,FALSE),MATCH(Control!I$101,'Licence Info'!$C$37:$DW$37,FALSE))*$C$9+OFFSET(Licence_Subst,MATCH($B124,'Licence Info'!$B$74:$B$98,FALSE),MATCH(Control!I$101,'Licence Info'!$C$71:$DW$71,FALSE))*$C$9+OFFSET(Licence_OIEC,MATCH($B124,'Licence Info'!$B$108:$B$132,FALSE),MATCH(Control!I$101,'Licence Info'!$C$105:$DW$105,FALSE))-I62)","v":315},{"$f":"MAX(0,OFFSET(Licence_IBEC,MATCH($B124,'Licence Info'!$B$40:$B$64,FALSE),MATCH(Control!J$101,'Licence Info'!$C$37:$DW$37,FALSE))*$C$9+OFFSET(Licence_Subst,MATCH($B124,'Licence Info'!$B$74:$B$98,FALSE),MATCH(Control!J$101,'Licence Info'!$C$71:$DW$71,FALSE))*$C$9+OFFSET(Licence_OIEC,MATCH($B124,'Licence Info'!$B$108:$B$132,FALSE),MATCH(Control!J$101,'Licence Info'!$C$105:$DW$105,FALSE))-J62)","v":315},{"$f":"MAX(0,OFFSET(Licence_IBEC,MATCH($B124,'Licence Info'!$B$40:$B$64,FALSE),MATCH(Control!K$101,'Licence Info'!$C$37:$DW$37,FALSE))*$C$9+OFFSET(Licence_Subst,MATCH($B124,'Licence Info'!$B$74:$B$98,FALSE),MATCH(Control!K$101,'Licence Info'!$C$71:$DW$71,FALSE))*$C$9+OFFSET(Licence_OIEC,MATCH($B124,'Licence Info'!$B$108:$B$132,FALSE),MATCH(Control!K$101,'Licence Info'!$C$105:$DW$105,FALSE))-K62)","v":315},{"$f":"MAX(0,OFFSET(Licence_IBEC,MATCH($B124,'Licence Info'!$B$40:$B$64,FALSE),MATCH(Control!L$101,'Licence Info'!$C$37:$DW$37,FALSE))*$C$9+OFFSET(Licence_Subst,MATCH($B124,'Licence Info'!$B$74:$B$98,FALSE),MATCH(Control!L$101,'Licence Info'!$C$71:$DW$71,FALSE))*$C$9+OFFSET(Licence_OIEC,MATCH($B124,'Licence Info'!$B$108:$B$132,FALSE),MATCH(Control!L$101,'Licence Info'!$C$105:$DW$105,FALSE))-L62)","v":315},{"$f":"MAX(0,OFFSET(Licence_IBEC,MATCH($B124,'Licence Info'!$B$40:$B$64,FALSE),MATCH(Control!M$101,'Licence Info'!$C$37:$DW$37,FALSE))*$C$9+OFFSET(Licence_Subst,MATCH($B124,'Licence Info'!$B$74:$B$98,FALSE),MATCH(Control!M$101,'Licence Info'!$C$71:$DW$71,FALSE))*$C$9+OFFSET(Licence_OIEC,MATCH($B124,'Licence Info'!$B$108:$B$132,FALSE),MATCH(Control!M$101,'Licence Info'!$C$105:$DW$105,FALSE))-M62)","v":315},{"$f":"MAX(0,OFFSET(Licence_IBEC,MATCH($B124,'Licence Info'!$B$40:$B$64,FALSE),MATCH(Control!N$101,'Licence Info'!$C$37:$DW$37,FALSE))*$C$9+OFFSET(Licence_Subst,MATCH($B124,'Licence Info'!$B$74:$B$98,FALSE),MATCH(Control!N$101,'Licence Info'!$C$71:$DW$71,FALSE))*$C$9+OFFSET(Licence_OIEC,MATCH($B124,'Licence Info'!$B$108:$B$132,FALSE),MATCH(Control!N$101,'Licence Info'!$C$105:$DW$105,FALSE))-N62)","v":315},{"$f":"MAX(0,OFFSET(Licence_IBEC,MATCH($B124,'Licence Info'!$B$40:$B$64,FALSE),MATCH(Control!O$101,'Licence Info'!$C$37:$DW$37,FALSE))*$C$9+OFFSET(Licence_Subst,MATCH($B124,'Licence Info'!$B$74:$B$98,FALSE),MATCH(Control!O$101,'Licence Info'!$C$71:$DW$71,FALSE))*$C$9+OFFSET(Licence_OIEC,MATCH($B124,'Licence Info'!$B$108:$B$132,FALSE),MATCH(Control!O$101,'Licence Info'!$C$105:$DW$105,FALSE))-O62)","v":315},{"$f":"MAX(0,OFFSET(Licence_IBEC,MATCH($B124,'Licence Info'!$B$40:$B$64,FALSE),MATCH(Control!P$101,'Licence Info'!$C$37:$DW$37,FALSE))*$C$9+OFFSET(Licence_Subst,MATCH($B124,'Licence Info'!$B$74:$B$98,FALSE),MATCH(Control!P$101,'Licence Info'!$C$71:$DW$71,FALSE))*$C$9+OFFSET(Licence_OIEC,MATCH($B124,'Licence Info'!$B$108:$B$132,FALSE),MATCH(Control!P$101,'Licence Info'!$C$105:$DW$105,FALSE))-P62)","v":315},{"$f":"MAX(0,OFFSET(Licence_IBEC,MATCH($B124,'Licence Info'!$B$40:$B$64,FALSE),MATCH(Control!Q$101,'Licence Info'!$C$37:$DW$37,FALSE))*$C$9+OFFSET(Licence_Subst,MATCH($B124,'Licence Info'!$B$74:$B$98,FALSE),MATCH(Control!Q$101,'Licence Info'!$C$71:$DW$71,FALSE))*$C$9+OFFSET(Licence_OIEC,MATCH($B124,'Licence Info'!$B$108:$B$132,FALSE),MATCH(Control!Q$101,'Licence Info'!$C$105:$DW$105,FALSE))-Q62)","v":315},{"$f":"MAX(0,OFFSET(Licence_IBEC,MATCH($B124,'Licence Info'!$B$40:$B$64,FALSE),MATCH(Control!R$101,'Licence Info'!$C$37:$DW$37,FALSE))*$C$9+OFFSET(Licence_Subst,MATCH($B124,'Licence Info'!$B$74:$B$98,FALSE),MATCH(Control!R$101,'Licence Info'!$C$71:$DW$71,FALSE))*$C$9+OFFSET(Licence_OIEC,MATCH($B124,'Licence Info'!$B$108:$B$132,FALSE),MATCH(Control!R$101,'Licence Info'!$C$105:$DW$105,FALSE))-R62)","v":315},{"$f":"MAX(0,OFFSET(Licence_IBEC,MATCH($B124,'Licence Info'!$B$40:$B$64,FALSE),MATCH(Control!S$101,'Licence Info'!$C$37:$DW$37,FALSE))*$C$9+OFFSET(Licence_Subst,MATCH($B124,'Licence Info'!$B$74:$B$98,FALSE),MATCH(Control!S$101,'Licence Info'!$C$71:$DW$71,FALSE))*$C$9+OFFSET(Licence_OIEC,MATCH($B124,'Licence Info'!$B$108:$B$132,FALSE),MATCH(Control!S$101,'Licence Info'!$C$105:$DW$105,FALSE))-S62)","v":315},{"$f":"MAX(0,OFFSET(Licence_IBEC,MATCH($B124,'Licence Info'!$B$40:$B$64,FALSE),MATCH(Control!T$101,'Licence Info'!$C$37:$DW$37,FALSE))*$C$9+OFFSET(Licence_Subst,MATCH($B124,'Licence Info'!$B$74:$B$98,FALSE),MATCH(Control!T$101,'Licence Info'!$C$71:$DW$71,FALSE))*$C$9+OFFSET(Licence_OIEC,MATCH($B124,'Licence Info'!$B$108:$B$132,FALSE),MATCH(Control!T$101,'Licence Info'!$C$105:$DW$105,FALSE))-T62)","v":315},{"$f":"MAX(0,OFFSET(Licence_IBEC,MATCH($B124,'Licence Info'!$B$40:$B$64,FALSE),MATCH(Control!U$101,'Licence Info'!$C$37:$DW$37,FALSE))*$C$9+OFFSET(Licence_Subst,MATCH($B124,'Licence Info'!$B$74:$B$98,FALSE),MATCH(Control!U$101,'Licence Info'!$C$71:$DW$71,FALSE))*$C$9+OFFSET(Licence_OIEC,MATCH($B124,'Licence Info'!$B$108:$B$132,FALSE),MATCH(Control!U$101,'Licence Info'!$C$105:$DW$105,FALSE))-U62)","v":315},{"$f":"MAX(0,OFFSET(Licence_IBEC,MATCH($B124,'Licence Info'!$B$40:$B$64,FALSE),MATCH(Control!V$101,'Licence Info'!$C$37:$DW$37,FALSE))*$C$9+OFFSET(Licence_Subst,MATCH($B124,'Licence Info'!$B$74:$B$98,FALSE),MATCH(Control!V$101,'Licence Info'!$C$71:$DW$71,FALSE))*$C$9+OFFSET(Licence_OIEC,MATCH($B124,'Licence Info'!$B$108:$B$132,FALSE),MATCH(Control!V$101,'Licence Info'!$C$105:$DW$105,FALSE))-V62)","v":315},{"$f":"MAX(0,OFFSET(Licence_IBEC,MATCH($B124,'Licence Info'!$B$40:$B$64,FALSE),MATCH(Control!W$101,'Licence Info'!$C$37:$DW$37,FALSE))*$C$9+OFFSET(Licence_Subst,MATCH($B124,'Licence Info'!$B$74:$B$98,FALSE),MATCH(Control!W$101,'Licence Info'!$C$71:$DW$71,FALSE))*$C$9+OFFSET(Licence_OIEC,MATCH($B124,'Licence Info'!$B$108:$B$132,FALSE),MATCH(Control!W$101,'Licence Info'!$C$105:$DW$105,FALSE))-W62)","v":315},{"$f":"MAX(0,OFFSET(Licence_IBEC,MATCH($B124,'Licence Info'!$B$40:$B$64,FALSE),MATCH(Control!X$101,'Licence Info'!$C$37:$DW$37,FALSE))*$C$9+OFFSET(Licence_Subst,MATCH($B124,'Licence Info'!$B$74:$B$98,FALSE),MATCH(Control!X$101,'Licence Info'!$C$71:$DW$71,FALSE))*$C$9+OFFSET(Licence_OIEC,MATCH($B124,'Licence Info'!$B$108:$B$132,FALSE),MATCH(Control!X$101,'Licence Info'!$C$105:$DW$105,FALSE))-X62)","v":0},{"$f":"MAX(0,OFFSET(Licence_IBEC,MATCH($B124,'Licence Info'!$B$40:$B$64,FALSE),MATCH(Control!Y$101,'Licence Info'!$C$37:$DW$37,FALSE))*$C$9+OFFSET(Licence_Subst,MATCH($B124,'Licence Info'!$B$74:$B$98,FALSE),MATCH(Control!Y$101,'Licence Info'!$C$71:$DW$71,FALSE))*$C$9+OFFSET(Licence_OIEC,MATCH($B124,'Licence Info'!$B$108:$B$132,FALSE),MATCH(Control!Y$101,'Licence Info'!$C$105:$DW$105,FALSE))-Y62)","v":315},{"$f":"MAX(0,OFFSET(Licence_IBEC,MATCH($B124,'Licence Info'!$B$40:$B$64,FALSE),MATCH(Control!Z$101,'Licence Info'!$C$37:$DW$37,FALSE))*$C$9+OFFSET(Licence_Subst,MATCH($B124,'Licence Info'!$B$74:$B$98,FALSE),MATCH(Control!Z$101,'Licence Info'!$C$71:$DW$71,FALSE))*$C$9+OFFSET(Licence_OIEC,MATCH($B124,'Licence Info'!$B$108:$B$132,FALSE),MATCH(Control!Z$101,'Licence Info'!$C$105:$DW$105,FALSE))-Z62)","v":315},{"$f":"MAX(0,OFFSET(Licence_IBEC,MATCH($B124,'Licence Info'!$B$40:$B$64,FALSE),MATCH(Control!AA$101,'Licence Info'!$C$37:$DW$37,FALSE))*$C$9+OFFSET(Licence_Subst,MATCH($B124,'Licence Info'!$B$74:$B$98,FALSE),MATCH(Control!AA$101,'Licence Info'!$C$71:$DW$71,FALSE))*$C$9+OFFSET(Licence_OIEC,MATCH($B124,'Licence Info'!$B$108:$B$132,FALSE),MATCH(Control!AA$101,'Licence Info'!$C$105:$DW$105,FALSE))-AA62)","v":315},{"$f":"MAX(0,OFFSET(Licence_IBEC,MATCH($B124,'Licence Info'!$B$40:$B$64,FALSE),MATCH(Control!AB$101,'Licence Info'!$C$37:$DW$37,FALSE))*$C$9+OFFSET(Licence_Subst,MATCH($B124,'Licence Info'!$B$74:$B$98,FALSE),MATCH(Control!AB$101,'Licence Info'!$C$71:$DW$71,FALSE))*$C$9+OFFSET(Licence_OIEC,MATCH($B124,'Licence Info'!$B$108:$B$132,FALSE),MATCH(Control!AB$101,'Licence Info'!$C$105:$DW$105,FALSE))-AB62)","v":315},{"$f":"MAX(0,OFFSET(Licence_IBEC,MATCH($B124,'Licence Info'!$B$40:$B$64,FALSE),MATCH(Control!AC$101,'Licence Info'!$C$37:$DW$37,FALSE))*$C$9+OFFSET(Licence_Subst,MATCH($B124,'Licence Info'!$B$74:$B$98,FALSE),MATCH(Control!AC$101,'Licence Info'!$C$71:$DW$71,FALSE))*$C$9+OFFSET(Licence_OIEC,MATCH($B124,'Licence Info'!$B$108:$B$132,FALSE),MATCH(Control!AC$101,'Licence Info'!$C$105:$DW$105,FALSE))-AC62)","v":315},{"$f":"MAX(0,OFFSET(Licence_IBEC,MATCH($B124,'Licence Info'!$B$40:$B$64,FALSE),MATCH(Control!AD$101,'Licence Info'!$C$37:$DW$37,FALSE))*$C$9+OFFSET(Licence_Subst,MATCH($B124,'Licence Info'!$B$74:$B$98,FALSE),MATCH(Control!AD$101,'Licence Info'!$C$71:$DW$71,FALSE))*$C$9+OFFSET(Licence_OIEC,MATCH($B124,'Licence Info'!$B$108:$B$132,FALSE),MATCH(Control!AD$101,'Licence Info'!$C$105:$DW$105,FALSE))-AD62)","v":315},{"$f":"MAX(0,OFFSET(Licence_IBEC,MATCH($B124,'Licence Info'!$B$40:$B$64,FALSE),MATCH(Control!AE$101,'Licence Info'!$C$37:$DW$37,FALSE))*$C$9+OFFSET(Licence_Subst,MATCH($B124,'Licence Info'!$B$74:$B$98,FALSE),MATCH(Control!AE$101,'Licence Info'!$C$71:$DW$71,FALSE))*$C$9+OFFSET(Licence_OIEC,MATCH($B124,'Licence Info'!$B$108:$B$132,FALSE),MATCH(Control!AE$101,'Licence Info'!$C$105:$DW$105,FALSE))-AE62)","v":315},{"$f":"MAX(0,OFFSET(Licence_IBEC,MATCH($B124,'Licence Info'!$B$40:$B$64,FALSE),MATCH(Control!AF$101,'Licence Info'!$C$37:$DW$37,FALSE))*$C$9+OFFSET(Licence_Subst,MATCH($B124,'Licence Info'!$B$74:$B$98,FALSE),MATCH(Control!AF$101,'Licence Info'!$C$71:$DW$71,FALSE))*$C$9+OFFSET(Licence_OIEC,MATCH($B124,'Licence Info'!$B$108:$B$132,FALSE),MATCH(Control!AF$101,'Licence Info'!$C$105:$DW$105,FALSE))-AF62)","v":315},{"$f":"MAX(0,OFFSET(Licence_IBEC,MATCH($B124,'Licence Info'!$B$40:$B$64,FALSE),MATCH(Control!AG$101,'Licence Info'!$C$37:$DW$37,FALSE))*$C$9+OFFSET(Licence_Subst,MATCH($B124,'Licence Info'!$B$74:$B$98,FALSE),MATCH(Control!AG$101,'Licence Info'!$C$71:$DW$71,FALSE))*$C$9+OFFSET(Licence_OIEC,MATCH($B124,'Licence Info'!$B$108:$B$132,FALSE),MATCH(Control!AG$101,'Licence Info'!$C$105:$DW$105,FALSE))-AG62)","v":315},{"$f":"MAX(0,OFFSET(Licence_IBEC,MATCH($B124,'Licence Info'!$B$40:$B$64,FALSE),MATCH(Control!AH$101,'Licence Info'!$C$37:$DW$37,FALSE))*$C$9+OFFSET(Licence_Subst,MATCH($B124,'Licence Info'!$B$74:$B$98,FALSE),MATCH(Control!AH$101,'Licence Info'!$C$71:$DW$71,FALSE))*$C$9+OFFSET(Licence_OIEC,MATCH($B124,'Licence Info'!$B$108:$B$132,FALSE),MATCH(Control!AH$101,'Licence Info'!$C$105:$DW$105,FALSE))-AH62)","v":315},{"$f":"MAX(0,OFFSET(Licence_IBEC,MATCH($B124,'Licence Info'!$B$40:$B$64,FALSE),MATCH(Control!AI$101,'Licence Info'!$C$37:$DW$37,FALSE))*$C$9+OFFSET(Licence_Subst,MATCH($B124,'Licence Info'!$B$74:$B$98,FALSE),MATCH(Control!AI$101,'Licence Info'!$C$71:$DW$71,FALSE))*$C$9+OFFSET(Licence_OIEC,MATCH($B124,'Licence Info'!$B$108:$B$132,FALSE),MATCH(Control!AI$101,'Licence Info'!$C$105:$DW$105,FALSE))-AI62)","v":315},{"$f":"MAX(0,OFFSET(Licence_IBEC,MATCH($B124,'Licence Info'!$B$40:$B$64,FALSE),MATCH(Control!AJ$101,'Licence Info'!$C$37:$DW$37,FALSE))*$C$9+OFFSET(Licence_Subst,MATCH($B124,'Licence Info'!$B$74:$B$98,FALSE),MATCH(Control!AJ$101,'Licence Info'!$C$71:$DW$71,FALSE))*$C$9+OFFSET(Licence_OIEC,MATCH($B124,'Licence Info'!$B$108:$B$132,FALSE),MATCH(Control!AJ$101,'Licence Info'!$C$105:$DW$105,FALSE))-AJ62)","v":315},{"$f":"MAX(0,OFFSET(Licence_IBEC,MATCH($B124,'Licence Info'!$B$40:$B$64,FALSE),MATCH(Control!AK$101,'Licence Info'!$C$37:$DW$37,FALSE))*$C$9+OFFSET(Licence_Subst,MATCH($B124,'Licence Info'!$B$74:$B$98,FALSE),MATCH(Control!AK$101,'Licence Info'!$C$71:$DW$71,FALSE))*$C$9+OFFSET(Licence_OIEC,MATCH($B124,'Licence Info'!$B$108:$B$132,FALSE),MATCH(Control!AK$101,'Licence Info'!$C$105:$DW$105,FALSE))-AK62)","v":315},{"$f":"MAX(0,OFFSET(Licence_IBEC,MATCH($B124,'Licence Info'!$B$40:$B$64,FALSE),MATCH(Control!AL$101,'Licence Info'!$C$37:$DW$37,FALSE))*$C$9+OFFSET(Licence_Subst,MATCH($B124,'Licence Info'!$B$74:$B$98,FALSE),MATCH(Control!AL$101,'Licence Info'!$C$71:$DW$71,FALSE))*$C$9+OFFSET(Licence_OIEC,MATCH($B124,'Licence Info'!$B$108:$B$132,FALSE),MATCH(Control!AL$101,'Licence Info'!$C$105:$DW$105,FALSE))-AL62)","v":315},{"$f":"MAX(0,OFFSET(Licence_IBEC,MATCH($B124,'Licence Info'!$B$40:$B$64,FALSE),MATCH(Control!AM$101,'Licence Info'!$C$37:$DW$37,FALSE))*$C$9+OFFSET(Licence_Subst,MATCH($B124,'Licence Info'!$B$74:$B$98,FALSE),MATCH(Control!AM$101,'Licence Info'!$C$71:$DW$71,FALSE))*$C$9+OFFSET(Licence_OIEC,MATCH($B124,'Licence Info'!$B$108:$B$132,FALSE),MATCH(Control!AM$101,'Licence Info'!$C$105:$DW$105,FALSE))-AM62)","v":315},{"$f":"MAX(0,OFFSET(Licence_IBEC,MATCH($B124,'Licence Info'!$B$40:$B$64,FALSE),MATCH(Control!AN$101,'Licence Info'!$C$37:$DW$37,FALSE))*$C$9+OFFSET(Licence_Subst,MATCH($B124,'Licence Info'!$B$74:$B$98,FALSE),MATCH(Control!AN$101,'Licence Info'!$C$71:$DW$71,FALSE))*$C$9+OFFSET(Licence_OIEC,MATCH($B124,'Licence Info'!$B$108:$B$132,FALSE),MATCH(Control!AN$101,'Licence Info'!$C$105:$DW$105,FALSE))-AN62)","v":315},{"$f":"MAX(0,OFFSET(Licence_IBEC,MATCH($B124,'Licence Info'!$B$40:$B$64,FALSE),MATCH(Control!AO$101,'Licence Info'!$C$37:$DW$37,FALSE))*$C$9+OFFSET(Licence_Subst,MATCH($B124,'Licence Info'!$B$74:$B$98,FALSE),MATCH(Control!AO$101,'Licence Info'!$C$71:$DW$71,FALSE))*$C$9+OFFSET(Licence_OIEC,MATCH($B124,'Licence Info'!$B$108:$B$132,FALSE),MATCH(Control!AO$101,'Licence Info'!$C$105:$DW$105,FALSE))-AO62)","v":315},{"$f":"MAX(0,OFFSET(Licence_IBEC,MATCH($B124,'Licence Info'!$B$40:$B$64,FALSE),MATCH(Control!AP$101,'Licence Info'!$C$37:$DW$37,FALSE))*$C$9+OFFSET(Licence_Subst,MATCH($B124,'Licence Info'!$B$74:$B$98,FALSE),MATCH(Control!AP$101,'Licence Info'!$C$71:$DW$71,FALSE))*$C$9+OFFSET(Licence_OIEC,MATCH($B124,'Licence Info'!$B$108:$B$132,FALSE),MATCH(Control!AP$101,'Licence Info'!$C$105:$DW$105,FALSE))-AP62)","v":315},{"$f":"MAX(0,OFFSET(Licence_IBEC,MATCH($B124,'Licence Info'!$B$40:$B$64,FALSE),MATCH(Control!AQ$101,'Licence Info'!$C$37:$DW$37,FALSE))*$C$9+OFFSET(Licence_Subst,MATCH($B124,'Licence Info'!$B$74:$B$98,FALSE),MATCH(Control!AQ$101,'Licence Info'!$C$71:$DW$71,FALSE))*$C$9+OFFSET(Licence_OIEC,MATCH($B124,'Licence Info'!$B$108:$B$132,FALSE),MATCH(Control!AQ$101,'Licence Info'!$C$105:$DW$105,FALSE))-AQ62)","v":315},{"$f":"MAX(0,OFFSET(Licence_IBEC,MATCH($B124,'Licence Info'!$B$40:$B$64,FALSE),MATCH(Control!AR$101,'Licence Info'!$C$37:$DW$37,FALSE))*$C$9+OFFSET(Licence_Subst,MATCH($B124,'Licence Info'!$B$74:$B$98,FALSE),MATCH(Control!AR$101,'Licence Info'!$C$71:$DW$71,FALSE))*$C$9+OFFSET(Licence_OIEC,MATCH($B124,'Licence Info'!$B$108:$B$132,FALSE),MATCH(Control!AR$101,'Licence Info'!$C$105:$DW$105,FALSE))-AR62)","v":315},{"$f":"MAX(0,OFFSET(Licence_IBEC,MATCH($B124,'Licence Info'!$B$40:$B$64,FALSE),MATCH(Control!AS$101,'Licence Info'!$C$37:$DW$37,FALSE))*$C$9+OFFSET(Licence_Subst,MATCH($B124,'Licence Info'!$B$74:$B$98,FALSE),MATCH(Control!AS$101,'Licence Info'!$C$71:$DW$71,FALSE))*$C$9+OFFSET(Licence_OIEC,MATCH($B124,'Licence Info'!$B$108:$B$132,FALSE),MATCH(Control!AS$101,'Licence Info'!$C$105:$DW$105,FALSE))-AS62)","v":315},{"$f":"MAX(0,OFFSET(Licence_IBEC,MATCH($B124,'Licence Info'!$B$40:$B$64,FALSE),MATCH(Control!AT$101,'Licence Info'!$C$37:$DW$37,FALSE))*$C$9+OFFSET(Licence_Subst,MATCH($B124,'Licence Info'!$B$74:$B$98,FALSE),MATCH(Control!AT$101,'Licence Info'!$C$71:$DW$71,FALSE))*$C$9+OFFSET(Licence_OIEC,MATCH($B124,'Licence Info'!$B$108:$B$132,FALSE),MATCH(Control!AT$101,'Licence Info'!$C$105:$DW$105,FALSE))-AT62)","v":315},{"$f":"MAX(0,OFFSET(Licence_IBEC,MATCH($B124,'Licence Info'!$B$40:$B$64,FALSE),MATCH(Control!AU$101,'Licence Info'!$C$37:$DW$37,FALSE))*$C$9+OFFSET(Licence_Subst,MATCH($B124,'Licence Info'!$B$74:$B$98,FALSE),MATCH(Control!AU$101,'Licence Info'!$C$71:$DW$71,FALSE))*$C$9+OFFSET(Licence_OIEC,MATCH($B124,'Licence Info'!$B$108:$B$132,FALSE),MATCH(Control!AU$101,'Licence Info'!$C$105:$DW$105,FALSE))-AU62)","v":315},{"$f":"MAX(0,OFFSET(Licence_IBEC,MATCH($B124,'Licence Info'!$B$40:$B$64,FALSE),MATCH(Control!AV$101,'Licence Info'!$C$37:$DW$37,FALSE))*$C$9+OFFSET(Licence_Subst,MATCH($B124,'Licence Info'!$B$74:$B$98,FALSE),MATCH(Control!AV$101,'Licence Info'!$C$71:$DW$71,FALSE))*$C$9+OFFSET(Licence_OIEC,MATCH($B124,'Licence Info'!$B$108:$B$132,FALSE),MATCH(Control!AV$101,'Licence Info'!$C$105:$DW$105,FALSE))-AV62)","v":315},{"$f":"MAX(0,OFFSET(Licence_IBEC,MATCH($B124,'Licence Info'!$B$40:$B$64,FALSE),MATCH(Control!AW$101,'Licence Info'!$C$37:$DW$37,FALSE))*$C$9+OFFSET(Licence_Subst,MATCH($B124,'Licence Info'!$B$74:$B$98,FALSE),MATCH(Control!AW$101,'Licence Info'!$C$71:$DW$71,FALSE))*$C$9+OFFSET(Licence_OIEC,MATCH($B124,'Licence Info'!$B$108:$B$132,FALSE),MATCH(Control!AW$101,'Licence Info'!$C$105:$DW$105,FALSE))-AW62)","v":315},{"$f":"MAX(0,OFFSET(Licence_IBEC,MATCH($B124,'Licence Info'!$B$40:$B$64,FALSE),MATCH(Control!AX$101,'Licence Info'!$C$37:$DW$37,FALSE))*$C$9+OFFSET(Licence_Subst,MATCH($B124,'Licence Info'!$B$74:$B$98,FALSE),MATCH(Control!AX$101,'Licence Info'!$C$71:$DW$71,FALSE))*$C$9+OFFSET(Licence_OIEC,MATCH($B124,'Licence Info'!$B$108:$B$132,FALSE),MATCH(Control!AX$101,'Licence Info'!$C$105:$DW$105,FALSE))-AX62)","v":315},{"$f":"MAX(0,OFFSET(Licence_IBEC,MATCH($B124,'Licence Info'!$B$40:$B$64,FALSE),MATCH(Control!AY$101,'Licence Info'!$C$37:$DW$37,FALSE))*$C$9+OFFSET(Licence_Subst,MATCH($B124,'Licence Info'!$B$74:$B$98,FALSE),MATCH(Control!AY$101,'Licence Info'!$C$71:$DW$71,FALSE))*$C$9+OFFSET(Licence_OIEC,MATCH($B124,'Licence Info'!$B$108:$B$132,FALSE),MATCH(Control!AY$101,'Licence Info'!$C$105:$DW$105,FALSE))-AY62)","v":315},{"$f":"MAX(0,OFFSET(Licence_IBEC,MATCH($B124,'Licence Info'!$B$40:$B$64,FALSE),MATCH(Control!AZ$101,'Licence Info'!$C$37:$DW$37,FALSE))*$C$9+OFFSET(Licence_Subst,MATCH($B124,'Licence Info'!$B$74:$B$98,FALSE),MATCH(Control!AZ$101,'Licence Info'!$C$71:$DW$71,FALSE))*$C$9+OFFSET(Licence_OIEC,MATCH($B124,'Licence Info'!$B$108:$B$132,FALSE),MATCH(Control!AZ$101,'Licence Info'!$C$105:$DW$105,FALSE))-AZ62)","v":315},{"$f":"MAX(0,OFFSET(Licence_IBEC,MATCH($B124,'Licence Info'!$B$40:$B$64,FALSE),MATCH(Control!BA$101,'Licence Info'!$C$37:$DW$37,FALSE))*$C$9+OFFSET(Licence_Subst,MATCH($B124,'Licence Info'!$B$74:$B$98,FALSE),MATCH(Control!BA$101,'Licence Info'!$C$71:$DW$71,FALSE))*$C$9+OFFSET(Licence_OIEC,MATCH($B124,'Licence Info'!$B$108:$B$132,FALSE),MATCH(Control!BA$101,'Licence Info'!$C$105:$DW$105,FALSE))-BA62)","v":315},{"$f":"MAX(0,OFFSET(Licence_IBEC,MATCH($B124,'Licence Info'!$B$40:$B$64,FALSE),MATCH(Control!BB$101,'Licence Info'!$C$37:$DW$37,FALSE))*$C$9+OFFSET(Licence_Subst,MATCH($B124,'Licence Info'!$B$74:$B$98,FALSE),MATCH(Control!BB$101,'Licence Info'!$C$71:$DW$71,FALSE))*$C$9+OFFSET(Licence_OIEC,MATCH($B124,'Licence Info'!$B$108:$B$132,FALSE),MATCH(Control!BB$101,'Licence Info'!$C$105:$DW$105,FALSE))-BB62)","v":315},{"$f":"MAX(0,OFFSET(Licence_IBEC,MATCH($B124,'Licence Info'!$B$40:$B$64,FALSE),MATCH(Control!BC$101,'Licence Info'!$C$37:$DW$37,FALSE))*$C$9+OFFSET(Licence_Subst,MATCH($B124,'Licence Info'!$B$74:$B$98,FALSE),MATCH(Control!BC$101,'Licence Info'!$C$71:$DW$71,FALSE))*$C$9+OFFSET(Licence_OIEC,MATCH($B124,'Licence Info'!$B$108:$B$132,FALSE),MATCH(Control!BC$101,'Licence Info'!$C$105:$DW$105,FALSE))-BC62)","v":315},{"$f":"MAX(0,OFFSET(Licence_IBEC,MATCH($B124,'Licence Info'!$B$40:$B$64,FALSE),MATCH(Control!BD$101,'Licence Info'!$C$37:$DW$37,FALSE))*$C$9+OFFSET(Licence_Subst,MATCH($B124,'Licence Info'!$B$74:$B$98,FALSE),MATCH(Control!BD$101,'Licence Info'!$C$71:$DW$71,FALSE))*$C$9+OFFSET(Licence_OIEC,MATCH($B124,'Licence Info'!$B$108:$B$132,FALSE),MATCH(Control!BD$101,'Licence Info'!$C$105:$DW$105,FALSE))-BD62)","v":315},{"$f":"MAX(0,OFFSET(Licence_IBEC,MATCH($B124,'Licence Info'!$B$40:$B$64,FALSE),MATCH(Control!BE$101,'Licence Info'!$C$37:$DW$37,FALSE))*$C$9+OFFSET(Licence_Subst,MATCH($B124,'Licence Info'!$B$74:$B$98,FALSE),MATCH(Control!BE$101,'Licence Info'!$C$71:$DW$71,FALSE))*$C$9+OFFSET(Licence_OIEC,MATCH($B124,'Licence Info'!$B$108:$B$132,FALSE),MATCH(Control!BE$101,'Licence Info'!$C$105:$DW$105,FALSE))-BE62)","v":315},{"$f":"MAX(0,OFFSET(Licence_IBEC,MATCH($B124,'Licence Info'!$B$40:$B$64,FALSE),MATCH(Control!BF$101,'Licence Info'!$C$37:$DW$37,FALSE))*$C$9+OFFSET(Licence_Subst,MATCH($B124,'Licence Info'!$B$74:$B$98,FALSE),MATCH(Control!BF$101,'Licence Info'!$C$71:$DW$71,FALSE))*$C$9+OFFSET(Licence_OIEC,MATCH($B124,'Licence Info'!$B$108:$B$132,FALSE),MATCH(Control!BF$101,'Licence Info'!$C$105:$DW$105,FALSE))-BF62)","v":315},{"$f":"MAX(0,OFFSET(Licence_IBEC,MATCH($B124,'Licence Info'!$B$40:$B$64,FALSE),MATCH(Control!BG$101,'Licence Info'!$C$37:$DW$37,FALSE))*$C$9+OFFSET(Licence_Subst,MATCH($B124,'Licence Info'!$B$74:$B$98,FALSE),MATCH(Control!BG$101,'Licence Info'!$C$71:$DW$71,FALSE))*$C$9+OFFSET(Licence_OIEC,MATCH($B124,'Licence Info'!$B$108:$B$132,FALSE),MATCH(Control!BG$101,'Licence Info'!$C$105:$DW$105,FALSE))-BG62)","v":315},{"$f":"MAX(0,OFFSET(Licence_IBEC,MATCH($B124,'Licence Info'!$B$40:$B$64,FALSE),MATCH(Control!BH$101,'Licence Info'!$C$37:$DW$37,FALSE))*$C$9+OFFSET(Licence_Subst,MATCH($B124,'Licence Info'!$B$74:$B$98,FALSE),MATCH(Control!BH$101,'Licence Info'!$C$71:$DW$71,FALSE))*$C$9+OFFSET(Licence_OIEC,MATCH($B124,'Licence Info'!$B$108:$B$132,FALSE),MATCH(Control!BH$101,'Licence Info'!$C$105:$DW$105,FALSE))-BH62)","v":315},{"$f":"MAX(0,OFFSET(Licence_IBEC,MATCH($B124,'Licence Info'!$B$40:$B$64,FALSE),MATCH(Control!BI$101,'Licence Info'!$C$37:$DW$37,FALSE))*$C$9+OFFSET(Licence_Subst,MATCH($B124,'Licence Info'!$B$74:$B$98,FALSE),MATCH(Control!BI$101,'Licence Info'!$C$71:$DW$71,FALSE))*$C$9+OFFSET(Licence_OIEC,MATCH($B124,'Licence Info'!$B$108:$B$132,FALSE),MATCH(Control!BI$101,'Licence Info'!$C$105:$DW$105,FALSE))-BI62)","v":315},{"$f":"MAX(0,OFFSET(Licence_IBEC,MATCH($B124,'Licence Info'!$B$40:$B$64,FALSE),MATCH(Control!BJ$101,'Licence Info'!$C$37:$DW$37,FALSE))*$C$9+OFFSET(Licence_Subst,MATCH($B124,'Licence Info'!$B$74:$B$98,FALSE),MATCH(Control!BJ$101,'Licence Info'!$C$71:$DW$71,FALSE))*$C$9+OFFSET(Licence_OIEC,MATCH($B124,'Licence Info'!$B$108:$B$132,FALSE),MATCH(Control!BJ$101,'Licence Info'!$C$105:$DW$105,FALSE))-BJ62)","v":315},{"$f":"MAX(0,OFFSET(Licence_IBEC,MATCH($B124,'Licence Info'!$B$40:$B$64,FALSE),MATCH(Control!BK$101,'Licence Info'!$C$37:$DW$37,FALSE))*$C$9+OFFSET(Licence_Subst,MATCH($B124,'Licence Info'!$B$74:$B$98,FALSE),MATCH(Control!BK$101,'Licence Info'!$C$71:$DW$71,FALSE))*$C$9+OFFSET(Licence_OIEC,MATCH($B124,'Licence Info'!$B$108:$B$132,FALSE),MATCH(Control!BK$101,'Licence Info'!$C$105:$DW$105,FALSE))-BK62)","v":{"$error":"#N/A"}}]
[null,"Caythorpe",{"$f":"MAX(0,OFFSET(Licence_IBEC,MATCH($B125,'Licence Info'!$B$40:$B$64,FALSE),MATCH(Control!C$101,'Licence Info'!$C$37:$DW$37,FALSE))*$C$9+OFFSET(Licence_Subst,MATCH($B125,'Licence Info'!$B$74:$B$98,FALSE),MATCH(Control!C$101,'Licence Info'!$C$71:$DW$71,FALSE))*$C$9+OFFSET(Licence_OIEC,MATCH($B125,'Licence Info'!$B$108:$B$132,FALSE),MATCH(Control!C$101,'Licence Info'!$C$105:$DW$105,FALSE))-C63)","v":0},{"$f":"MAX(0,OFFSET(Licence_IBEC,MATCH($B125,'Licence Info'!$B$40:$B$64,FALSE),MATCH(Control!D$101,'Licence Info'!$C$37:$DW$37,FALSE))*$C$9+OFFSET(Licence_Subst,MATCH($B125,'Licence Info'!$B$74:$B$98,FALSE),MATCH(Control!D$101,'Licence Info'!$C$71:$DW$71,FALSE))*$C$9+OFFSET(Licence_OIEC,MATCH($B125,'Licence Info'!$B$108:$B$132,FALSE),MATCH(Control!D$101,'Licence Info'!$C$105:$DW$105,FALSE))-D63)","v":0},{"$f":"MAX(0,OFFSET(Licence_IBEC,MATCH($B125,'Licence Info'!$B$40:$B$64,FALSE),MATCH(Control!E$101,'Licence Info'!$C$37:$DW$37,FALSE))*$C$9+OFFSET(Licence_Subst,MATCH($B125,'Licence Info'!$B$74:$B$98,FALSE),MATCH(Control!E$101,'Licence Info'!$C$71:$DW$71,FALSE))*$C$9+OFFSET(Licence_OIEC,MATCH($B125,'Licence Info'!$B$108:$B$132,FALSE),MATCH(Control!E$101,'Licence Info'!$C$105:$DW$105,FALSE))-E63)","v":0},{"$f":"MAX(0,OFFSET(Licence_IBEC,MATCH($B125,'Licence Info'!$B$40:$B$64,FALSE),MATCH(Control!F$101,'Licence Info'!$C$37:$DW$37,FALSE))*$C$9+OFFSET(Licence_Subst,MATCH($B125,'Licence Info'!$B$74:$B$98,FALSE),MATCH(Control!F$101,'Licence Info'!$C$71:$DW$71,FALSE))*$C$9+OFFSET(Licence_OIEC,MATCH($B125,'Licence Info'!$B$108:$B$132,FALSE),MATCH(Control!F$101,'Licence Info'!$C$105:$DW$105,FALSE))-F63)","v":0},{"$f":"MAX(0,OFFSET(Licence_IBEC,MATCH($B125,'Licence Info'!$B$40:$B$64,FALSE),MATCH(Control!G$101,'Licence Info'!$C$37:$DW$37,FALSE))*$C$9+OFFSET(Licence_Subst,MATCH($B125,'Licence Info'!$B$74:$B$98,FALSE),MATCH(Control!G$101,'Licence Info'!$C$71:$DW$71,FALSE))*$C$9+OFFSET(Licence_OIEC,MATCH($B125,'Licence Info'!$B$108:$B$132,FALSE),MATCH(Control!G$101,'Licence Info'!$C$105:$DW$105,FALSE))-G63)","v":0},{"$f":"MAX(0,OFFSET(Licence_IBEC,MATCH($B125,'Licence Info'!$B$40:$B$64,FALSE),MATCH(Control!H$101,'Licence Info'!$C$37:$DW$37,FALSE))*$C$9+OFFSET(Licence_Subst,MATCH($B125,'Licence Info'!$B$74:$B$98,FALSE),MATCH(Control!H$101,'Licence Info'!$C$71:$DW$71,FALSE))*$C$9+OFFSET(Licence_OIEC,MATCH($B125,'Licence Info'!$B$108:$B$132,FALSE),MATCH(Control!H$101,'Licence Info'!$C$105:$DW$105,FALSE))-H63)","v":0},{"$f":"MAX(0,OFFSET(Licence_IBEC,MATCH($B125,'Licence Info'!$B$40:$B$64,FALSE),MATCH(Control!I$101,'Licence Info'!$C$37:$DW$37,FALSE))*$C$9+OFFSET(Licence_Subst,MATCH($B125,'Licence Info'!$B$74:$B$98,FALSE),MATCH(Control!I$101,'Licence Info'!$C$71:$DW$71,FALSE))*$C$9+OFFSET(Licence_OIEC,MATCH($B125,'Licence Info'!$B$108:$B$132,FALSE),MATCH(Control!I$101,'Licence Info'!$C$105:$DW$105,FALSE))-I63)","v":0},{"$f":"MAX(0,OFFSET(Licence_IBEC,MATCH($B125,'Licence Info'!$B$40:$B$64,FALSE),MATCH(Control!J$101,'Licence Info'!$C$37:$DW$37,FALSE))*$C$9+OFFSET(Licence_Subst,MATCH($B125,'Licence Info'!$B$74:$B$98,FALSE),MATCH(Control!J$101,'Licence Info'!$C$71:$DW$71,FALSE))*$C$9+OFFSET(Licence_OIEC,MATCH($B125,'Licence Info'!$B$108:$B$132,FALSE),MATCH(Control!J$101,'Licence Info'!$C$105:$DW$105,FALSE))-J63)","v":0},{"$f":"MAX(0,OFFSET(Licence_IBEC,MATCH($B125,'Licence Info'!$B$40:$B$64,FALSE),MATCH(Control!K$101,'Licence Info'!$C$37:$DW$37,FALSE))*$C$9+OFFSET(Licence_Subst,MATCH($B125,'Licence Info'!$B$74:$B$98,FALSE),MATCH(Control!K$101,'Licence Info'!$C$71:$DW$71,FALSE))*$C$9+OFFSET(Licence_OIEC,MATCH($B125,'Licence Info'!$B$108:$B$132,FALSE),MATCH(Control!K$101,'Licence Info'!$C$105:$DW$105,FALSE))-K63)","v":0},{"$f":"MAX(0,OFFSET(Licence_IBEC,MATCH($B125,'Licence Info'!$B$40:$B$64,FALSE),MATCH(Control!L$101,'Licence Info'!$C$37:$DW$37,FALSE))*$C$9+OFFSET(Licence_Subst,MATCH($B125,'Licence Info'!$B$74:$B$98,FALSE),MATCH(Control!L$101,'Licence Info'!$C$71:$DW$71,FALSE))*$C$9+OFFSET(Licence_OIEC,MATCH($B125,'Licence Info'!$B$108:$B$132,FALSE),MATCH(Control!L$101,'Licence Info'!$C$105:$DW$105,FALSE))-L63)","v":0},{"$f":"MAX(0,OFFSET(Licence_IBEC,MATCH($B125,'Licence Info'!$B$40:$B$64,FALSE),MATCH(Control!M$101,'Licence Info'!$C$37:$DW$37,FALSE))*$C$9+OFFSET(Licence_Subst,MATCH($B125,'Licence Info'!$B$74:$B$98,FALSE),MATCH(Control!M$101,'Licence Info'!$C$71:$DW$71,FALSE))*$C$9+OFFSET(Licence_OIEC,MATCH($B125,'Licence Info'!$B$108:$B$132,FALSE),MATCH(Control!M$101,'Licence Info'!$C$105:$DW$105,FALSE))-M63)","v":0},{"$f":"MAX(0,OFFSET(Licence_IBEC,MATCH($B125,'Licence Info'!$B$40:$B$64,FALSE),MATCH(Control!N$101,'Licence Info'!$C$37:$DW$37,FALSE))*$C$9+OFFSET(Licence_Subst,MATCH($B125,'Licence Info'!$B$74:$B$98,FALSE),MATCH(Control!N$101,'Licence Info'!$C$71:$DW$71,FALSE))*$C$9+OFFSET(Licence_OIEC,MATCH($B125,'Licence Info'!$B$108:$B$132,FALSE),MATCH(Control!N$101,'Licence Info'!$C$105:$DW$105,FALSE))-N63)","v":0},{"$f":"MAX(0,OFFSET(Licence_IBEC,MATCH($B125,'Licence Info'!$B$40:$B$64,FALSE),MATCH(Control!O$101,'Licence Info'!$C$37:$DW$37,FALSE))*$C$9+OFFSET(Licence_Subst,MATCH($B125,'Licence Info'!$B$74:$B$98,FALSE),MATCH(Control!O$101,'Licence Info'!$C$71:$DW$71,FALSE))*$C$9+OFFSET(Licence_OIEC,MATCH($B125,'Licence Info'!$B$108:$B$132,FALSE),MATCH(Control!O$101,'Licence Info'!$C$105:$DW$105,FALSE))-O63)","v":0},{"$f":"MAX(0,OFFSET(Licence_IBEC,MATCH($B125,'Licence Info'!$B$40:$B$64,FALSE),MATCH(Control!P$101,'Licence Info'!$C$37:$DW$37,FALSE))*$C$9+OFFSET(Licence_Subst,MATCH($B125,'Licence Info'!$B$74:$B$98,FALSE),MATCH(Control!P$101,'Licence Info'!$C$71:$DW$71,FALSE))*$C$9+OFFSET(Licence_OIEC,MATCH($B125,'Licence Info'!$B$108:$B$132,FALSE),MATCH(Control!P$101,'Licence Info'!$C$105:$DW$105,FALSE))-P63)","v":0},{"$f":"MAX(0,OFFSET(Licence_IBEC,MATCH($B125,'Licence Info'!$B$40:$B$64,FALSE),MATCH(Control!Q$101,'Licence Info'!$C$37:$DW$37,FALSE))*$C$9+OFFSET(Licence_Subst,MATCH($B125,'Licence Info'!$B$74:$B$98,FALSE),MATCH(Control!Q$101,'Licence Info'!$C$71:$DW$71,FALSE))*$C$9+OFFSET(Licence_OIEC,MATCH($B125,'Licence Info'!$B$108:$B$132,FALSE),MATCH(Control!Q$101,'Licence Info'!$C$105:$DW$105,FALSE))-Q63)","v":0},{"$f":"MAX(0,OFFSET(Licence_IBEC,MATCH($B125,'Licence Info'!$B$40:$B$64,FALSE),MATCH(Control!R$101,'Licence Info'!$C$37:$DW$37,FALSE))*$C$9+OFFSET(Licence_Subst,MATCH($B125,'Licence Info'!$B$74:$B$98,FALSE),MATCH(Control!R$101,'Licence Info'!$C$71:$DW$71,FALSE))*$C$9+OFFSET(Licence_OIEC,MATCH($B125,'Licence Info'!$B$108:$B$132,FALSE),MATCH(Control!R$101,'Licence Info'!$C$105:$DW$105,FALSE))-R63)","v":0},{"$f":"MAX(0,OFFSET(Licence_IBEC,MATCH($B125,'Licence Info'!$B$40:$B$64,FALSE),MATCH(Control!S$101,'Licence Info'!$C$37:$DW$37,FALSE))*$C$9+OFFSET(Licence_Subst,MATCH($B125,'Licence Info'!$B$74:$B$98,FALSE),MATCH(Control!S$101,'Licence Info'!$C$71:$DW$71,FALSE))*$C$9+OFFSET(Licence_OIEC,MATCH($B125,'Licence Info'!$B$108:$B$132,FALSE),MATCH(Control!S$101,'Licence Info'!$C$105:$DW$105,FALSE))-S63)","v":0},{"$f":"MAX(0,OFFSET(Licence_IBEC,MATCH($B125,'Licence Info'!$B$40:$B$64,FALSE),MATCH(Control!T$101,'Licence Info'!$C$37:$DW$37,FALSE))*$C$9+OFFSET(Licence_Subst,MATCH($B125,'Licence Info'!$B$74:$B$98,FALSE),MATCH(Control!T$101,'Licence Info'!$C$71:$DW$71,FALSE))*$C$9+OFFSET(Licence_OIEC,MATCH($B125,'Licence Info'!$B$108:$B$132,FALSE),MATCH(Control!T$101,'Licence Info'!$C$105:$DW$105,FALSE))-T63)","v":0},{"$f":"MAX(0,OFFSET(Licence_IBEC,MATCH($B125,'Licence Info'!$B$40:$B$64,FALSE),MATCH(Control!U$101,'Licence Info'!$C$37:$DW$37,FALSE))*$C$9+OFFSET(Licence_Subst,MATCH($B125,'Licence Info'!$B$74:$B$98,FALSE),MATCH(Control!U$101,'Licence Info'!$C$71:$DW$71,FALSE))*$C$9+OFFSET(Licence_OIEC,MATCH($B125,'Licence Info'!$B$108:$B$132,FALSE),MATCH(Control!U$101,'Licence Info'!$C$105:$DW$105,FALSE))-U63)","v":0},{"$f":"MAX(0,OFFSET(Licence_IBEC,MATCH($B125,'Licence Info'!$B$40:$B$64,FALSE),MATCH(Control!V$101,'Licence Info'!$C$37:$DW$37,FALSE))*$C$9+OFFSET(Licence_Subst,MATCH($B125,'Licence Info'!$B$74:$B$98,FALSE),MATCH(Control!V$101,'Licence Info'!$C$71:$DW$71,FALSE))*$C$9+OFFSET(Licence_OIEC,MATCH($B125,'Licence Info'!$B$108:$B$132,FALSE),MATCH(Control!V$101,'Licence Info'!$C$105:$DW$105,FALSE))-V63)","v":0},{"$f":"MAX(0,OFFSET(Licence_IBEC,MATCH($B125,'Licence Info'!$B$40:$B$64,FALSE),MATCH(Control!W$101,'Licence Info'!$C$37:$DW$37,FALSE))*$C$9+OFFSET(Licence_Subst,MATCH($B125,'Licence Info'!$B$74:$B$98,FALSE),MATCH(Control!W$101,'Licence Info'!$C$71:$DW$71,FALSE))*$C$9+OFFSET(Licence_OIEC,MATCH($B125,'Licence Info'!$B$108:$B$132,FALSE),MATCH(Control!W$101,'Licence Info'!$C$105:$DW$105,FALSE))-W63)","v":0},{"$f":"MAX(0,OFFSET(Licence_IBEC,MATCH($B125,'Licence Info'!$B$40:$B$64,FALSE),MATCH(Control!X$101,'Licence Info'!$C$37:$DW$37,FALSE))*$C$9+OFFSET(Licence_Subst,MATCH($B125,'Licence Info'!$B$74:$B$98,FALSE),MATCH(Control!X$101,'Licence Info'!$C$71:$DW$71,FALSE))*$C$9+OFFSET(Licence_OIEC,MATCH($B125,'Licence Info'!$B$108:$B$132,FALSE),MATCH(Control!X$101,'Licence Info'!$C$105:$DW$105,FALSE))-X63)","v":0},{"$f":"MAX(0,OFFSET(Licence_IBEC,MATCH($B125,'Licence Info'!$B$40:$B$64,FALSE),MATCH(Control!Y$101,'Licence Info'!$C$37:$DW$37,FALSE))*$C$9+OFFSET(Licence_Subst,MATCH($B125,'Licence Info'!$B$74:$B$98,FALSE),MATCH(Control!Y$101,'Licence Info'!$C$71:$DW$71,FALSE))*$C$9+OFFSET(Licence_OIEC,MATCH($B125,'Licence Info'!$B$108:$B$132,FALSE),MATCH(Control!Y$101,'Licence Info'!$C$105:$DW$105,FALSE))-Y63)","v":81},{"$f":"MAX(0,OFFSET(Licence_IBEC,MATCH($B125,'Licence Info'!$B$40:$B$64,FALSE),MATCH(Control!Z$101,'Licence Info'!$C$37:$DW$37,FALSE))*$C$9+OFFSET(Licence_Subst,MATCH($B125,'Licence Info'!$B$74:$B$98,FALSE),MATCH(Control!Z$101,'Licence Info'!$C$71:$DW$71,FALSE))*$C$9+OFFSET(Licence_OIEC,MATCH($B125,'Licence Info'!$B$108:$B$132,FALSE),MATCH(Control!Z$101,'Licence Info'!$C$105:$DW$105,FALSE))-Z63)","v":81},{"$f":"MAX(0,OFFSET(Licence_IBEC,MATCH($B125,'Licence Info'!$B$40:$B$64,FALSE),MATCH(Control!AA$101,'Licence Info'!$C$37:$DW$37,FALSE))*$C$9+OFFSET(Licence_Subst,MATCH($B125,'Licence Info'!$B$74:$B$98,FALSE),MATCH(Control!AA$101,'Licence Info'!$C$71:$DW$71,FALSE))*$C$9+OFFSET(Licence_OIEC,MATCH($B125,'Licence Info'!$B$108:$B$132,FALSE),MATCH(Control!AA$101,'Licence Info'!$C$105:$DW$105,FALSE))-AA63)","v":81},{"$f":"MAX(0,OFFSET(Licence_IBEC,MATCH($B125,'Licence Info'!$B$40:$B$64,FALSE),MATCH(Control!AB$101,'Licence Info'!$C$37:$DW$37,FALSE))*$C$9+OFFSET(Licence_Subst,MATCH($B125,'Licence Info'!$B$74:$B$98,FALSE),MATCH(Control!AB$101,'Licence Info'!$C$71:$DW$71,FALSE))*$C$9+OFFSET(Licence_OIEC,MATCH($B125,'Licence Info'!$B$108:$B$132,FALSE),MATCH(Control!AB$101,'Licence Info'!$C$105:$DW$105,FALSE))-AB63)","v":81},{"$f":"MAX(0,OFFSET(Licence_IBEC,MATCH($B125,'Licence Info'!$B$40:$B$64,FALSE),MATCH(Control!AC$101,'Licence Info'!$C$37:$DW$37,FALSE))*$C$9+OFFSET(Licence_Subst,MATCH($B125,'Licence Info'!$B$74:$B$98,FALSE),MATCH(Control!AC$101,'Licence Info'!$C$71:$DW$71,FALSE))*$C$9+OFFSET(Licence_OIEC,MATCH($B125,'Licence Info'!$B$108:$B$132,FALSE),MATCH(Control!AC$101,'Licence Info'!$C$105:$DW$105,FALSE))-AC63)","v":81},{"$f":"MAX(0,OFFSET(Licence_IBEC,MATCH($B125,'Licence Info'!$B$40:$B$64,FALSE),MATCH(Control!AD$101,'Licence Info'!$C$37:$DW$37,FALSE))*$C$9+OFFSET(Licence_Subst,MATCH($B125,'Licence Info'!$B$74:$B$98,FALSE),MATCH(Control!AD$101,'Licence Info'!$C$71:$DW$71,FALSE))*$C$9+OFFSET(Licence_OIEC,MATCH($B125,'Licence Info'!$B$108:$B$132,FALSE),MATCH(Control!AD$101,'Licence Info'!$C$105:$DW$105,FALSE))-AD63)","v":81},{"$f":"MAX(0,OFFSET(Licence_IBEC,MATCH($B125,'Licence Info'!$B$40:$B$64,FALSE),MATCH(Control!AE$101,'Licence Info'!$C$37:$DW$37,FALSE))*$C$9+OFFSET(Licence_Subst,MATCH($B125,'Licence Info'!$B$74:$B$98,FALSE),MATCH(Control!AE$101,'Licence Info'!$C$71:$DW$71,FALSE))*$C$9+OFFSET(Licence_OIEC,MATCH($B125,'Licence Info'!$B$108:$B$132,FALSE),MATCH(Control!AE$101,'Licence Info'!$C$105:$DW$105,FALSE))-AE63)","v":81},{"$f":"MAX(0,OFFSET(Licence_IBEC,MATCH($B125,'Licence Info'!$B$40:$B$64,FALSE),MATCH(Control!AF$101,'Licence Info'!$C$37:$DW$37,FALSE))*$C$9+OFFSET(Licence_Subst,MATCH($B125,'Licence Info'!$B$74:$B$98,FALSE),MATCH(Control!AF$101,'Licence Info'!$C$71:$DW$71,FALSE))*$C$9+OFFSET(Licence_OIEC,MATCH($B125,'Licence Info'!$B$108:$B$132,FALSE),MATCH(Control!AF$101,'Licence Info'!$C$105:$DW$105,FALSE))-AF63)","v":81},{"$f":"MAX(0,OFFSET(Licence_IBEC,MATCH($B125,'Licence Info'!$B$40:$B$64,FALSE),MATCH(Control!AG$101,'Licence Info'!$C$37:$DW$37,FALSE))*$C$9+OFFSET(Licence_Subst,MATCH($B125,'Licence Info'!$B$74:$B$98,FALSE),MATCH(Control!AG$101,'Licence Info'!$C$71:$DW$71,FALSE))*$C$9+OFFSET(Licence_OIEC,MATCH($B125,'Licence Info'!$B$108:$B$132,FALSE),MATCH(Control!AG$101,'Licence Info'!$C$105:$DW$105,FALSE))-AG63)","v":81},{"$f":"MAX(0,OFFSET(Licence_IBEC,MATCH($B125,'Licence Info'!$B$40:$B$64,FALSE),MATCH(Control!AH$101,'Licence Info'!$C$37:$DW$37,FALSE))*$C$9+OFFSET(Licence_Subst,MATCH($B125,'Licence Info'!$B$74:$B$98,FALSE),MATCH(Control!AH$101,'Licence Info'!$C$71:$DW$71,FALSE))*$C$9+OFFSET(Licence_OIEC,MATCH($B125,'Licence Info'!$B$108:$B$132,FALSE),MATCH(Control!AH$101,'Licence Info'!$C$105:$DW$105,FALSE))-AH63)","v":81},{"$f":"MAX(0,OFFSET(Licence_IBEC,MATCH($B125,'Licence Info'!$B$40:$B$64,FALSE),MATCH(Control!AI$101,'Licence Info'!$C$37:$DW$37,FALSE))*$C$9+OFFSET(Licence_Subst,MATCH($B125,'Licence Info'!$B$74:$B$98,FALSE),MATCH(Control!AI$101,'Licence Info'!$C$71:$DW$71,FALSE))*$C$9+OFFSET(Licence_OIEC,MATCH($B125,'Licence Info'!$B$108:$B$132,FALSE),MATCH(Control!AI$101,'Licence Info'!$C$105:$DW$105,FALSE))-AI63)","v":81},{"$f":"MAX(0,OFFSET(Licence_IBEC,MATCH($B125,'Licence Info'!$B$40:$B$64,FALSE),MATCH(Control!AJ$101,'Licence Info'!$C$37:$DW$37,FALSE))*$C$9+OFFSET(Licence_Subst,MATCH($B125,'Licence Info'!$B$74:$B$98,FALSE),MATCH(Control!AJ$101,'Licence Info'!$C$71:$DW$71,FALSE))*$C$9+OFFSET(Licence_OIEC,MATCH($B125,'Licence Info'!$B$108:$B$132,FALSE),MATCH(Control!AJ$101,'Licence Info'!$C$105:$DW$105,FALSE))-AJ63)","v":81},{"$f":"MAX(0,OFFSET(Licence_IBEC,MATCH($B125,'Licence Info'!$B$40:$B$64,FALSE),MATCH(Control!AK$101,'Licence Info'!$C$37:$DW$37,FALSE))*$C$9+OFFSET(Licence_Subst,MATCH($B125,'Licence Info'!$B$74:$B$98,FALSE),MATCH(Control!AK$101,'Licence Info'!$C$71:$DW$71,FALSE))*$C$9+OFFSET(Licence_OIEC,MATCH($B125,'Licence Info'!$B$108:$B$132,FALSE),MATCH(Control!AK$101,'Licence Info'!$C$105:$DW$105,FALSE))-AK63)","v":81},{"$f":"MAX(0,OFFSET(Licence_IBEC,MATCH($B125,'Licence Info'!$B$40:$B$64,FALSE),MATCH(Control!AL$101,'Licence Info'!$C$37:$DW$37,FALSE))*$C$9+OFFSET(Licence_Subst,MATCH($B125,'Licence Info'!$B$74:$B$98,FALSE),MATCH(Control!AL$101,'Licence Info'!$C$71:$DW$71,FALSE))*$C$9+OFFSET(Licence_OIEC,MATCH($B125,'Licence Info'!$B$108:$B$132,FALSE),MATCH(Control!AL$101,'Licence Info'!$C$105:$DW$105,FALSE))-AL63)","v":81},{"$f":"MAX(0,OFFSET(Licence_IBEC,MATCH($B125,'Licence Info'!$B$40:$B$64,FALSE),MATCH(Control!AM$101,'Licence Info'!$C$37:$DW$37,FALSE))*$C$9+OFFSET(Licence_Subst,MATCH($B125,'Licence Info'!$B$74:$B$98,FALSE),MATCH(Control!AM$101,'Licence Info'!$C$71:$DW$71,FALSE))*$C$9+OFFSET(Licence_OIEC,MATCH($B125,'Licence Info'!$B$108:$B$132,FALSE),MATCH(Control!AM$101,'Licence Info'!$C$105:$DW$105,FALSE))-AM63)","v":81},{"$f":"MAX(0,OFFSET(Licence_IBEC,MATCH($B125,'Licence Info'!$B$40:$B$64,FALSE),MATCH(Control!AN$101,'Licence Info'!$C$37:$DW$37,FALSE))*$C$9+OFFSET(Licence_Subst,MATCH($B125,'Licence Info'!$B$74:$B$98,FALSE),MATCH(Control!AN$101,'Licence Info'!$C$71:$DW$71,FALSE))*$C$9+OFFSET(Licence_OIEC,MATCH($B125,'Licence Info'!$B$108:$B$132,FALSE),MATCH(Control!AN$101,'Licence Info'!$C$105:$DW$105,FALSE))-AN63)","v":81},{"$f":"MAX(0,OFFSET(Licence_IBEC,MATCH($B125,'Licence Info'!$B$40:$B$64,FALSE),MATCH(Control!AO$101,'Licence Info'!$C$37:$DW$37,FALSE))*$C$9+OFFSET(Licence_Subst,MATCH($B125,'Licence Info'!$B$74:$B$98,FALSE),MATCH(Control!AO$101,'Licence Info'!$C$71:$DW$71,FALSE))*$C$9+OFFSET(Licence_OIEC,MATCH($B125,'Licence Info'!$B$108:$B$132,FALSE),MATCH(Control!AO$101,'Licence Info'!$C$105:$DW$105,FALSE))-AO63)","v":81},{"$f":"MAX(0,OFFSET(Licence_IBEC,MATCH($B125,'Licence Info'!$B$40:$B$64,FALSE),MATCH(Control!AP$101,'Licence Info'!$C$37:$DW$37,FALSE))*$C$9+OFFSET(Licence_Subst,MATCH($B125,'Licence Info'!$B$74:$B$98,FALSE),MATCH(Control!AP$101,'Licence Info'!$C$71:$DW$71,FALSE))*$C$9+OFFSET(Licence_OIEC,MATCH($B125,'Licence Info'!$B$108:$B$132,FALSE),MATCH(Control!AP$101,'Licence Info'!$C$105:$DW$105,FALSE))-AP63)","v":81},{"$f":"MAX(0,OFFSET(Licence_IBEC,MATCH($B125,'Licence Info'!$B$40:$B$64,FALSE),MATCH(Control!AQ$101,'Licence Info'!$C$37:$DW$37,FALSE))*$C$9+OFFSET(Licence_Subst,MATCH($B125,'Licence Info'!$B$74:$B$98,FALSE),MATCH(Control!AQ$101,'Licence Info'!$C$71:$DW$71,FALSE))*$C$9+OFFSET(Licence_OIEC,MATCH($B125,'Licence Info'!$B$108:$B$132,FALSE),MATCH(Control!AQ$101,'Licence Info'!$C$105:$DW$105,FALSE))-AQ63)","v":81},{"$f":"MAX(0,OFFSET(Licence_IBEC,MATCH($B125,'Licence Info'!$B$40:$B$64,FALSE),MATCH(Control!AR$101,'Licence Info'!$C$37:$DW$37,FALSE))*$C$9+OFFSET(Licence_Subst,MATCH($B125,'Licence Info'!$B$74:$B$98,FALSE),MATCH(Control!AR$101,'Licence Info'!$C$71:$DW$71,FALSE))*$C$9+OFFSET(Licence_OIEC,MATCH($B125,'Licence Info'!$B$108:$B$132,FALSE),MATCH(Control!AR$101,'Licence Info'!$C$105:$DW$105,FALSE))-AR63)","v":81},{"$f":"MAX(0,OFFSET(Licence_IBEC,MATCH($B125,'Licence Info'!$B$40:$B$64,FALSE),MATCH(Control!AS$101,'Licence Info'!$C$37:$DW$37,FALSE))*$C$9+OFFSET(Licence_Subst,MATCH($B125,'Licence Info'!$B$74:$B$98,FALSE),MATCH(Control!AS$101,'Licence Info'!$C$71:$DW$71,FALSE))*$C$9+OFFSET(Licence_OIEC,MATCH($B125,'Licence Info'!$B$108:$B$132,FALSE),MATCH(Control!AS$101,'Licence Info'!$C$105:$DW$105,FALSE))-AS63)","v":81},{"$f":"MAX(0,OFFSET(Licence_IBEC,MATCH($B125,'Licence Info'!$B$40:$B$64,FALSE),MATCH(Control!AT$101,'Licence Info'!$C$37:$DW$37,FALSE))*$C$9+OFFSET(Licence_Subst,MATCH($B125,'Licence Info'!$B$74:$B$98,FALSE),MATCH(Control!AT$101,'Licence Info'!$C$71:$DW$71,FALSE))*$C$9+OFFSET(Licence_OIEC,MATCH($B125,'Licence Info'!$B$108:$B$132,FALSE),MATCH(Control!AT$101,'Licence Info'!$C$105:$DW$105,FALSE))-AT63)","v":81},{"$f":"MAX(0,OFFSET(Licence_IBEC,MATCH($B125,'Licence Info'!$B$40:$B$64,FALSE),MATCH(Control!AU$101,'Licence Info'!$C$37:$DW$37,FALSE))*$C$9+OFFSET(Licence_Subst,MATCH($B125,'Licence Info'!$B$74:$B$98,FALSE),MATCH(Control!AU$101,'Licence Info'!$C$71:$DW$71,FALSE))*$C$9+OFFSET(Licence_OIEC,MATCH($B125,'Licence Info'!$B$108:$B$132,FALSE),MATCH(Control!AU$101,'Licence Info'!$C$105:$DW$105,FALSE))-AU63)","v":81},{"$f":"MAX(0,OFFSET(Licence_IBEC,MATCH($B125,'Licence Info'!$B$40:$B$64,FALSE),MATCH(Control!AV$101,'Licence Info'!$C$37:$DW$37,FALSE))*$C$9+OFFSET(Licence_Subst,MATCH($B125,'Licence Info'!$B$74:$B$98,FALSE),MATCH(Control!AV$101,'Licence Info'!$C$71:$DW$71,FALSE))*$C$9+OFFSET(Licence_OIEC,MATCH($B125,'Licence Info'!$B$108:$B$132,FALSE),MATCH(Control!AV$101,'Licence Info'!$C$105:$DW$105,FALSE))-AV63)","v":81},{"$f":"MAX(0,OFFSET(Licence_IBEC,MATCH($B125,'Licence Info'!$B$40:$B$64,FALSE),MATCH(Control!AW$101,'Licence Info'!$C$37:$DW$37,FALSE))*$C$9+OFFSET(Licence_Subst,MATCH($B125,'Licence Info'!$B$74:$B$98,FALSE),MATCH(Control!AW$101,'Licence Info'!$C$71:$DW$71,FALSE))*$C$9+OFFSET(Licence_OIEC,MATCH($B125,'Licence Info'!$B$108:$B$132,FALSE),MATCH(Control!AW$101,'Licence Info'!$C$105:$DW$105,FALSE))-AW63)","v":81},{"$f":"MAX(0,OFFSET(Licence_IBEC,MATCH($B125,'Licence Info'!$B$40:$B$64,FALSE),MATCH(Control!AX$101,'Licence Info'!$C$37:$DW$37,FALSE))*$C$9+OFFSET(Licence_Subst,MATCH($B125,'Licence Info'!$B$74:$B$98,FALSE),MATCH(Control!AX$101,'Licence Info'!$C$71:$DW$71,FALSE))*$C$9+OFFSET(Licence_OIEC,MATCH($B125,'Licence Info'!$B$108:$B$132,FALSE),MATCH(Control!AX$101,'Licence Info'!$C$105:$DW$105,FALSE))-AX63)","v":81},{"$f":"MAX(0,OFFSET(Licence_IBEC,MATCH($B125,'Licence Info'!$B$40:$B$64,FALSE),MATCH(Control!AY$101,'Licence Info'!$C$37:$DW$37,FALSE))*$C$9+OFFSET(Licence_Subst,MATCH($B125,'Licence Info'!$B$74:$B$98,FALSE),MATCH(Control!AY$101,'Licence Info'!$C$71:$DW$71,FALSE))*$C$9+OFFSET(Licence_OIEC,MATCH($B125,'Licence Info'!$B$108:$B$132,FALSE),MATCH(Control!AY$101,'Licence Info'!$C$105:$DW$105,FALSE))-AY63)","v":81},{"$f":"MAX(0,OFFSET(Licence_IBEC,MATCH($B125,'Licence Info'!$B$40:$B$64,FALSE),MATCH(Control!AZ$101,'Licence Info'!$C$37:$DW$37,FALSE))*$C$9+OFFSET(Licence_Subst,MATCH($B125,'Licence Info'!$B$74:$B$98,FALSE),MATCH(Control!AZ$101,'Licence Info'!$C$71:$DW$71,FALSE))*$C$9+OFFSET(Licence_OIEC,MATCH($B125,'Licence Info'!$B$108:$B$132,FALSE),MATCH(Control!AZ$101,'Licence Info'!$C$105:$DW$105,FALSE))-AZ63)","v":81},{"$f":"MAX(0,OFFSET(Licence_IBEC,MATCH($B125,'Licence Info'!$B$40:$B$64,FALSE),MATCH(Control!BA$101,'Licence Info'!$C$37:$DW$37,FALSE))*$C$9+OFFSET(Licence_Subst,MATCH($B125,'Licence Info'!$B$74:$B$98,FALSE),MATCH(Control!BA$101,'Licence Info'!$C$71:$DW$71,FALSE))*$C$9+OFFSET(Licence_OIEC,MATCH($B125,'Licence Info'!$B$108:$B$132,FALSE),MATCH(Control!BA$101,'Licence Info'!$C$105:$DW$105,FALSE))-BA63)","v":81},{"$f":"MAX(0,OFFSET(Licence_IBEC,MATCH($B125,'Licence Info'!$B$40:$B$64,FALSE),MATCH(Control!BB$101,'Licence Info'!$C$37:$DW$37,FALSE))*$C$9+OFFSET(Licence_Subst,MATCH($B125,'Licence Info'!$B$74:$B$98,FALSE),MATCH(Control!BB$101,'Licence Info'!$C$71:$DW$71,FALSE))*$C$9+OFFSET(Licence_OIEC,MATCH($B125,'Licence Info'!$B$108:$B$132,FALSE),MATCH(Control!BB$101,'Licence Info'!$C$105:$DW$105,FALSE))-BB63)","v":81},{"$f":"MAX(0,OFFSET(Licence_IBEC,MATCH($B125,'Licence Info'!$B$40:$B$64,FALSE),MATCH(Control!BC$101,'Licence Info'!$C$37:$DW$37,FALSE))*$C$9+OFFSET(Licence_Subst,MATCH($B125,'Licence Info'!$B$74:$B$98,FALSE),MATCH(Control!BC$101,'Licence Info'!$C$71:$DW$71,FALSE))*$C$9+OFFSET(Licence_OIEC,MATCH($B125,'Licence Info'!$B$108:$B$132,FALSE),MATCH(Control!BC$101,'Licence Info'!$C$105:$DW$105,FALSE))-BC63)","v":81},{"$f":"MAX(0,OFFSET(Licence_IBEC,MATCH($B125,'Licence Info'!$B$40:$B$64,FALSE),MATCH(Control!BD$101,'Licence Info'!$C$37:$DW$37,FALSE))*$C$9+OFFSET(Licence_Subst,MATCH($B125,'Licence Info'!$B$74:$B$98,FALSE),MATCH(Control!BD$101,'Licence Info'!$C$71:$DW$71,FALSE))*$C$9+OFFSET(Licence_OIEC,MATCH($B125,'Licence Info'!$B$108:$B$132,FALSE),MATCH(Control!BD$101,'Licence Info'!$C$105:$DW$105,FALSE))-BD63)","v":81},{"$f":"MAX(0,OFFSET(Licence_IBEC,MATCH($B125,'Licence Info'!$B$40:$B$64,FALSE),MATCH(Control!BE$101,'Licence Info'!$C$37:$DW$37,FALSE))*$C$9+OFFSET(Licence_Subst,MATCH($B125,'Licence Info'!$B$74:$B$98,FALSE),MATCH(Control!BE$101,'Licence Info'!$C$71:$DW$71,FALSE))*$C$9+OFFSET(Licence_OIEC,MATCH($B125,'Licence Info'!$B$108:$B$132,FALSE),MATCH(Control!BE$101,'Licence Info'!$C$105:$DW$105,FALSE))-BE63)","v":81},{"$f":"MAX(0,OFFSET(Licence_IBEC,MATCH($B125,'Licence Info'!$B$40:$B$64,FALSE),MATCH(Control!BF$101,'Licence Info'!$C$37:$DW$37,FALSE))*$C$9+OFFSET(Licence_Subst,MATCH($B125,'Licence Info'!$B$74:$B$98,FALSE),MATCH(Control!BF$101,'Licence Info'!$C$71:$DW$71,FALSE))*$C$9+OFFSET(Licence_OIEC,MATCH($B125,'Licence Info'!$B$108:$B$132,FALSE),MATCH(Control!BF$101,'Licence Info'!$C$105:$DW$105,FALSE))-BF63)","v":81},{"$f":"MAX(0,OFFSET(Licence_IBEC,MATCH($B125,'Licence Info'!$B$40:$B$64,FALSE),MATCH(Control!BG$101,'Licence Info'!$C$37:$DW$37,FALSE))*$C$9+OFFSET(Licence_Subst,MATCH($B125,'Licence Info'!$B$74:$B$98,FALSE),MATCH(Control!BG$101,'Licence Info'!$C$71:$DW$71,FALSE))*$C$9+OFFSET(Licence_OIEC,MATCH($B125,'Licence Info'!$B$108:$B$132,FALSE),MATCH(Control!BG$101,'Licence Info'!$C$105:$DW$105,FALSE))-BG63)","v":81},{"$f":"MAX(0,OFFSET(Licence_IBEC,MATCH($B125,'Licence Info'!$B$40:$B$64,FALSE),MATCH(Control!BH$101,'Licence Info'!$C$37:$DW$37,FALSE))*$C$9+OFFSET(Licence_Subst,MATCH($B125,'Licence Info'!$B$74:$B$98,FALSE),MATCH(Control!BH$101,'Licence Info'!$C$71:$DW$71,FALSE))*$C$9+OFFSET(Licence_OIEC,MATCH($B125,'Licence Info'!$B$108:$B$132,FALSE),MATCH(Control!BH$101,'Licence Info'!$C$105:$DW$105,FALSE))-BH63)","v":81},{"$f":"MAX(0,OFFSET(Licence_IBEC,MATCH($B125,'Licence Info'!$B$40:$B$64,FALSE),MATCH(Control!BI$101,'Licence Info'!$C$37:$DW$37,FALSE))*$C$9+OFFSET(Licence_Subst,MATCH($B125,'Licence Info'!$B$74:$B$98,FALSE),MATCH(Control!BI$101,'Licence Info'!$C$71:$DW$71,FALSE))*$C$9+OFFSET(Licence_OIEC,MATCH($B125,'Licence Info'!$B$108:$B$132,FALSE),MATCH(Control!BI$101,'Licence Info'!$C$105:$DW$105,FALSE))-BI63)","v":81},{"$f":"MAX(0,OFFSET(Licence_IBEC,MATCH($B125,'Licence Info'!$B$40:$B$64,FALSE),MATCH(Control!BJ$101,'Licence Info'!$C$37:$DW$37,FALSE))*$C$9+OFFSET(Licence_Subst,MATCH($B125,'Licence Info'!$B$74:$B$98,FALSE),MATCH(Control!BJ$101,'Licence Info'!$C$71:$DW$71,FALSE))*$C$9+OFFSET(Licence_OIEC,MATCH($B125,'Licence Info'!$B$108:$B$132,FALSE),MATCH(Control!BJ$101,'Licence Info'!$C$105:$DW$105,FALSE))-BJ63)","v":81},{"$f":"MAX(0,OFFSET(Licence_IBEC,MATCH($B125,'Licence Info'!$B$40:$B$64,FALSE),MATCH(Control!BK$101,'Licence Info'!$C$37:$DW$37,FALSE))*$C$9+OFFSET(Licence_Subst,MATCH($B125,'Licence Info'!$B$74:$B$98,FALSE),MATCH(Control!BK$101,'Licence Info'!$C$71:$DW$71,FALSE))*$C$9+OFFSET(Licence_OIEC,MATCH($B125,'Licence Info'!$B$108:$B$132,FALSE),MATCH(Control!BK$101,'Licence Info'!$C$105:$DW$105,FALSE))-BK63)","v":{"$error":"#N/A"}}]
[null,"Canonbie",{"$f":"MAX(0,OFFSET(Licence_IBEC,MATCH($B126,'Licence Info'!$B$40:$B$64,FALSE),MATCH(Control!C$101,'Licence Info'!$C$37:$DW$37,FALSE))*$C$9+OFFSET(Licence_Subst,MATCH($B126,'Licence Info'!$B$74:$B$98,FALSE),MATCH(Control!C$101,'Licence Info'!$C$71:$DW$71,FALSE))*$C$9+OFFSET(Licence_OIEC,MATCH($B126,'Licence Info'!$B$108:$B$132,FALSE),MATCH(Control!C$101,'Licence Info'!$C$105:$DW$105,FALSE))-C64)","v":0},{"$f":"MAX(0,OFFSET(Licence_IBEC,MATCH($B126,'Licence Info'!$B$40:$B$64,FALSE),MATCH(Control!D$101,'Licence Info'!$C$37:$DW$37,FALSE))*$C$9+OFFSET(Licence_Subst,MATCH($B126,'Licence Info'!$B$74:$B$98,FALSE),MATCH(Control!D$101,'Licence Info'!$C$71:$DW$71,FALSE))*$C$9+OFFSET(Licence_OIEC,MATCH($B126,'Licence Info'!$B$108:$B$132,FALSE),MATCH(Control!D$101,'Licence Info'!$C$105:$DW$105,FALSE))-D64)","v":0},{"$f":"MAX(0,OFFSET(Licence_IBEC,MATCH($B126,'Licence Info'!$B$40:$B$64,FALSE),MATCH(Control!E$101,'Licence Info'!$C$37:$DW$37,FALSE))*$C$9+OFFSET(Licence_Subst,MATCH($B126,'Licence Info'!$B$74:$B$98,FALSE),MATCH(Control!E$101,'Licence Info'!$C$71:$DW$71,FALSE))*$C$9+OFFSET(Licence_OIEC,MATCH($B126,'Licence Info'!$B$108:$B$132,FALSE),MATCH(Control!E$101,'Licence Info'!$C$105:$DW$105,FALSE))-E64)","v":0},{"$f":"MAX(0,OFFSET(Licence_IBEC,MATCH($B126,'Licence Info'!$B$40:$B$64,FALSE),MATCH(Control!F$101,'Licence Info'!$C$37:$DW$37,FALSE))*$C$9+OFFSET(Licence_Subst,MATCH($B126,'Licence Info'!$B$74:$B$98,FALSE),MATCH(Control!F$101,'Licence Info'!$C$71:$DW$71,FALSE))*$C$9+OFFSET(Licence_OIEC,MATCH($B126,'Licence Info'!$B$108:$B$132,FALSE),MATCH(Control!F$101,'Licence Info'!$C$105:$DW$105,FALSE))-F64)","v":0},{"$f":"MAX(0,OFFSET(Licence_IBEC,MATCH($B126,'Licence Info'!$B$40:$B$64,FALSE),MATCH(Control!G$101,'Licence Info'!$C$37:$DW$37,FALSE))*$C$9+OFFSET(Licence_Subst,MATCH($B126,'Licence Info'!$B$74:$B$98,FALSE),MATCH(Control!G$101,'Licence Info'!$C$71:$DW$71,FALSE))*$C$9+OFFSET(Licence_OIEC,MATCH($B126,'Licence Info'!$B$108:$B$132,FALSE),MATCH(Control!G$101,'Licence Info'!$C$105:$DW$105,FALSE))-G64)","v":0},{"$f":"MAX(0,OFFSET(Licence_IBEC,MATCH($B126,'Licence Info'!$B$40:$B$64,FALSE),MATCH(Control!H$101,'Licence Info'!$C$37:$DW$37,FALSE))*$C$9+OFFSET(Licence_Subst,MATCH($B126,'Licence Info'!$B$74:$B$98,FALSE),MATCH(Control!H$101,'Licence Info'!$C$71:$DW$71,FALSE))*$C$9+OFFSET(Licence_OIEC,MATCH($B126,'Licence Info'!$B$108:$B$132,FALSE),MATCH(Control!H$101,'Licence Info'!$C$105:$DW$105,FALSE))-H64)","v":0},{"$f":"MAX(0,OFFSET(Licence_IBEC,MATCH($B126,'Licence Info'!$B$40:$B$64,FALSE),MATCH(Control!I$101,'Licence Info'!$C$37:$DW$37,FALSE))*$C$9+OFFSET(Licence_Subst,MATCH($B126,'Licence Info'!$B$74:$B$98,FALSE),MATCH(Control!I$101,'Licence Info'!$C$71:$DW$71,FALSE))*$C$9+OFFSET(Licence_OIEC,MATCH($B126,'Licence Info'!$B$108:$B$132,FALSE),MATCH(Control!I$101,'Licence Info'!$C$105:$DW$105,FALSE))-I64)","v":0},{"$f":"MAX(0,OFFSET(Licence_IBEC,MATCH($B126,'Licence Info'!$B$40:$B$64,FALSE),MATCH(Control!J$101,'Licence Info'!$C$37:$DW$37,FALSE))*$C$9+OFFSET(Licence_Subst,MATCH($B126,'Licence Info'!$B$74:$B$98,FALSE),MATCH(Control!J$101,'Licence Info'!$C$71:$DW$71,FALSE))*$C$9+OFFSET(Licence_OIEC,MATCH($B126,'Licence Info'!$B$108:$B$132,FALSE),MATCH(Control!J$101,'Licence Info'!$C$105:$DW$105,FALSE))-J64)","v":0},{"$f":"MAX(0,OFFSET(Licence_IBEC,MATCH($B126,'Licence Info'!$B$40:$B$64,FALSE),MATCH(Control!K$101,'Licence Info'!$C$37:$DW$37,FALSE))*$C$9+OFFSET(Licence_Subst,MATCH($B126,'Licence Info'!$B$74:$B$98,FALSE),MATCH(Control!K$101,'Licence Info'!$C$71:$DW$71,FALSE))*$C$9+OFFSET(Licence_OIEC,MATCH($B126,'Licence Info'!$B$108:$B$132,FALSE),MATCH(Control!K$101,'Licence Info'!$C$105:$DW$105,FALSE))-K64)","v":0},{"$f":"MAX(0,OFFSET(Licence_IBEC,MATCH($B126,'Licence Info'!$B$40:$B$64,FALSE),MATCH(Control!L$101,'Licence Info'!$C$37:$DW$37,FALSE))*$C$9+OFFSET(Licence_Subst,MATCH($B126,'Licence Info'!$B$74:$B$98,FALSE),MATCH(Control!L$101,'Licence Info'!$C$71:$DW$71,FALSE))*$C$9+OFFSET(Licence_OIEC,MATCH($B126,'Licence Info'!$B$108:$B$132,FALSE),MATCH(Control!L$101,'Licence Info'!$C$105:$DW$105,FALSE))-L64)","v":0},{"$f":"MAX(0,OFFSET(Licence_IBEC,MATCH($B126,'Licence Info'!$B$40:$B$64,FALSE),MATCH(Control!M$101,'Licence Info'!$C$37:$DW$37,FALSE))*$C$9+OFFSET(Licence_Subst,MATCH($B126,'Licence Info'!$B$74:$B$98,FALSE),MATCH(Control!M$101,'Licence Info'!$C$71:$DW$71,FALSE))*$C$9+OFFSET(Licence_OIEC,MATCH($B126,'Licence Info'!$B$108:$B$132,FALSE),MATCH(Control!M$101,'Licence Info'!$C$105:$DW$105,FALSE))-M64)","v":0},{"$f":"MAX(0,OFFSET(Licence_IBEC,MATCH($B126,'Licence Info'!$B$40:$B$64,FALSE),MATCH(Control!N$101,'Licence Info'!$C$37:$DW$37,FALSE))*$C$9+OFFSET(Licence_Subst,MATCH($B126,'Licence Info'!$B$74:$B$98,FALSE),MATCH(Control!N$101,'Licence Info'!$C$71:$DW$71,FALSE))*$C$9+OFFSET(Licence_OIEC,MATCH($B126,'Licence Info'!$B$108:$B$132,FALSE),MATCH(Control!N$101,'Licence Info'!$C$105:$DW$105,FALSE))-N64)","v":0},{"$f":"MAX(0,OFFSET(Licence_IBEC,MATCH($B126,'Licence Info'!$B$40:$B$64,FALSE),MATCH(Control!O$101,'Licence Info'!$C$37:$DW$37,FALSE))*$C$9+OFFSET(Licence_Subst,MATCH($B126,'Licence Info'!$B$74:$B$98,FALSE),MATCH(Control!O$101,'Licence Info'!$C$71:$DW$71,FALSE))*$C$9+OFFSET(Licence_OIEC,MATCH($B126,'Licence Info'!$B$108:$B$132,FALSE),MATCH(Control!O$101,'Licence Info'!$C$105:$DW$105,FALSE))-O64)","v":0},{"$f":"MAX(0,OFFSET(Licence_IBEC,MATCH($B126,'Licence Info'!$B$40:$B$64,FALSE),MATCH(Control!P$101,'Licence Info'!$C$37:$DW$37,FALSE))*$C$9+OFFSET(Licence_Subst,MATCH($B126,'Licence Info'!$B$74:$B$98,FALSE),MATCH(Control!P$101,'Licence Info'!$C$71:$DW$71,FALSE))*$C$9+OFFSET(Licence_OIEC,MATCH($B126,'Licence Info'!$B$108:$B$132,FALSE),MATCH(Control!P$101,'Licence Info'!$C$105:$DW$105,FALSE))-P64)","v":0},{"$f":"MAX(0,OFFSET(Licence_IBEC,MATCH($B126,'Licence Info'!$B$40:$B$64,FALSE),MATCH(Control!Q$101,'Licence Info'!$C$37:$DW$37,FALSE))*$C$9+OFFSET(Licence_Subst,MATCH($B126,'Licence Info'!$B$74:$B$98,FALSE),MATCH(Control!Q$101,'Licence Info'!$C$71:$DW$71,FALSE))*$C$9+OFFSET(Licence_OIEC,MATCH($B126,'Licence Info'!$B$108:$B$132,FALSE),MATCH(Control!Q$101,'Licence Info'!$C$105:$DW$105,FALSE))-Q64)","v":0},{"$f":"MAX(0,OFFSET(Licence_IBEC,MATCH($B126,'Licence Info'!$B$40:$B$64,FALSE),MATCH(Control!R$101,'Licence Info'!$C$37:$DW$37,FALSE))*$C$9+OFFSET(Licence_Subst,MATCH($B126,'Licence Info'!$B$74:$B$98,FALSE),MATCH(Control!R$101,'Licence Info'!$C$71:$DW$71,FALSE))*$C$9+OFFSET(Licence_OIEC,MATCH($B126,'Licence Info'!$B$108:$B$132,FALSE),MATCH(Control!R$101,'Licence Info'!$C$105:$DW$105,FALSE))-R64)","v":0},{"$f":"MAX(0,OFFSET(Licence_IBEC,MATCH($B126,'Licence Info'!$B$40:$B$64,FALSE),MATCH(Control!S$101,'Licence Info'!$C$37:$DW$37,FALSE))*$C$9+OFFSET(Licence_Subst,MATCH($B126,'Licence Info'!$B$74:$B$98,FALSE),MATCH(Control!S$101,'Licence Info'!$C$71:$DW$71,FALSE))*$C$9+OFFSET(Licence_OIEC,MATCH($B126,'Licence Info'!$B$108:$B$132,FALSE),MATCH(Control!S$101,'Licence Info'!$C$105:$DW$105,FALSE))-S64)","v":0},{"$f":"MAX(0,OFFSET(Licence_IBEC,MATCH($B126,'Licence Info'!$B$40:$B$64,FALSE),MATCH(Control!T$101,'Licence Info'!$C$37:$DW$37,FALSE))*$C$9+OFFSET(Licence_Subst,MATCH($B126,'Licence Info'!$B$74:$B$98,FALSE),MATCH(Control!T$101,'Licence Info'!$C$71:$DW$71,FALSE))*$C$9+OFFSET(Licence_OIEC,MATCH($B126,'Licence Info'!$B$108:$B$132,FALSE),MATCH(Control!T$101,'Licence Info'!$C$105:$DW$105,FALSE))-T64)","v":0},{"$f":"MAX(0,OFFSET(Licence_IBEC,MATCH($B126,'Licence Info'!$B$40:$B$64,FALSE),MATCH(Control!U$101,'Licence Info'!$C$37:$DW$37,FALSE))*$C$9+OFFSET(Licence_Subst,MATCH($B126,'Licence Info'!$B$74:$B$98,FALSE),MATCH(Control!U$101,'Licence Info'!$C$71:$DW$71,FALSE))*$C$9+OFFSET(Licence_OIEC,MATCH($B126,'Licence Info'!$B$108:$B$132,FALSE),MATCH(Control!U$101,'Licence Info'!$C$105:$DW$105,FALSE))-U64)","v":0},{"$f":"MAX(0,OFFSET(Licence_IBEC,MATCH($B126,'Licence Info'!$B$40:$B$64,FALSE),MATCH(Control!V$101,'Licence Info'!$C$37:$DW$37,FALSE))*$C$9+OFFSET(Licence_Subst,MATCH($B126,'Licence Info'!$B$74:$B$98,FALSE),MATCH(Control!V$101,'Licence Info'!$C$71:$DW$71,FALSE))*$C$9+OFFSET(Licence_OIEC,MATCH($B126,'Licence Info'!$B$108:$B$132,FALSE),MATCH(Control!V$101,'Licence Info'!$C$105:$DW$105,FALSE))-V64)","v":0},{"$f":"MAX(0,OFFSET(Licence_IBEC,MATCH($B126,'Licence Info'!$B$40:$B$64,FALSE),MATCH(Control!W$101,'Licence Info'!$C$37:$DW$37,FALSE))*$C$9+OFFSET(Licence_Subst,MATCH($B126,'Licence Info'!$B$74:$B$98,FALSE),MATCH(Control!W$101,'Licence Info'!$C$71:$DW$71,FALSE))*$C$9+OFFSET(Licence_OIEC,MATCH($B126,'Licence Info'!$B$108:$B$132,FALSE),MATCH(Control!W$101,'Licence Info'!$C$105:$DW$105,FALSE))-W64)","v":0},{"$f":"MAX(0,OFFSET(Licence_IBEC,MATCH($B126,'Licence Info'!$B$40:$B$64,FALSE),MATCH(Control!X$101,'Licence Info'!$C$37:$DW$37,FALSE))*$C$9+OFFSET(Licence_Subst,MATCH($B126,'Licence Info'!$B$74:$B$98,FALSE),MATCH(Control!X$101,'Licence Info'!$C$71:$DW$71,FALSE))*$C$9+OFFSET(Licence_OIEC,MATCH($B126,'Licence Info'!$B$108:$B$132,FALSE),MATCH(Control!X$101,'Licence Info'!$C$105:$DW$105,FALSE))-X64)","v":0},{"$f":"MAX(0,OFFSET(Licence_IBEC,MATCH($B126,'Licence Info'!$B$40:$B$64,FALSE),MATCH(Control!Y$101,'Licence Info'!$C$37:$DW$37,FALSE))*$C$9+OFFSET(Licence_Subst,MATCH($B126,'Licence Info'!$B$74:$B$98,FALSE),MATCH(Control!Y$101,'Licence Info'!$C$71:$DW$71,FALSE))*$C$9+OFFSET(Licence_OIEC,MATCH($B126,'Licence Info'!$B$108:$B$132,FALSE),MATCH(Control!Y$101,'Licence Info'!$C$105:$DW$105,FALSE))-Y64)","v":0},{"$f":"MAX(0,OFFSET(Licence_IBEC,MATCH($B126,'Licence Info'!$B$40:$B$64,FALSE),MATCH(Control!Z$101,'Licence Info'!$C$37:$DW$37,FALSE))*$C$9+OFFSET(Licence_Subst,MATCH($B126,'Licence Info'!$B$74:$B$98,FALSE),MATCH(Control!Z$101,'Licence Info'!$C$71:$DW$71,FALSE))*$C$9+OFFSET(Licence_OIEC,MATCH($B126,'Licence Info'!$B$108:$B$132,FALSE),MATCH(Control!Z$101,'Licence Info'!$C$105:$DW$105,FALSE))-Z64)","v":0},{"$f":"MAX(0,OFFSET(Licence_IBEC,MATCH($B126,'Licence Info'!$B$40:$B$64,FALSE),MATCH(Control!AA$101,'Licence Info'!$C$37:$DW$37,FALSE))*$C$9+OFFSET(Licence_Subst,MATCH($B126,'Licence Info'!$B$74:$B$98,FALSE),MATCH(Control!AA$101,'Licence Info'!$C$71:$DW$71,FALSE))*$C$9+OFFSET(Licence_OIEC,MATCH($B126,'Licence Info'!$B$108:$B$132,FALSE),MATCH(Control!AA$101,'Licence Info'!$C$105:$DW$105,FALSE))-AA64)","v":0},{"$f":"MAX(0,OFFSET(Licence_IBEC,MATCH($B126,'Licence Info'!$B$40:$B$64,FALSE),MATCH(Control!AB$101,'Licence Info'!$C$37:$DW$37,FALSE))*$C$9+OFFSET(Licence_Subst,MATCH($B126,'Licence Info'!$B$74:$B$98,FALSE),MATCH(Control!AB$101,'Licence Info'!$C$71:$DW$71,FALSE))*$C$9+OFFSET(Licence_OIEC,MATCH($B126,'Licence Info'!$B$108:$B$132,FALSE),MATCH(Control!AB$101,'Licence Info'!$C$105:$DW$105,FALSE))-AB64)","v":0},{"$f":"MAX(0,OFFSET(Licence_IBEC,MATCH($B126,'Licence Info'!$B$40:$B$64,FALSE),MATCH(Control!AC$101,'Licence Info'!$C$37:$DW$37,FALSE))*$C$9+OFFSET(Licence_Subst,MATCH($B126,'Licence Info'!$B$74:$B$98,FALSE),MATCH(Control!AC$101,'Licence Info'!$C$71:$DW$71,FALSE))*$C$9+OFFSET(Licence_OIEC,MATCH($B126,'Licence Info'!$B$108:$B$132,FALSE),MATCH(Control!AC$101,'Licence Info'!$C$105:$DW$105,FALSE))-AC64)","v":0},{"$f":"MAX(0,OFFSET(Licence_IBEC,MATCH($B126,'Licence Info'!$B$40:$B$64,FALSE),MATCH(Control!AD$101,'Licence Info'!$C$37:$DW$37,FALSE))*$C$9+OFFSET(Licence_Subst,MATCH($B126,'Licence Info'!$B$74:$B$98,FALSE),MATCH(Control!AD$101,'Licence Info'!$C$71:$DW$71,FALSE))*$C$9+OFFSET(Licence_OIEC,MATCH($B126,'Licence Info'!$B$108:$B$132,FALSE),MATCH(Control!AD$101,'Licence Info'!$C$105:$DW$105,FALSE))-AD64)","v":0},{"$f":"MAX(0,OFFSET(Licence_IBEC,MATCH($B126,'Licence Info'!$B$40:$B$64,FALSE),MATCH(Control!AE$101,'Licence Info'!$C$37:$DW$37,FALSE))*$C$9+OFFSET(Licence_Subst,MATCH($B126,'Licence Info'!$B$74:$B$98,FALSE),MATCH(Control!AE$101,'Licence Info'!$C$71:$DW$71,FALSE))*$C$9+OFFSET(Licence_OIEC,MATCH($B126,'Licence Info'!$B$108:$B$132,FALSE),MATCH(Control!AE$101,'Licence Info'!$C$105:$DW$105,FALSE))-AE64)","v":0},{"$f":"MAX(0,OFFSET(Licence_IBEC,MATCH($B126,'Licence Info'!$B$40:$B$64,FALSE),MATCH(Control!AF$101,'Licence Info'!$C$37:$DW$37,FALSE))*$C$9+OFFSET(Licence_Subst,MATCH($B126,'Licence Info'!$B$74:$B$98,FALSE),MATCH(Control!AF$101,'Licence Info'!$C$71:$DW$71,FALSE))*$C$9+OFFSET(Licence_OIEC,MATCH($B126,'Licence Info'!$B$108:$B$132,FALSE),MATCH(Control!AF$101,'Licence Info'!$C$105:$DW$105,FALSE))-AF64)","v":0},{"$f":"MAX(0,OFFSET(Licence_IBEC,MATCH($B126,'Licence Info'!$B$40:$B$64,FALSE),MATCH(Control!AG$101,'Licence Info'!$C$37:$DW$37,FALSE))*$C$9+OFFSET(Licence_Subst,MATCH($B126,'Licence Info'!$B$74:$B$98,FALSE),MATCH(Control!AG$101,'Licence Info'!$C$71:$DW$71,FALSE))*$C$9+OFFSET(Licence_OIEC,MATCH($B126,'Licence Info'!$B$108:$B$132,FALSE),MATCH(Control!AG$101,'Licence Info'!$C$105:$DW$105,FALSE))-AG64)","v":0},{"$f":"MAX(0,OFFSET(Licence_IBEC,MATCH($B126,'Licence Info'!$B$40:$B$64,FALSE),MATCH(Control!AH$101,'Licence Info'!$C$37:$DW$37,FALSE))*$C$9+OFFSET(Licence_Subst,MATCH($B126,'Licence Info'!$B$74:$B$98,FALSE),MATCH(Control!AH$101,'Licence Info'!$C$71:$DW$71,FALSE))*$C$9+OFFSET(Licence_OIEC,MATCH($B126,'Licence Info'!$B$108:$B$132,FALSE),MATCH(Control!AH$101,'Licence Info'!$C$105:$DW$105,FALSE))-AH64)","v":0},{"$f":"MAX(0,OFFSET(Licence_IBEC,MATCH($B126,'Licence Info'!$B$40:$B$64,FALSE),MATCH(Control!AI$101,'Licence Info'!$C$37:$DW$37,FALSE))*$C$9+OFFSET(Licence_Subst,MATCH($B126,'Licence Info'!$B$74:$B$98,FALSE),MATCH(Control!AI$101,'Licence Info'!$C$71:$DW$71,FALSE))*$C$9+OFFSET(Licence_OIEC,MATCH($B126,'Licence Info'!$B$108:$B$132,FALSE),MATCH(Control!AI$101,'Licence Info'!$C$105:$DW$105,FALSE))-AI64)","v":0},{"$f":"MAX(0,OFFSET(Licence_IBEC,MATCH($B126,'Licence Info'!$B$40:$B$64,FALSE),MATCH(Control!AJ$101,'Licence Info'!$C$37:$DW$37,FALSE))*$C$9+OFFSET(Licence_Subst,MATCH($B126,'Licence Info'!$B$74:$B$98,FALSE),MATCH(Control!AJ$101,'Licence Info'!$C$71:$DW$71,FALSE))*$C$9+OFFSET(Licence_OIEC,MATCH($B126,'Licence Info'!$B$108:$B$132,FALSE),MATCH(Control!AJ$101,'Licence Info'!$C$105:$DW$105,FALSE))-AJ64)","v":0},{"$f":"MAX(0,OFFSET(Licence_IBEC,MATCH($B126,'Licence Info'!$B$40:$B$64,FALSE),MATCH(Control!AK$101,'Licence Info'!$C$37:$DW$37,FALSE))*$C$9+OFFSET(Licence_Subst,MATCH($B126,'Licence Info'!$B$74:$B$98,FALSE),MATCH(Control!AK$101,'Licence Info'!$C$71:$DW$71,FALSE))*$C$9+OFFSET(Licence_OIEC,MATCH($B126,'Licence Info'!$B$108:$B$132,FALSE),MATCH(Control!AK$101,'Licence Info'!$C$105:$DW$105,FALSE))-AK64)","v":0},{"$f":"MAX(0,OFFSET(Licence_IBEC,MATCH($B126,'Licence Info'!$B$40:$B$64,FALSE),MATCH(Control!AL$101,'Licence Info'!$C$37:$DW$37,FALSE))*$C$9+OFFSET(Licence_Subst,MATCH($B126,'Licence Info'!$B$74:$B$98,FALSE),MATCH(Control!AL$101,'Licence Info'!$C$71:$DW$71,FALSE))*$C$9+OFFSET(Licence_OIEC,MATCH($B126,'Licence Info'!$B$108:$B$132,FALSE),MATCH(Control!AL$101,'Licence Info'!$C$105:$DW$105,FALSE))-AL64)","v":0},{"$f":"MAX(0,OFFSET(Licence_IBEC,MATCH($B126,'Licence Info'!$B$40:$B$64,FALSE),MATCH(Control!AM$101,'Licence Info'!$C$37:$DW$37,FALSE))*$C$9+OFFSET(Licence_Subst,MATCH($B126,'Licence Info'!$B$74:$B$98,FALSE),MATCH(Control!AM$101,'Licence Info'!$C$71:$DW$71,FALSE))*$C$9+OFFSET(Licence_OIEC,MATCH($B126,'Licence Info'!$B$108:$B$132,FALSE),MATCH(Control!AM$101,'Licence Info'!$C$105:$DW$105,FALSE))-AM64)","v":0},{"$f":"MAX(0,OFFSET(Licence_IBEC,MATCH($B126,'Licence Info'!$B$40:$B$64,FALSE),MATCH(Control!AN$101,'Licence Info'!$C$37:$DW$37,FALSE))*$C$9+OFFSET(Licence_Subst,MATCH($B126,'Licence Info'!$B$74:$B$98,FALSE),MATCH(Control!AN$101,'Licence Info'!$C$71:$DW$71,FALSE))*$C$9+OFFSET(Licence_OIEC,MATCH($B126,'Licence Info'!$B$108:$B$132,FALSE),MATCH(Control!AN$101,'Licence Info'!$C$105:$DW$105,FALSE))-AN64)","v":0},{"$f":"MAX(0,OFFSET(Licence_IBEC,MATCH($B126,'Licence Info'!$B$40:$B$64,FALSE),MATCH(Control!AO$101,'Licence Info'!$C$37:$DW$37,FALSE))*$C$9+OFFSET(Licence_Subst,MATCH($B126,'Licence Info'!$B$74:$B$98,FALSE),MATCH(Control!AO$101,'Licence Info'!$C$71:$DW$71,FALSE))*$C$9+OFFSET(Licence_OIEC,MATCH($B126,'Licence Info'!$B$108:$B$132,FALSE),MATCH(Control!AO$101,'Licence Info'!$C$105:$DW$105,FALSE))-AO64)","v":0},{"$f":"MAX(0,OFFSET(Licence_IBEC,MATCH($B126,'Licence Info'!$B$40:$B$64,FALSE),MATCH(Control!AP$101,'Licence Info'!$C$37:$DW$37,FALSE))*$C$9+OFFSET(Licence_Subst,MATCH($B126,'Licence Info'!$B$74:$B$98,FALSE),MATCH(Control!AP$101,'Licence Info'!$C$71:$DW$71,FALSE))*$C$9+OFFSET(Licence_OIEC,MATCH($B126,'Licence Info'!$B$108:$B$132,FALSE),MATCH(Control!AP$101,'Licence Info'!$C$105:$DW$105,FALSE))-AP64)","v":0},{"$f":"MAX(0,OFFSET(Licence_IBEC,MATCH($B126,'Licence Info'!$B$40:$B$64,FALSE),MATCH(Control!AQ$101,'Licence Info'!$C$37:$DW$37,FALSE))*$C$9+OFFSET(Licence_Subst,MATCH($B126,'Licence Info'!$B$74:$B$98,FALSE),MATCH(Control!AQ$101,'Licence Info'!$C$71:$DW$71,FALSE))*$C$9+OFFSET(Licence_OIEC,MATCH($B126,'Licence Info'!$B$108:$B$132,FALSE),MATCH(Control!AQ$101,'Licence Info'!$C$105:$DW$105,FALSE))-AQ64)","v":0},{"$f":"MAX(0,OFFSET(Licence_IBEC,MATCH($B126,'Licence Info'!$B$40:$B$64,FALSE),MATCH(Control!AR$101,'Licence Info'!$C$37:$DW$37,FALSE))*$C$9+OFFSET(Licence_Subst,MATCH($B126,'Licence Info'!$B$74:$B$98,FALSE),MATCH(Control!AR$101,'Licence Info'!$C$71:$DW$71,FALSE))*$C$9+OFFSET(Licence_OIEC,MATCH($B126,'Licence Info'!$B$108:$B$132,FALSE),MATCH(Control!AR$101,'Licence Info'!$C$105:$DW$105,FALSE))-AR64)","v":0},{"$f":"MAX(0,OFFSET(Licence_IBEC,MATCH($B126,'Licence Info'!$B$40:$B$64,FALSE),MATCH(Control!AS$101,'Licence Info'!$C$37:$DW$37,FALSE))*$C$9+OFFSET(Licence_Subst,MATCH($B126,'Licence Info'!$B$74:$B$98,FALSE),MATCH(Control!AS$101,'Licence Info'!$C$71:$DW$71,FALSE))*$C$9+OFFSET(Licence_OIEC,MATCH($B126,'Licence Info'!$B$108:$B$132,FALSE),MATCH(Control!AS$101,'Licence Info'!$C$105:$DW$105,FALSE))-AS64)","v":0},{"$f":"MAX(0,OFFSET(Licence_IBEC,MATCH($B126,'Licence Info'!$B$40:$B$64,FALSE),MATCH(Control!AT$101,'Licence Info'!$C$37:$DW$37,FALSE))*$C$9+OFFSET(Licence_Subst,MATCH($B126,'Licence Info'!$B$74:$B$98,FALSE),MATCH(Control!AT$101,'Licence Info'!$C$71:$DW$71,FALSE))*$C$9+OFFSET(Licence_OIEC,MATCH($B126,'Licence Info'!$B$108:$B$132,FALSE),MATCH(Control!AT$101,'Licence Info'!$C$105:$DW$105,FALSE))-AT64)","v":0},{"$f":"MAX(0,OFFSET(Licence_IBEC,MATCH($B126,'Licence Info'!$B$40:$B$64,FALSE),MATCH(Control!AU$101,'Licence Info'!$C$37:$DW$37,FALSE))*$C$9+OFFSET(Licence_Subst,MATCH($B126,'Licence Info'!$B$74:$B$98,FALSE),MATCH(Control!AU$101,'Licence Info'!$C$71:$DW$71,FALSE))*$C$9+OFFSET(Licence_OIEC,MATCH($B126,'Licence Info'!$B$108:$B$132,FALSE),MATCH(Control!AU$101,'Licence Info'!$C$105:$DW$105,FALSE))-AU64)","v":0},{"$f":"MAX(0,OFFSET(Licence_IBEC,MATCH($B126,'Licence Info'!$B$40:$B$64,FALSE),MATCH(Control!AV$101,'Licence Info'!$C$37:$DW$37,FALSE))*$C$9+OFFSET(Licence_Subst,MATCH($B126,'Licence Info'!$B$74:$B$98,FALSE),MATCH(Control!AV$101,'Licence Info'!$C$71:$DW$71,FALSE))*$C$9+OFFSET(Licence_OIEC,MATCH($B126,'Licence Info'!$B$108:$B$132,FALSE),MATCH(Control!AV$101,'Licence Info'!$C$105:$DW$105,FALSE))-AV64)","v":0},{"$f":"MAX(0,OFFSET(Licence_IBEC,MATCH($B126,'Licence Info'!$B$40:$B$64,FALSE),MATCH(Control!AW$101,'Licence Info'!$C$37:$DW$37,FALSE))*$C$9+OFFSET(Licence_Subst,MATCH($B126,'Licence Info'!$B$74:$B$98,FALSE),MATCH(Control!AW$101,'Licence Info'!$C$71:$DW$71,FALSE))*$C$9+OFFSET(Licence_OIEC,MATCH($B126,'Licence Info'!$B$108:$B$132,FALSE),MATCH(Control!AW$101,'Licence Info'!$C$105:$DW$105,FALSE))-AW64)","v":0},{"$f":"MAX(0,OFFSET(Licence_IBEC,MATCH($B126,'Licence Info'!$B$40:$B$64,FALSE),MATCH(Control!AX$101,'Licence Info'!$C$37:$DW$37,FALSE))*$C$9+OFFSET(Licence_Subst,MATCH($B126,'Licence Info'!$B$74:$B$98,FALSE),MATCH(Control!AX$101,'Licence Info'!$C$71:$DW$71,FALSE))*$C$9+OFFSET(Licence_OIEC,MATCH($B126,'Licence Info'!$B$108:$B$132,FALSE),MATCH(Control!AX$101,'Licence Info'!$C$105:$DW$105,FALSE))-AX64)","v":0},{"$f":"MAX(0,OFFSET(Licence_IBEC,MATCH($B126,'Licence Info'!$B$40:$B$64,FALSE),MATCH(Control!AY$101,'Licence Info'!$C$37:$DW$37,FALSE))*$C$9+OFFSET(Licence_Subst,MATCH($B126,'Licence Info'!$B$74:$B$98,FALSE),MATCH(Control!AY$101,'Licence Info'!$C$71:$DW$71,FALSE))*$C$9+OFFSET(Licence_OIEC,MATCH($B126,'Licence Info'!$B$108:$B$132,FALSE),MATCH(Control!AY$101,'Licence Info'!$C$105:$DW$105,FALSE))-AY64)","v":0},{"$f":"MAX(0,OFFSET(Licence_IBEC,MATCH($B126,'Licence Info'!$B$40:$B$64,FALSE),MATCH(Control!AZ$101,'Licence Info'!$C$37:$DW$37,FALSE))*$C$9+OFFSET(Licence_Subst,MATCH($B126,'Licence Info'!$B$74:$B$98,FALSE),MATCH(Control!AZ$101,'Licence Info'!$C$71:$DW$71,FALSE))*$C$9+OFFSET(Licence_OIEC,MATCH($B126,'Licence Info'!$B$108:$B$132,FALSE),MATCH(Control!AZ$101,'Licence Info'!$C$105:$DW$105,FALSE))-AZ64)","v":0},{"$f":"MAX(0,OFFSET(Licence_IBEC,MATCH($B126,'Licence Info'!$B$40:$B$64,FALSE),MATCH(Control!BA$101,'Licence Info'!$C$37:$DW$37,FALSE))*$C$9+OFFSET(Licence_Subst,MATCH($B126,'Licence Info'!$B$74:$B$98,FALSE),MATCH(Control!BA$101,'Licence Info'!$C$71:$DW$71,FALSE))*$C$9+OFFSET(Licence_OIEC,MATCH($B126,'Licence Info'!$B$108:$B$132,FALSE),MATCH(Control!BA$101,'Licence Info'!$C$105:$DW$105,FALSE))-BA64)","v":0},{"$f":"MAX(0,OFFSET(Licence_IBEC,MATCH($B126,'Licence Info'!$B$40:$B$64,FALSE),MATCH(Control!BB$101,'Licence Info'!$C$37:$DW$37,FALSE))*$C$9+OFFSET(Licence_Subst,MATCH($B126,'Licence Info'!$B$74:$B$98,FALSE),MATCH(Control!BB$101,'Licence Info'!$C$71:$DW$71,FALSE))*$C$9+OFFSET(Licence_OIEC,MATCH($B126,'Licence Info'!$B$108:$B$132,FALSE),MATCH(Control!BB$101,'Licence Info'!$C$105:$DW$105,FALSE))-BB64)","v":0},{"$f":"MAX(0,OFFSET(Licence_IBEC,MATCH($B126,'Licence Info'!$B$40:$B$64,FALSE),MATCH(Control!BC$101,'Licence Info'!$C$37:$DW$37,FALSE))*$C$9+OFFSET(Licence_Subst,MATCH($B126,'Licence Info'!$B$74:$B$98,FALSE),MATCH(Control!BC$101,'Licence Info'!$C$71:$DW$71,FALSE))*$C$9+OFFSET(Licence_OIEC,MATCH($B126,'Licence Info'!$B$108:$B$132,FALSE),MATCH(Control!BC$101,'Licence Info'!$C$105:$DW$105,FALSE))-BC64)","v":0},{"$f":"MAX(0,OFFSET(Licence_IBEC,MATCH($B126,'Licence Info'!$B$40:$B$64,FALSE),MATCH(Control!BD$101,'Licence Info'!$C$37:$DW$37,FALSE))*$C$9+OFFSET(Licence_Subst,MATCH($B126,'Licence Info'!$B$74:$B$98,FALSE),MATCH(Control!BD$101,'Licence Info'!$C$71:$DW$71,FALSE))*$C$9+OFFSET(Licence_OIEC,MATCH($B126,'Licence Info'!$B$108:$B$132,FALSE),MATCH(Control!BD$101,'Licence Info'!$C$105:$DW$105,FALSE))-BD64)","v":0},{"$f":"MAX(0,OFFSET(Licence_IBEC,MATCH($B126,'Licence Info'!$B$40:$B$64,FALSE),MATCH(Control!BE$101,'Licence Info'!$C$37:$DW$37,FALSE))*$C$9+OFFSET(Licence_Subst,MATCH($B126,'Licence Info'!$B$74:$B$98,FALSE),MATCH(Control!BE$101,'Licence Info'!$C$71:$DW$71,FALSE))*$C$9+OFFSET(Licence_OIEC,MATCH($B126,'Licence Info'!$B$108:$B$132,FALSE),MATCH(Control!BE$101,'Licence Info'!$C$105:$DW$105,FALSE))-BE64)","v":0},{"$f":"MAX(0,OFFSET(Licence_IBEC,MATCH($B126,'Licence Info'!$B$40:$B$64,FALSE),MATCH(Control!BF$101,'Licence Info'!$C$37:$DW$37,FALSE))*$C$9+OFFSET(Licence_Subst,MATCH($B126,'Licence Info'!$B$74:$B$98,FALSE),MATCH(Control!BF$101,'Licence Info'!$C$71:$DW$71,FALSE))*$C$9+OFFSET(Licence_OIEC,MATCH($B126,'Licence Info'!$B$108:$B$132,FALSE),MATCH(Control!BF$101,'Licence Info'!$C$105:$DW$105,FALSE))-BF64)","v":0},{"$f":"MAX(0,OFFSET(Licence_IBEC,MATCH($B126,'Licence Info'!$B$40:$B$64,FALSE),MATCH(Control!BG$101,'Licence Info'!$C$37:$DW$37,FALSE))*$C$9+OFFSET(Licence_Subst,MATCH($B126,'Licence Info'!$B$74:$B$98,FALSE),MATCH(Control!BG$101,'Licence Info'!$C$71:$DW$71,FALSE))*$C$9+OFFSET(Licence_OIEC,MATCH($B126,'Licence Info'!$B$108:$B$132,FALSE),MATCH(Control!BG$101,'Licence Info'!$C$105:$DW$105,FALSE))-BG64)","v":0},{"$f":"MAX(0,OFFSET(Licence_IBEC,MATCH($B126,'Licence Info'!$B$40:$B$64,FALSE),MATCH(Control!BH$101,'Licence Info'!$C$37:$DW$37,FALSE))*$C$9+OFFSET(Licence_Subst,MATCH($B126,'Licence Info'!$B$74:$B$98,FALSE),MATCH(Control!BH$101,'Licence Info'!$C$71:$DW$71,FALSE))*$C$9+OFFSET(Licence_OIEC,MATCH($B126,'Licence Info'!$B$108:$B$132,FALSE),MATCH(Control!BH$101,'Licence Info'!$C$105:$DW$105,FALSE))-BH64)","v":0},{"$f":"MAX(0,OFFSET(Licence_IBEC,MATCH($B126,'Licence Info'!$B$40:$B$64,FALSE),MATCH(Control!BI$101,'Licence Info'!$C$37:$DW$37,FALSE))*$C$9+OFFSET(Licence_Subst,MATCH($B126,'Licence Info'!$B$74:$B$98,FALSE),MATCH(Control!BI$101,'Licence Info'!$C$71:$DW$71,FALSE))*$C$9+OFFSET(Licence_OIEC,MATCH($B126,'Licence Info'!$B$108:$B$132,FALSE),MATCH(Control!BI$101,'Licence Info'!$C$105:$DW$105,FALSE))-BI64)","v":0},{"$f":"MAX(0,OFFSET(Licence_IBEC,MATCH($B126,'Licence Info'!$B$40:$B$64,FALSE),MATCH(Control!BJ$101,'Licence Info'!$C$37:$DW$37,FALSE))*$C$9+OFFSET(Licence_Subst,MATCH($B126,'Licence Info'!$B$74:$B$98,FALSE),MATCH(Control!BJ$101,'Licence Info'!$C$71:$DW$71,FALSE))*$C$9+OFFSET(Licence_OIEC,MATCH($B126,'Licence Info'!$B$108:$B$132,FALSE),MATCH(Control!BJ$101,'Licence Info'!$C$105:$DW$105,FALSE))-BJ64)","v":0},{"$f":"MAX(0,OFFSET(Licence_IBEC,MATCH($B126,'Licence Info'!$B$40:$B$64,FALSE),MATCH(Control!BK$101,'Licence Info'!$C$37:$DW$37,FALSE))*$C$9+OFFSET(Licence_Subst,MATCH($B126,'Licence Info'!$B$74:$B$98,FALSE),MATCH(Control!BK$101,'Licence Info'!$C$71:$DW$71,FALSE))*$C$9+OFFSET(Licence_OIEC,MATCH($B126,'Licence Info'!$B$108:$B$132,FALSE),MATCH(Control!BK$101,'Licence Info'!$C$105:$DW$105,FALSE))-BK64)","v":{"$error":"#N/A"}}]
[null,"Murrow",{"$f":"MAX(0,OFFSET(Licence_IBEC,MATCH($B127,'Licence Info'!$B$40:$B$64,FALSE),MATCH(Control!C$101,'Licence Info'!$C$37:$DW$37,FALSE))*$C$9+OFFSET(Licence_Subst,MATCH($B127,'Licence Info'!$B$74:$B$98,FALSE),MATCH(Control!C$101,'Licence Info'!$C$71:$DW$71,FALSE))*$C$9+OFFSET(Licence_OIEC,MATCH($B127,'Licence Info'!$B$108:$B$132,FALSE),MATCH(Control!C$101,'Licence Info'!$C$105:$DW$105,FALSE))-C65)","v":0},{"$f":"MAX(0,OFFSET(Licence_IBEC,MATCH($B127,'Licence Info'!$B$40:$B$64,FALSE),MATCH(Control!D$101,'Licence Info'!$C$37:$DW$37,FALSE))*$C$9+OFFSET(Licence_Subst,MATCH($B127,'Licence Info'!$B$74:$B$98,FALSE),MATCH(Control!D$101,'Licence Info'!$C$71:$DW$71,FALSE))*$C$9+OFFSET(Licence_OIEC,MATCH($B127,'Licence Info'!$B$108:$B$132,FALSE),MATCH(Control!D$101,'Licence Info'!$C$105:$DW$105,FALSE))-D65)","v":0},{"$f":"MAX(0,OFFSET(Licence_IBEC,MATCH($B127,'Licence Info'!$B$40:$B$64,FALSE),MATCH(Control!E$101,'Licence Info'!$C$37:$DW$37,FALSE))*$C$9+OFFSET(Licence_Subst,MATCH($B127,'Licence Info'!$B$74:$B$98,FALSE),MATCH(Control!E$101,'Licence Info'!$C$71:$DW$71,FALSE))*$C$9+OFFSET(Licence_OIEC,MATCH($B127,'Licence Info'!$B$108:$B$132,FALSE),MATCH(Control!E$101,'Licence Info'!$C$105:$DW$105,FALSE))-E65)","v":0},{"$f":"MAX(0,OFFSET(Licence_IBEC,MATCH($B127,'Licence Info'!$B$40:$B$64,FALSE),MATCH(Control!F$101,'Licence Info'!$C$37:$DW$37,FALSE))*$C$9+OFFSET(Licence_Subst,MATCH($B127,'Licence Info'!$B$74:$B$98,FALSE),MATCH(Control!F$101,'Licence Info'!$C$71:$DW$71,FALSE))*$C$9+OFFSET(Licence_OIEC,MATCH($B127,'Licence Info'!$B$108:$B$132,FALSE),MATCH(Control!F$101,'Licence Info'!$C$105:$DW$105,FALSE))-F65)","v":0},{"$f":"MAX(0,OFFSET(Licence_IBEC,MATCH($B127,'Licence Info'!$B$40:$B$64,FALSE),MATCH(Control!G$101,'Licence Info'!$C$37:$DW$37,FALSE))*$C$9+OFFSET(Licence_Subst,MATCH($B127,'Licence Info'!$B$74:$B$98,FALSE),MATCH(Control!G$101,'Licence Info'!$C$71:$DW$71,FALSE))*$C$9+OFFSET(Licence_OIEC,MATCH($B127,'Licence Info'!$B$108:$B$132,FALSE),MATCH(Control!G$101,'Licence Info'!$C$105:$DW$105,FALSE))-G65)","v":0},{"$f":"MAX(0,OFFSET(Licence_IBEC,MATCH($B127,'Licence Info'!$B$40:$B$64,FALSE),MATCH(Control!H$101,'Licence Info'!$C$37:$DW$37,FALSE))*$C$9+OFFSET(Licence_Subst,MATCH($B127,'Licence Info'!$B$74:$B$98,FALSE),MATCH(Control!H$101,'Licence Info'!$C$71:$DW$71,FALSE))*$C$9+OFFSET(Licence_OIEC,MATCH($B127,'Licence Info'!$B$108:$B$132,FALSE),MATCH(Control!H$101,'Licence Info'!$C$105:$DW$105,FALSE))-H65)","v":0},{"$f":"MAX(0,OFFSET(Licence_IBEC,MATCH($B127,'Licence Info'!$B$40:$B$64,FALSE),MATCH(Control!I$101,'Licence Info'!$C$37:$DW$37,FALSE))*$C$9+OFFSET(Licence_Subst,MATCH($B127,'Licence Info'!$B$74:$B$98,FALSE),MATCH(Control!I$101,'Licence Info'!$C$71:$DW$71,FALSE))*$C$9+OFFSET(Licence_OIEC,MATCH($B127,'Licence Info'!$B$108:$B$132,FALSE),MATCH(Control!I$101,'Licence Info'!$C$105:$DW$105,FALSE))-I65)","v":0},{"$f":"MAX(0,OFFSET(Licence_IBEC,MATCH($B127,'Licence Info'!$B$40:$B$64,FALSE),MATCH(Control!J$101,'Licence Info'!$C$37:$DW$37,FALSE))*$C$9+OFFSET(Licence_Subst,MATCH($B127,'Licence Info'!$B$74:$B$98,FALSE),MATCH(Control!J$101,'Licence Info'!$C$71:$DW$71,FALSE))*$C$9+OFFSET(Licence_OIEC,MATCH($B127,'Licence Info'!$B$108:$B$132,FALSE),MATCH(Control!J$101,'Licence Info'!$C$105:$DW$105,FALSE))-J65)","v":0},{"$f":"MAX(0,OFFSET(Licence_IBEC,MATCH($B127,'Licence Info'!$B$40:$B$64,FALSE),MATCH(Control!K$101,'Licence Info'!$C$37:$DW$37,FALSE))*$C$9+OFFSET(Licence_Subst,MATCH($B127,'Licence Info'!$B$74:$B$98,FALSE),MATCH(Control!K$101,'Licence Info'!$C$71:$DW$71,FALSE))*$C$9+OFFSET(Licence_OIEC,MATCH($B127,'Licence Info'!$B$108:$B$132,FALSE),MATCH(Control!K$101,'Licence Info'!$C$105:$DW$105,FALSE))-K65)","v":0},{"$f":"MAX(0,OFFSET(Licence_IBEC,MATCH($B127,'Licence Info'!$B$40:$B$64,FALSE),MATCH(Control!L$101,'Licence Info'!$C$37:$DW$37,FALSE))*$C$9+OFFSET(Licence_Subst,MATCH($B127,'Licence Info'!$B$74:$B$98,FALSE),MATCH(Control!L$101,'Licence Info'!$C$71:$DW$71,FALSE))*$C$9+OFFSET(Licence_OIEC,MATCH($B127,'Licence Info'!$B$108:$B$132,FALSE),MATCH(Control!L$101,'Licence Info'!$C$105:$DW$105,FALSE))-L65)","v":0},{"$f":"MAX(0,OFFSET(Licence_IBEC,MATCH($B127,'Licence Info'!$B$40:$B$64,FALSE),MATCH(Control!M$101,'Licence Info'!$C$37:$DW$37,FALSE))*$C$9+OFFSET(Licence_Subst,MATCH($B127,'Licence Info'!$B$74:$B$98,FALSE),MATCH(Control!M$101,'Licence Info'!$C$71:$DW$71,FALSE))*$C$9+OFFSET(Licence_OIEC,MATCH($B127,'Licence Info'!$B$108:$B$132,FALSE),MATCH(Control!M$101,'Licence Info'!$C$105:$DW$105,FALSE))-M65)","v":0},{"$f":"MAX(0,OFFSET(Licence_IBEC,MATCH($B127,'Licence Info'!$B$40:$B$64,FALSE),MATCH(Control!N$101,'Licence Info'!$C$37:$DW$37,FALSE))*$C$9+OFFSET(Licence_Subst,MATCH($B127,'Licence Info'!$B$74:$B$98,FALSE),MATCH(Control!N$101,'Licence Info'!$C$71:$DW$71,FALSE))*$C$9+OFFSET(Licence_OIEC,MATCH($B127,'Licence Info'!$B$108:$B$132,FALSE),MATCH(Control!N$101,'Licence Info'!$C$105:$DW$105,FALSE))-N65)","v":0},{"$f":"MAX(0,OFFSET(Licence_IBEC,MATCH($B127,'Licence Info'!$B$40:$B$64,FALSE),MATCH(Control!O$101,'Licence Info'!$C$37:$DW$37,FALSE))*$C$9+OFFSET(Licence_Subst,MATCH($B127,'Licence Info'!$B$74:$B$98,FALSE),MATCH(Control!O$101,'Licence Info'!$C$71:$DW$71,FALSE))*$C$9+OFFSET(Licence_OIEC,MATCH($B127,'Licence Info'!$B$108:$B$132,FALSE),MATCH(Control!O$101,'Licence Info'!$C$105:$DW$105,FALSE))-O65)","v":0},{"$f":"MAX(0,OFFSET(Licence_IBEC,MATCH($B127,'Licence Info'!$B$40:$B$64,FALSE),MATCH(Control!P$101,'Licence Info'!$C$37:$DW$37,FALSE))*$C$9+OFFSET(Licence_Subst,MATCH($B127,'Licence Info'!$B$74:$B$98,FALSE),MATCH(Control!P$101,'Licence Info'!$C$71:$DW$71,FALSE))*$C$9+OFFSET(Licence_OIEC,MATCH($B127,'Licence Info'!$B$108:$B$132,FALSE),MATCH(Control!P$101,'Licence Info'!$C$105:$DW$105,FALSE))-P65)","v":0},{"$f":"MAX(0,OFFSET(Licence_IBEC,MATCH($B127,'Licence Info'!$B$40:$B$64,FALSE),MATCH(Control!Q$101,'Licence Info'!$C$37:$DW$37,FALSE))*$C$9+OFFSET(Licence_Subst,MATCH($B127,'Licence Info'!$B$74:$B$98,FALSE),MATCH(Control!Q$101,'Licence Info'!$C$71:$DW$71,FALSE))*$C$9+OFFSET(Licence_OIEC,MATCH($B127,'Licence Info'!$B$108:$B$132,FALSE),MATCH(Control!Q$101,'Licence Info'!$C$105:$DW$105,FALSE))-Q65)","v":0},{"$f":"MAX(0,OFFSET(Licence_IBEC,MATCH($B127,'Licence Info'!$B$40:$B$64,FALSE),MATCH(Control!R$101,'Licence Info'!$C$37:$DW$37,FALSE))*$C$9+OFFSET(Licence_Subst,MATCH($B127,'Licence Info'!$B$74:$B$98,FALSE),MATCH(Control!R$101,'Licence Info'!$C$71:$DW$71,FALSE))*$C$9+OFFSET(Licence_OIEC,MATCH($B127,'Licence Info'!$B$108:$B$132,FALSE),MATCH(Control!R$101,'Licence Info'!$C$105:$DW$105,FALSE))-R65)","v":0},{"$f":"MAX(0,OFFSET(Licence_IBEC,MATCH($B127,'Licence Info'!$B$40:$B$64,FALSE),MATCH(Control!S$101,'Licence Info'!$C$37:$DW$37,FALSE))*$C$9+OFFSET(Licence_Subst,MATCH($B127,'Licence Info'!$B$74:$B$98,FALSE),MATCH(Control!S$101,'Licence Info'!$C$71:$DW$71,FALSE))*$C$9+OFFSET(Licence_OIEC,MATCH($B127,'Licence Info'!$B$108:$B$132,FALSE),MATCH(Control!S$101,'Licence Info'!$C$105:$DW$105,FALSE))-S65)","v":0},{"$f":"MAX(0,OFFSET(Licence_IBEC,MATCH($B127,'Licence Info'!$B$40:$B$64,FALSE),MATCH(Control!T$101,'Licence Info'!$C$37:$DW$37,FALSE))*$C$9+OFFSET(Licence_Subst,MATCH($B127,'Licence Info'!$B$74:$B$98,FALSE),MATCH(Control!T$101,'Licence Info'!$C$71:$DW$71,FALSE))*$C$9+OFFSET(Licence_OIEC,MATCH($B127,'Licence Info'!$B$108:$B$132,FALSE),MATCH(Control!T$101,'Licence Info'!$C$105:$DW$105,FALSE))-T65)","v":0},{"$f":"MAX(0,OFFSET(Licence_IBEC,MATCH($B127,'Licence Info'!$B$40:$B$64,FALSE),MATCH(Control!U$101,'Licence Info'!$C$37:$DW$37,FALSE))*$C$9+OFFSET(Licence_Subst,MATCH($B127,'Licence Info'!$B$74:$B$98,FALSE),MATCH(Control!U$101,'Licence Info'!$C$71:$DW$71,FALSE))*$C$9+OFFSET(Licence_OIEC,MATCH($B127,'Licence Info'!$B$108:$B$132,FALSE),MATCH(Control!U$101,'Licence Info'!$C$105:$DW$105,FALSE))-U65)","v":0},{"$f":"MAX(0,OFFSET(Licence_IBEC,MATCH($B127,'Licence Info'!$B$40:$B$64,FALSE),MATCH(Control!V$101,'Licence Info'!$C$37:$DW$37,FALSE))*$C$9+OFFSET(Licence_Subst,MATCH($B127,'Licence Info'!$B$74:$B$98,FALSE),MATCH(Control!V$101,'Licence Info'!$C$71:$DW$71,FALSE))*$C$9+OFFSET(Licence_OIEC,MATCH($B127,'Licence Info'!$B$108:$B$132,FALSE),MATCH(Control!V$101,'Licence Info'!$C$105:$DW$105,FALSE))-V65)","v":0},{"$f":"MAX(0,OFFSET(Licence_IBEC,MATCH($B127,'Licence Info'!$B$40:$B$64,FALSE),MATCH(Control!W$101,'Licence Info'!$C$37:$DW$37,FALSE))*$C$9+OFFSET(Licence_Subst,MATCH($B127,'Licence Info'!$B$74:$B$98,FALSE),MATCH(Control!W$101,'Licence Info'!$C$71:$DW$71,FALSE))*$C$9+OFFSET(Licence_OIEC,MATCH($B127,'Licence Info'!$B$108:$B$132,FALSE),MATCH(Control!W$101,'Licence Info'!$C$105:$DW$105,FALSE))-W65)","v":0},{"$f":"MAX(0,OFFSET(Licence_IBEC,MATCH($B127,'Licence Info'!$B$40:$B$64,FALSE),MATCH(Control!X$101,'Licence Info'!$C$37:$DW$37,FALSE))*$C$9+OFFSET(Licence_Subst,MATCH($B127,'Licence Info'!$B$74:$B$98,FALSE),MATCH(Control!X$101,'Licence Info'!$C$71:$DW$71,FALSE))*$C$9+OFFSET(Licence_OIEC,MATCH($B127,'Licence Info'!$B$108:$B$132,FALSE),MATCH(Control!X$101,'Licence Info'!$C$105:$DW$105,FALSE))-X65)","v":0},{"$f":"MAX(0,OFFSET(Licence_IBEC,MATCH($B127,'Licence Info'!$B$40:$B$64,FALSE),MATCH(Control!Y$101,'Licence Info'!$C$37:$DW$37,FALSE))*$C$9+OFFSET(Licence_Subst,MATCH($B127,'Licence Info'!$B$74:$B$98,FALSE),MATCH(Control!Y$101,'Licence Info'!$C$71:$DW$71,FALSE))*$C$9+OFFSET(Licence_OIEC,MATCH($B127,'Licence Info'!$B$108:$B$132,FALSE),MATCH(Control!Y$101,'Licence Info'!$C$105:$DW$105,FALSE))-Y65)","v":0},{"$f":"MAX(0,OFFSET(Licence_IBEC,MATCH($B127,'Licence Info'!$B$40:$B$64,FALSE),MATCH(Control!Z$101,'Licence Info'!$C$37:$DW$37,FALSE))*$C$9+OFFSET(Licence_Subst,MATCH($B127,'Licence Info'!$B$74:$B$98,FALSE),MATCH(Control!Z$101,'Licence Info'!$C$71:$DW$71,FALSE))*$C$9+OFFSET(Licence_OIEC,MATCH($B127,'Licence Info'!$B$108:$B$132,FALSE),MATCH(Control!Z$101,'Licence Info'!$C$105:$DW$105,FALSE))-Z65)","v":0},{"$f":"MAX(0,OFFSET(Licence_IBEC,MATCH($B127,'Licence Info'!$B$40:$B$64,FALSE),MATCH(Control!AA$101,'Licence Info'!$C$37:$DW$37,FALSE))*$C$9+OFFSET(Licence_Subst,MATCH($B127,'Licence Info'!$B$74:$B$98,FALSE),MATCH(Control!AA$101,'Licence Info'!$C$71:$DW$71,FALSE))*$C$9+OFFSET(Licence_OIEC,MATCH($B127,'Licence Info'!$B$108:$B$132,FALSE),MATCH(Control!AA$101,'Licence Info'!$C$105:$DW$105,FALSE))-AA65)","v":0},{"$f":"MAX(0,OFFSET(Licence_IBEC,MATCH($B127,'Licence Info'!$B$40:$B$64,FALSE),MATCH(Control!AB$101,'Licence Info'!$C$37:$DW$37,FALSE))*$C$9+OFFSET(Licence_Subst,MATCH($B127,'Licence Info'!$B$74:$B$98,FALSE),MATCH(Control!AB$101,'Licence Info'!$C$71:$DW$71,FALSE))*$C$9+OFFSET(Licence_OIEC,MATCH($B127,'Licence Info'!$B$108:$B$132,FALSE),MATCH(Control!AB$101,'Licence Info'!$C$105:$DW$105,FALSE))-AB65)","v":0},{"$f":"MAX(0,OFFSET(Licence_IBEC,MATCH($B127,'Licence Info'!$B$40:$B$64,FALSE),MATCH(Control!AC$101,'Licence Info'!$C$37:$DW$37,FALSE))*$C$9+OFFSET(Licence_Subst,MATCH($B127,'Licence Info'!$B$74:$B$98,FALSE),MATCH(Control!AC$101,'Licence Info'!$C$71:$DW$71,FALSE))*$C$9+OFFSET(Licence_OIEC,MATCH($B127,'Licence Info'!$B$108:$B$132,FALSE),MATCH(Control!AC$101,'Licence Info'!$C$105:$DW$105,FALSE))-AC65)","v":0},{"$f":"MAX(0,OFFSET(Licence_IBEC,MATCH($B127,'Licence Info'!$B$40:$B$64,FALSE),MATCH(Control!AD$101,'Licence Info'!$C$37:$DW$37,FALSE))*$C$9+OFFSET(Licence_Subst,MATCH($B127,'Licence Info'!$B$74:$B$98,FALSE),MATCH(Control!AD$101,'Licence Info'!$C$71:$DW$71,FALSE))*$C$9+OFFSET(Licence_OIEC,MATCH($B127,'Licence Info'!$B$108:$B$132,FALSE),MATCH(Control!AD$101,'Licence Info'!$C$105:$DW$105,FALSE))-AD65)","v":0},{"$f":"MAX(0,OFFSET(Licence_IBEC,MATCH($B127,'Licence Info'!$B$40:$B$64,FALSE),MATCH(Control!AE$101,'Licence Info'!$C$37:$DW$37,FALSE))*$C$9+OFFSET(Licence_Subst,MATCH($B127,'Licence Info'!$B$74:$B$98,FALSE),MATCH(Control!AE$101,'Licence Info'!$C$71:$DW$71,FALSE))*$C$9+OFFSET(Licence_OIEC,MATCH($B127,'Licence Info'!$B$108:$B$132,FALSE),MATCH(Control!AE$101,'Licence Info'!$C$105:$DW$105,FALSE))-AE65)","v":0},{"$f":"MAX(0,OFFSET(Licence_IBEC,MATCH($B127,'Licence Info'!$B$40:$B$64,FALSE),MATCH(Control!AF$101,'Licence Info'!$C$37:$DW$37,FALSE))*$C$9+OFFSET(Licence_Subst,MATCH($B127,'Licence Info'!$B$74:$B$98,FALSE),MATCH(Control!AF$101,'Licence Info'!$C$71:$DW$71,FALSE))*$C$9+OFFSET(Licence_OIEC,MATCH($B127,'Licence Info'!$B$108:$B$132,FALSE),MATCH(Control!AF$101,'Licence Info'!$C$105:$DW$105,FALSE))-AF65)","v":0},{"$f":"MAX(0,OFFSET(Licence_IBEC,MATCH($B127,'Licence Info'!$B$40:$B$64,FALSE),MATCH(Control!AG$101,'Licence Info'!$C$37:$DW$37,FALSE))*$C$9+OFFSET(Licence_Subst,MATCH($B127,'Licence Info'!$B$74:$B$98,FALSE),MATCH(Control!AG$101,'Licence Info'!$C$71:$DW$71,FALSE))*$C$9+OFFSET(Licence_OIEC,MATCH($B127,'Licence Info'!$B$108:$B$132,FALSE),MATCH(Control!AG$101,'Licence Info'!$C$105:$DW$105,FALSE))-AG65)","v":0},{"$f":"MAX(0,OFFSET(Licence_IBEC,MATCH($B127,'Licence Info'!$B$40:$B$64,FALSE),MATCH(Control!AH$101,'Licence Info'!$C$37:$DW$37,FALSE))*$C$9+OFFSET(Licence_Subst,MATCH($B127,'Licence Info'!$B$74:$B$98,FALSE),MATCH(Control!AH$101,'Licence Info'!$C$71:$DW$71,FALSE))*$C$9+OFFSET(Licence_OIEC,MATCH($B127,'Licence Info'!$B$108:$B$132,FALSE),MATCH(Control!AH$101,'Licence Info'!$C$105:$DW$105,FALSE))-AH65)","v":0},{"$f":"MAX(0,OFFSET(Licence_IBEC,MATCH($B127,'Licence Info'!$B$40:$B$64,FALSE),MATCH(Control!AI$101,'Licence Info'!$C$37:$DW$37,FALSE))*$C$9+OFFSET(Licence_Subst,MATCH($B127,'Licence Info'!$B$74:$B$98,FALSE),MATCH(Control!AI$101,'Licence Info'!$C$71:$DW$71,FALSE))*$C$9+OFFSET(Licence_OIEC,MATCH($B127,'Licence Info'!$B$108:$B$132,FALSE),MATCH(Control!AI$101,'Licence Info'!$C$105:$DW$105,FALSE))-AI65)","v":0},{"$f":"MAX(0,OFFSET(Licence_IBEC,MATCH($B127,'Licence Info'!$B$40:$B$64,FALSE),MATCH(Control!AJ$101,'Licence Info'!$C$37:$DW$37,FALSE))*$C$9+OFFSET(Licence_Subst,MATCH($B127,'Licence Info'!$B$74:$B$98,FALSE),MATCH(Control!AJ$101,'Licence Info'!$C$71:$DW$71,FALSE))*$C$9+OFFSET(Licence_OIEC,MATCH($B127,'Licence Info'!$B$108:$B$132,FALSE),MATCH(Control!AJ$101,'Licence Info'!$C$105:$DW$105,FALSE))-AJ65)","v":0},{"$f":"MAX(0,OFFSET(Licence_IBEC,MATCH($B127,'Licence Info'!$B$40:$B$64,FALSE),MATCH(Control!AK$101,'Licence Info'!$C$37:$DW$37,FALSE))*$C$9+OFFSET(Licence_Subst,MATCH($B127,'Licence Info'!$B$74:$B$98,FALSE),MATCH(Control!AK$101,'Licence Info'!$C$71:$DW$71,FALSE))*$C$9+OFFSET(Licence_OIEC,MATCH($B127,'Licence Info'!$B$108:$B$132,FALSE),MATCH(Control!AK$101,'Licence Info'!$C$105:$DW$105,FALSE))-AK65)","v":0},{"$f":"MAX(0,OFFSET(Licence_IBEC,MATCH($B127,'Licence Info'!$B$40:$B$64,FALSE),MATCH(Control!AL$101,'Licence Info'!$C$37:$DW$37,FALSE))*$C$9+OFFSET(Licence_Subst,MATCH($B127,'Licence Info'!$B$74:$B$98,FALSE),MATCH(Control!AL$101,'Licence Info'!$C$71:$DW$71,FALSE))*$C$9+OFFSET(Licence_OIEC,MATCH($B127,'Licence Info'!$B$108:$B$132,FALSE),MATCH(Control!AL$101,'Licence Info'!$C$105:$DW$105,FALSE))-AL65)","v":0},{"$f":"MAX(0,OFFSET(Licence_IBEC,MATCH($B127,'Licence Info'!$B$40:$B$64,FALSE),MATCH(Control!AM$101,'Licence Info'!$C$37:$DW$37,FALSE))*$C$9+OFFSET(Licence_Subst,MATCH($B127,'Licence Info'!$B$74:$B$98,FALSE),MATCH(Control!AM$101,'Licence Info'!$C$71:$DW$71,FALSE))*$C$9+OFFSET(Licence_OIEC,MATCH($B127,'Licence Info'!$B$108:$B$132,FALSE),MATCH(Control!AM$101,'Licence Info'!$C$105:$DW$105,FALSE))-AM65)","v":0},{"$f":"MAX(0,OFFSET(Licence_IBEC,MATCH($B127,'Licence Info'!$B$40:$B$64,FALSE),MATCH(Control!AN$101,'Licence Info'!$C$37:$DW$37,FALSE))*$C$9+OFFSET(Licence_Subst,MATCH($B127,'Licence Info'!$B$74:$B$98,FALSE),MATCH(Control!AN$101,'Licence Info'!$C$71:$DW$71,FALSE))*$C$9+OFFSET(Licence_OIEC,MATCH($B127,'Licence Info'!$B$108:$B$132,FALSE),MATCH(Control!AN$101,'Licence Info'!$C$105:$DW$105,FALSE))-AN65)","v":0},{"$f":"MAX(0,OFFSET(Licence_IBEC,MATCH($B127,'Licence Info'!$B$40:$B$64,FALSE),MATCH(Control!AO$101,'Licence Info'!$C$37:$DW$37,FALSE))*$C$9+OFFSET(Licence_Subst,MATCH($B127,'Licence Info'!$B$74:$B$98,FALSE),MATCH(Control!AO$101,'Licence Info'!$C$71:$DW$71,FALSE))*$C$9+OFFSET(Licence_OIEC,MATCH($B127,'Licence Info'!$B$108:$B$132,FALSE),MATCH(Control!AO$101,'Licence Info'!$C$105:$DW$105,FALSE))-AO65)","v":0},{"$f":"MAX(0,OFFSET(Licence_IBEC,MATCH($B127,'Licence Info'!$B$40:$B$64,FALSE),MATCH(Control!AP$101,'Licence Info'!$C$37:$DW$37,FALSE))*$C$9+OFFSET(Licence_Subst,MATCH($B127,'Licence Info'!$B$74:$B$98,FALSE),MATCH(Control!AP$101,'Licence Info'!$C$71:$DW$71,FALSE))*$C$9+OFFSET(Licence_OIEC,MATCH($B127,'Licence Info'!$B$108:$B$132,FALSE),MATCH(Control!AP$101,'Licence Info'!$C$105:$DW$105,FALSE))-AP65)","v":0},{"$f":"MAX(0,OFFSET(Licence_IBEC,MATCH($B127,'Licence Info'!$B$40:$B$64,FALSE),MATCH(Control!AQ$101,'Licence Info'!$C$37:$DW$37,FALSE))*$C$9+OFFSET(Licence_Subst,MATCH($B127,'Licence Info'!$B$74:$B$98,FALSE),MATCH(Control!AQ$101,'Licence Info'!$C$71:$DW$71,FALSE))*$C$9+OFFSET(Licence_OIEC,MATCH($B127,'Licence Info'!$B$108:$B$132,FALSE),MATCH(Control!AQ$101,'Licence Info'!$C$105:$DW$105,FALSE))-AQ65)","v":0},{"$f":"MAX(0,OFFSET(Licence_IBEC,MATCH($B127,'Licence Info'!$B$40:$B$64,FALSE),MATCH(Control!AR$101,'Licence Info'!$C$37:$DW$37,FALSE))*$C$9+OFFSET(Licence_Subst,MATCH($B127,'Licence Info'!$B$74:$B$98,FALSE),MATCH(Control!AR$101,'Licence Info'!$C$71:$DW$71,FALSE))*$C$9+OFFSET(Licence_OIEC,MATCH($B127,'Licence Info'!$B$108:$B$132,FALSE),MATCH(Control!AR$101,'Licence Info'!$C$105:$DW$105,FALSE))-AR65)","v":0},{"$f":"MAX(0,OFFSET(Licence_IBEC,MATCH($B127,'Licence Info'!$B$40:$B$64,FALSE),MATCH(Control!AS$101,'Licence Info'!$C$37:$DW$37,FALSE))*$C$9+OFFSET(Licence_Subst,MATCH($B127,'Licence Info'!$B$74:$B$98,FALSE),MATCH(Control!AS$101,'Licence Info'!$C$71:$DW$71,FALSE))*$C$9+OFFSET(Licence_OIEC,MATCH($B127,'Licence Info'!$B$108:$B$132,FALSE),MATCH(Control!AS$101,'Licence Info'!$C$105:$DW$105,FALSE))-AS65)","v":0},{"$f":"MAX(0,OFFSET(Licence_IBEC,MATCH($B127,'Licence Info'!$B$40:$B$64,FALSE),MATCH(Control!AT$101,'Licence Info'!$C$37:$DW$37,FALSE))*$C$9+OFFSET(Licence_Subst,MATCH($B127,'Licence Info'!$B$74:$B$98,FALSE),MATCH(Control!AT$101,'Licence Info'!$C$71:$DW$71,FALSE))*$C$9+OFFSET(Licence_OIEC,MATCH($B127,'Licence Info'!$B$108:$B$132,FALSE),MATCH(Control!AT$101,'Licence Info'!$C$105:$DW$105,FALSE))-AT65)","v":0},{"$f":"MAX(0,OFFSET(Licence_IBEC,MATCH($B127,'Licence Info'!$B$40:$B$64,FALSE),MATCH(Control!AU$101,'Licence Info'!$C$37:$DW$37,FALSE))*$C$9+OFFSET(Licence_Subst,MATCH($B127,'Licence Info'!$B$74:$B$98,FALSE),MATCH(Control!AU$101,'Licence Info'!$C$71:$DW$71,FALSE))*$C$9+OFFSET(Licence_OIEC,MATCH($B127,'Licence Info'!$B$108:$B$132,FALSE),MATCH(Control!AU$101,'Licence Info'!$C$105:$DW$105,FALSE))-AU65)","v":0},{"$f":"MAX(0,OFFSET(Licence_IBEC,MATCH($B127,'Licence Info'!$B$40:$B$64,FALSE),MATCH(Control!AV$101,'Licence Info'!$C$37:$DW$37,FALSE))*$C$9+OFFSET(Licence_Subst,MATCH($B127,'Licence Info'!$B$74:$B$98,FALSE),MATCH(Control!AV$101,'Licence Info'!$C$71:$DW$71,FALSE))*$C$9+OFFSET(Licence_OIEC,MATCH($B127,'Licence Info'!$B$108:$B$132,FALSE),MATCH(Control!AV$101,'Licence Info'!$C$105:$DW$105,FALSE))-AV65)","v":0},{"$f":"MAX(0,OFFSET(Licence_IBEC,MATCH($B127,'Licence Info'!$B$40:$B$64,FALSE),MATCH(Control!AW$101,'Licence Info'!$C$37:$DW$37,FALSE))*$C$9+OFFSET(Licence_Subst,MATCH($B127,'Licence Info'!$B$74:$B$98,FALSE),MATCH(Control!AW$101,'Licence Info'!$C$71:$DW$71,FALSE))*$C$9+OFFSET(Licence_OIEC,MATCH($B127,'Licence Info'!$B$108:$B$132,FALSE),MATCH(Control!AW$101,'Licence Info'!$C$105:$DW$105,FALSE))-AW65)","v":0},{"$f":"MAX(0,OFFSET(Licence_IBEC,MATCH($B127,'Licence Info'!$B$40:$B$64,FALSE),MATCH(Control!AX$101,'Licence Info'!$C$37:$DW$37,FALSE))*$C$9+OFFSET(Licence_Subst,MATCH($B127,'Licence Info'!$B$74:$B$98,FALSE),MATCH(Control!AX$101,'Licence Info'!$C$71:$DW$71,FALSE))*$C$9+OFFSET(Licence_OIEC,MATCH($B127,'Licence Info'!$B$108:$B$132,FALSE),MATCH(Control!AX$101,'Licence Info'!$C$105:$DW$105,FALSE))-AX65)","v":0},{"$f":"MAX(0,OFFSET(Licence_IBEC,MATCH($B127,'Licence Info'!$B$40:$B$64,FALSE),MATCH(Control!AY$101,'Licence Info'!$C$37:$DW$37,FALSE))*$C$9+OFFSET(Licence_Subst,MATCH($B127,'Licence Info'!$B$74:$B$98,FALSE),MATCH(Control!AY$101,'Licence Info'!$C$71:$DW$71,FALSE))*$C$9+OFFSET(Licence_OIEC,MATCH($B127,'Licence Info'!$B$108:$B$132,FALSE),MATCH(Control!AY$101,'Licence Info'!$C$105:$DW$105,FALSE))-AY65)","v":0},{"$f":"MAX(0,OFFSET(Licence_IBEC,MATCH($B127,'Licence Info'!$B$40:$B$64,FALSE),MATCH(Control!AZ$101,'Licence Info'!$C$37:$DW$37,FALSE))*$C$9+OFFSET(Licence_Subst,MATCH($B127,'Licence Info'!$B$74:$B$98,FALSE),MATCH(Control!AZ$101,'Licence Info'!$C$71:$DW$71,FALSE))*$C$9+OFFSET(Licence_OIEC,MATCH($B127,'Licence Info'!$B$108:$B$132,FALSE),MATCH(Control!AZ$101,'Licence Info'!$C$105:$DW$105,FALSE))-AZ65)","v":0},{"$f":"MAX(0,OFFSET(Licence_IBEC,MATCH($B127,'Licence Info'!$B$40:$B$64,FALSE),MATCH(Control!BA$101,'Licence Info'!$C$37:$DW$37,FALSE))*$C$9+OFFSET(Licence_Subst,MATCH($B127,'Licence Info'!$B$74:$B$98,FALSE),MATCH(Control!BA$101,'Licence Info'!$C$71:$DW$71,FALSE))*$C$9+OFFSET(Licence_OIEC,MATCH($B127,'Licence Info'!$B$108:$B$132,FALSE),MATCH(Control!BA$101,'Licence Info'!$C$105:$DW$105,FALSE))-BA65)","v":0},{"$f":"MAX(0,OFFSET(Licence_IBEC,MATCH($B127,'Licence Info'!$B$40:$B$64,FALSE),MATCH(Control!BB$101,'Licence Info'!$C$37:$DW$37,FALSE))*$C$9+OFFSET(Licence_Subst,MATCH($B127,'Licence Info'!$B$74:$B$98,FALSE),MATCH(Control!BB$101,'Licence Info'!$C$71:$DW$71,FALSE))*$C$9+OFFSET(Licence_OIEC,MATCH($B127,'Licence Info'!$B$108:$B$132,FALSE),MATCH(Control!BB$101,'Licence Info'!$C$105:$DW$105,FALSE))-BB65)","v":0},{"$f":"MAX(0,OFFSET(Licence_IBEC,MATCH($B127,'Licence Info'!$B$40:$B$64,FALSE),MATCH(Control!BC$101,'Licence Info'!$C$37:$DW$37,FALSE))*$C$9+OFFSET(Licence_Subst,MATCH($B127,'Licence Info'!$B$74:$B$98,FALSE),MATCH(Control!BC$101,'Licence Info'!$C$71:$DW$71,FALSE))*$C$9+OFFSET(Licence_OIEC,MATCH($B127,'Licence Info'!$B$108:$B$132,FALSE),MATCH(Control!BC$101,'Licence Info'!$C$105:$DW$105,FALSE))-BC65)","v":0},{"$f":"MAX(0,OFFSET(Licence_IBEC,MATCH($B127,'Licence Info'!$B$40:$B$64,FALSE),MATCH(Control!BD$101,'Licence Info'!$C$37:$DW$37,FALSE))*$C$9+OFFSET(Licence_Subst,MATCH($B127,'Licence Info'!$B$74:$B$98,FALSE),MATCH(Control!BD$101,'Licence Info'!$C$71:$DW$71,FALSE))*$C$9+OFFSET(Licence_OIEC,MATCH($B127,'Licence Info'!$B$108:$B$132,FALSE),MATCH(Control!BD$101,'Licence Info'!$C$105:$DW$105,FALSE))-BD65)","v":0},{"$f":"MAX(0,OFFSET(Licence_IBEC,MATCH($B127,'Licence Info'!$B$40:$B$64,FALSE),MATCH(Control!BE$101,'Licence Info'!$C$37:$DW$37,FALSE))*$C$9+OFFSET(Licence_Subst,MATCH($B127,'Licence Info'!$B$74:$B$98,FALSE),MATCH(Control!BE$101,'Licence Info'!$C$71:$DW$71,FALSE))*$C$9+OFFSET(Licence_OIEC,MATCH($B127,'Licence Info'!$B$108:$B$132,FALSE),MATCH(Control!BE$101,'Licence Info'!$C$105:$DW$105,FALSE))-BE65)","v":0},{"$f":"MAX(0,OFFSET(Licence_IBEC,MATCH($B127,'Licence Info'!$B$40:$B$64,FALSE),MATCH(Control!BF$101,'Licence Info'!$C$37:$DW$37,FALSE))*$C$9+OFFSET(Licence_Subst,MATCH($B127,'Licence Info'!$B$74:$B$98,FALSE),MATCH(Control!BF$101,'Licence Info'!$C$71:$DW$71,FALSE))*$C$9+OFFSET(Licence_OIEC,MATCH($B127,'Licence Info'!$B$108:$B$132,FALSE),MATCH(Control!BF$101,'Licence Info'!$C$105:$DW$105,FALSE))-BF65)","v":0},{"$f":"MAX(0,OFFSET(Licence_IBEC,MATCH($B127,'Licence Info'!$B$40:$B$64,FALSE),MATCH(Control!BG$101,'Licence Info'!$C$37:$DW$37,FALSE))*$C$9+OFFSET(Licence_Subst,MATCH($B127,'Licence Info'!$B$74:$B$98,FALSE),MATCH(Control!BG$101,'Licence Info'!$C$71:$DW$71,FALSE))*$C$9+OFFSET(Licence_OIEC,MATCH($B127,'Licence Info'!$B$108:$B$132,FALSE),MATCH(Control!BG$101,'Licence Info'!$C$105:$DW$105,FALSE))-BG65)","v":0},{"$f":"MAX(0,OFFSET(Licence_IBEC,MATCH($B127,'Licence Info'!$B$40:$B$64,FALSE),MATCH(Control!BH$101,'Licence Info'!$C$37:$DW$37,FALSE))*$C$9+OFFSET(Licence_Subst,MATCH($B127,'Licence Info'!$B$74:$B$98,FALSE),MATCH(Control!BH$101,'Licence Info'!$C$71:$DW$71,FALSE))*$C$9+OFFSET(Licence_OIEC,MATCH($B127,'Licence Info'!$B$108:$B$132,FALSE),MATCH(Control!BH$101,'Licence Info'!$C$105:$DW$105,FALSE))-BH65)","v":0},{"$f":"MAX(0,OFFSET(Licence_IBEC,MATCH($B127,'Licence Info'!$B$40:$B$64,FALSE),MATCH(Control!BI$101,'Licence Info'!$C$37:$DW$37,FALSE))*$C$9+OFFSET(Licence_Subst,MATCH($B127,'Licence Info'!$B$74:$B$98,FALSE),MATCH(Control!BI$101,'Licence Info'!$C$71:$DW$71,FALSE))*$C$9+OFFSET(Licence_OIEC,MATCH($B127,'Licence Info'!$B$108:$B$132,FALSE),MATCH(Control!BI$101,'Licence Info'!$C$105:$DW$105,FALSE))-BI65)","v":0},{"$f":"MAX(0,OFFSET(Licence_IBEC,MATCH($B127,'Licence Info'!$B$40:$B$64,FALSE),MATCH(Control!BJ$101,'Licence Info'!$C$37:$DW$37,FALSE))*$C$9+OFFSET(Licence_Subst,MATCH($B127,'Licence Info'!$B$74:$B$98,FALSE),MATCH(Control!BJ$101,'Licence Info'!$C$71:$DW$71,FALSE))*$C$9+OFFSET(Licence_OIEC,MATCH($B127,'Licence Info'!$B$108:$B$132,FALSE),MATCH(Control!BJ$101,'Licence Info'!$C$105:$DW$105,FALSE))-BJ65)","v":0},{"$f":"MAX(0,OFFSET(Licence_IBEC,MATCH($B127,'Licence Info'!$B$40:$B$64,FALSE),MATCH(Control!BK$101,'Licence Info'!$C$37:$DW$37,FALSE))*$C$9+OFFSET(Licence_Subst,MATCH($B127,'Licence Info'!$B$74:$B$98,FALSE),MATCH(Control!BK$101,'Licence Info'!$C$71:$DW$71,FALSE))*$C$9+OFFSET(Licence_OIEC,MATCH($B127,'Licence Info'!$B$108:$B$132,FALSE),MATCH(Control!BK$101,'Licence Info'!$C$105:$DW$105,FALSE))-BK65)","v":{"$error":"#N/A"}}]
[]
[]
[null,"Assumed project values (£/kWh) or (£m/GWh)","p1","p2","p3","p4","p5","p6","p7","p8","p9","p10","p11","p12","p13","p14","p15","p16","p17","p18","p19","p20",null,"Estimated Project Value (£m)","p1","p2","p3","p4","p5","p6","p7","p8","p9","p10","p11","p12","p13","p14","p15","p16","p17","p18","p19","p20"]
[" ","Bacton",{"$f":"IFERROR(Y131/INDEX($C$203:$AA$222,MATCH(C$130,$B$203:$B$222,0),MATCH($B131,$C$201:$AA$201,0)),\"\")","v":0.36952224052718285},0.36956342668863262,{"$f":"IFERROR(AA131/INDEX($C$203:$AA$222,MATCH(E$130,$B$203:$B$222,0),MATCH($B131,$C$201:$AA$201,0)),\"\")","v":0.38377265238879726},{"$f":"IFERROR(AB131/INDEX($C$203:$AA$222,MATCH(F$130,$B$203:$B$222,0),MATCH($B131,$C$201:$AA$201,0)),\"\")","v":0.40508649093904447},{"$f":"IFERROR(AC131/INDEX($C$203:$AA$222,MATCH(G$130,$B$203:$B$222,0),MATCH($B131,$C$201:$AA$201,0)),\"\")","v":0.43350906095551894},{"$f":"IFERROR(AD131/INDEX($C$203:$AA$222,MATCH(H$130,$B$203:$B$222,0),MATCH($B131,$C$201:$AA$201,0)),\"\")","v":0.43351180669961553},{"$f":"IFERROR(AE131/INDEX($C$203:$AA$222,MATCH(I$130,$B$203:$B$222,0),MATCH($B131,$C$201:$AA$201,0)),\"\")","v":0.43351376794539886},{"$f":"IFERROR(AF131/INDEX($C$203:$AA$222,MATCH(J$130,$B$203:$B$222,0),MATCH($B131,$C$201:$AA$201,0)),\"\")","v":0.44772446457990112},{"$f":"IFERROR(AG131/INDEX($C$203:$AA$222,MATCH(K$130,$B$203:$B$222,0),MATCH($B131,$C$201:$AA$201,0)),\"\")","v":0.44772103239978023},{"$f":"IFERROR(AH131/INDEX($C$203:$AA$222,MATCH(L$130,$B$203:$B$222,0),MATCH($B131,$C$201:$AA$201,0)),\"\")","v":0.53655683690280065},{"$f":"IFERROR(AI131/INDEX($C$203:$AA$222,MATCH(M$130,$B$203:$B$222,0),MATCH($B131,$C$201:$AA$201,0)),\"\")","v":0.53655833458139879},{"$f":"IFERROR(AJ131/INDEX($C$203:$AA$222,MATCH(N$130,$B$203:$B$222,0),MATCH($B131,$C$201:$AA$201,0)),\"\")","v":0.53655271828665563},{"$f":"IFERROR(AK131/INDEX($C$203:$AA$222,MATCH(O$130,$B$203:$B$222,0),MATCH($B131,$C$201:$AA$201,0)),\"\")","v":0.53655430236978829},{"$f":"IFERROR(AL131/INDEX($C$203:$AA$222,MATCH(P$130,$B$203:$B$222,0),MATCH($B131,$C$201:$AA$201,0)),\"\")","v":0.53655566015533052},{"$f":"IFERROR(AM131/INDEX($C$203:$AA$222,MATCH(Q$130,$B$203:$B$222,0),MATCH($B131,$C$201:$AA$201,0)),\"\")","v":0.54366282262493126},{"$f":"IFERROR(AN131/INDEX($C$203:$AA$222,MATCH(R$130,$B$203:$B$222,0),MATCH($B131,$C$201:$AA$201,0)),\"\")","v":0.5685337726523888},{"$f":"IFERROR(AO131/INDEX($C$203:$AA$222,MATCH(S$130,$B$203:$B$222,0),MATCH($B131,$C$201:$AA$201,0)),\"\")","v":0.63960170559162699},{"$f":"IFERROR(AP131/INDEX($C$203:$AA$222,MATCH(T$130,$B$203:$B$222,0),MATCH($B131,$C$201:$AA$201,0)),\"\")","v":0.66447464762950748},{"$f":"IFERROR(AQ131/INDEX($C$203:$AA$222,MATCH(U$130,$B$203:$B$222,0),MATCH($B131,$C$201:$AA$201,0)),\"\")","v":0.67158154859967056},{"$f":"IFERROR(AR131/INDEX($C$203:$AA$222,MATCH(V$130,$B$203:$B$222,0),MATCH($B131,$C$201:$AA$201,0)),\"\")","v":0.67158154859967045},null,"Bacton",4.4859999999999998,8.9730000000000008,13.977,19.670999999999999,26.314,31.577000000000002,36.840000000000003,43.482999999999997,48.917999999999999,65.138000000000005,71.652000000000001,78.165000000000006,84.679000000000002,91.192999999999998,99.001000000000005,110.432,132.001,145.20099999999999,154.90700000000001,163.06]
[null,"Barrow",3.5293079615305433E-3,2.8410929090320874E-2,2.8430536356773818E-2,2.8440339990000296E-2,3.9081203494014886E-2,3.9077282040724297E-2,3.9091287231047829E-2,3.9087085673950771E-2,3.9083817796208606E-2,3.9081203494014886E-2,3.9089759392103442E-2,3.9087085673950764E-2,4.9745143242393319E-2,0.14923930808757729,0.14924266933325492,0.14923825769830301,0.14924128529091704,0.14923744072886744,0.14924019262591348,0.14924266933325492,null,"Barrow",0.03,0.48299999999999998,0.72499999999999998,0.96699999999999997,1.661,1.9930000000000001,2.3260000000000001,2.6579999999999999,2.99,3.3220000000000001,3.6549999999999998,3.9870000000000001,5.4969999999999999,17.760000000000002,19.029,20.297000000000001,21.565999999999999,22.834,24.103000000000002,25.372]
[null,"Easington",0.58273815868954981,0.60407206054791596,0.63604685593812538,0.63249831219130859,0.63960203247699243,0.63605159364673258,0.63604956320018669,0.6396013218207014,0.64670985877680243,0.65381515829868875,0.65736999027692977,0.65736891352497351,0.70000956652699531,0.70711722275521438,0.71066955666891707,0.71067050421063849,0.71066966814441368,0.71067050421063849,0.71422303760680872,0.7213303485769107,null,"Easington",20.5,42.500999999999998,67.126000000000005,89.001999999999995,112.502,134.25299999999999,156.62799999999999,180.00299999999999,204.75399999999999,230.00399999999999,254.38,277.505,320.13099999999997,348.25700000000001,375.00700000000001,400.00799999999998,425.00799999999998,450.00900000000001,477.38400000000001,507.51]
[null,"St. Fergus",1.8903932483390191,1.9117016819297297,1.9543424911713649,1.9578978871131858,1.9827665050577603,1.9863211029309069,1.9863222430290126,2.1000299275752674,2.1000299275752679,2.1035829293110671,2.1071363663570519,2.1071367291155401,2.1071351943680905,2.1071355890174348,2.1071359310468663,2.1071362303226189,2.1142430612036516,2.1142422005413564,2.114242690583525,2.114243131621476,null,"St. Fergus",78.956999999999994,159.69399999999999,244.88399999999999,327.10599999999999,414.07600000000002,497.78199999999998,580.74599999999998,701.70399999999995,789.41700000000003,878.61400000000003,968.10799999999995,1056.1179999999999,1144.127,1232.1369999999999,1320.1469999999999,1408.1569999999999,1501.213,1589.519,1677.826,1766.133]
[null,"Teesside",0.32335033364038734,0.32335033364038734,0.32335033364038729,0.32335033364038734,0.32335033364038734,0.33046499958809822,0.33046285983894108,0.33046125502707319,0.33046000684006482,0.33045900829045816,0.33045819129532539,0.38376508121952863,0.44772275961473645,0.45837920420589096,0.46904071835658712,0.47615089083106787,0.47614956922129426,0.49391758470821134,0.49391784748442363,0.49391359050978462,null,"Teesside",3.5979999999999999,7.1959999999999997,10.794,14.391999999999999,17.989999999999998,22.062999999999999,25.74,29.417000000000002,33.094000000000001,36.771000000000001,40.448,51.243000000000002,64.765000000000001,71.406999999999996,78.287000000000006,84.772000000000006,90.07,98.927000000000007,104.423,109.91800000000001]
[null,"Theddlethorpe",0.61116751269035519,0.61116751269035519,0.61116751269035519,0.61118388734239393,0.61118061241198618,0.61117842912504761,0.61117686963437734,0.61117570001637456,0.61117479031348365,0.62183723595873575,0.62183783140062809,0.62539162709459084,0.62539078736884535,0.62539006760392046,0.62894383494350736,0.62894219747830349,0.62894460551536802,0.62894310718119462,0.65736816250549401,0.67513672834452265,null,"Theddlethorpe",9.3309999999999995,18.661999999999999,27.992999999999999,37.325000000000003,46.655999999999999,55.987000000000002,65.317999999999998,74.649000000000001,83.98,94.938999999999993,104.43300000000001,114.578,124.126,133.67400000000001,144.036,153.63800000000001,163.24100000000001,172.84299999999999,190.691,206.15299999999999]
[null,"Glenmavis",0.44414141414141417,0.56141414141414137,0.57208754208754198,0.5720959595959596,0.57208080808080808,"","","","","","","","","","","","","","","",null,"Glenmavis",4.3970000000000002,11.116,16.991,22.655000000000001,28.318000000000001]
[null,"Partington",3.5342168875552218E-3,8.1753771776277392E-2,8.1753771776277392E-2,9.5957322663999325E-2,0.1848195382178878,0.20614042399488758,0.25590207075578414,0.25590564307743602,"","","","","","","","","","","","",null,"Partington",5.2999999999999999E-2,2.452,3.6779999999999999,5.7560000000000002,13.858000000000001,18.547999999999998,26.863,30.701000000000001]
[null,"Avonmouth",2.4864290745550979E-2,3.5529938250344964E-2,5.3306017425001601E-2,5.3294907375517446E-2,7.1059876500689942E-2,0.15632950629162098,"","","","","","","","","","","","","","",null,"Avonmouth",0.373,1.0660000000000001,2.399,3.198,5.33,14.071]
[null,"Isle of Grain",3.5444774754173334E-3,0.30914132174708436,0.30915084991234087,0.30914132174708436,0.30914703864623833,0.30914132174708436,0.30914540524648004,0.32335496226846561,0.3553370429656732,0.37665218385547683,0.3766553021641062,0.39086915923469778,0.47970061038892498,0.47970092450426322,0.47970119673755623,0.49036345186370911,0.52589419028530693,0.58630294483827528,0.61472913933587692,0.61472959067002064,null,"Isle of Grain",6.2E-2,10.815,16.222999999999999,21.63,27.038,32.445,37.853000000000002,45.249000000000002,55.94,65.884,72.472999999999999,82.045000000000002,109.08199999999999,117.473,125.864,137.239,156.38200000000001,184.601,204.304,215.05699999999999]
[null,"Dynevor Arms",0.34102040816326529,0.34112244897959182,0.34108843537414968,0.34112244897959182,0.3411020408163265,"","","","","","","","","","","","","","","",null,"Dynevor Arms",1.671,3.343,5.0140000000000002,6.6859999999999999,8.3569999999999993]
[null,"Hornsea",0.47613336507555765,0.50103336673555776,0.51880003458666901,0.51878336791889113,0.51878670125244664,0.51878892347481709,0.53655241672254195,0.53655836910389121,"","","","","","","","","","","","",null,"Hornsea",7.1420000000000003,15.031000000000001,23.346,31.126999999999999,38.908999999999999,46.691000000000003,56.338000000000001,64.387]
[null,"Hatfield Moor (Storage)",0.13517786561264822,0.1349802371541502,0.13504611330698285,0.1349802371541502,0.1492490118577075,"","","","","","","","","","","","","","","",null,"Hatfield Moor (Storage)",0.34200000000000003,0.68300000000000005,1.0249999999999999,1.3660000000000001,1.8879999999999999]
[null,"Hatfield Moor (Onshore)",0,0,0,0,0,"","","","","","","","","","","","","","","",null,"Hatfield Moor (Onshore)"]
[null,"Cheshire",4.0095817210245063E-2,6.191265892758429E-2,6.191265892758429E-2,6.191265892758429E-2,6.1912658927584296E-2,9.469934279221176E-2,9.4701097686172284E-2,9.4693200663349908E-2,9.4695248039637192E-2,9.8337939929979731E-2,9.8336599829137117E-2,9.8341625207296821E-2,9.8340207792944084E-2,9.8338992866356015E-2,9.8337939929979717E-2,9.8337018610650445E-2,9.8340541302203557E-2,9.8339577831009536E-2,0.16754046531475175,0.17846692463607886,null,"Cheshire",0.54400000000000004,1.68,2.52,3.36,4.2,7.7089999999999996,8.9939999999999998,10.278,11.563000000000001,13.342000000000001,14.676,16.010999999999999,17.344999999999999,18.678999999999998,20.013000000000002,21.347000000000001,22.681999999999999,24.015999999999998,43.189,48.427]
[null,"Hole House Farm",0.14566667637777841,0.14570000971333399,0.14568889860148213,0.15280001018666733,0.1776666785111119,0.24873334991555665,0.41929526604825584,0.41929169461944626,0.41929632424938457,0.42284669485644633,"","","","","","","","","","",null,"Hole House Farm",2.1850000000000001,4.3710000000000004,6.556,9.1679999999999993,13.324999999999999,22.385999999999999,44.026000000000003,50.314999999999998,56.604999999999997,63.427]
[null,"Wytch Farm",3.0303030303030303E-3,3.0303030303030303E-3,4.0404040404040413E-3,3.787878787878788E-3,3.6363636363636364E-3,"","","","","","","","","","","","","","","",null,"Wytch Farm",1E-3,2E-3,4.0000000000000001E-3,5.0000000000000001E-3,6.0000000000000001E-3]
[null,"Burton Point",2.1360544217687072E-2,2.1292517006802718E-2,2.1315192743764172E-2,2.1326530612244897E-2,2.1333333333333333E-2,"","","","","","","","","","","","","","","",null,"Burton Point",0.157,0.313,0.47,0.627,0.78400000000000003]
[null,"Garton",0.48676190476190473,0.5116666666666666,0.51168253968253963,0.51169047619047614,0.51167619047619051,0.51879365079365081,0.51878911564625851,0.51878571428571429,0.51879365079365081,0.51879047619047614,0.5187878787878788,0.51878571428571429,0.51879120879120877,0.51878911564625851,0.51878730158730157,0.5401071428571429,0.54010644257703089,0.5401111111111111,0.54011027568922299,0.54010952380952382,null,"Garton",5.1109999999999998,10.744999999999999,16.117999999999999,21.491,26.863,32.683999999999997,38.131,43.578000000000003,49.026000000000003,54.472999999999999,59.92,65.367000000000004,70.814999999999998,76.262,81.709000000000003,90.738,96.409000000000006,102.081,107.752,113.423]
[null,"Milford Haven",0.8528,0.87056842105263155,0.87056842105263155,0.87056842105263155,0.87056842105263155,0.90610526315789475,0.93453233082706777,0.93453157894736849,1.0375766081871345,1.0375789473684212,1.0375770334928229,1.0446842105263159,1.1406251012145749,1.1690526315789473,1.1690526315789473,1.1761578947368421,1.1761585139318886,1.1761590643274853,1.2259058171745154,1.250778947368421,null,"Milford Haven",20.254000000000001,41.351999999999997,62.027999999999999,82.703999999999994,103.38,129.12,155.36600000000001,177.56100000000001,221.78200000000001,246.42500000000001,271.06700000000001,297.73500000000001,352.16800000000001,388.71,416.47500000000002,446.94,474.87400000000002,502.80799999999999,553.19000000000005,594.12]
[null,"Barton Stacey",3.533333333333325E-3,0.43706666666666566,0.46904444444444338,0.48681666666666551,0.48681333333333215,0.50102222222222115,"","","","","","","","","","","","","","",null,"Barton Stacey",5.2999999999999999E-2,13.112,21.106999999999999,29.209,36.511000000000003,45.091999999999999]
[null,"Fleetwood",1.9076923076923077E-3,7.8461538461538458E-2,7.8441025641025633E-2,7.8446153846153846E-2,7.8449230769230771E-2,7.8451282051282045E-2,7.8443956043956042E-2,7.8446153846153846E-2,0.11480341880341879,0.11480000000000001,0.13202237762237762,0.13202051282051283,0.15306508875739647,0.15306813186813187,0.15306666666666668,0.15306923076923076,0.1530678733031674,0.15306666666666666,0.15306882591093116,0.1568953846153846,null,"Fleetwood",3.1E-2,2.5499999999999998,3.8239999999999998,5.0990000000000002,6.3739999999999997,7.649,8.923,10.198,16.79,18.655000000000001,23.599,25.744,32.335000000000001,34.823,37.31,39.798000000000002,42.284999999999997,44.771999999999998,47.26,50.991]
[null,"Caythorpe",0.45833333333333331,0.45838888888888885,0.45837037037037037,0.45838888888888885,0.4654888888888889,"","","","","","","","","","","","","","","",null,"Caythorpe",4.125,8.2509999999999994,12.375999999999999,16.501999999999999,20.946999999999999]
[null,"Canonbie",0.20259999999999997,0.2452,0.2452,0.2452,0.25584000000000001,0.2558333333333333,0.25582857142857146,0.25585000000000002,0.27715555555555554,0.27716000000000002,0.27716363636363633,0.27716666666666667,0.33046153846153847,0.40508571428571433,0.41574666666666665,0.56498749999999998,0.56498823529411768,0.5649777777777778,0.56497894736842103,0.61828000000000005,null,"Canonbie",1.0129999999999999,2.452,3.6779999999999999,4.9039999999999999,6.3959999999999999,7.6749999999999998,8.9540000000000006,10.234,12.472,13.858000000000001,15.244,16.63,21.48,28.356000000000002,31.181000000000001,45.198999999999998,48.024000000000001,50.847999999999999,53.673000000000002,61.828000000000003]
[null,"Murrow",{"$f":"IFERROR(Y155/INDEX($C$203:$AA$222,MATCH(C$130,$B$203:$B$222,0),MATCH($B155,$C$201:$AA$201,0)),\"\")","v":1.1999999999999999E-3},{"$f":"IFERROR(Z155/INDEX($C$203:$AA$222,MATCH(D$130,$B$203:$B$222,0),MATCH($B155,$C$201:$AA$201,0)),\"\")","v":1.1999999999999999E-3},1.1777777777777778E-3,1.1833333333333333E-3,1.1866666666666666E-3,1.1888888888888889E-3,1.1809523809523808E-3,1.1833333333333333E-3,2.3703703703703703E-3,2.3666666666666667E-3,2.36969696969697E-3,2.3666666666666667E-3,2.3692307692307693E-3,2.3666666666666667E-3,2.3688888888888891E-3,8.2916666666666659E-3,8.2901960784313722E-3,8.2925925925925927E-3,8.2912280701754378E-3,8.2900000000000005E-3,null,"Murrow",1.7999999999999999E-2,3.5999999999999997E-2,5.2999999999999999E-2,7.0999999999999994E-2,8.8999999999999996E-2,0.107,0.124,0.14199999999999999,0.32,0.35499999999999998,0.39100000000000001,0.42599999999999999,0.46200000000000002,0.497,0.53300000000000003,1.99,2.1139999999999999,2.2389999999999999,2.363,2.4870000000000001]
[]
[null,"RIt Lookup Table for formula years"]
[null,"From",{"$f":"Formula_Start","v":"2002-04-01"},{"$f":"DATE(YEAR(C159),MONTH(C159)+1,1)","v":"2003-04-01"},"2004-04-01","2005-04-01","2006-04-01","2007-04-01","2008-04-01","2009-04-01","2010-04-01","2011-04-01","2012-04-01","2013-04-01",{"$f":"DATE(YEAR(N159),MONTH(N159)+1,1)","v":"2014-04-01"},"2015-04-01","2016-04-01","2017-04-01","2018-04-01","2019-04-01"]
[null,"To",{"$f":"DATE(YEAR(C158),MONTH(C158)+11,1)","v":"2003-03-01"},"2004-03-01","2005-03-01","2006-03-01","2007-03-01","2008-03-01","2009-03-01","2010-03-01","2011-03-01","2012-03-01","2013-03-01","2014-03-01",{"$f":"DATE(YEAR(O158),MONTH(O158)+11,1)","v":"2015-03-01"},"2016-03-01","2017-03-01","2018-03-01",{"$f":"DATE(YEAR(S158),MONTH(S158)+11,1)","v":"2019-03-01"},"2020-03-01"]
[null,"RIt",173.87,177.42,182.37,188.3,193.15,200.33,208.48,216.45,215.61666666666667,225.73333333333335,237.43333333333331,244.55,251.66666666666666,257.15000000000003,259.65000000000003,265.01666666666665,275.31666666666666,284.11666666666662]
[]
[]
[]
[]
[null,"Release Point Lookup Reference:",{"$f":"ADDRESS(172+MATCH(ASEP,B173:B196,0),3)&\":\"&ADDRESS(172+MATCH(ASEP,B173:B196,0),62)","v":"$C$181:$BJ$181"}]
[]
[null,"Restricted Incremental Capacity (GWh/day)"]
[null,"As given in auction invitation letter"]
[null,"Gives volume of incremental capacity available during restricted period; -1 indicates no restriction"]
[null,"ASEPs"]
[null,"From",{"$f":"First_quarter","v":"2020-10-01"},{"$f":"DATE(YEAR(C171),MONTH(C171)+3,1)","v":"2021-01-01"},{"$f":"DATE(YEAR(D171),MONTH(D171)+3,1)","v":"2021-04-01"},"2021-07-01","2021-10-01","2022-01-01","2022-04-01","2022-07-01","2022-10-01","2023-01-01","2023-04-01","2023-07-01","2023-10-01","2024-01-01","2024-04-01","2024-07-01","2024-10-01","2025-01-01","2025-04-01","2025-07-01","2025-10-01","2026-01-01","2026-04-01","2026-07-01","2026-10-01","2027-01-01","2027-04-01","2027-07-01","2027-10-01","2028-01-01","2028-04-01","2028-07-01","2028-10-01","2029-01-01","2029-04-01","2029-07-01","2029-10-01","2030-01-01","2030-04-01","2030-07-01","2030-10-01","2031-01-01","2031-04-01","2031-07-01","2031-10-01","2032-01-01","2032-04-01","2032-07-01","2032-10-01","2033-01-01","2033-04-01","2033-07-01","2033-10-01","2034-01-01","2034-04-01","2034-07-01","2034-10-01","2035-01-01","2035-04-01","2035-07-01"]
[null,"To",{"$f":"DATE(YEAR(C171),MONTH(C171)+2,1)","v":"2020-12-01"},"2021-03-01","2021-06-01","2021-09-01","2021-12-01","2022-03-01","2022-06-01","2022-09-01","2022-12-01","2023-03-01","2023-06-01","2023-09-01","2023-12-01","2024-03-01","2024-06-01","2024-09-01","2024-12-01","2025-03-01","2025-06-01","2025-09-01","2025-12-01","2026-03-01","2026-06-01","2026-09-01","2026-12-01","2027-03-01","2027-06-01","2027-09-01","2027-12-01","2028-03-01","2028-06-01","2028-09-01",{"$f":"DATE(YEAR(AI171),MONTH(AI171)+2,1)","v":"2028-12-01"},"2029-03-01","2029-06-01","2029-09-01","2029-12-01","2030-03-01","2030-06-01","2030-09-01","2030-12-01","2031-03-01","2031-06-01","2031-09-01","2031-12-01","2032-03-01","2032-06-01","2032-09-01","2032-12-01","2033-03-01","2033-06-01","2033-09-01","2033-12-01","2034-03-01","2034-06-01","2034-09-01","2034-12-01","2035-03-01","2035-06-01","2035-09-01"]
[null,{"$f":"B103","v":"Bacton"},-1,-1,-1,-1,-1,-1,-1,-1,-1,-1,-1,-1,-1,-1,-1,-1,-1,-1,-1,-1,-1,-1,-1,-1,-1,-1,-1,-1,-1,-1,-1,-1,-1,-1,-1,-1,-1,-1,-1,-1,-1,-1,-1,-1,-1,-1,-1,-1,-1,-1,-1,-1,-1,-1,-1,-1,-1,-1,-1,-1]
[null,{"$f":"B104","v":"Barrow"},-1,-1,-1,-1,-1,-1,-1,-1,-1,-1,-1,-1,-1,-1,-1,-1,-1,-1,-1,-1,-1,-1,-1,-1,-1,-1,-1,-1,-1,-1,-1,-1,-1,-1,-1,-1,-1,-1,-1,-1,-1,-1,-1,-1,-1,-1,-1,-1,-1,-1,-1,-1,-1,-1,-1,-1,-1,-1,-1,-1]
[null,"Easington",-1,-1,-1,-1,-1,-1,-1,-1,-1,-1,-1,-1,-1,-1,-1,-1,-1,-1,-1,-1,-1,-1,-1,-1,-1,-1,-1,-1,-1,-1,-1,-1,-1,-1,-1,-1,-1,-1,-1,-1,-1,-1,-1,-1,-1,-1,-1,-1,-1,-1,-1,-1,-1,-1,-1,-1,-1,-1,-1,-1]
[null,"St. Fergus",-1,-1,-1,-1,-1,-1,-1,-1,-1,-1,-1,-1,-1,-1,-1,-1,-1,-1,-1,-1,-1,-1,-1,-1,-1,-1,-1,-1,-1,-1,-1,-1,-1,-1,-1,-1,-1,-1,-1,-1,-1,-1,-1,-1,-1,-1,-1,-1,-1,-1,-1,-1,-1,-1,-1,-1,-1,-1,-1,-1]
[null,"Teesside",-1,-1,-1,-1,-1,-1,-1,-1,-1,-1,-1,-1,-1,-1,-1,-1,-1,-1,-1,-1,-1,-1,-1,-1,-1,-1,-1,-1,-1,-1,-1,-1,-1,-1,-1,-1,-1,-1,-1,-1,-1,-1,-1,-1,-1,-1,-1,-1,-1,-1,-1,-1,-1,-1,-1,-1,-1,-1,-1,-1]
[null,"Theddlethorpe",-1,-1,-1,-1,-1,-1,-1,-1,-1,-1,-1,-1,-1,-1,-1,-1,-1,-1,-1,-1,-1,-1,-1,-1,-1,-1,-1,-1,-1,-1,-1,-1,-1,-1,-1,-1,-1,-1,-1,-1,-1,-1,-1,-1,-1,-1,-1,-1,-1,-1,-1,-1,-1,-1,-1,-1,-1,-1,-1,-1]
[null,"Glenmavis",-1,-1,-1,-1,-1,-1,-1,-1,-1,-1,-1,-1,-1,-1,-1,-1,-1,-1,-1,-1,-1,-1,-1,-1,-1,-1,-1,-1,-1,-1,-1,-1,-1,-1,-1,-1,-1,-1,-1,-1,-1,-1,-1,-1,-1,-1,-1,-1,-1,-1,-1,-1,-1,-1,-1,-1,-1,-1,-1,-1]
[null,"Partington",-1,-1,-1,-1,-1,-1,-1,-1,-1,-1,-1,-1,-1,-1,-1,-1,-1,-1,-1,-1,-1,-1,-1,-1,-1,-1,-1,-1,-1,-1,-1,-1,-1,-1,-1,-1,-1,-1,-1,-1,-1,-1,-1,-1,-1,-1,-1,-1,-1,-1,-1,-1,-1,-1,-1,-1,-1,-1,-1,-1]
[null,"Avonmouth",-1,-1,-1,-1,-1,-1,-1,-1,-1,-1,-1,-1,-1,-1,-1,-1,-1,-1,-1,-1,-1,-1,-1,-1,-1,-1,-1,-1,-1,-1,-1,-1,-1,-1,-1,-1,-1,-1,-1,-1,-1,-1,-1,-1,-1,-1,-1,-1,-1,-1,-1,-1,-1,-1,-1,-1,-1,-1,-1,-1]
[null,"Isle of Grain",-1,-1,-1,-1,-1,-1,-1,-1,-1,-1,-1,-1,-1,-1,-1,-1,-1,-1,-1,-1,-1,-1,-1,-1,-1,-1,-1,-1,-1,-1,-1,-1,-1,-1,-1,-1,-1,-1,-1,-1,-1,-1,-1,-1,-1,-1,-1,-1,-1,-1,-1,-1,-1,-1,-1,-1,-1,-1,-1,-1]
[null,"Dynevor Arms",-1,-1,-1,-1,-1,-1,-1,-1,-1,-1,-1,-1,-1,-1,-1,-1,-1,-1,-1,-1,-1,-1,-1,-1,-1,-1,-1,-1,-1,-1,-1,-1,-1,-1,-1,-1,-1,-1,-1,-1,-1,-1,-1,-1,-1,-1,-1,-1,-1,-1,-1,-1,-1,-1,-1,-1,-1,-1,-1,-1]
[null,"Hornsea",-1,-1,-1,-1,-1,-1,-1,-1,-1,-1,-1,-1,-1,-1,-1,-1,-1,-1,-1,-1,-1,-1,-1,-1,-1,-1,-1,-1,-1,-1,-1,-1,-1,-1,-1,-1,-1,-1,-1,-1,-1,-1,-1,-1,-1,-1,-1,-1,-1,-1,-1,-1,-1,-1,-1,-1,-1,-1,-1,-1]
[null,"Hatfield Moor (Storage)",-1,-1,-1,-1,-1,-1,-1,-1,-1,-1,-1,-1,-1,-1,-1,-1,-1,-1,-1,-1,-1,-1,-1,-1,-1,-1,-1,-1,-1,-1,-1,-1,-1,-1,-1,-1,-1,-1,-1,-1,-1,-1,-1,-1,-1,-1,-1,-1,-1,-1,-1,-1,-1,-1,-1,-1,-1,-1,-1,-1]
[null,"Hatfield Moor (Onshore)",-1,-1,-1,-1,-1,-1,-1,-1,-1,-1,-1,-1,-1,-1,-1,-1,-1,-1,-1,-1,-1,-1,-1,-1,-1,-1,-1,-1,-1,-1,-1,-1,-1,-1,-1,-1,-1,-1,-1,-1,-1,-1,-1,-1,-1,-1,-1,-1,-1,-1,-1,-1,-1,-1,-1,-1,-1,-1,-1,-1]
[null,"Cheshire",-1,-1,-1,-1,-1,-1,-1,-1,-1,-1,-1,-1,-1,-1,-1,-1,-1,-1,-1,-1,-1,-1,-1,-1,-1,-1,-1,-1,-1,-1,-1,-1,-1,-1,-1,-1,-1,-1,-1,-1,-1,-1,-1,-1,-1,-1,-1,-1,-1,-1,-1,-1,-1,-1,-1,-1,-1,-1,-1,-1]
[null,"Hole House Farm",-1,-1,-1,-1,-1,-1,-1,-1,-1,-1,-1,-1,-1,-1,-1,-1,-1,-1,-1,-1,-1,-1,-1,-1,-1,-1,-1,-1,-1,-1,-1,-1,-1,-1,-1,-1,-1,-1,-1,-1,-1,-1,-1,-1,-1,-1,-1,-1,-1,-1,-1,-1,-1,-1,-1,-1,-1,-1,-1,-1]
[null,"Wytch Farm",-1,-1,-1,-1,-1,-1,-1,-1,-1,-1,-1,-1,-1,-1,-1,-1,-1,-1,-1,-1,-1,-1,-1,-1,-1,-1,-1,-1,-1,-1,-1,-1,-1,-1,-1,-1,-1,-1,-1,-1,-1,-1,-1,-1,-1,-1,-1,-1,-1,-1,-1,-1,-1,-1,-1,-1,-1,-1,-1,-1]
[null,"Burton Point",-1,-1,-1,-1,-1,-1,-1,-1,-1,-1,-1,-1,-1,-1,-1,-1,-1,-1,-1,-1,-1,-1,-1,-1,-1,-1,-1,-1,-1,-1,-1,-1,-1,-1,-1,-1,-1,-1,-1,-1,-1,-1,-1,-1,-1,-1,-1,-1,-1,-1,-1,-1,-1,-1,-1,-1,-1,-1,-1,-1]
[null,"Garton",-1,-1,-1,-1,-1,-1,-1,-1,-1,-1,-1,-1,-1,-1,-1,-1,-1,-1,-1,-1,-1,-1,-1,-1,-1,-1,-1,-1,-1,-1,-1,-1,-1,-1,-1,-1,-1,-1,-1,-1,-1,-1,-1,-1,-1,-1,-1,-1,-1,-1,-1,-1,-1,-1,-1,-1,-1,-1,-1,-1]
[null,"Milford Haven",-1,-1,-1,-1,-1,-1,-1,-1,-1,-1,-1,-1,-1,-1,-1,-1,-1,-1,-1,-1,-1,-1,-1,-1,-1,-1,-1,-1,-1,-1,-1,-1,-1,-1,-1,-1,-1,-1,-1,-1,-1,-1,-1,-1,-1,-1,-1,-1,-1,-1,-1,-1,-1,-1,-1,-1,-1,-1,-1,-1]
[null,"Barton Stacey",-1,-1,-1,-1,-1,-1,-1,-1,-1,-1,-1,-1,-1,-1,-1,-1,-1,-1,-1,-1,-1,-1,-1,-1,-1,-1,-1,-1,-1,-1,-1,-1,-1,-1,-1,-1,-1,-1,-1,-1,-1,-1,-1,-1,-1,-1,-1,-1,-1,-1,-1,-1,-1,-1,-1,-1,-1,-1,-1,-1]
[null,"Fleetwood",-1,-1,-1,-1,-1,-1,-1,-1,-1,-1,-1,-1,-1,-1,-1,-1,-1,-1,-1,-1,-1,-1,-1,-1,-1,-1,-1,-1,-1,-1,-1,-1,-1,-1,-1,-1,-1,-1,-1,-1,-1,-1,-1,-1,-1,-1,-1,-1,-1,-1,-1,-1,-1,-1,-1,-1,-1,-1,-1,-1]
[null,"Caythorpe",-1,-1,-1,-1,-1,-1,-1,-1,-1,-1,-1,-1,-1,-1,-1,-1,-1,-1,-1,-1,-1,-1,-1,-1,-1,-1,-1,-1,-1,-1,-1,-1,-1,-1,-1,-1,-1,-1,-1,-1,-1,-1,-1,-1,-1,-1,-1,-1,-1,-1,-1,-1,-1,-1,-1,-1,-1,-1,-1,-1]
[null,"Canonbie",-1,-1,-1,-1,-1,-1,-1,-1,-1,-1,-1,-1,-1,-1,-1,-1,-1,-1,-1,-1,-1,-1,-1,-1,-1,-1,-1,-1,-1,-1,-1,-1,-1,-1,-1,-1,-1,-1,-1,-1,-1,-1,-1,-1,-1,-1,-1,-1,-1,-1,-1,-1,-1,-1,-1,-1,-1,-1,-1,-1]
[null,"Murrow",-1,-1,-1,-1,-1,-1,-1,-1,-1,-1,-1,-1,-1,-1,-1,-1,-1,-1,-1,-1,-1,-1,-1,-1,-1,-1,-1,-1,-1,-1,-1,-1,-1,-1,-1,-1,-1,-1,-1,-1,-1,-1,-1,-1,-1,-1,-1,-1,-1,-1,-1,-1,-1,-1,-1,-1,-1,-1,-1,-1]
[]
[]
[]
[null,"Incremental capacity steps","Bacton","Easington","Theddlethorpe","St. Fergus","Teesside","Barrow","Hatfield Moor (Storage)","Hatfield Moor (Onshore)","Wytch Farm","Burton Point","Hole House Farm","Cheshire","Hornsea","Glenmavis","Partington","Avonmouth","Dynevor Arms","Isle of Grain","Barton Stacey","Garton","Milford Haven","Fleetwood","Caythorpe","Canonbie","Murrow"]
[]
[null,"p1",{"$f":"IF(ROW(C203)-ROW(C$202)>C$68,\"\",(ROW(C203)-ROW(C$202))*C$70*C$69)","v":12.14},{"$f":"IF(ROW(D203)-ROW(D$202)>D$68,\"\",(ROW(D203)-ROW(D$202))*D$70*D$69)","v":35.178750000000001},15.267500000000002,41.767500000000005,11.12725,8.5002499999999994,2.5300000000000002,2.5300000000000002,0.33,7.3500000000000005,14.999999000000001,13.567500000000003,14.999999000000001,9.9,14.996250000000002,15.001433333333335,4.9000000000000004,17.492000000000001,15.000000000000036,10.5,23.75,16.25,9,5,15]
[null,"p2",{"$f":"IF(ROW(C204)-ROW(C$202)>C$68,\"\",(ROW(C204)-ROW(C$202))*C$70*C$69)","v":24.28},70.357500000000002,30.535000000000004,83.535000000000011,22.2545,17.000499999999999,5.0600000000000005,5.0600000000000005,0.66,14.700000000000001,29.999998000000001,27.135000000000005,29.999998000000001,19.8,29.992500000000003,30.002866666666669,9.8000000000000007,34.984000000000002,30.000000000000071,21,47.5,32.5,18,10,30]
[null,"p3",36.420000000000009,105.53625000000002,45.802500000000009,125.30250000000001,33.381750000000004,25.50075,7.5900000000000007,7.5900000000000007,0.98999999999999988,22.05,44.999997,40.702500000000008,44.999997,29.700000000000003,44.988750000000003,45.004300000000008,14.700000000000001,52.475999999999999,45.000000000000099,31.5,71.25,48.75,27,15,45]
[null,"p4",48.56,140.715,61.070000000000007,167.07000000000002,44.509,34.000999999999998,10.120000000000001,10.120000000000001,1.32,29.400000000000002,59.999996000000003,54.27000000000001,59.999996000000003,39.6,59.985000000000007,60.005733333333339,19.600000000000001,69.968000000000004,60.000000000000142,42,95,65,36,20,60]
[null,"p5",60.7,175.89375000000001,76.337500000000006,208.83750000000001,55.636249999999997,42.501249999999999,12.65,12.65,1.6500000000000001,36.75,74.999994999999998,67.837500000000006,74.999995000000013,49.5,74.981250000000003,75.007166666666663,24.5,87.46,75.000000000000185,52.5,118.75,81.25,45,25,75]
[null,"p6",72.840000000000018,211.07250000000005,91.605000000000018,250.60500000000002,66.763500000000008,51.0015,"","","","",89.999994000000001,81.405000000000015,89.999994000000001,"",89.977500000000006,90.008600000000015,"",104.952,90.000000000000199,63,142.5,97.5,"",30,90]
[null,"p7",84.980000000000018,246.25125000000003,106.87250000000002,292.3725,77.890749999999997,59.501749999999994,"","","","",104.999993,94.972500000000025,104.99999300000002,"",104.97375000000001,"","",122.44399999999999,"",73.5,166.25,113.75,"",35,105]
[null,"p8",97.12,281.43,122.14000000000001,334.14000000000004,89.018000000000001,68.001999999999995,"","","","",119.99999200000001,108.54000000000002,119.99999200000001,"",119.97000000000001,"","",139.93600000000001,"",84,190,130,"",40,120]
[null,"p9",109.26000000000002,316.60875000000004,137.4075,375.90750000000003,100.14525,76.502250000000004,"","","","",134.99999099999999,122.10750000000002,"","","","","",157.428,"",94.5,213.75,146.25,"",45,135]
[null,"p10",121.4,351.78750000000002,152.67500000000001,417.67500000000001,111.27249999999999,85.002499999999998,"","","","",149.99999,135.67500000000001,"","","","","",174.92,"",105,237.5,162.5,"",50,150]
[null,"p11",133.54000000000002,386.96625000000006,167.94250000000002,459.44250000000005,122.39975,93.502749999999992,"","","","","",149.24250000000004,"","","","","",192.41200000000001,"",115.5,261.25,178.75,"",55,165]
[null,"p12",145.68000000000004,422.1450000000001,183.21000000000004,501.21000000000004,133.52700000000002,102.003,"",{"$f":"IF(ROW(J214)-ROW(J$202)>J$68,\"\",(ROW(J214)-ROW(J$202))*J$70*J$69)","v":""},"","","",162.81000000000003,"","","","","",209.904,"",126,285,195,"",60,180]
[null,"p13",157.82000000000002,457.32375000000002,198.47750000000002,542.97750000000008,144.65425000000002,110.50325000000001,"","","","","",176.37750000000003,"","","","","",227.39600000000002,"",136.5,308.75,211.25,"",65,195]
[null,"p14",169.96000000000004,492.50250000000005,213.74500000000003,584.745,155.78149999999999,119.00349999999999,"","","","","",189.94500000000005,"","","","","",244.88799999999998,"",147,332.5,227.5,"",70,210]
[null,"p15",182.10000000000002,527.68124999999998,229.01250000000002,626.51250000000005,166.90875,127.50375,"","","","","",203.51250000000005,"","","","","",262.38,"",157.5,356.25,243.75,"",75,225]
[null,"p16",194.24,562.86,244.28000000000003,668.28000000000009,178.036,136.00399999999999,"","","","","",217.08000000000004,"","","","","",279.87200000000001,"",168,380,260,"",80,240]
[null,"p17",206.38000000000002,598.03875000000005,259.54750000000007,710.04750000000013,189.16325000000001,144.50425000000001,"","","","","",230.64750000000004,"","","","","",297.36399999999998,"",178.5,403.75,276.25,"",85,255]
[null,"p18",218.52000000000004,633.21750000000009,274.815,751.81500000000005,200.29050000000001,153.00450000000001,"","","","","",244.21500000000003,"","","","","",314.85599999999999,"",189,427.5,292.5,"",90,270]
[null,"p19",230.66,668.39625000000012,290.08250000000004,793.58249999999998,211.41774999999998,161.50475,"","","","","",257.78250000000003,"","","","","",332.34799999999996,"",199.5,451.25,308.75,"",95,285]
[null,"p20",242.8,703.57500000000005,305.35000000000002,835.35,222.54499999999999,170.005,"","","","","",271.35000000000002,"","","","","",349.84,"",210,475,325,"",100,300]

{"sheet":"Auction Result","index":1,"n_rows":734,"n_cols":62,"rows_kept":734,"cut":false,"hidden":false,"merged":[]}
["Auction Result"]
[]
["Auction Identifier","ENTRY CAPACITY FIRM PRIMARY"]
[]
[]
[]
[]
["Bacton"]
[]
["Quarter",null,{"$f":"First_quarter","v":"2020-10-01"},{"$f":"DATE(YEAR(C11),MONTH(C11)+1,1)","v":"2021-01-01"},{"$f":"DATE(YEAR(D11),MONTH(D11)+1,1)","v":"2021-04-01"},{"$f":"DATE(YEAR(E11),MONTH(E11)+1,1)","v":"2021-07-01"},{"$f":"DATE(YEAR(F11),MONTH(F11)+1,1)","v":"2021-10-01"},{"$f":"DATE(YEAR(G11),MONTH(G11)+1,1)","v":"2022-01-01"},{"$f":"DATE(YEAR(H11),MONTH(H11)+1,1)","v":"2022-04-01"},{"$f":"DATE(YEAR(I11),MONTH(I11)+1,1)","v":"2022-07-01"},{"$f":"DATE(YEAR(J11),MONTH(J11)+1,1)","v":"2022-10-01"},{"$f":"DATE(YEAR(K11),MONTH(K11)+1,1)","v":"2023-01-01"},{"$f":"DATE(YEAR(L11),MONTH(L11)+1,1)","v":"2023-04-01"},{"$f":"DATE(YEAR(M11),MONTH(M11)+1,1)","v":"2023-07-01"},{"$f":"DATE(YEAR(N11),MONTH(N11)+1,1)","v":"2023-10-01"},{"$f":"DATE(YEAR(O11),MONTH(O11)+1,1)","v":"2024-01-01"},{"$f":"DATE(YEAR(P11),MONTH(P11)+1,1)","v":"2024-04-01"},{"$f":"DATE(YEAR(Q11),MONTH(Q11)+1,1)","v":"2024-07-01"},{"$f":"DATE(YEAR(R11),MONTH(R11)+1,1)","v":"2024-10-01"},{"$f":"DATE(YEAR(S11),MONTH(S11)+1,1)","v":"2025-01-01"},{"$f":"DATE(YEAR(T11),MONTH(T11)+1,1)","v":"2025-04-01"},{"$f":"DATE(YEAR(U11),MONTH(U11)+1,1)","v":"2025-07-01"},{"$f":"DATE(YEAR(V11),MONTH(V11)+1,1)","v":"2025-10-01"},{"$f":"DATE(YEAR(W11),MONTH(W11)+1,1)","v":"2026-01-01"},{"$f":"DATE(YEAR(X11),MONTH(X11)+1,1)","v":"2026-04-01"},{"$f":"DATE(YEAR(Y11),MONTH(Y11)+1,1)","v":"2026-07-01"},{"$f":"DATE(YEAR(Z11),MONTH(Z11)+1,1)","v":"2026-10-01"},{"$f":"DATE(YEAR(AA11),MONTH(AA11)+1,1)","v":"2027-01-01"},{"$f":"DATE(YEAR(AB11),MONTH(AB11)+1,1)","v":"2027-04-01"},{"$f":"DATE(YEAR(AC11),MONTH(AC11)+1,1)","v":"2027-07-01"},{"$f":"DATE(YEAR(AD11),MONTH(AD11)+1,1)","v":"2027-10-01"},{"$f":"DATE(YEAR(AE11),MONTH(AE11)+1,1)","v":"2028-01-01"},{"$f":"DATE(YEAR(AF11),MONTH(AF11)+1,1)","v":"2028-04-01"},{"$f":"DATE(YEAR(AG11),MONTH(AG11)+1,1)","v":"2028-07-01"},{"$f":"DATE(YEAR(AH11),MONTH(AH11)+1,1)","v":"2028-10-01"},{"$f":"DATE(YEAR(AI11),MONTH(AI11)+1,1)","v":"2029-01-01"},{"$f":"DATE(YEAR(AJ11),MONTH(AJ11)+1,1)","v":"2029-04-01"},{"$f":"DATE(YEAR(AK11),MONTH(AK11)+1,1)","v":"2029-07-01"},{"$f":"DATE(YEAR(AL11),MONTH(AL11)+1,1)","v":"2029-10-01"},{"$f":"DATE(YEAR(AM11),MONTH(AM11)+1,1)","v":"2030-01-01"},{"$f":"DATE(YEAR(AN11),MONTH(AN11)+1,1)","v":"2030-04-01"},{"$f":"DATE(YEAR(AO11),MONTH(AO11)+1,1)","v":"2030-07-01"},{"$f":"DATE(YEAR(AP11),MONTH(AP11)+1,1)","v":"2030-10-01"},{"$f":"DATE(YEAR(AQ11),MONTH(AQ11)+1,1)","v":"2031-01-01"},{"$f":"DATE(YEAR(AR11),MONTH(AR11)+1,1)","v":"2031-04-01"},{"$f":"DATE(YEAR(AS11),MONTH(AS11)+1,1)","v":"2031-07-01"},{"$f":"DATE(YEAR(AT11),MONTH(AT11)+1,1)","v":"2031-10-01"},{"$f":"DATE(YEAR(AU11),MONTH(AU11)+1,1)","v":"2032-01-01"},{"$f":"DATE(YEAR(AV11),MONTH(AV11)+1,1)","v":"2032-04-01"},{"$f":"DATE(YEAR(AW11),MONTH(AW11)+1,1)","v":"2032-07-01"},{"$f":"DATE(YEAR(AX11),MONTH(AX11)+1,1)","v":"2032-10-01"},{"$f":"DATE(YEAR(AY11),MONTH(AY11)+1,1)","v":"2033-01-01"},{"$f":"DATE(YEAR(AZ11),MONTH(AZ11)+1,1)","v":"2033-04-01"},{"$f":"DATE(YEAR(BA11),MONTH(BA11)+1,1)","v":"2033-07-01"},{"$f":"DATE(YEAR(BB11),MONTH(BB11)+1,1)","v":"2033-10-01"},{"$f":"DATE(YEAR(BC11),MONTH(BC11)+1,1)","v":"2034-01-01"},{"$f":"DATE(YEAR(BD11),MONTH(BD11)+1,1)","v":"2034-04-01"},{"$f":"DATE(YEAR(BE11),MONTH(BE11)+1,1)","v":"2034-07-01"},{"$f":"DATE(YEAR(BF11),MONTH(BF11)+1,1)","v":"2034-10-01"},{"$f":"DATE(YEAR(BG11),MONTH(BG11)+1,1)","v":"2035-01-01"},{"$f":"DATE(YEAR(BH11),MONTH(BH11)+1,1)","v":"2035-04-01"},{"$f":"DATE(YEAR(BI11),MONTH(BI11)+1,1)","v":"2035-07-01"}]
[null,null,{"$f":"DATE(YEAR(C10),MONTH(C10)+2,1)","v":"2020-12-01"},"2021-03-01","2021-06-01","2021-09-01","2021-12-01","2022-03-01","2022-06-01","2022-09-01","2022-12-01","2023-03-01","2023-06-01","2023-09-01","2023-12-01","2024-03-01","2024-06-01","2024-09-01","2024-12-01","2025-03-01","2025-06-01","2025-09-01","2025-12-01","2026-03-01","2026-06-01","2026-09-01","2026-12-01","2027-03-01","2027-06-01","2027-09-01","2027-12-01","2028-03-01","2028-06-01","2028-09-01","2028-12-01","2029-03-01","2029-06-01","2029-09-01","2029-12-01","2030-03-01","2030-06-01","2030-09-01","2030-12-01","2031-03-01","2031-06-01","2031-09-01","2031-12-01","2032-03-01","2032-06-01","2032-09-01","2032-12-01","2033-03-01","2033-06-01","2033-09-01","2033-12-01","2034-03-01","2034-06-01","2034-09-01","2034-12-01","2035-03-01","2035-06-01","2035-09-01"]
["Quantity bid (GWh/day)"]
[]
["Base",null,0,0,0,0,0,0,0,0,0,0,0,0,0,0,0,0,0,0,0,0,0,0,0,0,0,0,0,0,0,0,0,0,0,0,0,0,0,0,0,0,0,0,0,0,0,0,0,0,0,0,0,0,0,0,0,0,0,0,0,0]
[null,"Step 1",0,0,0,0,0,0,0,0,0,0,0,0,0,0,0,0,0,0,0,0,0,0,0,0,0,0,0,0,0,0,0,0,0,0,0,0,0,0,0,0,0,0,0,0,0,0,0,0,0,0,0,0,0,0,0,0,0,0,0,0]
[null,"Step 2",0,0,0,0,0,0,0,0,0,0,0,0,0,0,0,0,0,0,0,0,0,0,0,0,0,0,0,0,0,0,0,0,0,0,0,0,0,0,0,0,0,0,0,0,0,0,0,0,0,0,0,0,0,0,0,0,0,0,0,0]
[null,"Step 3",0,0,0,0,0,0,0,0,0,0,0,0,0,0,0,0,0,0,0,0,0,0,0,0,0,0,0,0,0,0,0,0,0,0,0,0,0,0,0,0,0,0,0,0,0,0,0,0,0,0,0,0,0,0,0,0,0,0,0,0]
[null,"Step 4",0,0,0,0,0,0,0,0,0,0,0,0,0,0,0,0,0,0,0,0,0,0,0,0,0,0,0,0,0,0,0,0,0,0,0,0,0,0,0,0,0,0,0,0,0,0,0,0,0,0,0,0,0,0,0,0,0,0,0,0]
[null,"Step 5",0,0,0,0,0,0,0,0,0,0,0,0,0,0,0,0,0,0,0,0,0,0,0,0,0,0,0,0,0,0,0,0,0,0,0,0,0,0,0,0,0,0,0,0,0,0,0,0,0,0,0,0,0,0,0,0,0,0,0,0]
[null,"Step 6",0,0,0,0,0,0,0,0,0,0,0,0,0,0,0,0,0,0,0,0,0,0,0,0,0,0,0,0,0,0,0,0,0,0,0,0,0,0,0,0,0,0,0,0,0,0,0,0,0,0,0,0,0,0,0,0,0,0,0,0]
[null,"Step 7",0,0,0,0,0,0,0,0,0,0,0,0,0,0,0,0,0,0,0,0,0,0,0,0,0,0,0,0,0,0,0,0,0,0,0,0,0,0,0,0,0,0,0,0,0,0,0,0,0,0,0,0,0,0,0,0,0,0,0,0]
[null,"Step 8",0,0,0,0,0,0,0,0,0,0,0,0,0,0,0,0,0,0,0,0,0,0,0,0,0,0,0,0,0,0,0,0,0,0,0,0,0,0,0,0,0,0,0,0,0,0,0,0,0,0,0,0,0,0,0,0,0,0,0,0]
[null,"Step 9",0,0,0,0,0,0,0,0,0,0,0,0,0,0,0,0,0,0,0,0,0,0,0,0,0,0,0,0,0,0,0,0,0,0,0,0,0,0,0,0,0,0,0,0,0,0,0,0,0,0,0,0,0,0,0,0,0,0,0,0]
[null,"Step 10",0,0,0,0,0,0,0,0,0,0,0,0,0,0,0,0,0,0,0,0,0,0,0,0,0,0,0,0,0,0,0,0,0,0,0,0,0,0,0,0,0,0,0,0,0,0,0,0,0,0,0,0,0,0,0,0,0,0,0,0]
[null,"Step 11",0,0,0,0,0,0,0,0,0,0,0,0,0,0,0,0,0,0,0,0,0,0,0,0,0,0,0,0,0,0,0,0,0,0,0,0,0,0,0,0,0,0,0,0,0,0,0,0,0,0,0,0,0,0,0,0,0,0,0,0]
[null,"Step 12",0,0,0,0,0,0,0,0,0,0,0,0,0,0,0,0,0,0,0,0,0,0,0,0,0,0,0,0,0,0,0,0,0,0,0,0,0,0,0,0,0,0,0,0,0,0,0,0,0,0,0,0,0,0,0,0,0,0,0,0]
[null,"Step 13",0,0,0,0,0,0,0,0,0,0,0,0,0,0,0,0,0,0,0,0,0,0,0,0,0,0,0,0,0,0,0,0,0,0,0,0,0,0,0,0,0,0,0,0,0,0,0,0,0,0,0,0,0,0,0,0,0,0,0,0]
[null,"Step 14",0,0,0,0,0,0,0,0,0,0,0,0,0,0,0,0,0,0,0,0,0,0,0,0,0,0,0,0,0,0,0,0,0,0,0,0,0,0,0,0,0,0,0,0,0,0,0,0,0,0,0,0,0,0,0,0,0,0,0,0]
[null,"Step 15",0,0,0,0,0,0,0,0,0,0,0,0,0,0,0,0,0,0,0,0,0,0,0,0,0,0,0,0,0,0,0,0,0,0,0,0,0,0,0,0,0,0,0,0,0,0,0,0,0,0,0,0,0,0,0,0,0,0,0,0]
[null,"Step 16",0,0,0,0,0,0,0,0,0,0,0,0,0,0,0,0,0,0,0,0,0,0,0,0,0,0,0,0,0,0,0,0,0,0,0,0,0,0,0,0,0,0,0,0,0,0,0,0,0,0,0,0,0,0,0,0,0,0,0,0]
[null,"Step 17",0,0,0,0,0,0,0,0,0,0,0,0,0,0,0,0,0,0,0,0,0,0,0,0,0,0,0,0,0,0,0,0,0,0,0,0,0,0,0,0,0,0,0,0,0,0,0,0,0,0,0,0,0,0,0,0,0,0,0,0]
[null,"Step 18",0,0,0,0,0,0,0,0,0,0,0,0,0,0,0,0,0,0,0,0,0,0,0,0,0,0,0,0,0,0,0,0,0,0,0,0,0,0,0,0,0,0,0,0,0,0,0,0,0,0,0,0,0,0,0,0,0,0,0,0]
[null,"Step 19",0,0,0,0,0,0,0,0,0,0,0,0,0,0,0,0,0,0,0,0,0,0,0,0,0,0,0,0,0,0,0,0,0,0,0,0,0,0,0,0,0,0,0,0,0,0,0,0,0,0,0,0,0,0,0,0,0,0,0,0]
[null,"Step 20",0,0,0,0,0,0,0,0,0,0,0,0,0,0,0,0,0,0,0,0,0,0,0,0,0,0,0,0,0,0,0,0,0,0,0,0,0,0,0,0,0,0,0,0,0,0,0,0,0,0,0,0,0,0,0,0,0,0,0,0]
[]
["Easington"]
[]
["Quarter",null,{"$f":"First_quarter","v":"2020-10-01"},{"$f":"DATE(YEAR(C39),MONTH(C39)+1,1)","v":"2021-01-01"},{"$f":"DATE(YEAR(D39),MONTH(D39)+1,1)","v":"2021-04-01"},{"$f":"DATE(YEAR(E39),MONTH(E39)+1,1)","v":"2021-07-01"},{"$f":"DATE(YEAR(F39),MONTH(F39)+1,1)","v":"2021-10-01"},{"$f":"DATE(YEAR(G39),MONTH(G39)+1,1)","v":"2022-01-01"},{"$f":"DATE(YEAR(H39),MONTH(H39)+1,1)","v":"2022-04-01"},{"$f":"DATE(YEAR(I39),MONTH(I39)+1,1)","v":"2022-07-01"},{"$f":"DATE(YEAR(J39),MONTH(J39)+1,1)","v":"2022-10-01"},{"$f":"DATE(YEAR(K39),MONTH(K39)+1,1)","v":"2023-01-01"},{"$f":"DATE(YEAR(L39),MONTH(L39)+1,1)","v":"2023-04-01"},{"$f":"DATE(YEAR(M39),MONTH(M39)+1,1)","v":"2023-07-01"},{"$f":"DATE(YEAR(N39),MONTH(N39)+1,1)","v":"2023-10-01"},{"$f":"DATE(YEAR(O39),MONTH(O39)+1,1)","v":"2024-01-01"},{"$f":"DATE(YEAR(P39),MONTH(P39)+1,1)","v":"2024-04-01"},{"$f":"DATE(YEAR(Q39),MONTH(Q39)+1,1)","v":"2024-07-01"},{"$f":"DATE(YEAR(R39),MONTH(R39)+1,1)","v":"2024-10-01"},{"$f":"DATE(YEAR(S39),MONTH(S39)+1,1)","v":"2025-01-01"},{"$f":"DATE(YEAR(T39),MONTH(T39)+1,1)","v":"2025-04-01"},{"$f":"DATE(YEAR(U39),MONTH(U39)+1,1)","v":"2025-07-01"},{"$f":"DATE(YEAR(V39),MONTH(V39)+1,1)","v":"2025-10-01"},{"$f":"DATE(YEAR(W39),MONTH(W39)+1,1)","v":"2026-01-01"},{"$f":"DATE(YEAR(X39),MONTH(X39)+1,1)","v":"2026-04-01"},{"$f":"DATE(YEAR(Y39),MONTH(Y39)+1,1)","v":"2026-07-01"},{"$f":"DATE(YEAR(Z39),MONTH(Z39)+1,1)","v":"2026-10-01"},{"$f":"DATE(YEAR(AA39),MONTH(AA39)+1,1)","v":"2027-01-01"},{"$f":"DATE(YEAR(AB39),MONTH(AB39)+1,1)","v":"2027-04-01"},{"$f":"DATE(YEAR(AC39),MONTH(AC39)+1,1)","v":"2027-07-01"},{"$f":"DATE(YEAR(AD39),MONTH(AD39)+1,1)","v":"2027-10-01"},{"$f":"DATE(YEAR(AE39),MONTH(AE39)+1,1)","v":"2028-01-01"},{"$f":"DATE(YEAR(AF39),MONTH(AF39)+1,1)","v":"2028-04-01"},{"$f":"DATE(YEAR(AG39),MONTH(AG39)+1,1)","v":"2028-07-01"},{"$f":"DATE(YEAR(AH39),MONTH(AH39)+1,1)","v":"2028-10-01"},{"$f":"DATE(YEAR(AI39),MONTH(AI39)+1,1)","v":"2029-01-01"},{"$f":"DATE(YEAR(AJ39),MONTH(AJ39)+1,1)","v":"2029-04-01"},{"$f":"DATE(YEAR(AK39),MONTH(AK39)+1,1)","v":"2029-07-01"},{"$f":"DATE(YEAR(AL39),MONTH(AL39)+1,1)","v":"2029-10-01"},{"$f":"DATE(YEAR(AM39),MONTH(AM39)+1,1)","v":"2030-01-01"},{"$f":"DATE(YEAR(AN39),MONTH(AN39)+1,1)","v":"2030-04-01"},{"$f":"DATE(YEAR(AO39),MONTH(AO39)+1,1)","v":"2030-07-01"},{"$f":"DATE(YEAR(AP39),MONTH(AP39)+1,1)","v":"2030-10-01"},{"$f":"DATE(YEAR(AQ39),MONTH(AQ39)+1,1)","v":"2031-01-01"},{"$f":"DATE(YEAR(AR39),MONTH(AR39)+1,1)","v":"2031-04-01"},{"$f":"DATE(YEAR(AS39),MONTH(AS39)+1,1)","v":"2031-07-01"},{"$f":"DATE(YEAR(AT39),MONTH(AT39)+1,1)","v":"2031-10-01"},{"$f":"DATE(YEAR(AU39),MONTH(AU39)+1,1)","v":"2032-01-01"},{"$f":"DATE(YEAR(AV39),MONTH(AV39)+1,1)","v":"2032-04-01"},{"$f":"DATE(YEAR(AW39),MONTH(AW39)+1,1)","v":"2032-07-01"},{"$f":"DATE(YEAR(AX39),MONTH(AX39)+1,1)","v":"2032-10-01"},{"$f":"DATE(YEAR(AY39),MONTH(AY39)+1,1)","v":"2033-01-01"},{"$f":"DATE(YEAR(AZ39),MONTH(AZ39)+1,1)","v":"2033-04-01"},{"$f":"DATE(YEAR(BA39),MONTH(BA39)+1,1)","v":"2033-07-01"},{"$f":"DATE(YEAR(BB39),MONTH(BB39)+1,1)","v":"2033-10-01"},{"$f":"DATE(YEAR(BC39),MONTH(BC39)+1,1)","v":"2034-01-01"},{"$f":"DATE(YEAR(BD39),MONTH(BD39)+1,1)","v":"2034-04-01"},{"$f":"DATE(YEAR(BE39),MONTH(BE39)+1,1)","v":"2034-07-01"},{"$f":"DATE(YEAR(BF39),MONTH(BF39)+1,1)","v":"2034-10-01"},{"$f":"DATE(YEAR(BG39),MONTH(BG39)+1,1)","v":"2035-01-01"},{"$f":"DATE(YEAR(BH39),MONTH(BH39)+1,1)","v":"2035-04-01"},{"$f":"DATE(YEAR(BI39),MONTH(BI39)+1,1)","v":"2035-07-01"}]
[null,null,{"$f":"DATE(YEAR(C38),MONTH(C38)+2,1)","v":"2020-12-01"},"2021-03-01","2021-06-01","2021-09-01","2021-12-01","2022-03-01","2022-06-01","2022-09-01","2022-12-01","2023-03-01","2023-06-01","2023-09-01","2023-12-01","2024-03-01","2024-06-01","2024-09-01","2024-12-01","2025-03-01","2025-06-01","2025-09-01","2025-12-01","2026-03-01","2026-06-01","2026-09-01","2026-12-01","2027-03-01","2027-06-01","2027-09-01","2027-12-01","2028-03-01","2028-06-01","2028-09-01","2028-12-01","2029-03-01","2029-06-01","2029-09-01","2029-12-01","2030-03-01","2030-06-01","2030-09-01","2030-12-01","2031-03-01","2031-06-01","2031-09-01","2031-12-01","2032-03-01","2032-06-01","2032-09-01","2032-12-01","2033-03-01","2033-06-01","2033-09-01","2033-12-01","2034-03-01","2034-06-01","2034-09-01","2034-12-01","2035-03-01","2035-06-01","2035-09-01"]
["Quantity bid (GWh/day)"]
[]
["Base",null,0,0,0,0,0,0,0,0,0,0,0,0,0,0,0,0,0,0,0,0,0,0,0,0,0,0,0,0,0,0,0,0,0,0,0,0,0,0,0,0,0,0,0,0,0,0,0,0,0,0,0,0,0,0,0,0,0,0,0,0]
[null,"Step 1",0,0,0,0,0,0,0,0,0,0,0,0,0,0,0,0,0,0,0,0,0,0,0,0,0,0,0,0,0,0,0,0,0,0,0,0,0,0,0,0,0,0,0,0,0,0,0,0,0,0,0,0,0,0,0,0,0,0,0,0]
[null,"Step 2",0,0,0,0,0,0,0,0,0,0,0,0,0,0,0,0,0,0,0,0,0,0,0,0,0,0,0,0,0,0,0,0,0,0,0,0,0,0,0,0,0,0,0,0,0,0,0,0,0,0,0,0,0,0,0,0,0,0,0,0]
[null,"Step 3",0,0,0,0,0,0,0,0,0,0,0,0,0,0,0,0,0,0,0,0,0,0,0,0,0,0,0,0,0,0,0,0,0,0,0,0,0,0,0,0,0,0,0,0,0,0,0,0,0,0,0,0,0,0,0,0,0,0,0,0]
[null,"Step 4",0,0,0,0,0,0,0,0,0,0,0,0,0,0,0,0,0,0,0,0,0,0,0,0,0,0,0,0,0,0,0,0,0,0,0,0,0,0,0,0,0,0,0,0,0,0,0,0,0,0,0,0,0,0,0,0,0,0,0,0]
[null,"Step 5",0,0,0,0,0,0,0,0,0,0,0,0,0,0,0,0,0,0,0,0,0,0,0,0,0,0,0,0,0,0,0,0,0,0,0,0,0,0,0,0,0,0,0,0,0,0,0,0,0,0,0,0,0,0,0,0,0,0,0,0]
[null,"Step 6",0,0,0,0,0,0,0,0,0,0,0,0,0,0,0,0,0,0,0,0,0,0,0,0,0,0,0,0,0,0,0,0,0,0,0,0,0,0,0,0,0,0,0,0,0,0,0,0,0,0,0,0,0,0,0,0,0,0,0,0]
[null,"Step 7",0,0,0,0,0,0,0,0,0,0,0,0,0,0,0,0,0,0,0,0,0,0,0,0,0,0,0,0,0,0,0,0,0,0,0,0,0,0,0,0,0,0,0,0,0,0,0,0,0,0,0,0,0,0,0,0,0,0,0,0]
[null,"Step 8",0,0,0,0,0,0,0,0,0,0,0,0,0,0,0,0,0,0,0,0,0,0,0,0,0,0,0,0,0,0,0,0,0,0,0,0,0,0,0,0,0,0,0,0,0,0,0,0,0,0,0,0,0,0,0,0,0,0,0,0]
[null,"Step 9",0,0,0,0,0,0,0,0,0,0,0,0,0,0,0,0,0,0,0,0,0,0,0,0,0,0,0,0,0,0,0,0,0,0,0,0,0,0,0,0,0,0,0,0,0,0,0,0,0,0,0,0,0,0,0,0,0,0,0,0]
[null,"Step 10",0,0,0,0,0,0,0,0,0,0,0,0,0,0,0,0,0,0,0,0,0,0,0,0,0,0,0,0,0,0,0,0,0,0,0,0,0,0,0,0,0,0,0,0,0,0,0,0,0,0,0,0,0,0,0,0,0,0,0,0]
[null,"Step 11",0,0,0,0,0,0,0,0,0,0,0,0,0,0,0,0,0,0,0,0,0,0,0,0,0,0,0,0,0,0,0,0,0,0,0,0,0,0,0,0,0,0,0,0,0,0,0,0,0,0,0,0,0,0,0,0,0,0,0,0]
[null,"Step 12",0,0,0,0,0,0,0,0,0,0,0,0,0,0,0,0,0,0,0,0,0,0,0,0,0,0,0,0,0,0,0,0,0,0,0,0,0,0,0,0,0,0,0,0,0,0,0,0,0,0,0,0,0,0,0,0,0,0,0,0]
[null,"Step 13",0,0,0,0,0,0,0,0,0,0,0,0,0,0,0,0,0,0,0,0,0,0,0,0,0,0,0,0,0,0,0,0,0,0,0,0,0,0,0,0,0,0,0,0,0,0,0,0,0,0,0,0,0,0,0,0,0,0,0,0]
[null,"Step 14",0,0,0,0,0,0,0,0,0,0,0,0,0,0,0,0,0,0,0,0,0,0,0,0,0,0,0,0,0,0,0,0,0,0,0,0,0,0,0,0,0,0,0,0,0,0,0,0,0,0,0,0,0,0,0,0,0,0,0,0]
[null,"Step 15",0,0,0,0,0,0,0,0,0,0,0,0,0,0,0,0,0,0,0,0,0,0,0,0,0,0,0,0,0,0,0,0,0,0,0,0,0,0,0,0,0,0,0,0,0,0,0,0,0,0,0,0,0,0,0,0,0,0,0,0]
[null,"Step 16",0,0,0,0,0,0,0,0,0,0,0,0,0,0,0,0,0,0,0,0,0,0,0,0,0,0,0,0,0,0,0,0,0,0,0,0,0,0,0,0,0,0,0,0,0,0,0,0,0,0,0,0,0,0,0,0,0,0,0,0]
[null,"Step 17",0,0,0,0,0,0,0,0,0,0,0,0,0,0,0,0,0,0,0,0,0,0,0,0,0,0,0,0,0,0,0,0,0,0,0,0,0,0,0,0,0,0,0,0,0,0,0,0,0,0,0,0,0,0,0,0,0,0,0,0]
[null,"Step 18",0,0,0,0,0,0,0,0,0,0,0,0,0,0,0,0,0,0,0,0,0,0,0,0,0,0,0,0,0,0,0,0,0,0,0,0,0,0,0,0,0,0,0,0,0,0,0,0,0,0,0,0,0,0,0,0,0,0,0,0]
[null,"Step 19",0,0,0,0,0,0,0,0,0,0,0,0,0,0,0,0,0,0,0,0,0,0,0,0,0,0,0,0,0,0,0,0,0,0,0,0,0,0,0,0,0,0,0,0,0,0,0,0,0,0,0,0,0,0,0,0,0,0,0,0]
[null,"Step 20",0,0,0,0,0,0,0,0,0,0,0,0,0,0,0,0,0,0,0,0,0,0,0,0,0,0,0,0,0,0,0,0,0,0,0,0,0,0,0,0,0,0,0,0,0,0,0,0,0,0,0,0,0,0,0,0,0,0,0,0]
[]
["Theddlethorpe"]
[]
["Quarter",null,{"$f":"First_quarter","v":"2020-10-01"},{"$f":"DATE(YEAR(C67),MONTH(C67)+1,1)","v":"2021-01-01"},{"$f":"DATE(YEAR(D67),MONTH(D67)+1,1)","v":"2021-04-01"},{"$f":"DATE(YEAR(E67),MONTH(E67)+1,1)","v":"2021-07-01"},{"$f":"DATE(YEAR(F67),MONTH(F67)+1,1)","v":"2021-10-01"},{"$f":"DATE(YEAR(G67),MONTH(G67)+1,1)","v":"2022-01-01"},{"$f":"DATE(YEAR(H67),MONTH(H67)+1,1)","v":"2022-04-01"},{"$f":"DATE(YEAR(I67),MONTH(I67)+1,1)","v":"2022-07-01"},{"$f":"DATE(YEAR(J67),MONTH(J67)+1,1)","v":"2022-10-01"},{"$f":"DATE(YEAR(K67),MONTH(K67)+1,1)","v":"2023-01-01"},{"$f":"DATE(YEAR(L67),MONTH(L67)+1,1)","v":"2023-04-01"},{"$f":"DATE(YEAR(M67),MONTH(M67)+1,1)","v":"2023-07-01"},{"$f":"DATE(YEAR(N67),MONTH(N67)+1,1)","v":"2023-10-01"},{"$f":"DATE(YEAR(O67),MONTH(O67)+1,1)","v":"2024-01-01"},{"$f":"DATE(YEAR(P67),MONTH(P67)+1,1)","v":"2024-04-01"},{"$f":"DATE(YEAR(Q67),MONTH(Q67)+1,1)","v":"2024-07-01"},{"$f":"DATE(YEAR(R67),MONTH(R67)+1,1)","v":"2024-10-01"},{"$f":"DATE(YEAR(S67),MONTH(S67)+1,1)","v":"2025-01-01"},{"$f":"DATE(YEAR(T67),MONTH(T67)+1,1)","v":"2025-04-01"},{"$f":"DATE(YEAR(U67),MONTH(U67)+1,1)","v":"2025-07-01"},{"$f":"DATE(YEAR(V67),MONTH(V67)+1,1)","v":"2025-10-01"},{"$f":"DATE(YEAR(W67),MONTH(W67)+1,1)","v":"2026-01-01"},{"$f":"DATE(YEAR(X67),MONTH(X67)+1,1)","v":"2026-04-01"},{"$f":"DATE(YEAR(Y67),MONTH(Y67)+1,1)","v":"2026-07-01"},{"$f":"DATE(YEAR(Z67),MONTH(Z67)+1,1)","v":"2026-10-01"},{"$f":"DATE(YEAR(AA67),MONTH(AA67)+1,1)","v":"2027-01-01"},{"$f":"DATE(YEAR(AB67),MONTH(AB67)+1,1)","v":"2027-04-01"},{"$f":"DATE(YEAR(AC67),MONTH(AC67)+1,1)","v":"2027-07-01"},{"$f":"DATE(YEAR(AD67),MONTH(AD67)+1,1)","v":"2027-10-01"},{"$f":"DATE(YEAR(AE67),MONTH(AE67)+1,1)","v":"2028-01-01"},{"$f":"DATE(YEAR(AF67),MONTH(AF67)+1,1)","v":"2028-04-01"},{"$f":"DATE(YEAR(AG67),MONTH(AG67)+1,1)","v":"2028-07-01"},{"$f":"DATE(YEAR(AH67),MONTH(AH67)+1,1)","v":"2028-10-01"},{"$f":"DATE(YEAR(AI67),MONTH(AI67)+1,1)","v":"2029-01-01"},{"$f":"DATE(YEAR(AJ67),MONTH(AJ67)+1,1)","v":"2029-04-01"},{"$f":"DATE(YEAR(AK67),MONTH(AK67)+1,1)","v":"2029-07-01"},{"$f":"DATE(YEAR(AL67),MONTH(AL67)+1,1)","v":"2029-10-01"},{"$f":"DATE(YEAR(AM67),MONTH(AM67)+1,1)","v":"2030-01-01"},{"$f":"DATE(YEAR(AN67),MONTH(AN67)+1,1)","v":"2030-04-01"},{"$f":"DATE(YEAR(AO67),MONTH(AO67)+1,1)","v":"2030-07-01"},{"$f":"DATE(YEAR(AP67),MONTH(AP67)+1,1)","v":"2030-10-01"},{"$f":"DATE(YEAR(AQ67),MONTH(AQ67)+1,1)","v":"2031-01-01"},{"$f":"DATE(YEAR(AR67),MONTH(AR67)+1,1)","v":"2031-04-01"},{"$f":"DATE(YEAR(AS67),MONTH(AS67)+1,1)","v":"2031-07-01"},{"$f":"DATE(YEAR(AT67),MONTH(AT67)+1,1)","v":"2031-10-01"},{"$f":"DATE(YEAR(AU67),MONTH(AU67)+1,1)","v":"2032-01-01"},{"$f":"DATE(YEAR(AV67),MONTH(AV67)+1,1)","v":"2032-04-01"},{"$f":"DATE(YEAR(AW67),MONTH(AW67)+1,1)","v":"2032-07-01"},{"$f":"DATE(YEAR(AX67),MONTH(AX67)+1,1)","v":"2032-10-01"},{"$f":"DATE(YEAR(AY67),MONTH(AY67)+1,1)","v":"2033-01-01"},{"$f":"DATE(YEAR(AZ67),MONTH(AZ67)+1,1)","v":"2033-04-01"},{"$f":"DATE(YEAR(BA67),MONTH(BA67)+1,1)","v":"2033-07-01"},{"$f":"DATE(YEAR(BB67),MONTH(BB67)+1,1)","v":"2033-10-01"},{"$f":"DATE(YEAR(BC67),MONTH(BC67)+1,1)","v":"2034-01-01"},{"$f":"DATE(YEAR(BD67),MONTH(BD67)+1,1)","v":"2034-04-01"},{"$f":"DATE(YEAR(BE67),MONTH(BE67)+1,1)","v":"2034-07-01"},{"$f":"DATE(YEAR(BF67),MONTH(BF67)+1,1)","v":"2034-10-01"},{"$f":"DATE(YEAR(BG67),MONTH(BG67)+1,1)","v":"2035-01-01"},{"$f":"DATE(YEAR(BH67),MONTH(BH67)+1,1)","v":"2035-04-01"},{"$f":"DATE(YEAR(BI67),MONTH(BI67)+1,1)","v":"2035-07-01"}]
[null,null,{"$f":"DATE(YEAR(C66),MONTH(C66)+2,1)","v":"2020-12-01"},"2021-03-01","2021-06-01","2021-09-01","2021-12-01","2022-03-01","2022-06-01","2022-09-01","2022-12-01","2023-03-01","2023-06-01","2023-09-01","2023-12-01","2024-03-01","2024-06-01","2024-09-01","2024-12-01","2025-03-01","2025-06-01","2025-09-01","2025-12-01","2026-03-01","2026-06-01","2026-09-01","2026-12-01","2027-03-01","2027-06-01","2027-09-01","2027-12-01","2028-03-01","2028-06-01","2028-09-01","2028-12-01","2029-03-01","2029-06-01","2029-09-01","2029-12-01","2030-03-01","2030-06-01","2030-09-01","2030-12-01","2031-03-01","2031-06-01","2031-09-01","2031-12-01","2032-03-01","2032-06-01","2032-09-01","2032-12-01","2033-03-01","2033-06-01","2033-09-01","2033-12-01","2034-03-01","2034-06-01","2034-09-01","2034-12-01","2035-03-01","2035-06-01","2035-09-01"]
["Quantity bid (GWh/day)"]
[]
["Base",null,0,0,0,0,0,0,0,0,0,0,0,0,0,0,0,0,0,0,0,0,0,0,0,0,0,0,0,0,0,0,0,0,0,0,0,0,0,0,0,0,0,0,0,0,0,0,0,0,0,0,0,0,0,0,0,0,0,0,0,0]
[null,"Step 1",0,0,0,0,0,0,0,0,0,0,0,0,0,0,0,0,0,0,0,0,0,0,0,0,0,0,0,0,0,0,0,0,0,0,0,0,0,0,0,0,0,0,0,0,0,0,0,0,0,0,0,0,0,0,0,0,0,0,0,0]
[null,"Step 2",0,0,0,0,0,0,0,0,0,0,0,0,0,0,0,0,0,0,0,0,0,0,0,0,0,0,0,0,0,0,0,0,0,0,0,0,0,0,0,0,0,0,0,0,0,0,0,0,0,0,0,0,0,0,0,0,0,0,0,0]
[null,"Step 3",0,0,0,0,0,0,0,0,0,0,0,0,0,0,0,0,0,0,0,0,0,0,0,0,0,0,0,0,0,0,0,0,0,0,0,0,0,0,0,0,0,0,0,0,0,0,0,0,0,0,0,0,0,0,0,0,0,0,0,0]
[null,"Step 4",0,0,0,0,0,0,0,0,0,0,0,0,0,0,0,0,0,0,0,0,0,0,0,0,0,0,0,0,0,0,0,0,0,0,0,0,0,0,0,0,0,0,0,0,0,0,0,0,0,0,0,0,0,0,0,0,0,0,0,0]
[null,"Step 5",0,0,0,0,0,0,0,0,0,0,0,0,0,0,0,0,0,0,0,0,0,0,0,0,0,0,0,0,0,0,0,0,0,0,0,0,0,0,0,0,0,0,0,0,0,0,0,0,0,0,0,0,0,0,0,0,0,0,0,0]
[null,"Step 6",0,0,0,0,0,0,0,0,0,0,0,0,0,0,0,0,0,0,0,0,0,0,0,0,0,0,0,0,0,0,0,0,0,0,0,0,0,0,0,0,0,0,0,0,0,0,0,0,0,0,0,0,0,0,0,0,0,0,0,0]
[null,"Step 7",0,0,0,0,0,0,0,0,0,0,0,0,0,0,0,0,0,0,0,0,0,0,0,0,0,0,0,0,0,0,0,0,0,0,0,0,0,0,0,0,0,0,0,0,0,0,0,0,0,0,0,0,0,0,0,0,0,0,0,0]
[null,"Step 8",0,0,0,0,0,0,0,0,0,0,0,0,0,0,0,0,0,0,0,0,0,0,0,0,0,0,0,0,0,0,0,0,0,0,0,0,0,0,0,0,0,0,0,0,0,0,0,0,0,0,0,0,0,0,0,0,0,0,0,0]
[null,"Step 9",0,0,0,0,0,0,0,0,0,0,0,0,0,0,0,0,0,0,0,0,0,0,0,0,0,0,0,0,0,0,0,0,0,0,0,0,0,0,0,0,0,0,0,0,0,0,0,0,0,0,0,0,0,0,0,0,0,0,0,0]
[null,"Step 10",0,0,0,0,0,0,0,0,0,0,0,0,0,0,0,0,0,0,0,0,0,0,0,0,0,0,0,0,0,0,0,0,0,0,0,0,0,0,0,0,0,0,0,0,0,0,0,0,0,0,0,0,0,0,0,0,0,0,0,0]
[null,"Step 11",0,0,0,0,0,0,0,0,0,0,0,0,0,0,0,0,0,0,0,0,0,0,0,0,0,0,0,0,0,0,0,0,0,0,0,0,0,0,0,0,0,0,0,0,0,0,0,0,0,0,0,0,0,0,0,0,0,0,0,0]
[null,"Step 12",0,0,0,0,0,0,0,0,0,0,0,0,0,0,0,0,0,0,0,0,0,0,0,0,0,0,0,0,0,0,0,0,0,0,0,0,0,0,0,0,0,0,0,0,0,0,0,0,0,0,0,0,0,0,0,0,0,0,0,0]
[null,"Step 13",0,0,0,0,0,0,0,0,0,0,0,0,0,0,0,0,0,0,0,0,0,0,0,0,0,0,0,0,0,0,0,0,0,0,0,0,0,0,0,0,0,0,0,0,0,0,0,0,0,0,0,0,0,0,0,0,0,0,0,0]
[null,"Step 14",0,0,0,0,0,0,0,0,0,0,0,0,0,0,0,0,0,0,0,0,0,0,0,0,0,0,0,0,0,0,0,0,0,0,0,0,0,0,0,0,0,0,0,0,0,0,0,0,0,0,0,0,0,0,0,0,0,0,0,0]
[null,"Step 15",0,0,0,0,0,0,0,0,0,0,0,0,0,0,0,0,0,0,0,0,0,0,0,0,0,0,0,0,0,0,0,0,0,0,0,0,0,0,0,0,0,0,0,0,0,0,0,0,0,0,0,0,0,0,0,0,0,0,0,0]
[null,"Step 16",0,0,0,0,0,0,0,0,0,0,0,0,0,0,0,0,0,0,0,0,0,0,0,0,0,0,0,0,0,0,0,0,0,0,0,0,0,0,0,0,0,0,0,0,0,0,0,0,0,0,0,0,0,0,0,0,0,0,0,0]
[null,"Step 17",0,0,0,0,0,0,0,0,0,0,0,0,0,0,0,0,0,0,0,0,0,0,0,0,0,0,0,0,0,0,0,0,0,0,0,0,0,0,0,0,0,0,0,0,0,0,0,0,0,0,0,0,0,0,0,0,0,0,0,0]
[null,"Step 18",0,0,0,0,0,0,0,0,0,0,0,0,0,0,0,0,0,0,0,0,0,0,0,0,0,0,0,0,0,0,0,0,0,0,0,0,0,0,0,0,0,0,0,0,0,0,0,0,0,0,0,0,0,0,0,0,0,0,0,0]
[null,"Step 19",0,0,0,0,0,0,0,0,0,0,0,0,0,0,0,0,0,0,0,0,0,0,0,0,0,0,0,0,0,0,0,0,0,0,0,0,0,0,0,0,0,0,0,0,0,0,0,0,0,0,0,0,0,0,0,0,0,0,0,0]
[null,"Step 20",0,0,0,0,0,0,0,0,0,0,0,0,0,0,0,0,0,0,0,0,0,0,0,0,0,0,0,0,0,0,0,0,0,0,0,0,0,0,0,0,0,0,0,0,0,0,0,0,0,0,0,0,0,0,0,0,0,0,0,0]
[]
["St. Fergus"]
[]
["Quarter",null,{"$f":"First_quarter","v":"2020-10-01"},{"$f":"DATE(YEAR(C95),MONTH(C95)+1,1)","v":"2021-01-01"},{"$f":"DATE(YEAR(D95),MONTH(D95)+1,1)","v":"2021-04-01"},{"$f":"DATE(YEAR(E95),MONTH(E95)+1,1)","v":"2021-07-01"},{"$f":"DATE(YEAR(F95),MONTH(F95)+1,1)","v":"2021-10-01"},{"$f":"DATE(YEAR(G95),MONTH(G95)+1,1)","v":"2022-01-01"},{"$f":"DATE(YEAR(H95),MONTH(H95)+1,1)","v":"2022-04-01"},{"$f":"DATE(YEAR(I95),MONTH(I95)+1,1)","v":"2022-07-01"},{"$f":"DATE(YEAR(J95),MONTH(J95)+1,1)","v":"2022-10-01"},{"$f":"DATE(YEAR(K95),MONTH(K95)+1,1)","v":"2023-01-01"},{"$f":"DATE(YEAR(L95),MONTH(L95)+1,1)","v":"2023-04-01"},{"$f":"DATE(YEAR(M95),MONTH(M95)+1,1)","v":"2023-07-01"},{"$f":"DATE(YEAR(N95),MONTH(N95)+1,1)","v":"2023-10-01"},{"$f":"DATE(YEAR(O95),MONTH(O95)+1,1)","v":"2024-01-01"},{"$f":"DATE(YEAR(P95),MONTH(P95)+1,1)","v":"2024-04-01"},{"$f":"DATE(YEAR(Q95),MONTH(Q95)+1,1)","v":"2024-07-01"},{"$f":"DATE(YEAR(R95),MONTH(R95)+1,1)","v":"2024-10-01"},{"$f":"DATE(YEAR(S95),MONTH(S95)+1,1)","v":"2025-01-01"},{"$f":"DATE(YEAR(T95),MONTH(T95)+1,1)","v":"2025-04-01"},{"$f":"DATE(YEAR(U95),MONTH(U95)+1,1)","v":"2025-07-01"},{"$f":"DATE(YEAR(V95),MONTH(V95)+1,1)","v":"2025-10-01"},{"$f":"DATE(YEAR(W95),MONTH(W95)+1,1)","v":"2026-01-01"},{"$f":"DATE(YEAR(X95),MONTH(X95)+1,1)","v":"2026-04-01"},{"$f":"DATE(YEAR(Y95),MONTH(Y95)+1,1)","v":"2026-07-01"},{"$f":"DATE(YEAR(Z95),MONTH(Z95)+1,1)","v":"2026-10-01"},{"$f":"DATE(YEAR(AA95),MONTH(AA95)+1,1)","v":"2027-01-01"},{"$f":"DATE(YEAR(AB95),MONTH(AB95)+1,1)","v":"2027-04-01"},{"$f":"DATE(YEAR(AC95),MONTH(AC95)+1,1)","v":"2027-07-01"},{"$f":"DATE(YEAR(AD95),MONTH(AD95)+1,1)","v":"2027-10-01"},{"$f":"DATE(YEAR(AE95),MONTH(AE95)+1,1)","v":"2028-01-01"},{"$f":"DATE(YEAR(AF95),MONTH(AF95)+1,1)","v":"2028-04-01"},{"$f":"DATE(YEAR(AG95),MONTH(AG95)+1,1)","v":"2028-07-01"},{"$f":"DATE(YEAR(AH95),MONTH(AH95)+1,1)","v":"2028-10-01"},{"$f":"DATE(YEAR(AI95),MONTH(AI95)+1,1)","v":"2029-01-01"},{"$f":"DATE(YEAR(AJ95),MONTH(AJ95)+1,1)","v":"2029-04-01"},{"$f":"DATE(YEAR(AK95),MONTH(AK95)+1,1)","v":"2029-07-01"},{"$f":"DATE(YEAR(AL95),MONTH(AL95)+1,1)","v":"2029-10-01"},{"$f":"DATE(YEAR(AM95),MONTH(AM95)+1,1)","v":"2030-01-01"},{"$f":"DATE(YEAR(AN95),MONTH(AN95)+1,1)","v":"2030-04-01"},{"$f":"DATE(YEAR(AO95),MONTH(AO95)+1,1)","v":"2030-07-01"},{"$f":"DATE(YEAR(AP95),MONTH(AP95)+1,1)","v":"2030-10-01"},{"$f":"DATE(YEAR(AQ95),MONTH(AQ95)+1,1)","v":"2031-01-01"},{"$f":"DATE(YEAR(AR95),MONTH(AR95)+1,1)","v":"2031-04-01"},{"$f":"DATE(YEAR(AS95),MONTH(AS95)+1,1)","v":"2031-07-01"},{"$f":"DATE(YEAR(AT95),MONTH(AT95)+1,1)","v":"2031-10-01"},{"$f":"DATE(YEAR(AU95),MONTH(AU95)+1,1)","v":"2032-01-01"},{"$f":"DATE(YEAR(AV95),MONTH(AV95)+1,1)","v":"2032-04-01"},{"$f":"DATE(YEAR(AW95),MONTH(AW95)+1,1)","v":"2032-07-01"},{"$f":"DATE(YEAR(AX95),MONTH(AX95)+1,1)","v":"2032-10-01"},{"$f":"DATE(YEAR(AY95),MONTH(AY95)+1,1)","v":"2033-01-01"},{"$f":"DATE(YEAR(AZ95),MONTH(AZ95)+1,1)","v":"2033-04-01"},{"$f":"DATE(YEAR(BA95),MONTH(BA95)+1,1)","v":"2033-07-01"},{"$f":"DATE(YEAR(BB95),MONTH(BB95)+1,1)","v":"2033-10-01"},{"$f":"DATE(YEAR(BC95),MONTH(BC95)+1,1)","v":"2034-01-01"},{"$f":"DATE(YEAR(BD95),MONTH(BD95)+1,1)","v":"2034-04-01"},{"$f":"DATE(YEAR(BE95),MONTH(BE95)+1,1)","v":"2034-07-01"},{"$f":"DATE(YEAR(BF95),MONTH(BF95)+1,1)","v":"2034-10-01"},{"$f":"DATE(YEAR(BG95),MONTH(BG95)+1,1)","v":"2035-01-01"},{"$f":"DATE(YEAR(BH95),MONTH(BH95)+1,1)","v":"2035-04-01"},{"$f":"DATE(YEAR(BI95),MONTH(BI95)+1,1)","v":"2035-07-01"}]
[null,null,{"$f":"DATE(YEAR(C94),MONTH(C94)+2,1)","v":"2020-12-01"},"2021-03-01","2021-06-01","2021-09-01","2021-12-01","2022-03-01","2022-06-01","2022-09-01","2022-12-01","2023-03-01","2023-06-01","2023-09-01","2023-12-01","2024-03-01","2024-06-01","2024-09-01","2024-12-01","2025-03-01","2025-06-01","2025-09-01","2025-12-01","2026-03-01","2026-06-01","2026-09-01","2026-12-01","2027-03-01","2027-06-01","2027-09-01","2027-12-01","2028-03-01","2028-06-01","2028-09-01","2028-12-01","2029-03-01","2029-06-01","2029-09-01","2029-12-01","2030-03-01","2030-06-01","2030-09-01","2030-12-01","2031-03-01","2031-06-01","2031-09-01","2031-12-01","2032-03-01","2032-06-01","2032-09-01","2032-12-01","2033-03-01","2033-06-01","2033-09-01","2033-12-01","2034-03-01","2034-06-01","2034-09-01","2034-12-01","2035-03-01","2035-06-01","2035-09-01"]
["Quantity bid (GWh/day)"]
[]
["Base",null,0,0,0,0,0,0,0,0,0,0,0,0,0,0,0,0,0,0,0,0,0,0,0,0,0,0,0,0,0,0,0,0,0,0,0,0,0,0,0,0,0,0,0,0,0,0,0,0,0,0,0,0,0,0,0,0,0,0,0,0]
[null,"Step 1",0,0,0,0,0,0,0,0,0,0,0,0,0,0,0,0,0,0,0,0,0,0,0,0,0,0,0,0,0,0,0,0,0,0,0,0,0,0,0,0,0,0,0,0,0,0,0,0,0,0,0,0,0,0,0,0,0,0,0,0]
[null,"Step 2",0,0,0,0,0,0,0,0,0,0,0,0,0,0,0,0,0,0,0,0,0,0,0,0,0,0,0,0,0,0,0,0,0,0,0,0,0,0,0,0,0,0,0,0,0,0,0,0,0,0,0,0,0,0,0,0,0,0,0,0]
[null,"Step 3",0,0,0,0,0,0,0,0,0,0,0,0,0,0,0,0,0,0,0,0,0,0,0,0,0,0,0,0,0,0,0,0,0,0,0,0,0,0,0,0,0,0,0,0,0,0,0,0,0,0,0,0,0,0,0,0,0,0,0,0]
[null,"Step 4",0,0,0,0,0,0,0,0,0,0,0,0,0,0,0,0,0,0,0,0,0,0,0,0,0,0,0,0,0,0,0,0,0,0,0,0,0,0,0,0,0,0,0,0,0,0,0,0,0,0,0,0,0,0,0,0,0,0,0,0]
[null,"Step 5",0,0,0,0,0,0,0,0,0,0,0,0,0,0,0,0,0,0,0,0,0,0,0,0,0,0,0,0,0,0,0,0,0,0,0,0,0,0,0,0,0,0,0,0,0,0,0,0,0,0,0,0,0,0,0,0,0,0,0,0]
[null,"Step 6",0,0,0,0,0,0,0,0,0,0,0,0,0,0,0,0,0,0,0,0,0,0,0,0,0,0,0,0,0,0,0,0,0,0,0,0,0,0,0,0,0,0,0,0,0,0,0,0,0,0,0,0,0,0,0,0,0,0,0,0]
[null,"Step 7",0,0,0,0,0,0,0,0,0,0,0,0,0,0,0,0,0,0,0,0,0,0,0,0,0,0,0,0,0,0,0,0,0,0,0,0,0,0,0,0,0,0,0,0,0,0,0,0,0,0,0,0,0,0,0,0,0,0,0,0]
[null,"Step 8",0,0,0,0,0,0,0,0,0,0,0,0,0,0,0,0,0,0,0,0,0,0,0,0,0,0,0,0,0,0,0,0,0,0,0,0,0,0,0,0,0,0,0,0,0,0,0,0,0,0,0,0,0,0,0,0,0,0,0,0]
[null,"Step 9",0,0,0,0,0,0,0,0,0,0,0,0,0,0,0,0,0,0,0,0,0,0,0,0,0,0,0,0,0,0,0,0,0,0,0,0,0,0,0,0,0,0,0,0,0,0,0,0,0,0,0,0,0,0,0,0,0,0,0,0]
[null,"Step 10",0,0,0,0,0,0,0,0,0,0,0,0,0,0,0,0,0,0,0,0,0,0,0,0,0,0,0,0,0,0,0,0,0,0,0,0,0,0,0,0,0,0,0,0,0,0,0,0,0,0,0,0,0,0,0,0,0,0,0,0]
[null,"Step 11",0,0,0,0,0,0,0,0,0,0,0,0,0,0,0,0,0,0,0,0,0,0,0,0,0,0,0,0,0,0,0,0,0,0,0,0,0,0,0,0,0,0,0,0,0,0,0,0,0,0,0,0,0,0,0,0,0,0,0,0]
[null,"Step 12",0,0,0,0,0,0,0,0,0,0,0,0,0,0,0,0,0,0,0,0,0,0,0,0,0,0,0,0,0,0,0,0,0,0,0,0,0,0,0,0,0,0,0,0,0,0,0,0,0,0,0,0,0,0,0,0,0,0,0,0]
[null,"Step 13",0,0,0,0,0,0,0,0,0,0,0,0,0,0,0,0,0,0,0,0,0,0,0,0,0,0,0,0,0,0,0,0,0,0,0,0,0,0,0,0,0,0,0,0,0,0,0,0,0,0,0,0,0,0,0,0,0,0,0,0]
[null,"Step 14",0,0,0,0,0,0,0,0,0,0,0,0,0,0,0,0,0,0,0,0,0,0,0,0,0,0,0,0,0,0,0,0,0,0,0,0,0,0,0,0,0,0,0,0,0,0,0,0,0,0,0,0,0,0,0,0,0,0,0,0]
[null,"Step 15",0,0,0,0,0,0,0,0,0,0,0,0,0,0,0,0,0,0,0,0,0,0,0,0,0,0,0,0,0,0,0,0,0,0,0,0,0,0,0,0,0,0,0,0,0,0,0,0,0,0,0,0,0,0,0,0,0,0,0,0]
[null,"Step 16",0,0,0,0,0,0,0,0,0,0,0,0,0,0,0,0,0,0,0,0,0,0,0,0,0,0,0,0,0,0,0,0,0,0,0,0,0,0,0,0,0,0,0,0,0,0,0,0,0,0,0,0,0,0,0,0,0,0,0,0]
[null,"Step 17",0,0,0,0,0,0,0,0,0,0,0,0,0,0,0,0,0,0,0,0,0,0,0,0,0,0,0,0,0,0,0,0,0,0,0,0,0,0,0,0,0,0,0,0,0,0,0,0,0,0,0,0,0,0,0,0,0,0,0,0]
[null,"Step 18",0,0,0,0,0,0,0,0,0,0,0,0,0,0,0,0,0,0,0,0,0,0,0,0,0,0,0,0,0,0,0,0,0,0,0,0,0,0,0,0,0,0,0,0,0,0,0,0,0,0,0,0,0,0,0,0,0,0,0,0]
[null,"Step 19",0,0,0,0,0,0,0,0,0,0,0,0,0,0,0,0,0,0,0,0,0,0,0,0,0,0,0,0,0,0,0,0,0,0,0,0,0,0,0,0,0,0,0,0,0,0,0,0,0,0,0,0,0,0,0,0,0,0,0,0]
[null,"Step 20",0,0,0,0,0,0,0,0,0,0,0,0,0,0,0,0,0,0,0,0,0,0,0,0,0,0,0,0,0,0,0,0,0,0,0,0,0,0,0,0,0,0,0,0,0,0,0,0,0,0,0,0,0,0,0,0,0,0,0,0]
[]
["Teesside"]
[]
["Quarter",null,{"$f":"First_quarter","v":"2020-10-01"},{"$f":"DATE(YEAR(C123),MONTH(C123)+1,1)","v":"2021-01-01"},{"$f":"DATE(YEAR(D123),MONTH(D123)+1,1)","v":"2021-04-01"},{"$f":"DATE(YEAR(E123),MONTH(E123)+1,1)","v":"2021-07-01"},{"$f":"DATE(YEAR(F123),MONTH(F123)+1,1)","v":"2021-10-01"},{"$f":"DATE(YEAR(G123),MONTH(G123)+1,1)","v":"2022-01-01"},{"$f":"DATE(YEAR(H123),MONTH(H123)+1,1)","v":"2022-04-01"},{"$f":"DATE(YEAR(I123),MONTH(I123)+1,1)","v":"2022-07-01"},{"$f":"DATE(YEAR(J123),MONTH(J123)+1,1)","v":"2022-10-01"},{"$f":"DATE(YEAR(K123),MONTH(K123)+1,1)","v":"2023-01-01"},{"$f":"DATE(YEAR(L123),MONTH(L123)+1,1)","v":"2023-04-01"},{"$f":"DATE(YEAR(M123),MONTH(M123)+1,1)","v":"2023-07-01"},{"$f":"DATE(YEAR(N123),MONTH(N123)+1,1)","v":"2023-10-01"},{"$f":"DATE(YEAR(O123),MONTH(O123)+1,1)","v":"2024-01-01"},{"$f":"DATE(YEAR(P123),MONTH(P123)+1,1)","v":"2024-04-01"},{"$f":"DATE(YEAR(Q123),MONTH(Q123)+1,1)","v":"2024-07-01"},{"$f":"DATE(YEAR(R123),MONTH(R123)+1,1)","v":"2024-10-01"},{"$f":"DATE(YEAR(S123),MONTH(S123)+1,1)","v":"2025-01-01"},{"$f":"DATE(YEAR(T123),MONTH(T123)+1,1)","v":"2025-04-01"},{"$f":"DATE(YEAR(U123),MONTH(U123)+1,1)","v":"2025-07-01"},{"$f":"DATE(YEAR(V123),MONTH(V123)+1,1)","v":"2025-10-01"},{"$f":"DATE(YEAR(W123),MONTH(W123)+1,1)","v":"2026-01-01"},{"$f":"DATE(YEAR(X123),MONTH(X123)+1,1)","v":"2026-04-01"},{"$f":"DATE(YEAR(Y123),MONTH(Y123)+1,1)","v":"2026-07-01"},{"$f":"DATE(YEAR(Z123),MONTH(Z123)+1,1)","v":"2026-10-01"},{"$f":"DATE(YEAR(AA123),MONTH(AA123)+1,1)","v":"2027-01-01"},{"$f":"DATE(YEAR(AB123),MONTH(AB123)+1,1)","v":"2027-04-01"},{"$f":"DATE(YEAR(AC123),MONTH(AC123)+1,1)","v":"2027-07-01"},{"$f":"DATE(YEAR(AD123),MONTH(AD123)+1,1)","v":"2027-10-01"},{"$f":"DATE(YEAR(AE123),MONTH(AE123)+1,1)","v":"2028-01-01"},{"$f":"DATE(YEAR(AF123),MONTH(AF123)+1,1)","v":"2028-04-01"},{"$f":"DATE(YEAR(AG123),MONTH(AG123)+1,1)","v":"2028-07-01"},{"$f":"DATE(YEAR(AH123),MONTH(AH123)+1,1)","v":"2028-10-01"},{"$f":"DATE(YEAR(AI123),MONTH(AI123)+1,1)","v":"2029-01-01"},{"$f":"DATE(YEAR(AJ123),MONTH(AJ123)+1,1)","v":"2029-04-01"},{"$f":"DATE(YEAR(AK123),MONTH(AK123)+1,1)","v":"2029-07-01"},{"$f":"DATE(YEAR(AL123),MONTH(AL123)+1,1)","v":"2029-10-01"},{"$f":"DATE(YEAR(AM123),MONTH(AM123)+1,1)","v":"2030-01-01"},{"$f":"DATE(YEAR(AN123),MONTH(AN123)+1,1)","v":"2030-04-01"},{"$f":"DATE(YEAR(AO123),MONTH(AO123)+1,1)","v":"2030-07-01"},{"$f":"DATE(YEAR(AP123),MONTH(AP123)+1,1)","v":"2030-10-01"},{"$f":"DATE(YEAR(AQ123),MONTH(AQ123)+1,1)","v":"2031-01-01"},{"$f":"DATE(YEAR(AR123),MONTH(AR123)+1,1)","v":"2031-04-01"},{"$f":"DATE(YEAR(AS123),MONTH(AS123)+1,1)","v":"2031-07-01"},{"$f":"DATE(YEAR(AT123),MONTH(AT123)+1,1)","v":"2031-10-01"},{"$f":"DATE(YEAR(AU123),MONTH(AU123)+1,1)","v":"2032-01-01"},{"$f":"DATE(YEAR(AV123),MONTH(AV123)+1,1)","v":"2032-04-01"},{"$f":"DATE(YEAR(AW123),MONTH(AW123)+1,1)","v":"2032-07-01"},{"$f":"DATE(YEAR(AX123),MONTH(AX123)+1,1)","v":"2032-10-01"},{"$f":"DATE(YEAR(AY123),MONTH(AY123)+1,1)","v":"2033-01-01"},{"$f":"DATE(YEAR(AZ123),MONTH(AZ123)+1,1)","v":"2033-04-01"},{"$f":"DATE(YEAR(BA123),MONTH(BA123)+1,1)","v":"2033-07-01"},{"$f":"DATE(YEAR(BB123),MONTH(BB123)+1,1)","v":"2033-10-01"},{"$f":"DATE(YEAR(BC123),MONTH(BC123)+1,1)","v":"2034-01-01"},{"$f":"DATE(YEAR(BD123),MONTH(BD123)+1,1)","v":"2034-04-01"},{"$f":"DATE(YEAR(BE123),MONTH(BE123)+1,1)","v":"2034-07-01"},{"$f":"DATE(YEAR(BF123),MONTH(BF123)+1,1)","v":"2034-10-01"},{"$f":"DATE(YEAR(BG123),MONTH(BG123)+1,1)","v":"2035-01-01"},{"$f":"DATE(YEAR(BH123),MONTH(BH123)+1,1)","v":"2035-04-01"},{"$f":"DATE(YEAR(BI123),MONTH(BI123)+1,1)","v":"2035-07-01"}]
[null,null,{"$f":"DATE(YEAR(C122),MONTH(C122)+2,1)","v":"2020-12-01"},"2021-03-01","2021-06-01","2021-09-01","2021-12-01","2022-03-01","2022-06-01","2022-09-01","2022-12-01","2023-03-01","2023-06-01","2023-09-01","2023-12-01","2024-03-01","2024-06-01","2024-09-01","2024-12-01","2025-03-01","2025-06-01","2025-09-01","2025-12-01","2026-03-01","2026-06-01","2026-09-01","2026-12-01","2027-03-01","2027-06-01","2027-09-01","2027-12-01","2028-03-01","2028-06-01","2028-09-01","2028-12-01","2029-03-01","2029-06-01","2029-09-01","2029-12-01","2030-03-01","2030-06-01","2030-09-01","2030-12-01","2031-03-01","2031-06-01","2031-09-01","2031-12-01","2032-03-01","2032-06-01","2032-09-01","2032-12-01","2033-03-01","2033-06-01","2033-09-01","2033-12-01","2034-03-01","2034-06-01","2034-09-01","2034-12-01","2035-03-01","2035-06-01","2035-09-01"]
["Quantity bid (GWh/day)"]
[]
["Base",null,0,0,0,0,0,0,0,0,0,0,0,0,0,0,0,0,0,0,0,0,0,0,0,0,0,0,0,0,0,0,0,0,0,0,0,0,0,0,0,0,0,0,0,0,0,0,0,0,0,0,0,0,0,0,0,0,0,0,0,0]
[null,"Step 1",0,0,0,0,0,0,0,0,0,0,0,0,0,0,0,0,0,0,0,0,0,0,0,0,0,0,0,0,0,0,0,0,0,0,0,0,0,0,0,0,0,0,0,0,0,0,0,0,0,0,0,0,0,0,0,0,0,0,0,0]
[null,"Step 2",0,0,0,0,0,0,0,0,0,0,0,0,0,0,0,0,0,0,0,0,0,0,0,0,0,0,0,0,0,0,0,0,0,0,0,0,0,0,0,0,0,0,0,0,0,0,0,0,0,0,0,0,0,0,0,0,0,0,0,0]
[null,"Step 3",0,0,0,0,0,0,0,0,0,0,0,0,0,0,0,0,0,0,0,0,0,0,0,0,0,0,0,0,0,0,0,0,0,0,0,0,0,0,0,0,0,0,0,0,0,0,0,0,0,0,0,0,0,0,0,0,0,0,0,0]
[null,"Step 4",0,0,0,0,0,0,0,0,0,0,0,0,0,0,0,0,0,0,0,0,0,0,0,0,0,0,0,0,0,0,0,0,0,0,0,0,0,0,0,0,0,0,0,0,0,0,0,0,0,0,0,0,0,0,0,0,0,0,0,0]
[null,"Step 5",0,0,0,0,0,0,0,0,0,0,0,0,0,0,0,0,0,0,0,0,0,0,0,0,0,0,0,0,0,0,0,0,0,0,0,0,0,0,0,0,0,0,0,0,0,0,0,0,0,0,0,0,0,0,0,0,0,0,0,0]
[null,"Step 6",0,0,0,0,0,0,0,0,0,0,0,0,0,0,0,0,0,0,0,0,0,0,0,0,0,0,0,0,0,0,0,0,0,0,0,0,0,0,0,0,0,0,0,0,0,0,0,0,0,0,0,0,0,0,0,0,0,0,0,0]
[null,"Step 7",0,0,0,0,0,0,0,0,0,0,0,0,0,0,0,0,0,0,0,0,0,0,0,0,0,0,0,0,0,0,0,0,0,0,0,0,0,0,0,0,0,0,0,0,0,0,0,0,0,0,0,0,0,0,0,0,0,0,0,0]
[null,"Step 8",0,0,0,0,0,0,0,0,0,0,0,0,0,0,0,0,0,0,0,0,0,0,0,0,0,0,0,0,0,0,0,0,0,0,0,0,0,0,0,0,0,0,0,0,0,0,0,0,0,0,0,0,0,0,0,0,0,0,0,0]
[null,"Step 9",0,0,0,0,0,0,0,0,0,0,0,0,0,0,0,0,0,0,0,0,0,0,0,0,0,0,0,0,0,0,0,0,0,0,0,0,0,0,0,0,0,0,0,0,0,0,0,0,0,0,0,0,0,0,0,0,0,0,0,0]
[null,"Step 10",0,0,0,0,0,0,0,0,0,0,0,0,0,0,0,0,0,0,0,0,0,0,0,0,0,0,0,0,0,0,0,0,0,0,0,0,0,0,0,0,0,0,0,0,0,0,0,0,0,0,0,0,0,0,0,0,0,0,0,0]
[null,"Step 11",0,0,0,0,0,0,0,0,0,0,0,0,0,0,0,0,0,0,0,0,0,0,0,0,0,0,0,0,0,0,0,0,0,0,0,0,0,0,0,0,0,0,0,0,0,0,0,0,0,0,0,0,0,0,0,0,0,0,0,0]
[null,"Step 12",0,0,0,0,0,0,0,0,0,0,0,0,0,0,0,0,0,0,0,0,0,0,0,0,0,0,0,0,0,0,0,0,0,0,0,0,0,0,0,0,0,0,0,0,0,0,0,0,0,0,0,0,0,0,0,0,0,0,0,0]
[null,"Step 13",0,0,0,0,0,0,0,0,0,0,0,0,0,0,0,0,0,0,0,0,0,0,0,0,0,0,0,0,0,0,0,0,0,0,0,0,0,0,0,0,0,0,0,0,0,0,0,0,0,0,0,0,0,0,0,0,0,0,0,0]
[null,"Step 14",0,0,0,0,0,0,0,0,0,0,0,0,0,0,0,0,0,0,0,0,0,0,0,0,0,0,0,0,0,0,0,0,0,0,0,0,0,0,0,0,0,0,0,0,0,0,0,0,0,0,0,0,0,0,0,0,0,0,0,0]
[null,"Step 15",0,0,0,0,0,0,0,0,0,0,0,0,0,0,0,0,0,0,0,0,0,0,0,0,0,0,0,0,0,0,0,0,0,0,0,0,0,0,0,0,0,0,0,0,0,0,0,0,0,0,0,0,0,0,0,0,0,0,0,0]
[null,"Step 16",0,0,0,0,0,0,0,0,0,0,0,0,0,0,0,0,0,0,0,0,0,0,0,0,0,0,0,0,0,0,0,0,0,0,0,0,0,0,0,0,0,0,0,0,0,0,0,0,0,0,0,0,0,0,0,0,0,0,0,0]
[null,"Step 17",0,0,0,0,0,0,0,0,0,0,0,0,0,0,0,0,0,0,0,0,0,0,0,0,0,0,0,0,0,0,0,0,0,0,0,0,0,0,0,0,0,0,0,0,0,0,0,0,0,0,0,0,0,0,0,0,0,0,0,0]
[null,"Step 18",0,0,0,0,0,0,0,0,0,0,0,0,0,0,0,0,0,0,0,0,0,0,0,0,0,0,0,0,0,0,0,0,0,0,0,0,0,0,0,0,0,0,0,0,0,0,0,0,0,0,0,0,0,0,0,0,0,0,0,0]
[null,"Step 19",0,0,0,0,0,0,0,0,0,0,0,0,0,0,0,0,0,0,0,0,0,0,0,0,0,0,0,0,0,0,0,0,0,0,0,0,0,0,0,0,0,0,0,0,0,0,0,0,0,0,0,0,0,0,0,0,0,0,0,0]
[null,"Step 20",0,0,0,0,0,0,0,0,0,0,0,0,0,0,0,0,0,0,0,0,0,0,0,0,0,0,0,0,0,0,0,0,0,0,0,0,0,0,0,0,0,0,0,0,0,0,0,0,0,0,0,0,0,0,0,0,0,0,0,0]
[]
["Barrow"]
[]
["Quarter",null,{"$f":"First_quarter","v":"2020-10-01"},{"$f":"DATE(YEAR(C151),MONTH(C151)+1,1)","v":"2021-01-01"},{"$f":"DATE(YEAR(D151),MONTH(D151)+1,1)","v":"2021-04-01"},{"$f":"DATE(YEAR(E151),MONTH(E151)+1,1)","v":"2021-07-01"},{"$f":"DATE(YEAR(F151),MONTH(F151)+1,1)","v":"2021-10-01"},{"$f":"DATE(YEAR(G151),MONTH(G151)+1,1)","v":"2022-01-01"},{"$f":"DATE(YEAR(H151),MONTH(H151)+1,1)","v":"2022-04-01"},{"$f":"DATE(YEAR(I151),MONTH(I151)+1,1)","v":"2022-07-01"},{"$f":"DATE(YEAR(J151),MONTH(J151)+1,1)","v":"2022-10-01"},{"$f":"DATE(YEAR(K151),MONTH(K151)+1,1)","v":"2023-01-01"},{"$f":"DATE(YEAR(L151),MONTH(L151)+1,1)","v":"2023-04-01"},{"$f":"DATE(YEAR(M151),MONTH(M151)+1,1)","v":"2023-07-01"},{"$f":"DATE(YEAR(N151),MONTH(N151)+1,1)","v":"2023-10-01"},{"$f":"DATE(YEAR(O151),MONTH(O151)+1,1)","v":"2024-01-01"},{"$f":"DATE(YEAR(P151),MONTH(P151)+1,1)","v":"2024-04-01"},{"$f":"DATE(YEAR(Q151),MONTH(Q151)+1,1)","v":"2024-07-01"},{"$f":"DATE(YEAR(R151),MONTH(R151)+1,1)","v":"2024-10-01"},{"$f":"DATE(YEAR(S151),MONTH(S151)+1,1)","v":"2025-01-01"},{"$f":"DATE(YEAR(T151),MONTH(T151)+1,1)","v":"2025-04-01"},{"$f":"DATE(YEAR(U151),MONTH(U151)+1,1)","v":"2025-07-01"},{"$f":"DATE(YEAR(V151),MONTH(V151)+1,1)","v":"2025-10-01"},{"$f":"DATE(YEAR(W151),MONTH(W151)+1,1)","v":"2026-01-01"},{"$f":"DATE(YEAR(X151),MONTH(X151)+1,1)","v":"2026-04-01"},{"$f":"DATE(YEAR(Y151),MONTH(Y151)+1,1)","v":"2026-07-01"},{"$f":"DATE(YEAR(Z151),MONTH(Z151)+1,1)","v":"2026-10-01"},{"$f":"DATE(YEAR(AA151),MONTH(AA151)+1,1)","v":"2027-01-01"},{"$f":"DATE(YEAR(AB151),MONTH(AB151)+1,1)","v":"2027-04-01"},{"$f":"DATE(YEAR(AC151),MONTH(AC151)+1,1)","v":"2027-07-01"},{"$f":"DATE(YEAR(AD151),MONTH(AD151)+1,1)","v":"2027-10-01"},{"$f":"DATE(YEAR(AE151),MONTH(AE151)+1,1)","v":"2028-01-01"},{"$f":"DATE(YEAR(AF151),MONTH(AF151)+1,1)","v":"2028-04-01"},{"$f":"DATE(YEAR(AG151),MONTH(AG151)+1,1)","v":"2028-07-01"},{"$f":"DATE(YEAR(AH151),MONTH(AH151)+1,1)","v":"2028-10-01"},{"$f":"DATE(YEAR(AI151),MONTH(AI151)+1,1)","v":"2029-01-01"},{"$f":"DATE(YEAR(AJ151),MONTH(AJ151)+1,1)","v":"2029-04-01"},{"$f":"DATE(YEAR(AK151),MONTH(AK151)+1,1)","v":"2029-07-01"},{"$f":"DATE(YEAR(AL151),MONTH(AL151)+1,1)","v":"2029-10-01"},{"$f":"DATE(YEAR(AM151),MONTH(AM151)+1,1)","v":"2030-01-01"},{"$f":"DATE(YEAR(AN151),MONTH(AN151)+1,1)","v":"2030-04-01"},{"$f":"DATE(YEAR(AO151),MONTH(AO151)+1,1)","v":"2030-07-01"},{"$f":"DATE(YEAR(AP151),MONTH(AP151)+1,1)","v":"2030-10-01"},{"$f":"DATE(YEAR(AQ151),MONTH(AQ151)+1,1)","v":"2031-01-01"},{"$f":"DATE(YEAR(AR151),MONTH(AR151)+1,1)","v":"2031-04-01"},{"$f":"DATE(YEAR(AS151),MONTH(AS151)+1,1)","v":"2031-07-01"},{"$f":"DATE(YEAR(AT151),MONTH(AT151)+1,1)","v":"2031-10-01"},{"$f":"DATE(YEAR(AU151),MONTH(AU151)+1,1)","v":"2032-01-01"},{"$f":"DATE(YEAR(AV151),MONTH(AV151)+1,1)","v":"2032-04-01"},{"$f":"DATE(YEAR(AW151),MONTH(AW151)+1,1)","v":"2032-07-01"},{"$f":"DATE(YEAR(AX151),MONTH(AX151)+1,1)","v":"2032-10-01"},{"$f":"DATE(YEAR(AY151),MONTH(AY151)+1,1)","v":"2033-01-01"},{"$f":"DATE(YEAR(AZ151),MONTH(AZ151)+1,1)","v":"2033-04-01"},{"$f":"DATE(YEAR(BA151),MONTH(BA151)+1,1)","v":"2033-07-01"},{"$f":"DATE(YEAR(BB151),MONTH(BB151)+1,1)","v":"2033-10-01"},{"$f":"DATE(YEAR(BC151),MONTH(BC151)+1,1)","v":"2034-01-01"},{"$f":"DATE(YEAR(BD151),MONTH(BD151)+1,1)","v":"2034-04-01"},{"$f":"DATE(YEAR(BE151),MONTH(BE151)+1,1)","v":"2034-07-01"},{"$f":"DATE(YEAR(BF151),MONTH(BF151)+1,1)","v":"2034-10-01"},{"$f":"DATE(YEAR(BG151),MONTH(BG151)+1,1)","v":"2035-01-01"},{"$f":"DATE(YEAR(BH151),MONTH(BH151)+1,1)","v":"2035-04-01"},{"$f":"DATE(YEAR(BI151),MONTH(BI151)+1,1)","v":"2035-07-01"}]
[null,null,{"$f":"DATE(YEAR(C150),MONTH(C150)+2,1)","v":"2020-12-01"},"2021-03-01","2021-06-01","2021-09-01","2021-12-01","2022-03-01","2022-06-01","2022-09-01","2022-12-01","2023-03-01","2023-06-01","2023-09-01","2023-12-01","2024-03-01","2024-06-01","2024-09-01","2024-12-01","2025-03-01","2025-06-01","2025-09-01","2025-12-01","2026-03-01","2026-06-01","2026-09-01","2026-12-01","2027-03-01","2027-06-01","2027-09-01","2027-12-01","2028-03-01","2028-06-01","2028-09-01","2028-12-01","2029-03-01","2029-06-01","2029-09-01","2029-12-01","2030-03-01","2030-06-01","2030-09-01","2030-12-01","2031-03-01","2031-06-01","2031-09-01","2031-12-01","2032-03-01","2032-06-01","2032-09-01","2032-12-01","2033-03-01","2033-06-01","2033-09-01","2033-12-01","2034-03-01","2034-06-01","2034-09-01","2034-12-01","2035-03-01","2035-06-01","2035-09-01"]
["Quantity bid (GWh/day)"]
[]
["Base",null,0,0,0,0,0,0,0,0,0,0,0,0,0,0,0,0,0,0,0,0,0,0,0,0,0,0,0,0,0,0,0,0,0,0,0,0,0,0,0,0,0,0,0,0,0,0,0,0,0,0,0,0,0,0,0,0,0,0,0,0]
[null,"Step 1",0,0,0,0,0,0,0,0,0,0,0,0,0,0,0,0,0,0,0,0,0,0,0,0,0,0,0,0,0,0,0,0,0,0,0,0,0,0,0,0,0,0,0,0,0,0,0,0,0,0,0,0,0,0,0,0,0,0,0,0]
[null,"Step 2",0,0,0,0,0,0,0,0,0,0,0,0,0,0,0,0,0,0,0,0,0,0,0,0,0,0,0,0,0,0,0,0,0,0,0,0,0,0,0,0,0,0,0,0,0,0,0,0,0,0,0,0,0,0,0,0,0,0,0,0]
[null,"Step 3",0,0,0,0,0,0,0,0,0,0,0,0,0,0,0,0,0,0,0,0,0,0,0,0,0,0,0,0,0,0,0,0,0,0,0,0,0,0,0,0,0,0,0,0,0,0,0,0,0,0,0,0,0,0,0,0,0,0,0,0]
[null,"Step 4",0,0,0,0,0,0,0,0,0,0,0,0,0,0,0,0,0,0,0,0,0,0,0,0,0,0,0,0,0,0,0,0,0,0,0,0,0,0,0,0,0,0,0,0,0,0,0,0,0,0,0,0,0,0,0,0,0,0,0,0]
[null,"Step 5",0,0,0,0,0,0,0,0,0,0,0,0,0,0,0,0,0,0,0,0,0,0,0,0,0,0,0,0,0,0,0,0,0,0,0,0,0,0,0,0,0,0,0,0,0,0,0,0,0,0,0,0,0,0,0,0,0,0,0,0]
[null,"Step 6",0,0,0,0,0,0,0,0,0,0,0,0,0,0,0,0,0,0,0,0,0,0,0,0,0,0,0,0,0,0,0,0,0,0,0,0,0,0,0,0,0,0,0,0,0,0,0,0,0,0,0,0,0,0,0,0,0,0,0,0]
[null,"Step 7",0,0,0,0,0,0,0,0,0,0,0,0,0,0,0,0,0,0,0,0,0,0,0,0,0,0,0,0,0,0,0,0,0,0,0,0,0,0,0,0,0,0,0,0,0,0,0,0,0,0,0,0,0,0,0,0,0,0,0,0]
[null,"Step 8",0,0,0,0,0,0,0,0,0,0,0,0,0,0,0,0,0,0,0,0,0,0,0,0,0,0,0,0,0,0,0,0,0,0,0,0,0,0,0,0,0,0,0,0,0,0,0,0,0,0,0,0,0,0,0,0,0,0,0,0]
[null,"Step 9",0,0,0,0,0,0,0,0,0,0,0,0,0,0,0,0,0,0,0,0,0,0,0,0,0,0,0,0,0,0,0,0,0,0,0,0,0,0,0,0,0,0,0,0,0,0,0,0,0,0,0,0,0,0,0,0,0,0,0,0]
[null,"Step 10",0,0,0,0,0,0,0,0,0,0,0,0,0,0,0,0,0,0,0,0,0,0,0,0,0,0,0,0,0,0,0,0,0,0,0,0,0,0,0,0,0,0,0,0,0,0,0,0,0,0,0,0,0,0,0,0,0,0,0,0]
[null,"Step 11",0,0,0,0,0,0,0,0,0,0,0,0,0,0,0,0,0,0,0,0,0,0,0,0,0,0,0,0,0,0,0,0,0,0,0,0,0,0,0,0,0,0,0,0,0,0,0,0,0,0,0,0,0,0,0,0,0,0,0,0]
[null,"Step 12",0,0,0,0,0,0,0,0,0,0,0,0,0,0,0,0,0,0,0,0,0,0,0,0,0,0,0,0,0,0,0,0,0,0,0,0,0,0,0,0,0,0,0,0,0,0,0,0,0,0,0,0,0,0,0,0,0,0,0,0]
[null,"Step 13",0,0,0,0,0,0,0,0,0,0,0,0,0,0,0,0,0,0,0,0,0,0,0,0,0,0,0,0,0,0,0,0,0,0,0,0,0,0,0,0,0,0,0,0,0,0,0,0,0,0,0,0,0,0,0,0,0,0,0,0]
[null,"Step 14",0,0,0,0,0,0,0,0,0,0,0,0,0,0,0,0,0,0,0,0,0,0,0,0,0,0,0,0,0,0,0,0,0,0,0,0,0,0,0,0,0,0,0,0,0,0,0,0,0,0,0,0,0,0,0,0,0,0,0,0]
[null,"Step 15",0,0,0,0,0,0,0,0,0,0,0,0,0,0,0,0,0,0,0,0,0,0,0,0,0,0,0,0,0,0,0,0,0,0,0,0,0,0,0,0,0,0,0,0,0,0,0,0,0,0,0,0,0,0,0,0,0,0,0,0]
[null,"Step 16",0,0,0,0,0,0,0,0,0,0,0,0,0,0,0,0,0,0,0,0,0,0,0,0,0,0,0,0,0,0,0,0,0,0,0,0,0,0,0,0,0,0,0,0,0,0,0,0,0,0,0,0,0,0,0,0,0,0,0,0]
[null,"Step 17",0,0,0,0,0,0,0,0,0,0,0,0,0,0,0,0,0,0,0,0,0,0,0,0,0,0,0,0,0,0,0,0,0,0,0,0,0,0,0,0,0,0,0,0,0,0,0,0,0,0,0,0,0,0,0,0,0,0,0,0]
[null,"Step 18",0,0,0,0,0,0,0,0,0,0,0,0,0,0,0,0,0,0,0,0,0,0,0,0,0,0,0,0,0,0,0,0,0,0,0,0,0,0,0,0,0,0,0,0,0,0,0,0,0,0,0,0,0,0,0,0,0,0,0,0]
[null,"Step 19",0,0,0,0,0,0,0,0,0,0,0,0,0,0,0,0,0,0,0,0,0,0,0,0,0,0,0,0,0,0,0,0,0,0,0,0,0,0,0,0,0,0,0,0,0,0,0,0,0,0,0,0,0,0,0,0,0,0,0,0]
[null,"Step 20",0,0,0,0,0,0,0,0,0,0,0,0,0,0,0,0,0,0,0,0,0,0,0,0,0,0,0,0,0,0,0,0,0,0,0,0,0,0,0,0,0,0,0,0,0,0,0,0,0,0,0,0,0,0,0,0,0,0,0,0]
[]
["Hatfield Moor (Onshore)"]
[]
["Quarter",null,{"$f":"First_quarter","v":"2020-10-01"},{"$f":"DATE(YEAR(C179),MONTH(C179)+1,1)","v":"2021-01-01"},{"$f":"DATE(YEAR(D179),MONTH(D179)+1,1)","v":"2021-04-01"},{"$f":"DATE(YEAR(E179),MONTH(E179)+1,1)","v":"2021-07-01"},{"$f":"DATE(YEAR(F179),MONTH(F179)+1,1)","v":"2021-10-01"},{"$f":"DATE(YEAR(G179),MONTH(G179)+1,1)","v":"2022-01-01"},{"$f":"DATE(YEAR(H179),MONTH(H179)+1,1)","v":"2022-04-01"},{"$f":"DATE(YEAR(I179),MONTH(I179)+1,1)","v":"2022-07-01"},{"$f":"DATE(YEAR(J179),MONTH(J179)+1,1)","v":"2022-10-01"},{"$f":"DATE(YEAR(K179),MONTH(K179)+1,1)","v":"2023-01-01"},{"$f":"DATE(YEAR(L179),MONTH(L179)+1,1)","v":"2023-04-01"},{"$f":"DATE(YEAR(M179),MONTH(M179)+1,1)","v":"2023-07-01"},{"$f":"DATE(YEAR(N179),MONTH(N179)+1,1)","v":"2023-10-01"},{"$f":"DATE(YEAR(O179),MONTH(O179)+1,1)","v":"2024-01-01"},{"$f":"DATE(YEAR(P179),MONTH(P179)+1,1)","v":"2024-04-01"},{"$f":"DATE(YEAR(Q179),MONTH(Q179)+1,1)","v":"2024-07-01"},{"$f":"DATE(YEAR(R179),MONTH(R179)+1,1)","v":"2024-10-01"},{"$f":"DATE(YEAR(S179),MONTH(S179)+1,1)","v":"2025-01-01"},{"$f":"DATE(YEAR(T179),MONTH(T179)+1,1)","v":"2025-04-01"},{"$f":"DATE(YEAR(U179),MONTH(U179)+1,1)","v":"2025-07-01"},{"$f":"DATE(YEAR(V179),MONTH(V179)+1,1)","v":"2025-10-01"},{"$f":"DATE(YEAR(W179),MONTH(W179)+1,1)","v":"2026-01-01"},{"$f":"DATE(YEAR(X179),MONTH(X179)+1,1)","v":"2026-04-01"},{"$f":"DATE(YEAR(Y179),MONTH(Y179)+1,1)","v":"2026-07-01"},{"$f":"DATE(YEAR(Z179),MONTH(Z179)+1,1)","v":"2026-10-01"},{"$f":"DATE(YEAR(AA179),MONTH(AA179)+1,1)","v":"2027-01-01"},{"$f":"DATE(YEAR(AB179),MONTH(AB179)+1,1)","v":"2027-04-01"},{"$f":"DATE(YEAR(AC179),MONTH(AC179)+1,1)","v":"2027-07-01"},{"$f":"DATE(YEAR(AD179),MONTH(AD179)+1,1)","v":"2027-10-01"},{"$f":"DATE(YEAR(AE179),MONTH(AE179)+1,1)","v":"2028-01-01"},{"$f":"DATE(YEAR(AF179),MONTH(AF179)+1,1)","v":"2028-04-01"},{"$f":"DATE(YEAR(AG179),MONTH(AG179)+1,1)","v":"2028-07-01"},{"$f":"DATE(YEAR(AH179),MONTH(AH179)+1,1)","v":"2028-10-01"},{"$f":"DATE(YEAR(AI179),MONTH(AI179)+1,1)","v":"2029-01-01"},{"$f":"DATE(YEAR(AJ179),MONTH(AJ179)+1,1)","v":"2029-04-01"},{"$f":"DATE(YEAR(AK179),MONTH(AK179)+1,1)","v":"2029-07-01"},{"$f":"DATE(YEAR(AL179),MONTH(AL179)+1,1)","v":"2029-10-01"},{"$f":"DATE(YEAR(AM179),MONTH(AM179)+1,1)","v":"2030-01-01"},{"$f":"DATE(YEAR(AN179),MONTH(AN179)+1,1)","v":"2030-04-01"},{"$f":"DATE(YEAR(AO179),MONTH(AO179)+1,1)","v":"2030-07-01"},{"$f":"DATE(YEAR(AP179),MONTH(AP179)+1,1)","v":"2030-10-01"},{"$f":"DATE(YEAR(AQ179),MONTH(AQ179)+1,1)","v":"2031-01-01"},{"$f":"DATE(YEAR(AR179),MONTH(AR179)+1,1)","v":"2031-04-01"},{"$f":"DATE(YEAR(AS179),MONTH(AS179)+1,1)","v":"2031-07-01"},{"$f":"DATE(YEAR(AT179),MONTH(AT179)+1,1)","v":"2031-10-01"},{"$f":"DATE(YEAR(AU179),MONTH(AU179)+1,1)","v":"2032-01-01"},{"$f":"DATE(YEAR(AV179),MONTH(AV179)+1,1)","v":"2032-04-01"},{"$f":"DATE(YEAR(AW179),MONTH(AW179)+1,1)","v":"2032-07-01"},{"$f":"DATE(YEAR(AX179),MONTH(AX179)+1,1)","v":"2032-10-01"},{"$f":"DATE(YEAR(AY179),MONTH(AY179)+1,1)","v":"2033-01-01"},{"$f":"DATE(YEAR(AZ179),MONTH(AZ179)+1,1)","v":"2033-04-01"},{"$f":"DATE(YEAR(BA179),MONTH(BA179)+1,1)","v":"2033-07-01"},{"$f":"DATE(YEAR(BB179),MONTH(BB179)+1,1)","v":"2033-10-01"},{"$f":"DATE(YEAR(BC179),MONTH(BC179)+1,1)","v":"2034-01-01"},{"$f":"DATE(YEAR(BD179),MONTH(BD179)+1,1)","v":"2034-04-01"},{"$f":"DATE(YEAR(BE179),MONTH(BE179)+1,1)","v":"2034-07-01"},{"$f":"DATE(YEAR(BF179),MONTH(BF179)+1,1)","v":"2034-10-01"},{"$f":"DATE(YEAR(BG179),MONTH(BG179)+1,1)","v":"2035-01-01"},{"$f":"DATE(YEAR(BH179),MONTH(BH179)+1,1)","v":"2035-04-01"},{"$f":"DATE(YEAR(BI179),MONTH(BI179)+1,1)","v":"2035-07-01"}]
[null,null,{"$f":"DATE(YEAR(C178),MONTH(C178)+2,1)","v":"2020-12-01"},"2021-03-01","2021-06-01","2021-09-01","2021-12-01","2022-03-01","2022-06-01","2022-09-01","2022-12-01","2023-03-01","2023-06-01","2023-09-01","2023-12-01","2024-03-01","2024-06-01","2024-09-01","2024-12-01","2025-03-01","2025-06-01","2025-09-01","2025-12-01","2026-03-01","2026-06-01","2026-09-01","2026-12-01","2027-03-01","2027-06-01","2027-09-01","2027-12-01","2028-03-01","2028-06-01","2028-09-01","2028-12-01","2029-03-01","2029-06-01","2029-09-01","2029-12-01","2030-03-01","2030-06-01","2030-09-01","2030-12-01","2031-03-01","2031-06-01","2031-09-01","2031-12-01","2032-03-01","2032-06-01","2032-09-01","2032-12-01","2033-03-01","2033-06-01","2033-09-01","2033-12-01","2034-03-01","2034-06-01","2034-09-01","2034-12-01","2035-03-01","2035-06-01","2035-09-01"]
["Quantity bid (GWh/day)"]
[]
["Base",null,0,0,0,0,0,0,0,0,0,0,0,0,0,0,0,0,0,0,0,0,0,0,0,0,0,0,0,0,0,0,0,0,0,0,0,0,0,0,0,0,0,0,0,0,0,0,0,0,0,0,0,0,0,0,0,0,0,0,0,0]
[null,"Step 1",0,0,0,0,0,0,0,0,0,0,0,0,0,0,0,0,0,0,0,0,0,0,0,0,0,0,0,0,0,0,0,0,0,0,0,0,0,0,0,0,0,0,0,0,0,0,0,0,0,0,0,0,0,0,0,0,0,0,0,0]
[null,"Step 2",0,0,0,0,0,0,0,0,0,0,0,0,0,0,0,0,0,0,0,0,0,0,0,0,0,0,0,0,0,0,0,0,0,0,0,0,0,0,0,0,0,0,0,0,0,0,0,0,0,0,0,0,0,0,0,0,0,0,0,0]
[null,"Step 3",0,0,0,0,0,0,0,0,0,0,0,0,0,0,0,0,0,0,0,0,0,0,0,0,0,0,0,0,0,0,0,0,0,0,0,0,0,0,0,0,0,0,0,0,0,0,0,0,0,0,0,0,0,0,0,0,0,0,0,0]
[null,"Step 4",0,0,0,0,0,0,0,0,0,0,0,0,0,0,0,0,0,0,0,0,0,0,0,0,0,0,0,0,0,0,0,0,0,0,0,0,0,0,0,0,0,0,0,0,0,0,0,0,0,0,0,0,0,0,0,0,0,0,0,0]
[null,"Step 5",0,0,0,0,0,0,0,0,0,0,0,0,0,0,0,0,0,0,0,0,0,0,0,0,0,0,0,0,0,0,0,0,0,0,0,0,0,0,0,0,0,0,0,0,0,0,0,0,0,0,0,0,0,0,0,0,0,0,0,0]
[null,"Step 6",0,0,0,0,0,0,0,0,0,0,0,0,0,0,0,0,0,0,0,0,0,0,0,0,0,0,0,0,0,0,0,0,0,0,0,0,0,0,0,0,0,0,0,0,0,0,0,0,0,0,0,0,0,0,0,0,0,0,0,0]
[null,"Step 7",0,0,0,0,0,0,0,0,0,0,0,0,0,0,0,0,0,0,0,0,0,0,0,0,0,0,0,0,0,0,0,0,0,0,0,0,0,0,0,0,0,0,0,0,0,0,0,0,0,0,0,0,0,0,0,0,0,0,0,0]
[null,"Step 8",0,0,0,0,0,0,0,0,0,0,0,0,0,0,0,0,0,0,0,0,0,0,0,0,0,0,0,0,0,0,0,0,0,0,0,0,0,0,0,0,0,0,0,0,0,0,0,0,0,0,0,0,0,0,0,0,0,0,0,0]
[null,"Step 9",0,0,0,0,0,0,0,0,0,0,0,0,0,0,0,0,0,0,0,0,0,0,0,0,0,0,0,0,0,0,0,0,0,0,0,0,0,0,0,0,0,0,0,0,0,0,0,0,0,0,0,0,0,0,0,0,0,0,0,0]
[null,"Step 10",0,0,0,0,0,0,0,0,0,0,0,0,0,0,0,0,0,0,0,0,0,0,0,0,0,0,0,0,0,0,0,0,0,0,0,0,0,0,0,0,0,0,0,0,0,0,0,0,0,0,0,0,0,0,0,0,0,0,0,0]
[null,"Step 11",0,0,0,0,0,0,0,0,0,0,0,0,0,0,0,0,0,0,0,0,0,0,0,0,0,0,0,0,0,0,0,0,0,0,0,0,0,0,0,0,0,0,0,0,0,0,0,0,0,0,0,0,0,0,0,0,0,0,0,0]
[null,"Step 12",0,0,0,0,0,0,0,0,0,0,0,0,0,0,0,0,0,0,0,0,0,0,0,0,0,0,0,0,0,0,0,0,0,0,0,0,0,0,0,0,0,0,0,0,0,0,0,0,0,0,0,0,0,0,0,0,0,0,0,0]
[null,"Step 13",0,0,0,0,0,0,0,0,0,0,0,0,0,0,0,0,0,0,0,0,0,0,0,0,0,0,0,0,0,0,0,0,0,0,0,0,0,0,0,0,0,0,0,0,0,0,0,0,0,0,0,0,0,0,0,0,0,0,0,0]
[null,"Step 14",0,0,0,0,0,0,0,0,0,0,0,0,0,0,0,0,0,0,0,0,0,0,0,0,0,0,0,0,0,0,0,0,0,0,0,0,0,0,0,0,0,0,0,0,0,0,0,0,0,0,0,0,0,0,0,0,0,0,0,0]
[null,"Step 15",0,0,0,0,0,0,0,0,0,0,0,0,0,0,0,0,0,0,0,0,0,0,0,0,0,0,0,0,0,0,0,0,0,0,0,0,0,0,0,0,0,0,0,0,0,0,0,0,0,0,0,0,0,0,0,0,0,0,0,0]
[null,"Step 16",0,0,0,0,0,0,0,0,0,0,0,0,0,0,0,0,0,0,0,0,0,0,0,0,0,0,0,0,0,0,0,0,0,0,0,0,0,0,0,0,0,0,0,0,0,0,0,0,0,0,0,0,0,0,0,0,0,0,0,0]
[null,"Step 17",0,0,0,0,0,0,0,0,0,0,0,0,0,0,0,0,0,0,0,0,0,0,0,0,0,0,0,0,0,0,0,0,0,0,0,0,0,0,0,0,0,0,0,0,0,0,0,0,0,0,0,0,0,0,0,0,0,0,0,0]
[null,"Step 18",0,0,0,0,0,0,0,0,0,0,0,0,0,0,0,0,0,0,0,0,0,0,0,0,0,0,0,0,0,0,0,0,0,0,0,0,0,0,0,0,0,0,0,0,0,0,0,0,0,0,0,0,0,0,0,0,0,0,0,0]
[null,"Step 19",0,0,0,0,0,0,0,0,0,0,0,0,0,0,0,0,0,0,0,0,0,0,0,0,0,0,0,0,0,0,0,0,0,0,0,0,0,0,0,0,0,0,0,0,0,0,0,0,0,0,0,0,0,0,0,0,0,0,0,0]
[null,"Step 20",0,0,0,0,0,0,0,0,0,0,0,0,0,0,0,0,0,0,0,0,0,0,0,0,0,0,0,0,0,0,0,0,0,0,0,0,0,0,0,0,0,0,0,0,0,0,0,0,0,0,0,0,0,0,0,0,0,0,0,0]
[]
["Hatfield Moor (Storage)"]
[]
["Quarter",null,{"$f":"First_quarter","v":"2020-10-01"},{"$f":"DATE(YEAR(C207),MONTH(C207)+1,1)","v":"2021-01-01"},{"$f":"DATE(YEAR(D207),MONTH(D207)+1,1)","v":"2021-04-01"},{"$f":"DATE(YEAR(E207),MONTH(E207)+1,1)","v":"2021-07-01"},{"$f":"DATE(YEAR(F207),MONTH(F207)+1,1)","v":"2021-10-01"},{"$f":"DATE(YEAR(G207),MONTH(G207)+1,1)","v":"2022-01-01"},{"$f":"DATE(YEAR(H207),MONTH(H207)+1,1)","v":"2022-04-01"},{"$f":"DATE(YEAR(I207),MONTH(I207)+1,1)","v":"2022-07-01"},{"$f":"DATE(YEAR(J207),MONTH(J207)+1,1)","v":"2022-10-01"},{"$f":"DATE(YEAR(K207),MONTH(K207)+1,1)","v":"2023-01-01"},{"$f":"DATE(YEAR(L207),MONTH(L207)+1,1)","v":"2023-04-01"},{"$f":"DATE(YEAR(M207),MONTH(M207)+1,1)","v":"2023-07-01"},{"$f":"DATE(YEAR(N207),MONTH(N207)+1,1)","v":"2023-10-01"},{"$f":"DATE(YEAR(O207),MONTH(O207)+1,1)","v":"2024-01-01"},{"$f":"DATE(YEAR(P207),MONTH(P207)+1,1)","v":"2024-04-01"},{"$f":"DATE(YEAR(Q207),MONTH(Q207)+1,1)","v":"2024-07-01"},{"$f":"DATE(YEAR(R207),MONTH(R207)+1,1)","v":"2024-10-01"},{"$f":"DATE(YEAR(S207),MONTH(S207)+1,1)","v":"2025-01-01"},{"$f":"DATE(YEAR(T207),MONTH(T207)+1,1)","v":"2025-04-01"},{"$f":"DATE(YEAR(U207),MONTH(U207)+1,1)","v":"2025-07-01"},{"$f":"DATE(YEAR(V207),MONTH(V207)+1,1)","v":"2025-10-01"},{"$f":"DATE(YEAR(W207),MONTH(W207)+1,1)","v":"2026-01-01"},{"$f":"DATE(YEAR(X207),MONTH(X207)+1,1)","v":"2026-04-01"},{"$f":"DATE(YEAR(Y207),MONTH(Y207)+1,1)","v":"2026-07-01"},{"$f":"DATE(YEAR(Z207),MONTH(Z207)+1,1)","v":"2026-10-01"},{"$f":"DATE(YEAR(AA207),MONTH(AA207)+1,1)","v":"2027-01-01"},{"$f":"DATE(YEAR(AB207),MONTH(AB207)+1,1)","v":"2027-04-01"},{"$f":"DATE(YEAR(AC207),MONTH(AC207)+1,1)","v":"2027-07-01"},{"$f":"DATE(YEAR(AD207),MONTH(AD207)+1,1)","v":"2027-10-01"},{"$f":"DATE(YEAR(AE207),MONTH(AE207)+1,1)","v":"2028-01-01"},{"$f":"DATE(YEAR(AF207),MONTH(AF207)+1,1)","v":"2028-04-01"},{"$f":"DATE(YEAR(AG207),MONTH(AG207)+1,1)","v":"2028-07-01"},{"$f":"DATE(YEAR(AH207),MONTH(AH207)+1,1)","v":"2028-10-01"},{"$f":"DATE(YEAR(AI207),MONTH(AI207)+1,1)","v":"2029-01-01"},{"$f":"DATE(YEAR(AJ207),MONTH(AJ207)+1,1)","v":"2029-04-01"},{"$f":"DATE(YEAR(AK207),MONTH(AK207)+1,1)","v":"2029-07-01"},{"$f":"DATE(YEAR(AL207),MONTH(AL207)+1,1)","v":"2029-10-01"},{"$f":"DATE(YEAR(AM207),MONTH(AM207)+1,1)","v":"2030-01-01"},{"$f":"DATE(YEAR(AN207),MONTH(AN207)+1,1)","v":"2030-04-01"},{"$f":"DATE(YEAR(AO207),MONTH(AO207)+1,1)","v":"2030-07-01"},{"$f":"DATE(YEAR(AP207),MONTH(AP207)+1,1)","v":"2030-10-01"},{"$f":"DATE(YEAR(AQ207),MONTH(AQ207)+1,1)","v":"2031-01-01"},{"$f":"DATE(YEAR(AR207),MONTH(AR207)+1,1)","v":"2031-04-01"},{"$f":"DATE(YEAR(AS207),MONTH(AS207)+1,1)","v":"2031-07-01"},{"$f":"DATE(YEAR(AT207),MONTH(AT207)+1,1)","v":"2031-10-01"},{"$f":"DATE(YEAR(AU207),MONTH(AU207)+1,1)","v":"2032-01-01"},{"$f":"DATE(YEAR(AV207),MONTH(AV207)+1,1)","v":"2032-04-01"},{"$f":"DATE(YEAR(AW207),MONTH(AW207)+1,1)","v":"2032-07-01"},{"$f":"DATE(YEAR(AX207),MONTH(AX207)+1,1)","v":"2032-10-01"},{"$f":"DATE(YEAR(AY207),MONTH(AY207)+1,1)","v":"2033-01-01"},{"$f":"DATE(YEAR(AZ207),MONTH(AZ207)+1,1)","v":"2033-04-01"},{"$f":"DATE(YEAR(BA207),MONTH(BA207)+1,1)","v":"2033-07-01"},{"$f":"DATE(YEAR(BB207),MONTH(BB207)+1,1)","v":"2033-10-01"},{"$f":"DATE(YEAR(BC207),MONTH(BC207)+1,1)","v":"2034-01-01"},{"$f":"DATE(YEAR(BD207),MONTH(BD207)+1,1)","v":"2034-04-01"},{"$f":"DATE(YEAR(BE207),MONTH(BE207)+1,1)","v":"2034-07-01"},{"$f":"DATE(YEAR(BF207),MONTH(BF207)+1,1)","v":"2034-10-01"},{"$f":"DATE(YEAR(BG207),MONTH(BG207)+1,1)","v":"2035-01-01"},{"$f":"DATE(YEAR(BH207),MONTH(BH207)+1,1)","v":"2035-04-01"},{"$f":"DATE(YEAR(BI207),MONTH(BI207)+1,1)","v":"2035-07-01"}]
[null,null,{"$f":"DATE(YEAR(C206),MONTH(C206)+2,1)","v":"2020-12-01"},"2021-03-01","2021-06-01","2021-09-01","2021-12-01","2022-03-01","2022-06-01","2022-09-01","2022-12-01","2023-03-01","2023-06-01","2023-09-01","2023-12-01","2024-03-01","2024-06-01","2024-09-01","2024-12-01","2025-03-01","2025-06-01","2025-09-01","2025-12-01","2026-03-01","2026-06-01","2026-09-01","2026-12-01","2027-03-01","2027-06-01","2027-09-01","2027-12-01","2028-03-01","2028-06-01","2028-09-01","2028-12-01","2029-03-01","2029-06-01","2029-09-01","2029-12-01","2030-03-01","2030-06-01","2030-09-01","2030-12-01","2031-03-01","2031-06-01","2031-09-01","2031-12-01","2032-03-01","2032-06-01","2032-09-01","2032-12-01","2033-03-01","2033-06-01","2033-09-01","2033-12-01","2034-03-01","2034-06-01","2034-09-01","2034-12-01","2035-03-01","2035-06-01","2035-09-01"]
["Quantity bid (GWh/day)"]
[]
["Base",null,0,0,0,0,0,0,0,0,0,0,0,0,0,0,0,0,0,0,0,0,0,0,0,0,0,0,0,0,0,0,0,0,0,0,0,0,0,0,0,0,0,0,0,0,0,0,0,0,0,0,0,0,0,0,0,0,0,0,0,0]
[null,"Step 1",0,0,0,0,0,0,0,0,0,0,0,0,0,0,0,0,0,0,0,0,0,0,0,0,0,0,0,0,0,0,0,0,0,0,0,0,0,0,0,0,0,0,0,0,0,0,0,0,0,0,0,0,0,0,0,0,0,0,0,0]
[null,"Step 2",0,0,0,0,0,0,0,0,0,0,0,0,0,0,0,0,0,0,0,0,0,0,0,0,0,0,0,0,0,0,0,0,0,0,0,0,0,0,0,0,0,0,0,0,0,0,0,0,0,0,0,0,0,0,0,0,0,0,0,0]
[null,"Step 3",0,0,0,0,0,0,0,0,0,0,0,0,0,0,0,0,0,0,0,0,0,0,0,0,0,0,0,0,0,0,0,0,0,0,0,0,0,0,0,0,0,0,0,0,0,0,0,0,0,0,0,0,0,0,0,0,0,0,0,0]
[null,"Step 4",0,0,0,0,0,0,0,0,0,0,0,0,0,0,0,0,0,0,0,0,0,0,0,0,0,0,0,0,0,0,0,0,0,0,0,0,0,0,0,0,0,0,0,0,0,0,0,0,0,0,0,0,0,0,0,0,0,0,0,0]
[null,"Step 5",0,0,0,0,0,0,0,0,0,0,0,0,0,0,0,0,0,0,0,0,0,0,0,0,0,0,0,0,0,0,0,0,0,0,0,0,0,0,0,0,0,0,0,0,0,0,0,0,0,0,0,0,0,0,0,0,0,0,0,0]
[null,"Step 6",0,0,0,0,0,0,0,0,0,0,0,0,0,0,0,0,0,0,0,0,0,0,0,0,0,0,0,0,0,0,0,0,0,0,0,0,0,0,0,0,0,0,0,0,0,0,0,0,0,0,0,0,0,0,0,0,0,0,0,0]
[null,"Step 7",0,0,0,0,0,0,0,0,0,0,0,0,0,0,0,0,0,0,0,0,0,0,0,0,0,0,0,0,0,0,0,0,0,0,0,0,0,0,0,0,0,0,0,0,0,0,0,0,0,0,0,0,0,0,0,0,0,0,0,0]
[null,"Step 8",0,0,0,0,0,0,0,0,0,0,0,0,0,0,0,0,0,0,0,0,0,0,0,0,0,0,0,0,0,0,0,0,0,0,0,0,0,0,0,0,0,0,0,0,0,0,0,0,0,0,0,0,0,0,0,0,0,0,0,0]
[null,"Step 9",0,0,0,0,0,0,0,0,0,0,0,0,0,0,0,0,0,0,0,0,0,0,0,0,0,0,0,0,0,0,0,0,0,0,0,0,0,0,0,0,0,0,0,0,0,0,0,0,0,0,0,0,0,0,0,0,0,0,0,0]
[null,"Step 10",0,0,0,0,0,0,0,0,0,0,0,0,0,0,0,0,0,0,0,0,0,0,0,0,0,0,0,0,0,0,0,0,0,0,0,0,0,0,0,0,0,0,0,0,0,0,0,0,0,0,0,0,0,0,0,0,0,0,0,0]
[null,"Step 11",0,0,0,0,0,0,0,0,0,0,0,0,0,0,0,0,0,0,0,0,0,0,0,0,0,0,0,0,0,0,0,0,0,0,0,0,0,0,0,0,0,0,0,0,0,0,0,0,0,0,0,0,0,0,0,0,0,0,0,0]
[null,"Step 12",0,0,0,0,0,0,0,0,0,0,0,0,0,0,0,0,0,0,0,0,0,0,0,0,0,0,0,0,0,0,0,0,0,0,0,0,0,0,0,0,0,0,0,0,0,0,0,0,0,0,0,0,0,0,0,0,0,0,0,0]
[null,"Step 13",0,0,0,0,0,0,0,0,0,0,0,0,0,0,0,0,0,0,0,0,0,0,0,0,0,0,0,0,0,0,0,0,0,0,0,0,0,0,0,0,0,0,0,0,0,0,0,0,0,0,0,0,0,0,0,0,0,0,0,0]
[null,"Step 14",0,0,0,0,0,0,0,0,0,0,0,0,0,0,0,0,0,0,0,0,0,0,0,0,0,0,0,0,0,0,0,0,0,0,0,0,0,0,0,0,0,0,0,0,0,0,0,0,0,0,0,0,0,0,0,0,0,0,0,0]
[null,"Step 15",0,0,0,0,0,0,0,0,0,0,0,0,0,0,0,0,0,0,0,0,0,0,0,0,0,0,0,0,0,0,0,0,0,0,0,0,0,0,0,0,0,0,0,0,0,0,0,0,0,0,0,0,0,0,0,0,0,0,0,0]
[null,"Step 16",0,0,0,0,0,0,0,0,0,0,0,0,0,0,0,0,0,0,0,0,0,0,0,0,0,0,0,0,0,0,0,0,0,0,0,0,0,0,0,0,0,0,0,0,0,0,0,0,0,0,0,0,0,0,0,0,0,0,0,0]
[null,"Step 17",0,0,0,0,0,0,0,0,0,0,0,0,0,0,0,0,0,0,0,0,0,0,0,0,0,0,0,0,0,0,0,0,0,0,0,0,0,0,0,0,0,0,0,0,0,0,0,0,0,0,0,0,0,0,0,0,0,0,0,0]
[null,"Step 18",0,0,0,0,0,0,0,0,0,0,0,0,0,0,0,0,0,0,0,0,0,0,0,0,0,0,0,0,0,0,0,0,0,0,0,0,0,0,0,0,0,0,0,0,0,0,0,0,0,0,0,0,0,0,0,0,0,0,0,0]
[null,"Step 19",0,0,0,0,0,0,0,0,0,0,0,0,0,0,0,0,0,0,0,0,0,0,0,0,0,0,0,0,0,0,0,0,0,0,0,0,0,0,0,0,0,0,0,0,0,0,0,0,0,0,0,0,0,0,0,0,0,0,0,0]
[null,"Step 20",0,0,0,0,0,0,0,0,0,0,0,0,0,0,0,0,0,0,0,0,0,0,0,0,0,0,0,0,0,0,0,0,0,0,0,0,0,0,0,0,0,0,0,0,0,0,0,0,0,0,0,0,0,0,0,0,0,0,0,0]
[]
["Wytch Farm"]
[]
["Quarter",null,{"$f":"First_quarter","v":"2020-10-01"},{"$f":"DATE(YEAR(C235),MONTH(C235)+1,1)","v":"2021-01-01"},{"$f":"DATE(YEAR(D235),MONTH(D235)+1,1)","v":"2021-04-01"},{"$f":"DATE(YEAR(E235),MONTH(E235)+1,1)","v":"2021-07-01"},{"$f":"DATE(YEAR(F235),MONTH(F235)+1,1)","v":"2021-10-01"},{"$f":"DATE(YEAR(G235),MONTH(G235)+1,1)","v":"2022-01-01"},{"$f":"DATE(YEAR(H235),MONTH(H235)+1,1)","v":"2022-04-01"},{"$f":"DATE(YEAR(I235),MONTH(I235)+1,1)","v":"2022-07-01"},{"$f":"DATE(YEAR(J235),MONTH(J235)+1,1)","v":"2022-10-01"},{"$f":"DATE(YEAR(K235),MONTH(K235)+1,1)","v":"2023-01-01"},{"$f":"DATE(YEAR(L235),MONTH(L235)+1,1)","v":"2023-04-01"},{"$f":"DATE(YEAR(M235),MONTH(M235)+1,1)","v":"2023-07-01"},{"$f":"DATE(YEAR(N235),MONTH(N235)+1,1)","v":"2023-10-01"},{"$f":"DATE(YEAR(O235),MONTH(O235)+1,1)","v":"2024-01-01"},{"$f":"DATE(YEAR(P235),MONTH(P235)+1,1)","v":"2024-04-01"},{"$f":"DATE(YEAR(Q235),MONTH(Q235)+1,1)","v":"2024-07-01"},{"$f":"DATE(YEAR(R235),MONTH(R235)+1,1)","v":"2024-10-01"},{"$f":"DATE(YEAR(S235),MONTH(S235)+1,1)","v":"2025-01-01"},{"$f":"DATE(YEAR(T235),MONTH(T235)+1,1)","v":"2025-04-01"},{"$f":"DATE(YEAR(U235),MONTH(U235)+1,1)","v":"2025-07-01"},{"$f":"DATE(YEAR(V235),MONTH(V235)+1,1)","v":"2025-10-01"},{"$f":"DATE(YEAR(W235),MONTH(W235)+1,1)","v":"2026-01-01"},{"$f":"DATE(YEAR(X235),MONTH(X235)+1,1)","v":"2026-04-01"},{"$f":"DATE(YEAR(Y235),MONTH(Y235)+1,1)","v":"2026-07-01"},{"$f":"DATE(YEAR(Z235),MONTH(Z235)+1,1)","v":"2026-10-01"},{"$f":"DATE(YEAR(AA235),MONTH(AA235)+1,1)","v":"2027-01-01"},{"$f":"DATE(YEAR(AB235),MONTH(AB235)+1,1)","v":"2027-04-01"},{"$f":"DATE(YEAR(AC235),MONTH(AC235)+1,1)","v":"2027-07-01"},{"$f":"DATE(YEAR(AD235),MONTH(AD235)+1,1)","v":"2027-10-01"},{"$f":"DATE(YEAR(AE235),MONTH(AE235)+1,1)","v":"2028-01-01"},{"$f":"DATE(YEAR(AF235),MONTH(AF235)+1,1)","v":"2028-04-01"},{"$f":"DATE(YEAR(AG235),MONTH(AG235)+1,1)","v":"2028-07-01"},{"$f":"DATE(YEAR(AH235),MONTH(AH235)+1,1)","v":"2028-10-01"},{"$f":"DATE(YEAR(AI235),MONTH(AI235)+1,1)","v":"2029-01-01"},{"$f":"DATE(YEAR(AJ235),MONTH(AJ235)+1,1)","v":"2029-04-01"},{"$f":"DATE(YEAR(AK235),MONTH(AK235)+1,1)","v":"2029-07-01"},{"$f":"DATE(YEAR(AL235),MONTH(AL235)+1,1)","v":"2029-10-01"},{"$f":"DATE(YEAR(AM235),MONTH(AM235)+1,1)","v":"2030-01-01"},{"$f":"DATE(YEAR(AN235),MONTH(AN235)+1,1)","v":"2030-04-01"},{"$f":"DATE(YEAR(AO235),MONTH(AO235)+1,1)","v":"2030-07-01"},{"$f":"DATE(YEAR(AP235),MONTH(AP235)+1,1)","v":"2030-10-01"},{"$f":"DATE(YEAR(AQ235),MONTH(AQ235)+1,1)","v":"2031-01-01"},{"$f":"DATE(YEAR(AR235),MONTH(AR235)+1,1)","v":"2031-04-01"},{"$f":"DATE(YEAR(AS235),MONTH(AS235)+1,1)","v":"2031-07-01"},{"$f":"DATE(YEAR(AT235),MONTH(AT235)+1,1)","v":"2031-10-01"},{"$f":"DATE(YEAR(AU235),MONTH(AU235)+1,1)","v":"2032-01-01"},{"$f":"DATE(YEAR(AV235),MONTH(AV235)+1,1)","v":"2032-04-01"},{"$f":"DATE(YEAR(AW235),MONTH(AW235)+1,1)","v":"2032-07-01"},{"$f":"DATE(YEAR(AX235),MONTH(AX235)+1,1)","v":"2032-10-01"},{"$f":"DATE(YEAR(AY235),MONTH(AY235)+1,1)","v":"2033-01-01"},{"$f":"DATE(YEAR(AZ235),MONTH(AZ235)+1,1)","v":"2033-04-01"},{"$f":"DATE(YEAR(BA235),MONTH(BA235)+1,1)","v":"2033-07-01"},{"$f":"DATE(YEAR(BB235),MONTH(BB235)+1,1)","v":"2033-10-01"},{"$f":"DATE(YEAR(BC235),MONTH(BC235)+1,1)","v":"2034-01-01"},{"$f":"DATE(YEAR(BD235),MONTH(BD235)+1,1)","v":"2034-04-01"},{"$f":"DATE(YEAR(BE235),MONTH(BE235)+1,1)","v":"2034-07-01"},{"$f":"DATE(YEAR(BF235),MONTH(BF235)+1,1)","v":"2034-10-01"},{"$f":"DATE(YEAR(BG235),MONTH(BG235)+1,1)","v":"2035-01-01"},{"$f":"DATE(YEAR(BH235),MONTH(BH235)+1,1)","v":"2035-04-01"},{"$f":"DATE(YEAR(BI235),MONTH(BI235)+1,1)","v":"2035-07-01"}]
[null,null,{"$f":"DATE(YEAR(C234),MONTH(C234)+2,1)","v":"2020-12-01"},"2021-03-01","2021-06-01","2021-09-01","2021-12-01","2022-03-01","2022-06-01","2022-09-01","2022-12-01","2023-03-01","2023-06-01","2023-09-01","2023-12-01","2024-03-01","2024-06-01","2024-09-01","2024-12-01","2025-03-01","2025-06-01","2025-09-01","2025-12-01","2026-03-01","2026-06-01","2026-09-01","2026-12-01","2027-03-01","2027-06-01","2027-09-01","2027-12-01","2028-03-01","2028-06-01","2028-09-01","2028-12-01","2029-03-01","2029-06-01","2029-09-01","2029-12-01","2030-03-01","2030-06-01","2030-09-01","2030-12-01","2031-03-01","2031-06-01","2031-09-01","2031-12-01","2032-03-01","2032-06-01","2032-09-01","2032-12-01","2033-03-01","2033-06-01","2033-09-01","2033-12-01","2034-03-01","2034-06-01","2034-09-01","2034-12-01","2035-03-01","2035-06-01","2035-09-01"]
["Quantity bid (GWh/day)"]
[]
["Base",null,0,0,0,0,0,0,0,0,0,0,0,0,0,0,0,0,0,0,0,0,0,0,0,0,0,0,0,0,0,0,0,0,0,0,0,0,0,0,0,0,0,0,0,0,0,0,0,0,0,0,0,0,0,0,0,0,0,0,0,0]
[null,"Step 1",0,0,0,0,0,0,0,0,0,0,0,0,0,0,0,0,0,0,0,0,0,0,0,0,0,0,0,0,0,0,0,0,0,0,0,0,0,0,0,0,0,0,0,0,0,0,0,0,0,0,0,0,0,0,0,0,0,0,0,0]
[null,"Step 2",0,0,0,0,0,0,0,0,0,0,0,0,0,0,0,0,0,0,0,0,0,0,0,0,0,0,0,0,0,0,0,0,0,0,0,0,0,0,0,0,0,0,0,0,0,0,0,0,0,0,0,0,0,0,0,0,0,0,0,0]
[null,"Step 3",0,0,0,0,0,0,0,0,0,0,0,0,0,0,0,0,0,0,0,0,0,0,0,0,0,0,0,0,0,0,0,0,0,0,0,0,0,0,0,0,0,0,0,0,0,0,0,0,0,0,0,0,0,0,0,0,0,0,0,0]
[null,"Step 4",0,0,0,0,0,0,0,0,0,0,0,0,0,0,0,0,0,0,0,0,0,0,0,0,0,0,0,0,0,0,0,0,0,0,0,0,0,0,0,0,0,0,0,0,0,0,0,0,0,0,0,0,0,0,0,0,0,0,0,0]
[null,"Step 5",0,0,0,0,0,0,0,0,0,0,0,0,0,0,0,0,0,0,0,0,0,0,0,0,0,0,0,0,0,0,0,0,0,0,0,0,0,0,0,0,0,0,0,0,0,0,0,0,0,0,0,0,0,0,0,0,0,0,0,0]
[null,"Step 6",0,0,0,0,0,0,0,0,0,0,0,0,0,0,0,0,0,0,0,0,0,0,0,0,0,0,0,0,0,0,0,0,0,0,0,0,0,0,0,0,0,0,0,0,0,0,0,0,0,0,0,0,0,0,0,0,0,0,0,0]
[null,"Step 7",0,0,0,0,0,0,0,0,0,0,0,0,0,0,0,0,0,0,0,0,0,0,0,0,0,0,0,0,0,0,0,0,0,0,0,0,0,0,0,0,0,0,0,0,0,0,0,0,0,0,0,0,0,0,0,0,0,0,0,0]
[null,"Step 8",0,0,0,0,0,0,0,0,0,0,0,0,0,0,0,0,0,0,0,0,0,0,0,0,0,0,0,0,0,0,0,0,0,0,0,0,0,0,0,0,0,0,0,0,0,0,0,0,0,0,0,0,0,0,0,0,0,0,0,0]
[null,"Step 9",0,0,0,0,0,0,0,0,0,0,0,0,0,0,0,0,0,0,0,0,0,0,0,0,0,0,0,0,0,0,0,0,0,0,0,0,0,0,0,0,0,0,0,0,0,0,0,0,0,0,0,0,0,0,0,0,0,0,0,0]
[null,"Step 10",0,0,0,0,0,0,0,0,0,0,0,0,0,0,0,0,0,0,0,0,0,0,0,0,0,0,0,0,0,0,0,0,0,0,0,0,0,0,0,0,0,0,0,0,0,0,0,0,0,0,0,0,0,0,0,0,0,0,0,0]
[null,"Step 11",0,0,0,0,0,0,0,0,0,0,0,0,0,0,0,0,0,0,0,0,0,0,0,0,0,0,0,0,0,0,0,0,0,0,0,0,0,0,0,0,0,0,0,0,0,0,0,0,0,0,0,0,0,0,0,0,0,0,0,0]
[null,"Step 12",0,0,0,0,0,0,0,0,0,0,0,0,0,0,0,0,0,0,0,0,0,0,0,0,0,0,0,0,0,0,0,0,0,0,0,0,0,0,0,0,0,0,0,0,0,0,0,0,0,0,0,0,0,0,0,0,0,0,0,0]
[null,"Step 13",0,0,0,0,0,0,0,0,0,0,0,0,0,0,0,0,0,0,0,0,0,0,0,0,0,0,0,0,0,0,0,0,0,0,0,0,0,0,0,0,0,0,0,0,0,0,0,0,0,0,0,0,0,0,0,0,0,0,0,0]
[null,"Step 14",0,0,0,0,0,0,0,0,0,0,0,0,0,0,0,0,0,0,0,0,0,0,0,0,0,0,0,0,0,0,0,0,0,0,0,0,0,0,0,0,0,0,0,0,0,0,0,0,0,0,0,0,0,0,0,0,0,0,0,0]
[null,"Step 15",0,0,0,0,0,0,0,0,0,0,0,0,0,0,0,0,0,0,0,0,0,0,0,0,0,0,0,0,0,0,0,0,0,0,0,0,0,0,0,0,0,0,0,0,0,0,0,0,0,0,0,0,0,0,0,0,0,0,0,0]
[null,"Step 16",0,0,0,0,0,0,0,0,0,0,0,0,0,0,0,0,0,0,0,0,0,0,0,0,0,0,0,0,0,0,0,0,0,0,0,0,0,0,0,0,0,0,0,0,0,0,0,0,0,0,0,0,0,0,0,0,0,0,0,0]
[null,"Step 17",0,0,0,0,0,0,0,0,0,0,0,0,0,0,0,0,0,0,0,0,0,0,0,0,0,0,0,0,0,0,0,0,0,0,0,0,0,0,0,0,0,0,0,0,0,0,0,0,0,0,0,0,0,0,0,0,0,0,0,0]
[null,"Step 18",0,0,0,0,0,0,0,0,0,0,0,0,0,0,0,0,0,0,0,0,0,0,0,0,0,0,0,0,0,0,0,0,0,0,0,0,0,0,0,0,0,0,0,0,0,0,0,0,0,0,0,0,0,0,0,0,0,0,0,0]
[null,"Step 19",0,0,0,0,0,0,0,0,0,0,0,0,0,0,0,0,0,0,0,0,0,0,0,0,0,0,0,0,0,0,0,0,0,0,0,0,0,0,0,0,0,0,0,0,0,0,0,0,0,0,0,0,0,0,0,0,0,0,0,0]
[null,"Step 20",0,0,0,0,0,0,0,0,0,0,0,0,0,0,0,0,0,0,0,0,0,0,0,0,0,0,0,0,0,0,0,0,0,0,0,0,0,0,0,0,0,0,0,0,0,0,0,0,0,0,0,0,0,0,0,0,0,0,0,0]
[]
["Burton Point"]
[]
["Quarter",null,{"$f":"First_quarter","v":"2020-10-01"},{"$f":"DATE(YEAR(C263),MONTH(C263)+1,1)","v":"2021-01-01"},{"$f":"DATE(YEAR(D263),MONTH(D263)+1,1)","v":"2021-04-01"},{"$f":"DATE(YEAR(E263),MONTH(E263)+1,1)","v":"2021-07-01"},{"$f":"DATE(YEAR(F263),MONTH(F263)+1,1)","v":"2021-10-01"},{"$f":"DATE(YEAR(G263),MONTH(G263)+1,1)","v":"2022-01-01"},{"$f":"DATE(YEAR(H263),MONTH(H263)+1,1)","v":"2022-04-01"},{"$f":"DATE(YEAR(I263),MONTH(I263)+1,1)","v":"2022-07-01"},{"$f":"DATE(YEAR(J263),MONTH(J263)+1,1)","v":"2022-10-01"},{"$f":"DATE(YEAR(K263),MONTH(K263)+1,1)","v":"2023-01-01"},{"$f":"DATE(YEAR(L263),MONTH(L263)+1,1)","v":"2023-04-01"},{"$f":"DATE(YEAR(M263),MONTH(M263)+1,1)","v":"2023-07-01"},{"$f":"DATE(YEAR(N263),MONTH(N263)+1,1)","v":"2023-10-01"},{"$f":"DATE(YEAR(O263),MONTH(O263)+1,1)","v":"2024-01-01"},{"$f":"DATE(YEAR(P263),MONTH(P263)+1,1)","v":"2024-04-01"},{"$f":"DATE(YEAR(Q263),MONTH(Q263)+1,1)","v":"2024-07-01"},{"$f":"DATE(YEAR(R263),MONTH(R263)+1,1)","v":"2024-10-01"},{"$f":"DATE(YEAR(S263),MONTH(S263)+1,1)","v":"2025-01-01"},{"$f":"DATE(YEAR(T263),MONTH(T263)+1,1)","v":"2025-04-01"},{"$f":"DATE(YEAR(U263),MONTH(U263)+1,1)","v":"2025-07-01"},{"$f":"DATE(YEAR(V263),MONTH(V263)+1,1)","v":"2025-10-01"},{"$f":"DATE(YEAR(W263),MONTH(W263)+1,1)","v":"2026-01-01"},{"$f":"DATE(YEAR(X263),MONTH(X263)+1,1)","v":"2026-04-01"},{"$f":"DATE(YEAR(Y263),MONTH(Y263)+1,1)","v":"2026-07-01"},{"$f":"DATE(YEAR(Z263),MONTH(Z263)+1,1)","v":"2026-10-01"},{"$f":"DATE(YEAR(AA263),MONTH(AA263)+1,1)","v":"2027-01-01"},{"$f":"DATE(YEAR(AB263),MONTH(AB263)+1,1)","v":"2027-04-01"},{"$f":"DATE(YEAR(AC263),MONTH(AC263)+1,1)","v":"2027-07-01"},{"$f":"DATE(YEAR(AD263),MONTH(AD263)+1,1)","v":"2027-10-01"},{"$f":"DATE(YEAR(AE263),MONTH(AE263)+1,1)","v":"2028-01-01"},{"$f":"DATE(YEAR(AF263),MONTH(AF263)+1,1)","v":"2028-04-01"},{"$f":"DATE(YEAR(AG263),MONTH(AG263)+1,1)","v":"2028-07-01"},{"$f":"DATE(YEAR(AH263),MONTH(AH263)+1,1)","v":"2028-10-01"},{"$f":"DATE(YEAR(AI263),MONTH(AI263)+1,1)","v":"2029-01-01"},{"$f":"DATE(YEAR(AJ263),MONTH(AJ263)+1,1)","v":"2029-04-01"},{"$f":"DATE(YEAR(AK263),MONTH(AK263)+1,1)","v":"2029-07-01"},{"$f":"DATE(YEAR(AL263),MONTH(AL263)+1,1)","v":"2029-10-01"},{"$f":"DATE(YEAR(AM263),MONTH(AM263)+1,1)","v":"2030-01-01"},{"$f":"DATE(YEAR(AN263),MONTH(AN263)+1,1)","v":"2030-04-01"},{"$f":"DATE(YEAR(AO263),MONTH(AO263)+1,1)","v":"2030-07-01"},{"$f":"DATE(YEAR(AP263),MONTH(AP263)+1,1)","v":"2030-10-01"},{"$f":"DATE(YEAR(AQ263),MONTH(AQ263)+1,1)","v":"2031-01-01"},{"$f":"DATE(YEAR(AR263),MONTH(AR263)+1,1)","v":"2031-04-01"},{"$f":"DATE(YEAR(AS263),MONTH(AS263)+1,1)","v":"2031-07-01"},{"$f":"DATE(YEAR(AT263),MONTH(AT263)+1,1)","v":"2031-10-01"},{"$f":"DATE(YEAR(AU263),MONTH(AU263)+1,1)","v":"2032-01-01"},{"$f":"DATE(YEAR(AV263),MONTH(AV263)+1,1)","v":"2032-04-01"},{"$f":"DATE(YEAR(AW263),MONTH(AW263)+1,1)","v":"2032-07-01"},{"$f":"DATE(YEAR(AX263),MONTH(AX263)+1,1)","v":"2032-10-01"},{"$f":"DATE(YEAR(AY263),MONTH(AY263)+1,1)","v":"2033-01-01"},{"$f":"DATE(YEAR(AZ263),MONTH(AZ263)+1,1)","v":"2033-04-01"},{"$f":"DATE(YEAR(BA263),MONTH(BA263)+1,1)","v":"2033-07-01"},{"$f":"DATE(YEAR(BB263),MONTH(BB263)+1,1)","v":"2033-10-01"},{"$f":"DATE(YEAR(BC263),MONTH(BC263)+1,1)","v":"2034-01-01"},{"$f":"DATE(YEAR(BD263),MONTH(BD263)+1,1)","v":"2034-04-01"},{"$f":"DATE(YEAR(BE263),MONTH(BE263)+1,1)","v":"2034-07-01"},{"$f":"DATE(YEAR(BF263),MONTH(BF263)+1,1)","v":"2034-10-01"},{"$f":"DATE(YEAR(BG263),MONTH(BG263)+1,1)","v":"2035-01-01"},{"$f":"DATE(YEAR(BH263),MONTH(BH263)+1,1)","v":"2035-04-01"},{"$f":"DATE(YEAR(BI263),MONTH(BI263)+1,1)","v":"2035-07-01"}]
[null,null,{"$f":"DATE(YEAR(C262),MONTH(C262)+2,1)","v":"2020-12-01"},"2021-03-01","2021-06-01","2021-09-01","2021-12-01","2022-03-01","2022-06-01","2022-09-01","2022-12-01","2023-03-01","2023-06-01","2023-09-01","2023-12-01","2024-03-01","2024-06-01","2024-09-01","2024-12-01","2025-03-01","2025-06-01","2025-09-01","2025-12-01","2026-03-01","2026-06-01","2026-09-01","2026-12-01","2027-03-01","2027-06-01","2027-09-01","2027-12-01","2028-03-01","2028-06-01","2028-09-01","2028-12-01","2029-03-01","2029-06-01","2029-09-01","2029-12-01","2030-03-01","2030-06-01","2030-09-01","2030-12-01","2031-03-01","2031-06-01","2031-09-01","2031-12-01","2032-03-01","2032-06-01","2032-09-01","2032-12-01","2033-03-01","2033-06-01","2033-09-01","2033-12-01","2034-03-01","2034-06-01","2034-09-01","2034-12-01","2035-03-01","2035-06-01","2035-09-01"]
["Quantity bid (GWh/day)"]
[]
["Base",null,0,0,0,0,0,0,0,0,0,0,0,0,0,0,0,0,0,0,0,0,0,0,0,0,0,0,0,0,0,0,0,0,0,0,0,0,0,0,0,0,0,0,0,0,0,0,0,0,0,0,0,0,0,0,0,0,0,0,0,0]
[null,"Step 1",0,0,0,0,0,0,0,0,0,0,0,0,0,0,0,0,0,0,0,0,0,0,0,0,0,0,0,0,0,0,0,0,0,0,0,0,0,0,0,0,0,0,0,0,0,0,0,0,0,0,0,0,0,0,0,0,0,0,0,0]
[null,"Step 2",0,0,0,0,0,0,0,0,0,0,0,0,0,0,0,0,0,0,0,0,0,0,0,0,0,0,0,0,0,0,0,0,0,0,0,0,0,0,0,0,0,0,0,0,0,0,0,0,0,0,0,0,0,0,0,0,0,0,0,0]
[null,"Step 3",0,0,0,0,0,0,0,0,0,0,0,0,0,0,0,0,0,0,0,0,0,0,0,0,0,0,0,0,0,0,0,0,0,0,0,0,0,0,0,0,0,0,0,0,0,0,0,0,0,0,0,0,0,0,0,0,0,0,0,0]
[null,"Step 4",0,0,0,0,0,0,0,0,0,0,0,0,0,0,0,0,0,0,0,0,0,0,0,0,0,0,0,0,0,0,0,0,0,0,0,0,0,0,0,0,0,0,0,0,0,0,0,0,0,0,0,0,0,0,0,0,0,0,0,0]
[null,"Step 5",0,0,0,0,0,0,0,0,0,0,0,0,0,0,0,0,0,0,0,0,0,0,0,0,0,0,0,0,0,0,0,0,0,0,0,0,0,0,0,0,0,0,0,0,0,0,0,0,0,0,0,0,0,0,0,0,0,0,0,0]
[null,"Step 6",0,0,0,0,0,0,0,0,0,0,0,0,0,0,0,0,0,0,0,0,0,0,0,0,0,0,0,0,0,0,0,0,0,0,0,0,0,0,0,0,0,0,0,0,0,0,0,0,0,0,0,0,0,0,0,0,0,0,0,0]
[null,"Step 7",0,0,0,0,0,0,0,0,0,0,0,0,0,0,0,0,0,0,0,0,0,0,0,0,0,0,0,0,0,0,0,0,0,0,0,0,0,0,0,0,0,0,0,0,0,0,0,0,0,0,0,0,0,0,0,0,0,0,0,0]
[null,"Step 8",0,0,0,0,0,0,0,0,0,0,0,0,0,0,0,0,0,0,0,0,0,0,0,0,0,0,0,0,0,0,0,0,0,0,0,0,0,0,0,0,0,0,0,0,0,0,0,0,0,0,0,0,0,0,0,0,0,0,0,0]
[null,"Step 9",0,0,0,0,0,0,0,0,0,0,0,0,0,0,0,0,0,0,0,0,0,0,0,0,0,0,0,0,0,0,0,0,0,0,0,0,0,0,0,0,0,0,0,0,0,0,0,0,0,0,0,0,0,0,0,0,0,0,0,0]
[null,"Step 10",0,0,0,0,0,0,0,0,0,0,0,0,0,0,0,0,0,0,0,0,0,0,0,0,0,0,0,0,0,0,0,0,0,0,0,0,0,0,0,0,0,0,0,0,0,0,0,0,0,0,0,0,0,0,0,0,0,0,0,0]
[null,"Step 11",0,0,0,0,0,0,0,0,0,0,0,0,0,0,0,0,0,0,0,0,0,0,0,0,0,0,0,0,0,0,0,0,0,0,0,0,0,0,0,0,0,0,0,0,0,0,0,0,0,0,0,0,0,0,0,0,0,0,0,0]
[null,"Step 12",0,0,0,0,0,0,0,0,0,0,0,0,0,0,0,0,0,0,0,0,0,0,0,0,0,0,0,0,0,0,0,0,0,0,0,0,0,0,0,0,0,0,0,0,0,0,0,0,0,0,0,0,0,0,0,0,0,0,0,0]
[null,"Step 13",0,0,0,0,0,0,0,0,0,0,0,0,0,0,0,0,0,0,0,0,0,0,0,0,0,0,0,0,0,0,0,0,0,0,0,0,0,0,0,0,0,0,0,0,0,0,0,0,0,0,0,0,0,0,0,0,0,0,0,0]
[null,"Step 14",0,0,0,0,0,0,0,0,0,0,0,0,0,0,0,0,0,0,0,0,0,0,0,0,0,0,0,0,0,0,0,0,0,0,0,0,0,0,0,0,0,0,0,0,0,0,0,0,0,0,0,0,0,0,0,0,0,0,0,0]
[null,"Step 15",0,0,0,0,0,0,0,0,0,0,0,0,0,0,0,0,0,0,0,0,0,0,0,0,0,0,0,0,0,0,0,0,0,0,0,0,0,0,0,0,0,0,0,0,0,0,0,0,0,0,0,0,0,0,0,0,0,0,0,0]
[null,"Step 16",0,0,0,0,0,0,0,0,0,0,0,0,0,0,0,0,0,0,0,0,0,0,0,0,0,0,0,0,0,0,0,0,0,0,0,0,0,0,0,0,0,0,0,0,0,0,0,0,0,0,0,0,0,0,0,0,0,0,0,0]
[null,"Step 17",0,0,0,0,0,0,0,0,0,0,0,0,0,0,0,0,0,0,0,0,0,0,0,0,0,0,0,0,0,0,0,0,0,0,0,0,0,0,0,0,0,0,0,0,0,0,0,0,0,0,0,0,0,0,0,0,0,0,0,0]
[null,"Step 18",0,0,0,0,0,0,0,0,0,0,0,0,0,0,0,0,0,0,0,0,0,0,0,0,0,0,0,0,0,0,0,0,0,0,0,0,0,0,0,0,0,0,0,0,0,0,0,0,0,0,0,0,0,0,0,0,0,0,0,0]
[null,"Step 19",0,0,0,0,0,0,0,0,0,0,0,0,0,0,0,0,0,0,0,0,0,0,0,0,0,0,0,0,0,0,0,0,0,0,0,0,0,0,0,0,0,0,0,0,0,0,0,0,0,0,0,0,0,0,0,0,0,0,0,0]
[null,"Step 20",0,0,0,0,0,0,0,0,0,0,0,0,0,0,0,0,0,0,0,0,0,0,0,0,0,0,0,0,0,0,0,0,0,0,0,0,0,0,0,0,0,0,0,0,0,0,0,0,0,0,0,0,0,0,0,0,0,0,0,0]
[]
["Hole House Farm"]
[]
["Quarter",null,{"$f":"First_quarter","v":"2020-10-01"},{"$f":"DATE(YEAR(C291),MONTH(C291)+1,1)","v":"2021-01-01"},{"$f":"DATE(YEAR(D291),MONTH(D291)+1,1)","v":"2021-04-01"},{"$f":"DATE(YEAR(E291),MONTH(E291)+1,1)","v":"2021-07-01"},{"$f":"DATE(YEAR(F291),MONTH(F291)+1,1)","v":"2021-10-01"},{"$f":"DATE(YEAR(G291),MONTH(G291)+1,1)","v":"2022-01-01"},{"$f":"DATE(YEAR(H291),MONTH(H291)+1,1)","v":"2022-04-01"},{"$f":"DATE(YEAR(I291),MONTH(I291)+1,1)","v":"2022-07-01"},{"$f":"DATE(YEAR(J291),MONTH(J291)+1,1)","v":"2022-10-01"},{"$f":"DATE(YEAR(K291),MONTH(K291)+1,1)","v":"2023-01-01"},{"$f":"DATE(YEAR(L291),MONTH(L291)+1,1)","v":"2023-04-01"},{"$f":"DATE(YEAR(M291),MONTH(M291)+1,1)","v":"2023-07-01"},{"$f":"DATE(YEAR(N291),MONTH(N291)+1,1)","v":"2023-10-01"},{"$f":"DATE(YEAR(O291),MONTH(O291)+1,1)","v":"2024-01-01"},{"$f":"DATE(YEAR(P291),MONTH(P291)+1,1)","v":"2024-04-01"},{"$f":"DATE(YEAR(Q291),MONTH(Q291)+1,1)","v":"2024-07-01"},{"$f":"DATE(YEAR(R291),MONTH(R291)+1,1)","v":"2024-10-01"},{"$f":"DATE(YEAR(S291),MONTH(S291)+1,1)","v":"2025-01-01"},{"$f":"DATE(YEAR(T291),MONTH(T291)+1,1)","v":"2025-04-01"},{"$f":"DATE(YEAR(U291),MONTH(U291)+1,1)","v":"2025-07-01"},{"$f":"DATE(YEAR(V291),MONTH(V291)+1,1)","v":"2025-10-01"},{"$f":"DATE(YEAR(W291),MONTH(W291)+1,1)","v":"2026-01-01"},{"$f":"DATE(YEAR(X291),MONTH(X291)+1,1)","v":"2026-04-01"},{"$f":"DATE(YEAR(Y291),MONTH(Y291)+1,1)","v":"2026-07-01"},{"$f":"DATE(YEAR(Z291),MONTH(Z291)+1,1)","v":"2026-10-01"},{"$f":"DATE(YEAR(AA291),MONTH(AA291)+1,1)","v":"2027-01-01"},{"$f":"DATE(YEAR(AB291),MONTH(AB291)+1,1)","v":"2027-04-01"},{"$f":"DATE(YEAR(AC291),MONTH(AC291)+1,1)","v":"2027-07-01"},{"$f":"DATE(YEAR(AD291),MONTH(AD291)+1,1)","v":"2027-10-01"},{"$f":"DATE(YEAR(AE291),MONTH(AE291)+1,1)","v":"2028-01-01"},{"$f":"DATE(YEAR(AF291),MONTH(AF291)+1,1)","v":"2028-04-01"},{"$f":"DATE(YEAR(AG291),MONTH(AG291)+1,1)","v":"2028-07-01"},{"$f":"DATE(YEAR(AH291),MONTH(AH291)+1,1)","v":"2028-10-01"},{"$f":"DATE(YEAR(AI291),MONTH(AI291)+1,1)","v":"2029-01-01"},{"$f":"DATE(YEAR(AJ291),MONTH(AJ291)+1,1)","v":"2029-04-01"},{"$f":"DATE(YEAR(AK291),MONTH(AK291)+1,1)","v":"2029-07-01"},{"$f":"DATE(YEAR(AL291),MONTH(AL291)+1,1)","v":"2029-10-01"},{"$f":"DATE(YEAR(AM291),MONTH(AM291)+1,1)","v":"2030-01-01"},{"$f":"DATE(YEAR(AN291),MONTH(AN291)+1,1)","v":"2030-04-01"},{"$f":"DATE(YEAR(AO291),MONTH(AO291)+1,1)","v":"2030-07-01"},{"$f":"DATE(YEAR(AP291),MONTH(AP291)+1,1)","v":"2030-10-01"},{"$f":"DATE(YEAR(AQ291),MONTH(AQ291)+1,1)","v":"2031-01-01"},{"$f":"DATE(YEAR(AR291),MONTH(AR291)+1,1)","v":"2031-04-01"},{"$f":"DATE(YEAR(AS291),MONTH(AS291)+1,1)","v":"2031-07-01"},{"$f":"DATE(YEAR(AT291),MONTH(AT291)+1,1)","v":"2031-10-01"},{"$f":"DATE(YEAR(AU291),MONTH(AU291)+1,1)","v":"2032-01-01"},{"$f":"DATE(YEAR(AV291),MONTH(AV291)+1,1)","v":"2032-04-01"},{"$f":"DATE(YEAR(AW291),MONTH(AW291)+1,1)","v":"2032-07-01"},{"$f":"DATE(YEAR(AX291),MONTH(AX291)+1,1)","v":"2032-10-01"},{"$f":"DATE(YEAR(AY291),MONTH(AY291)+1,1)","v":"2033-01-01"},{"$f":"DATE(YEAR(AZ291),MONTH(AZ291)+1,1)","v":"2033-04-01"},{"$f":"DATE(YEAR(BA291),MONTH(BA291)+1,1)","v":"2033-07-01"},{"$f":"DATE(YEAR(BB291),MONTH(BB291)+1,1)","v":"2033-10-01"},{"$f":"DATE(YEAR(BC291),MONTH(BC291)+1,1)","v":"2034-01-01"},{"$f":"DATE(YEAR(BD291),MONTH(BD291)+1,1)","v":"2034-04-01"},{"$f":"DATE(YEAR(BE291),MONTH(BE291)+1,1)","v":"2034-07-01"},{"$f":"DATE(YEAR(BF291),MONTH(BF291)+1,1)","v":"2034-10-01"},{"$f":"DATE(YEAR(BG291),MONTH(BG291)+1,1)","v":"2035-01-01"},{"$f":"DATE(YEAR(BH291),MONTH(BH291)+1,1)","v":"2035-04-01"},{"$f":"DATE(YEAR(BI291),MONTH(BI291)+1,1)","v":"2035-07-01"}]
[null,null,{"$f":"DATE(YEAR(C290),MONTH(C290)+2,1)","v":"2020-12-01"},"2021-03-01","2021-06-01","2021-09-01","2021-12-01","2022-03-01","2022-06-01","2022-09-01","2022-12-01","2023-03-01","2023-06-01","2023-09-01","2023-12-01","2024-03-01","2024-06-01","2024-09-01","2024-12-01","2025-03-01","2025-06-01","2025-09-01","2025-12-01","2026-03-01","2026-06-01","2026-09-01","2026-12-01","2027-03-01","2027-06-01","2027-09-01","2027-12-01","2028-03-01","2028-06-01","2028-09-01","2028-12-01","2029-03-01","2029-06-01","2029-09-01","2029-12-01","2030-03-01","2030-06-01","2030-09-01","2030-12-01","2031-03-01","2031-06-01","2031-09-01","2031-12-01","2032-03-01","2032-06-01","2032-09-01","2032-12-01","2033-03-01","2033-06-01","2033-09-01","2033-12-01","2034-03-01","2034-06-01","2034-09-01","2034-12-01","2035-03-01","2035-06-01","2035-09-01"]
["Quantity bid (GWh/day)"]
[]
["Base",null,0,0,0,0,0,0,0,0,0,0,0,0,0,0,0,0,0,0,0,0,0,0,0,0,0,0,0,0,0,0,0,0,0,0,0,0,0,0,0,0,0,0,0,0,0,0,0,0,0,0,0,0,0,0,0,0,0,0,0,0]
[null,"Step 1",0,0,0,0,0,0,0,0,0,0,0,0,0,0,0,0,0,0,0,0,0,0,0,0,0,0,0,0,0,0,0,0,0,0,0,0,0,0,0,0,0,0,0,0,0,0,0,0,0,0,0,0,0,0,0,0,0,0,0,0]
[null,"Step 2",0,0,0,0,0,0,0,0,0,0,0,0,0,0,0,0,0,0,0,0,0,0,0,0,0,0,0,0,0,0,0,0,0,0,0,0,0,0,0,0,0,0,0,0,0,0,0,0,0,0,0,0,0,0,0,0,0,0,0,0]
[null,"Step 3",0,0,0,0,0,0,0,0,0,0,0,0,0,0,0,0,0,0,0,0,0,0,0,0,0,0,0,0,0,0,0,0,0,0,0,0,0,0,0,0,0,0,0,0,0,0,0,0,0,0,0,0,0,0,0,0,0,0,0,0]
[null,"Step 4",0,0,0,0,0,0,0,0,0,0,0,0,0,0,0,0,0,0,0,0,0,0,0,0,0,0,0,0,0,0,0,0,0,0,0,0,0,0,0,0,0,0,0,0,0,0,0,0,0,0,0,0,0,0,0,0,0,0,0,0]
[null,"Step 5",0,0,0,0,0,0,0,0,0,0,0,0,0,0,0,0,0,0,0,0,0,0,0,0,0,0,0,0,0,0,0,0,0,0,0,0,0,0,0,0,0,0,0,0,0,0,0,0,0,0,0,0,0,0,0,0,0,0,0,0]
[null,"Step 6",0,0,0,0,0,0,0,0,0,0,0,0,0,0,0,0,0,0,0,0,0,0,0,0,0,0,0,0,0,0,0,0,0,0,0,0,0,0,0,0,0,0,0,0,0,0,0,0,0,0,0,0,0,0,0,0,0,0,0,0]
[null,"Step 7",0,0,0,0,0,0,0,0,0,0,0,0,0,0,0,0,0,0,0,0,0,0,0,0,0,0,0,0,0,0,0,0,0,0,0,0,0,0,0,0,0,0,0,0,0,0,0,0,0,0,0,0,0,0,0,0,0,0,0,0]
[null,"Step 8",0,0,0,0,0,0,0,0,0,0,0,0,0,0,0,0,0,0,0,0,0,0,0,0,0,0,0,0,0,0,0,0,0,0,0,0,0,0,0,0,0,0,0,0,0,0,0,0,0,0,0,0,0,0,0,0,0,0,0,0]
[null,"Step 9",0,0,0,0,0,0,0,0,0,0,0,0,0,0,0,0,0,0,0,0,0,0,0,0,0,0,0,0,0,0,0,0,0,0,0,0,0,0,0,0,0,0,0,0,0,0,0,0,0,0,0,0,0,0,0,0,0,0,0,0]
[null,"Step 10",0,0,0,0,0,0,0,0,0,0,0,0,0,0,0,0,0,0,0,0,0,0,0,0,0,0,0,0,0,0,0,0,0,0,0,0,0,0,0,0,0,0,0,0,0,0,0,0,0,0,0,0,0,0,0,0,0,0,0,0]
[null,"Step 11",0,0,0,0,0,0,0,0,0,0,0,0,0,0,0,0,0,0,0,0,0,0,0,0,0,0,0,0,0,0,0,0,0,0,0,0,0,0,0,0,0,0,0,0,0,0,0,0,0,0,0,0,0,0,0,0,0,0,0,0]
[null,"Step 12",0,0,0,0,0,0,0,0,0,0,0,0,0,0,0,0,0,0,0,0,0,0,0,0,0,0,0,0,0,0,0,0,0,0,0,0,0,0,0,0,0,0,0,0,0,0,0,0,0,0,0,0,0,0,0,0,0,0,0,0]
[null,"Step 13",0,0,0,0,0,0,0,0,0,0,0,0,0,0,0,0,0,0,0,0,0,0,0,0,0,0,0,0,0,0,0,0,0,0,0,0,0,0,0,0,0,0,0,0,0,0,0,0,0,0,0,0,0,0,0,0,0,0,0,0]
[null,"Step 14",0,0,0,0,0,0,0,0,0,0,0,0,0,0,0,0,0,0,0,0,0,0,0,0,0,0,0,0,0,0,0,0,0,0,0,0,0,0,0,0,0,0,0,0,0,0,0,0,0,0,0,0,0,0,0,0,0,0,0,0]
[null,"Step 15",0,0,0,0,0,0,0,0,0,0,0,0,0,0,0,0,0,0,0,0,0,0,0,0,0,0,0,0,0,0,0,0,0,0,0,0,0,0,0,0,0,0,0,0,0,0,0,0,0,0,0,0,0,0,0,0,0,0,0,0]
[null,"Step 16",0,0,0,0,0,0,0,0,0,0,0,0,0,0,0,0,0,0,0,0,0,0,0,0,0,0,0,0,0,0,0,0,0,0,0,0,0,0,0,0,0,0,0,0,0,0,0,0,0,0,0,0,0,0,0,0,0,0,0,0]
[null,"Step 17",0,0,0,0,0,0,0,0,0,0,0,0,0,0,0,0,0,0,0,0,0,0,0,0,0,0,0,0,0,0,0,0,0,0,0,0,0,0,0,0,0,0,0,0,0,0,0,0,0,0,0,0,0,0,0,0,0,0,0,0]
[null,"Step 18",0,0,0,0,0,0,0,0,0,0,0,0,0,0,0,0,0,0,0,0,0,0,0,0,0,0,0,0,0,0,0,0,0,0,0,0,0,0,0,0,0,0,0,0,0,0,0,0,0,0,0,0,0,0,0,0,0,0,0,0]
[null,"Step 19",0,0,0,0,0,0,0,0,0,0,0,0,0,0,0,0,0,0,0,0,0,0,0,0,0,0,0,0,0,0,0,0,0,0,0,0,0,0,0,0,0,0,0,0,0,0,0,0,0,0,0,0,0,0,0,0,0,0,0,0]
[null,"Step 20",0,0,0,0,0,0,0,0,0,0,0,0,0,0,0,0,0,0,0,0,0,0,0,0,0,0,0,0,0,0,0,0,0,0,0,0,0,0,0,0,0,0,0,0,0,0,0,0,0,0,0,0,0,0,0,0,0,0,0,0]
[]
["Cheshire"]
[]
["Quarter",null,{"$f":"First_quarter","v":"2020-10-01"},{"$f":"DATE(YEAR(C319),MONTH(C319)+1,1)","v":"2021-01-01"},{"$f":"DATE(YEAR(D319),MONTH(D319)+1,1)","v":"2021-04-01"},{"$f":"DATE(YEAR(E319),MONTH(E319)+1,1)","v":"2021-07-01"},{"$f":"DATE(YEAR(F319),MONTH(F319)+1,1)","v":"2021-10-01"},{"$f":"DATE(YEAR(G319),MONTH(G319)+1,1)","v":"2022-01-01"},{"$f":"DATE(YEAR(H319),MONTH(H319)+1,1)","v":"2022-04-01"},{"$f":"DATE(YEAR(I319),MONTH(I319)+1,1)","v":"2022-07-01"},{"$f":"DATE(YEAR(J319),MONTH(J319)+1,1)","v":"2022-10-01"},{"$f":"DATE(YEAR(K319),MONTH(K319)+1,1)","v":"2023-01-01"},{"$f":"DATE(YEAR(L319),MONTH(L319)+1,1)","v":"2023-04-01"},{"$f":"DATE(YEAR(M319),MONTH(M319)+1,1)","v":"2023-07-01"},{"$f":"DATE(YEAR(N319),MONTH(N319)+1,1)","v":"2023-10-01"},{"$f":"DATE(YEAR(O319),MONTH(O319)+1,1)","v":"2024-01-01"},{"$f":"DATE(YEAR(P319),MONTH(P319)+1,1)","v":"2024-04-01"},{"$f":"DATE(YEAR(Q319),MONTH(Q319)+1,1)","v":"2024-07-01"},{"$f":"DATE(YEAR(R319),MONTH(R319)+1,1)","v":"2024-10-01"},{"$f":"DATE(YEAR(S319),MONTH(S319)+1,1)","v":"2025-01-01"},{"$f":"DATE(YEAR(T319),MONTH(T319)+1,1)","v":"2025-04-01"},{"$f":"DATE(YEAR(U319),MONTH(U319)+1,1)","v":"2025-07-01"},{"$f":"DATE(YEAR(V319),MONTH(V319)+1,1)","v":"2025-10-01"},{"$f":"DATE(YEAR(W319),MONTH(W319)+1,1)","v":"2026-01-01"},{"$f":"DATE(YEAR(X319),MONTH(X319)+1,1)","v":"2026-04-01"},{"$f":"DATE(YEAR(Y319),MONTH(Y319)+1,1)","v":"2026-07-01"},{"$f":"DATE(YEAR(Z319),MONTH(Z319)+1,1)","v":"2026-10-01"},{"$f":"DATE(YEAR(AA319),MONTH(AA319)+1,1)","v":"2027-01-01"},{"$f":"DATE(YEAR(AB319),MONTH(AB319)+1,1)","v":"2027-04-01"},{"$f":"DATE(YEAR(AC319),MONTH(AC319)+1,1)","v":"2027-07-01"},{"$f":"DATE(YEAR(AD319),MONTH(AD319)+1,1)","v":"2027-10-01"},{"$f":"DATE(YEAR(AE319),MONTH(AE319)+1,1)","v":"2028-01-01"},{"$f":"DATE(YEAR(AF319),MONTH(AF319)+1,1)","v":"2028-04-01"},{"$f":"DATE(YEAR(AG319),MONTH(AG319)+1,1)","v":"2028-07-01"},{"$f":"DATE(YEAR(AH319),MONTH(AH319)+1,1)","v":"2028-10-01"},{"$f":"DATE(YEAR(AI319),MONTH(AI319)+1,1)","v":"2029-01-01"},{"$f":"DATE(YEAR(AJ319),MONTH(AJ319)+1,1)","v":"2029-04-01"},{"$f":"DATE(YEAR(AK319),MONTH(AK319)+1,1)","v":"2029-07-01"},{"$f":"DATE(YEAR(AL319),MONTH(AL319)+1,1)","v":"2029-10-01"},{"$f":"DATE(YEAR(AM319),MONTH(AM319)+1,1)","v":"2030-01-01"},{"$f":"DATE(YEAR(AN319),MONTH(AN319)+1,1)","v":"2030-04-01"},{"$f":"DATE(YEAR(AO319),MONTH(AO319)+1,1)","v":"2030-07-01"},{"$f":"DATE(YEAR(AP319),MONTH(AP319)+1,1)","v":"2030-10-01"},{"$f":"DATE(YEAR(AQ319),MONTH(AQ319)+1,1)","v":"2031-01-01"},{"$f":"DATE(YEAR(AR319),MONTH(AR319)+1,1)","v":"2031-04-01"},{"$f":"DATE(YEAR(AS319),MONTH(AS319)+1,1)","v":"2031-07-01"},{"$f":"DATE(YEAR(AT319),MONTH(AT319)+1,1)","v":"2031-10-01"},{"$f":"DATE(YEAR(AU319),MONTH(AU319)+1,1)","v":"2032-01-01"},{"$f":"DATE(YEAR(AV319),MONTH(AV319)+1,1)","v":"2032-04-01"},{"$f":"DATE(YEAR(AW319),MONTH(AW319)+1,1)","v":"2032-07-01"},{"$f":"DATE(YEAR(AX319),MONTH(AX319)+1,1)","v":"2032-10-01"},{"$f":"DATE(YEAR(AY319),MONTH(AY319)+1,1)","v":"2033-01-01"},{"$f":"DATE(YEAR(AZ319),MONTH(AZ319)+1,1)","v":"2033-04-01"},{"$f":"DATE(YEAR(BA319),MONTH(BA319)+1,1)","v":"2033-07-01"},{"$f":"DATE(YEAR(BB319),MONTH(BB319)+1,1)","v":"2033-10-01"},{"$f":"DATE(YEAR(BC319),MONTH(BC319)+1,1)","v":"2034-01-01"},{"$f":"DATE(YEAR(BD319),MONTH(BD319)+1,1)","v":"2034-04-01"},{"$f":"DATE(YEAR(BE319),MONTH(BE319)+1,1)","v":"2034-07-01"},{"$f":"DATE(YEAR(BF319),MONTH(BF319)+1,1)","v":"2034-10-01"},{"$f":"DATE(YEAR(BG319),MONTH(BG319)+1,1)","v":"2035-01-01"},{"$f":"DATE(YEAR(BH319),MONTH(BH319)+1,1)","v":"2035-04-01"},{"$f":"DATE(YEAR(BI319),MONTH(BI319)+1,1)","v":"2035-07-01"}]
[null,null,{"$f":"DATE(YEAR(C318),MONTH(C318)+2,1)","v":"2020-12-01"},"2021-03-01","2021-06-01","2021-09-01","2021-12-01","2022-03-01","2022-06-01","2022-09-01","2022-12-01","2023-03-01","2023-06-01","2023-09-01","2023-12-01","2024-03-01","2024-06-01","2024-09-01","2024-12-01","2025-03-01","2025-06-01","2025-09-01","2025-12-01","2026-03-01","2026-06-01","2026-09-01","2026-12-01","2027-03-01","2027-06-01","2027-09-01","2027-12-01","2028-03-01","2028-06-01","2028-09-01","2028-12-01","2029-03-01","2029-06-01","2029-09-01","2029-12-01","2030-03-01","2030-06-01","2030-09-01","2030-12-01","2031-03-01","2031-06-01","2031-09-01","2031-12-01","2032-03-01","2032-06-01","2032-09-01","2032-12-01","2033-03-01","2033-06-01","2033-09-01","2033-12-01","2034-03-01","2034-06-01","2034-09-01","2034-12-01","2035-03-01","2035-06-01","2035-09-01"]
["Quantity bid (GWh/day)"]
[]
["Base",null,0,0,0,0,0,0,0,0,0,0,0,0,0,0,0,0,0,0,0,0,0,0,0,0,0,0,0,0,0,0,0,0,0,0,0,0,0,0,0,0,0,0,0,0,0,0,0,0,0,0,0,0,279.65320000000003,279.65320000000003,279.65320000000003,279.65320000000003,0,0,0,0]
[null,"Step 1",0,0,0,0,0,0,0,0,0,0,0,0,0,0,0,0,0,0,0,0,0,0,0,0,0,0,0,0,0,0,0,0,0,0,0,0,0,0,0,0,0,0,0,0,0,0,0,0,0,0,0,0,0,0,0,0,0,0,0,0]
[null,"Step 2",0,0,0,0,0,0,0,0,0,0,0,0,0,0,0,0,0,0,0,0,0,0,0,0,0,0,0,0,0,0,0,0,0,0,0,0,0,0,0,0,0,0,0,0,0,0,0,0,0,0,0,0,0,0,0,0,0,0,0,0]
[null,"Step 3",0,0,0,0,0,0,0,0,0,0,0,0,0,0,0,0,0,0,0,0,0,0,0,0,0,0,0,0,0,0,0,0,0,0,0,0,0,0,0,0,0,0,0,0,0,0,0,0,0,0,0,0,0,0,0,0,0,0,0,0]
[null,"Step 4",0,0,0,0,0,0,0,0,0,0,0,0,0,0,0,0,0,0,0,0,0,0,0,0,0,0,0,0,0,0,0,0,0,0,0,0,0,0,0,0,0,0,0,0,0,0,0,0,0,0,0,0,0,0,0,0,0,0,0,0]
[null,"Step 5",0,0,0,0,0,0,0,0,0,0,0,0,0,0,0,0,0,0,0,0,0,0,0,0,0,0,0,0,0,0,0,0,0,0,0,0,0,0,0,0,0,0,0,0,0,0,0,0,0,0,0,0,0,0,0,0,0,0,0,0]
[null,"Step 6",0,0,0,0,0,0,0,0,0,0,0,0,0,0,0,0,0,0,0,0,0,0,0,0,0,0,0,0,0,0,0,0,0,0,0,0,0,0,0,0,0,0,0,0,0,0,0,0,0,0,0,0,0,0,0,0,0,0,0,0]
[null,"Step 7",0,0,0,0,0,0,0,0,0,0,0,0,0,0,0,0,0,0,0,0,0,0,0,0,0,0,0,0,0,0,0,0,0,0,0,0,0,0,0,0,0,0,0,0,0,0,0,0,0,0,0,0,0,0,0,0,0,0,0,0]
[null,"Step 8",0,0,0,0,0,0,0,0,0,0,0,0,0,0,0,0,0,0,0,0,0,0,0,0,0,0,0,0,0,0,0,0,0,0,0,0,0,0,0,0,0,0,0,0,0,0,0,0,0,0,0,0,0,0,0,0,0,0,0,0]
[null,"Step 9",0,0,0,0,0,0,0,0,0,0,0,0,0,0,0,0,0,0,0,0,0,0,0,0,0,0,0,0,0,0,0,0,0,0,0,0,0,0,0,0,0,0,0,0,0,0,0,0,0,0,0,0,0,0,0,0,0,0,0,0]
[null,"Step 10",0,0,0,0,0,0,0,0,0,0,0,0,0,0,0,0,0,0,0,0,0,0,0,0,0,0,0,0,0,0,0,0,0,0,0,0,0,0,0,0,0,0,0,0,0,0,0,0,0,0,0,0,0,0,0,0,0,0,0,0]
[null,"Step 11",0,0,0,0,0,0,0,0,0,0,0,0,0,0,0,0,0,0,0,0,0,0,0,0,0,0,0,0,0,0,0,0,0,0,0,0,0,0,0,0,0,0,0,0,0,0,0,0,0,0,0,0,0,0,0,0,0,0,0,0]
[null,"Step 12",0,0,0,0,0,0,0,0,0,0,0,0,0,0,0,0,0,0,0,0,0,0,0,0,0,0,0,0,0,0,0,0,0,0,0,0,0,0,0,0,0,0,0,0,0,0,0,0,0,0,0,0,0,0,0,0,0,0,0,0]
[null,"Step 13",0,0,0,0,0,0,0,0,0,0,0,0,0,0,0,0,0,0,0,0,0,0,0,0,0,0,0,0,0,0,0,0,0,0,0,0,0,0,0,0,0,0,0,0,0,0,0,0,0,0,0,0,0,0,0,0,0,0,0,0]
[null,"Step 14",0,0,0,0,0,0,0,0,0,0,0,0,0,0,0,0,0,0,0,0,0,0,0,0,0,0,0,0,0,0,0,0,0,0,0,0,0,0,0,0,0,0,0,0,0,0,0,0,0,0,0,0,0,0,0,0,0,0,0,0]
[null,"Step 15",0,0,0,0,0,0,0,0,0,0,0,0,0,0,0,0,0,0,0,0,0,0,0,0,0,0,0,0,0,0,0,0,0,0,0,0,0,0,0,0,0,0,0,0,0,0,0,0,0,0,0,0,0,0,0,0,0,0,0,0]
[null,"Step 16",0,0,0,0,0,0,0,0,0,0,0,0,0,0,0,0,0,0,0,0,0,0,0,0,0,0,0,0,0,0,0,0,0,0,0,0,0,0,0,0,0,0,0,0,0,0,0,0,0,0,0,0,0,0,0,0,0,0,0,0]
[null,"Step 17",0,0,0,0,0,0,0,0,0,0,0,0,0,0,0,0,0,0,0,0,0,0,0,0,0,0,0,0,0,0,0,0,0,0,0,0,0,0,0,0,0,0,0,0,0,0,0,0,0,0,0,0,0,0,0,0,0,0,0,0]
[null,"Step 18",0,0,0,0,0,0,0,0,0,0,0,0,0,0,0,0,0,0,0,0,0,0,0,0,0,0,0,0,0,0,0,0,0,0,0,0,0,0,0,0,0,0,0,0,0,0,0,0,0,0,0,0,0,0,0,0,0,0,0,0]
[null,"Step 19",0,0,0,0,0,0,0,0,0,0,0,0,0,0,0,0,0,0,0,0,0,0,0,0,0,0,0,0,0,0,0,0,0,0,0,0,0,0,0,0,0,0,0,0,0,0,0,0,0,0,0,0,0,0,0,0,0,0,0,0]
[null,"Step 20",0,0,0,0,0,0,0,0,0,0,0,0,0,0,0,0,0,0,0,0,0,0,0,0,0,0,0,0,0,0,0,0,0,0,0,0,0,0,0,0,0,0,0,0,0,0,0,0,0,0,0,0,0,0,0,0,0,0,0,0]
[]
["Hornsea"]
[]
["Quarter",null,{"$f":"First_quarter","v":"2020-10-01"},{"$f":"DATE(YEAR(C347),MONTH(C347)+1,1)","v":"2021-01-01"},{"$f":"DATE(YEAR(D347),MONTH(D347)+1,1)","v":"2021-04-01"},{"$f":"DATE(YEAR(E347),MONTH(E347)+1,1)","v":"2021-07-01"},{"$f":"DATE(YEAR(F347),MONTH(F347)+1,1)","v":"2021-10-01"},{"$f":"DATE(YEAR(G347),MONTH(G347)+1,1)","v":"2022-01-01"},{"$f":"DATE(YEAR(H347),MONTH(H347)+1,1)","v":"2022-04-01"},{"$f":"DATE(YEAR(I347),MONTH(I347)+1,1)","v":"2022-07-01"},{"$f":"DATE(YEAR(J347),MONTH(J347)+1,1)","v":"2022-10-01"},{"$f":"DATE(YEAR(K347),MONTH(K347)+1,1)","v":"2023-01-01"},{"$f":"DATE(YEAR(L347),MONTH(L347)+1,1)","v":"2023-04-01"},{"$f":"DATE(YEAR(M347),MONTH(M347)+1,1)","v":"2023-07-01"},{"$f":"DATE(YEAR(N347),MONTH(N347)+1,1)","v":"2023-10-01"},{"$f":"DATE(YEAR(O347),MONTH(O347)+1,1)","v":"2024-01-01"},{"$f":"DATE(YEAR(P347),MONTH(P347)+1,1)","v":"2024-04-01"},{"$f":"DATE(YEAR(Q347),MONTH(Q347)+1,1)","v":"2024-07-01"},{"$f":"DATE(YEAR(R347),MONTH(R347)+1,1)","v":"2024-10-01"},{"$f":"DATE(YEAR(S347),MONTH(S347)+1,1)","v":"2025-01-01"},{"$f":"DATE(YEAR(T347),MONTH(T347)+1,1)","v":"2025-04-01"},{"$f":"DATE(YEAR(U347),MONTH(U347)+1,1)","v":"2025-07-01"},{"$f":"DATE(YEAR(V347),MONTH(V347)+1,1)","v":"2025-10-01"},{"$f":"DATE(YEAR(W347),MONTH(W347)+1,1)","v":"2026-01-01"},{"$f":"DATE(YEAR(X347),MONTH(X347)+1,1)","v":"2026-04-01"},{"$f":"DATE(YEAR(Y347),MONTH(Y347)+1,1)","v":"2026-07-01"},{"$f":"DATE(YEAR(Z347),MONTH(Z347)+1,1)","v":"2026-10-01"},{"$f":"DATE(YEAR(AA347),MONTH(AA347)+1,1)","v":"2027-01-01"},{"$f":"DATE(YEAR(AB347),MONTH(AB347)+1,1)","v":"2027-04-01"},{"$f":"DATE(YEAR(AC347),MONTH(AC347)+1,1)","v":"2027-07-01"},{"$f":"DATE(YEAR(AD347),MONTH(AD347)+1,1)","v":"2027-10-01"},{"$f":"DATE(YEAR(AE347),MONTH(AE347)+1,1)","v":"2028-01-01"},{"$f":"DATE(YEAR(AF347),MONTH(AF347)+1,1)","v":"2028-04-01"},{"$f":"DATE(YEAR(AG347),MONTH(AG347)+1,1)","v":"2028-07-01"},{"$f":"DATE(YEAR(AH347),MONTH(AH347)+1,1)","v":"2028-10-01"},{"$f":"DATE(YEAR(AI347),MONTH(AI347)+1,1)","v":"2029-01-01"},{"$f":"DATE(YEAR(AJ347),MONTH(AJ347)+1,1)","v":"2029-04-01"},{"$f":"DATE(YEAR(AK347),MONTH(AK347)+1,1)","v":"2029-07-01"},{"$f":"DATE(YEAR(AL347),MONTH(AL347)+1,1)","v":"2029-10-01"},{"$f":"DATE(YEAR(AM347),MONTH(AM347)+1,1)","v":"2030-01-01"},{"$f":"DATE(YEAR(AN347),MONTH(AN347)+1,1)","v":"2030-04-01"},{"$f":"DATE(YEAR(AO347),MONTH(AO347)+1,1)","v":"2030-07-01"},{"$f":"DATE(YEAR(AP347),MONTH(AP347)+1,1)","v":"2030-10-01"},{"$f":"DATE(YEAR(AQ347),MONTH(AQ347)+1,1)","v":"2031-01-01"},{"$f":"DATE(YEAR(AR347),MONTH(AR347)+1,1)","v":"2031-04-01"},{"$f":"DATE(YEAR(AS347),MONTH(AS347)+1,1)","v":"2031-07-01"},{"$f":"DATE(YEAR(AT347),MONTH(AT347)+1,1)","v":"2031-10-01"},{"$f":"DATE(YEAR(AU347),MONTH(AU347)+1,1)","v":"2032-01-01"},{"$f":"DATE(YEAR(AV347),MONTH(AV347)+1,1)","v":"2032-04-01"},{"$f":"DATE(YEAR(AW347),MONTH(AW347)+1,1)","v":"2032-07-01"},{"$f":"DATE(YEAR(AX347),MONTH(AX347)+1,1)","v":"2032-10-01"},{"$f":"DATE(YEAR(AY347),MONTH(AY347)+1,1)","v":"2033-01-01"},{"$f":"DATE(YEAR(AZ347),MONTH(AZ347)+1,1)","v":"2033-04-01"},{"$f":"DATE(YEAR(BA347),MONTH(BA347)+1,1)","v":"2033-07-01"},{"$f":"DATE(YEAR(BB347),MONTH(BB347)+1,1)","v":"2033-10-01"},{"$f":"DATE(YEAR(BC347),MONTH(BC347)+1,1)","v":"2034-01-01"},{"$f":"DATE(YEAR(BD347),MONTH(BD347)+1,1)","v":"2034-04-01"},{"$f":"DATE(YEAR(BE347),MONTH(BE347)+1,1)","v":"2034-07-01"},{"$f":"DATE(YEAR(BF347),MONTH(BF347)+1,1)","v":"2034-10-01"},{"$f":"DATE(YEAR(BG347),MONTH(BG347)+1,1)","v":"2035-01-01"},{"$f":"DATE(YEAR(BH347),MONTH(BH347)+1,1)","v":"2035-04-01"},{"$f":"DATE(YEAR(BI347),MONTH(BI347)+1,1)","v":"2035-07-01"}]
[null,null,{"$f":"DATE(YEAR(C346),MONTH(C346)+2,1)","v":"2020-12-01"},"2021-03-01","2021-06-01","2021-09-01","2021-12-01","2022-03-01","2022-06-01","2022-09-01","2022-12-01","2023-03-01","2023-06-01","2023-09-01","2023-12-01","2024-03-01","2024-06-01","2024-09-01","2024-12-01","2025-03-01","2025-06-01","2025-09-01","2025-12-01","2026-03-01","2026-06-01","2026-09-01","2026-12-01","2027-03-01","2027-06-01","2027-09-01","2027-12-01","2028-03-01","2028-06-01","2028-09-01","2028-12-01","2029-03-01","2029-06-01","2029-09-01","2029-12-01","2030-03-01","2030-06-01","2030-09-01","2030-12-01","2031-03-01","2031-06-01","2031-09-01","2031-12-01","2032-03-01","2032-06-01","2032-09-01","2032-12-01","2033-03-01","2033-06-01","2033-09-01","2033-12-01","2034-03-01","2034-06-01","2034-09-01","2034-12-01","2035-03-01","2035-06-01","2035-09-01"]
["Quantity bid (GWh/day)"]
[]
["Base",null,0,0,0,0,0,0,0,0,0,0,0,0,0,0,0,0,0,0,0,0,0,0,0,0,0,0,0,0,0,0,0,0,0,0,0,0,0,0,0,0,0,0,0,0,0,0,0,0,0,0,0,0,0,0,0,0,0,0,0,0]
[null,"Step 1",0,0,0,0,0,0,0,0,0,0,0,0,0,0,0,0,0,0,0,0,0,0,0,0,0,0,0,0,0,0,0,0,0,0,0,0,0,0,0,0,0,0,0,0,0,0,0,0,0,0,0,0,0,0,0,0,0,0,0,0]
[null,"Step 2",0,0,0,0,0,0,0,0,0,0,0,0,0,0,0,0,0,0,0,0,0,0,0,0,0,0,0,0,0,0,0,0,0,0,0,0,0,0,0,0,0,0,0,0,0,0,0,0,0,0,0,0,0,0,0,0,0,0,0,0]
[null,"Step 3",0,0,0,0,0,0,0,0,0,0,0,0,0,0,0,0,0,0,0,0,0,0,0,0,0,0,0,0,0,0,0,0,0,0,0,0,0,0,0,0,0,0,0,0,0,0,0,0,0,0,0,0,0,0,0,0,0,0,0,0]
[null,"Step 4",0,0,0,0,0,0,0,0,0,0,0,0,0,0,0,0,0,0,0,0,0,0,0,0,0,0,0,0,0,0,0,0,0,0,0,0,0,0,0,0,0,0,0,0,0,0,0,0,0,0,0,0,0,0,0,0,0,0,0,0]
[null,"Step 5",0,0,0,0,0,0,0,0,0,0,0,0,0,0,0,0,0,0,0,0,0,0,0,0,0,0,0,0,0,0,0,0,0,0,0,0,0,0,0,0,0,0,0,0,0,0,0,0,0,0,0,0,0,0,0,0,0,0,0,0]
[null,"Step 6",0,0,0,0,0,0,0,0,0,0,0,0,0,0,0,0,0,0,0,0,0,0,0,0,0,0,0,0,0,0,0,0,0,0,0,0,0,0,0,0,0,0,0,0,0,0,0,0,0,0,0,0,0,0,0,0,0,0,0,0]
[null,"Step 7",0,0,0,0,0,0,0,0,0,0,0,0,0,0,0,0,0,0,0,0,0,0,0,0,0,0,0,0,0,0,0,0,0,0,0,0,0,0,0,0,0,0,0,0,0,0,0,0,0,0,0,0,0,0,0,0,0,0,0,0]
[null,"Step 8",0,0,0,0,0,0,0,0,0,0,0,0,0,0,0,0,0,0,0,0,0,0,0,0,0,0,0,0,0,0,0,0,0,0,0,0,0,0,0,0,0,0,0,0,0,0,0,0,0,0,0,0,0,0,0,0,0,0,0,0]
[null,"Step 9",0,0,0,0,0,0,0,0,0,0,0,0,0,0,0,0,0,0,0,0,0,0,0,0,0,0,0,0,0,0,0,0,0,0,0,0,0,0,0,0,0,0,0,0,0,0,0,0,0,0,0,0,0,0,0,0,0,0,0,0]
[null,"Step 10",0,0,0,0,0,0,0,0,0,0,0,0,0,0,0,0,0,0,0,0,0,0,0,0,0,0,0,0,0,0,0,0,0,0,0,0,0,0,0,0,0,0,0,0,0,0,0,0,0,0,0,0,0,0,0,0,0,0,0,0]
[null,"Step 11",0,0,0,0,0,0,0,0,0,0,0,0,0,0,0,0,0,0,0,0,0,0,0,0,0,0,0,0,0,0,0,0,0,0,0,0,0,0,0,0,0,0,0,0,0,0,0,0,0,0,0,0,0,0,0,0,0,0,0,0]
[null,"Step 12",0,0,0,0,0,0,0,0,0,0,0,0,0,0,0,0,0,0,0,0,0,0,0,0,0,0,0,0,0,0,0,0,0,0,0,0,0,0,0,0,0,0,0,0,0,0,0,0,0,0,0,0,0,0,0,0,0,0,0,0]
[null,"Step 13",0,0,0,0,0,0,0,0,0,0,0,0,0,0,0,0,0,0,0,0,0,0,0,0,0,0,0,0,0,0,0,0,0,0,0,0,0,0,0,0,0,0,0,0,0,0,0,0,0,0,0,0,0,0,0,0,0,0,0,0]
[null,"Step 14",0,0,0,0,0,0,0,0,0,0,0,0,0,0,0,0,0,0,0,0,0,0,0,0,0,0,0,0,0,0,0,0,0,0,0,0,0,0,0,0,0,0,0,0,0,0,0,0,0,0,0,0,0,0,0,0,0,0,0,0]
[null,"Step 15",0,0,0,0,0,0,0,0,0,0,0,0,0,0,0,0,0,0,0,0,0,0,0,0,0,0,0,0,0,0,0,0,0,0,0,0,0,0,0,0,0,0,0,0,0,0,0,0,0,0,0,0,0,0,0,0,0,0,0,0]
[null,"Step 16",0,0,0,0,0,0,0,0,0,0,0,0,0,0,0,0,0,0,0,0,0,0,0,0,0,0,0,0,0,0,0,0,0,0,0,0,0,0,0,0,0,0,0,0,0,0,0,0,0,0,0,0,0,0,0,0,0,0,0,0]
[null,"Step 17",0,0,0,0,0,0,0,0,0,0,0,0,0,0,0,0,0,0,0,0,0,0,0,0,0,0,0,0,0,0,0,0,0,0,0,0,0,0,0,0,0,0,0,0,0,0,0,0,0,0,0,0,0,0,0,0,0,0,0,0]
[null,"Step 18",0,0,0,0,0,0,0,0,0,0,0,0,0,0,0,0,0,0,0,0,0,0,0,0,0,0,0,0,0,0,0,0,0,0,0,0,0,0,0,0,0,0,0,0,0,0,0,0,0,0,0,0,0,0,0,0,0,0,0,0]
[null,"Step 19",0,0,0,0,0,0,0,0,0,0,0,0,0,0,0,0,0,0,0,0,0,0,0,0,0,0,0,0,0,0,0,0,0,0,0,0,0,0,0,0,0,0,0,0,0,0,0,0,0,0,0,0,0,0,0,0,0,0,0,0]
[null,"Step 20",0,0,0,0,0,0,0,0,0,0,0,0,0,0,0,0,0,0,0,0,0,0,0,0,0,0,0,0,0,0,0,0,0,0,0,0,0,0,0,0,0,0,0,0,0,0,0,0,0,0,0,0,0,0,0,0,0,0,0,0]
[]
["Glenmavis"]
[]
["Quarter",null,{"$f":"First_quarter","v":"2020-10-01"},{"$f":"DATE(YEAR(C375),MONTH(C375)+1,1)","v":"2021-01-01"},{"$f":"DATE(YEAR(D375),MONTH(D375)+1,1)","v":"2021-04-01"},{"$f":"DATE(YEAR(E375),MONTH(E375)+1,1)","v":"2021-07-01"},{"$f":"DATE(YEAR(F375),MONTH(F375)+1,1)","v":"2021-10-01"},{"$f":"DATE(YEAR(G375),MONTH(G375)+1,1)","v":"2022-01-01"},{"$f":"DATE(YEAR(H375),MONTH(H375)+1,1)","v":"2022-04-01"},{"$f":"DATE(YEAR(I375),MONTH(I375)+1,1)","v":"2022-07-01"},{"$f":"DATE(YEAR(J375),MONTH(J375)+1,1)","v":"2022-10-01"},{"$f":"DATE(YEAR(K375),MONTH(K375)+1,1)","v":"2023-01-01"},{"$f":"DATE(YEAR(L375),MONTH(L375)+1,1)","v":"2023-04-01"},{"$f":"DATE(YEAR(M375),MONTH(M375)+1,1)","v":"2023-07-01"},{"$f":"DATE(YEAR(N375),MONTH(N375)+1,1)","v":"2023-10-01"},{"$f":"DATE(YEAR(O375),MONTH(O375)+1,1)","v":"2024-01-01"},{"$f":"DATE(YEAR(P375),MONTH(P375)+1,1)","v":"2024-04-01"},{"$f":"DATE(YEAR(Q375),MONTH(Q375)+1,1)","v":"2024-07-01"},{"$f":"DATE(YEAR(R375),MONTH(R375)+1,1)","v":"2024-10-01"},{"$f":"DATE(YEAR(S375),MONTH(S375)+1,1)","v":"2025-01-01"},{"$f":"DATE(YEAR(T375),MONTH(T375)+1,1)","v":"2025-04-01"},{"$f":"DATE(YEAR(U375),MONTH(U375)+1,1)","v":"2025-07-01"},{"$f":"DATE(YEAR(V375),MONTH(V375)+1,1)","v":"2025-10-01"},{"$f":"DATE(YEAR(W375),MONTH(W375)+1,1)","v":"2026-01-01"},{"$f":"DATE(YEAR(X375),MONTH(X375)+1,1)","v":"2026-04-01"},{"$f":"DATE(YEAR(Y375),MONTH(Y375)+1,1)","v":"2026-07-01"},{"$f":"DATE(YEAR(Z375),MONTH(Z375)+1,1)","v":"2026-10-01"},{"$f":"DATE(YEAR(AA375),MONTH(AA375)+1,1)","v":"2027-01-01"},{"$f":"DATE(YEAR(AB375),MONTH(AB375)+1,1)","v":"2027-04-01"},{"$f":"DATE(YEAR(AC375),MONTH(AC375)+1,1)","v":"2027-07-01"},{"$f":"DATE(YEAR(AD375),MONTH(AD375)+1,1)","v":"2027-10-01"},{"$f":"DATE(YEAR(AE375),MONTH(AE375)+1,1)","v":"2028-01-01"},{"$f":"DATE(YEAR(AF375),MONTH(AF375)+1,1)","v":"2028-04-01"},{"$f":"DATE(YEAR(AG375),MONTH(AG375)+1,1)","v":"2028-07-01"},{"$f":"DATE(YEAR(AH375),MONTH(AH375)+1,1)","v":"2028-10-01"},{"$f":"DATE(YEAR(AI375),MONTH(AI375)+1,1)","v":"2029-01-01"},{"$f":"DATE(YEAR(AJ375),MONTH(AJ375)+1,1)","v":"2029-04-01"},{"$f":"DATE(YEAR(AK375),MONTH(AK375)+1,1)","v":"2029-07-01"},{"$f":"DATE(YEAR(AL375),MONTH(AL375)+1,1)","v":"2029-10-01"},{"$f":"DATE(YEAR(AM375),MONTH(AM375)+1,1)","v":"2030-01-01"},{"$f":"DATE(YEAR(AN375),MONTH(AN375)+1,1)","v":"2030-04-01"},{"$f":"DATE(YEAR(AO375),MONTH(AO375)+1,1)","v":"2030-07-01"},{"$f":"DATE(YEAR(AP375),MONTH(AP375)+1,1)","v":"2030-10-01"},{"$f":"DATE(YEAR(AQ375),MONTH(AQ375)+1,1)","v":"2031-01-01"},{"$f":"DATE(YEAR(AR375),MONTH(AR375)+1,1)","v":"2031-04-01"},{"$f":"DATE(YEAR(AS375),MONTH(AS375)+1,1)","v":"2031-07-01"},{"$f":"DATE(YEAR(AT375),MONTH(AT375)+1,1)","v":"2031-10-01"},{"$f":"DATE(YEAR(AU375),MONTH(AU375)+1,1)","v":"2032-01-01"},{"$f":"DATE(YEAR(AV375),MONTH(AV375)+1,1)","v":"2032-04-01"},{"$f":"DATE(YEAR(AW375),MONTH(AW375)+1,1)","v":"2032-07-01"},{"$f":"DATE(YEAR(AX375),MONTH(AX375)+1,1)","v":"2032-10-01"},{"$f":"DATE(YEAR(AY375),MONTH(AY375)+1,1)","v":"2033-01-01"},{"$f":"DATE(YEAR(AZ375),MONTH(AZ375)+1,1)","v":"2033-04-01"},{"$f":"DATE(YEAR(BA375),MONTH(BA375)+1,1)","v":"2033-07-01"},{"$f":"DATE(YEAR(BB375),MONTH(BB375)+1,1)","v":"2033-10-01"},{"$f":"DATE(YEAR(BC375),MONTH(BC375)+1,1)","v":"2034-01-01"},{"$f":"DATE(YEAR(BD375),MONTH(BD375)+1,1)","v":"2034-04-01"},{"$f":"DATE(YEAR(BE375),MONTH(BE375)+1,1)","v":"2034-07-01"},{"$f":"DATE(YEAR(BF375),MONTH(BF375)+1,1)","v":"2034-10-01"},{"$f":"DATE(YEAR(BG375),MONTH(BG375)+1,1)","v":"2035-01-01"},{"$f":"DATE(YEAR(BH375),MONTH(BH375)+1,1)","v":"2035-04-01"},{"$f":"DATE(YEAR(BI375),MONTH(BI375)+1,1)","v":"2035-07-01"}]
[null,null,{"$f":"DATE(YEAR(C374),MONTH(C374)+2,1)","v":"2020-12-01"},"2021-03-01","2021-06-01","2021-09-01","2021-12-01","2022-03-01","2022-06-01","2022-09-01","2022-12-01","2023-03-01","2023-06-01","2023-09-01","2023-12-01","2024-03-01","2024-06-01","2024-09-01","2024-12-01","2025-03-01","2025-06-01","2025-09-01","2025-12-01","2026-03-01","2026-06-01","2026-09-01","2026-12-01","2027-03-01","2027-06-01","2027-09-01","2027-12-01","2028-03-01","2028-06-01","2028-09-01","2028-12-01","2029-03-01","2029-06-01","2029-09-01","2029-12-01","2030-03-01","2030-06-01","2030-09-01","2030-12-01","2031-03-01","2031-06-01","2031-09-01","2031-12-01","2032-03-01","2032-06-01","2032-09-01","2032-12-01","2033-03-01","2033-06-01","2033-09-01","2033-12-01","2034-03-01","2034-06-01","2034-09-01","2034-12-01","2035-03-01","2035-06-01","2035-09-01"]
["Quantity bid (GWh/day)"]
[]
["Base",null,0,0,0,0,0,0,0,0,0,0,0,0,0,0,0,0,0,0,0,0,0,0,0,0,0,0,0,0,0,0,0,0,0,0,0,0,0,0,0,0,0,0,0,0,0,0,0,0,0,0,0,0,0,0,0,0,0,0,0,0]
[null,"Step 1",0,0,0,0,0,0,0,0,0,0,0,0,0,0,0,0,0,0,0,0,0,0,0,0,0,0,0,0,0,0,0,0,0,0,0,0,0,0,0,0,0,0,0,0,0,0,0,0,0,0,0,0,0,0,0,0,0,0,0,0]
[null,"Step 2",0,0,0,0,0,0,0,0,0,0,0,0,0,0,0,0,0,0,0,0,0,0,0,0,0,0,0,0,0,0,0,0,0,0,0,0,0,0,0,0,0,0,0,0,0,0,0,0,0,0,0,0,0,0,0,0,0,0,0,0]
[null,"Step 3",0,0,0,0,0,0,0,0,0,0,0,0,0,0,0,0,0,0,0,0,0,0,0,0,0,0,0,0,0,0,0,0,0,0,0,0,0,0,0,0,0,0,0,0,0,0,0,0,0,0,0,0,0,0,0,0,0,0,0,0]
[null,"Step 4",0,0,0,0,0,0,0,0,0,0,0,0,0,0,0,0,0,0,0,0,0,0,0,0,0,0,0,0,0,0,0,0,0,0,0,0,0,0,0,0,0,0,0,0,0,0,0,0,0,0,0,0,0,0,0,0,0,0,0,0]
[null,"Step 5",0,0,0,0,0,0,0,0,0,0,0,0,0,0,0,0,0,0,0,0,0,0,0,0,0,0,0,0,0,0,0,0,0,0,0,0,0,0,0,0,0,0,0,0,0,0,0,0,0,0,0,0,0,0,0,0,0,0,0,0]
[null,"Step 6",0,0,0,0,0,0,0,0,0,0,0,0,0,0,0,0,0,0,0,0,0,0,0,0,0,0,0,0,0,0,0,0,0,0,0,0,0,0,0,0,0,0,0,0,0,0,0,0,0,0,0,0,0,0,0,0,0,0,0,0]
[null,"Step 7",0,0,0,0,0,0,0,0,0,0,0,0,0,0,0,0,0,0,0,0,0,0,0,0,0,0,0,0,0,0,0,0,0,0,0,0,0,0,0,0,0,0,0,0,0,0,0,0,0,0,0,0,0,0,0,0,0,0,0,0]
[null,"Step 8",0,0,0,0,0,0,0,0,0,0,0,0,0,0,0,0,0,0,0,0,0,0,0,0,0,0,0,0,0,0,0,0,0,0,0,0,0,0,0,0,0,0,0,0,0,0,0,0,0,0,0,0,0,0,0,0,0,0,0,0]
[null,"Step 9",0,0,0,0,0,0,0,0,0,0,0,0,0,0,0,0,0,0,0,0,0,0,0,0,0,0,0,0,0,0,0,0,0,0,0,0,0,0,0,0,0,0,0,0,0,0,0,0,0,0,0,0,0,0,0,0,0,0,0,0]
[null,"Step 10",0,0,0,0,0,0,0,0,0,0,0,0,0,0,0,0,0,0,0,0,0,0,0,0,0,0,0,0,0,0,0,0,0,0,0,0,0,0,0,0,0,0,0,0,0,0,0,0,0,0,0,0,0,0,0,0,0,0,0,0]
[null,"Step 11",0,0,0,0,0,0,0,0,0,0,0,0,0,0,0,0,0,0,0,0,0,0,0,0,0,0,0,0,0,0,0,0,0,0,0,0,0,0,0,0,0,0,0,0,0,0,0,0,0,0,0,0,0,0,0,0,0,0,0,0]
[null,"Step 12",0,0,0,0,0,0,0,0,0,0,0,0,0,0,0,0,0,0,0,0,0,0,0,0,0,0,0,0,0,0,0,0,0,0,0,0,0,0,0,0,0,0,0,0,0,0,0,0,0,0,0,0,0,0,0,0,0,0,0,0]
[null,"Step 13",0,0,0,0,0,0,0,0,0,0,0,0,0,0,0,0,0,0,0,0,0,0,0,0,0,0,0,0,0,0,0,0,0,0,0,0,0,0,0,0,0,0,0,0,0,0,0,0,0,0,0,0,0,0,0,0,0,0,0,0]
[null,"Step 14",0,0,0,0,0,0,0,0,0,0,0,0,0,0,0,0,0,0,0,0,0,0,0,0,0,0,0,0,0,0,0,0,0,0,0,0,0,0,0,0,0,0,0,0,0,0,0,0,0,0,0,0,0,0,0,0,0,0,0,0]
[null,"Step 15",0,0,0,0,0,0,0,0,0,0,0,0,0,0,0,0,0,0,0,0,0,0,0,0,0,0,0,0,0,0,0,0,0,0,0,0,0,0,0,0,0,0,0,0,0,0,0,0,0,0,0,0,0,0,0,0,0,0,0,0]
[null,"Step 16",0,0,0,0,0,0,0,0,0,0,0,0,0,0,0,0,0,0,0,0,0,0,0,0,0,0,0,0,0,0,0,0,0,0,0,0,0,0,0,0,0,0,0,0,0,0,0,0,0,0,0,0,0,0,0,0,0,0,0,0]
[null,"Step 17",0,0,0,0,0,0,0,0,0,0,0,0,0,0,0,0,0,0,0,0,0,0,0,0,0,0,0,0,0,0,0,0,0,0,0,0,0,0,0,0,0,0,0,0,0,0,0,0,0,0,0,0,0,0,0,0,0,0,0,0]
[null,"Step 18",0,0,0,0,0,0,0,0,0,0,0,0,0,0,0,0,0,0,0,0,0,0,0,0,0,0,0,0,0,0,0,0,0,0,0,0,0,0,0,0,0,0,0,0,0,0,0,0,0,0,0,0,0,0,0,0,0,0,0,0]
[null,"Step 19",0,0,0,0,0,0,0,0,0,0,0,0,0,0,0,0,0,0,0,0,0,0,0,0,0,0,0,0,0,0,0,0,0,0,0,0,0,0,0,0,0,0,0,0,0,0,0,0,0,0,0,0,0,0,0,0,0,0,0,0]
[null,"Step 20",0,0,0,0,0,0,0,0,0,0,0,0,0,0,0,0,0,0,0,0,0,0,0,0,0,0,0,0,0,0,0,0,0,0,0,0,0,0,0,0,0,0,0,0,0,0,0,0,0,0,0,0,0,0,0,0,0,0,0,0]
[]
["Partington"]
[]
["Quarter",null,{"$f":"First_quarter","v":"2020-10-01"},{"$f":"DATE(YEAR(C403),MONTH(C403)+1,1)","v":"2021-01-01"},{"$f":"DATE(YEAR(D403),MONTH(D403)+1,1)","v":"2021-04-01"},{"$f":"DATE(YEAR(E403),MONTH(E403)+1,1)","v":"2021-07-01"},{"$f":"DATE(YEAR(F403),MONTH(F403)+1,1)","v":"2021-10-01"},{"$f":"DATE(YEAR(G403),MONTH(G403)+1,1)","v":"2022-01-01"},{"$f":"DATE(YEAR(H403),MONTH(H403)+1,1)","v":"2022-04-01"},{"$f":"DATE(YEAR(I403),MONTH(I403)+1,1)","v":"2022-07-01"},{"$f":"DATE(YEAR(J403),MONTH(J403)+1,1)","v":"2022-10-01"},{"$f":"DATE(YEAR(K403),MONTH(K403)+1,1)","v":"2023-01-01"},{"$f":"DATE(YEAR(L403),MONTH(L403)+1,1)","v":"2023-04-01"},{"$f":"DATE(YEAR(M403),MONTH(M403)+1,1)","v":"2023-07-01"},{"$f":"DATE(YEAR(N403),MONTH(N403)+1,1)","v":"2023-10-01"},{"$f":"DATE(YEAR(O403),MONTH(O403)+1,1)","v":"2024-01-01"},{"$f":"DATE(YEAR(P403),MONTH(P403)+1,1)","v":"2024-04-01"},{"$f":"DATE(YEAR(Q403),MONTH(Q403)+1,1)","v":"2024-07-01"},{"$f":"DATE(YEAR(R403),MONTH(R403)+1,1)","v":"2024-10-01"},{"$f":"DATE(YEAR(S403),MONTH(S403)+1,1)","v":"2025-01-01"},{"$f":"DATE(YEAR(T403),MONTH(T403)+1,1)","v":"2025-04-01"},{"$f":"DATE(YEAR(U403),MONTH(U403)+1,1)","v":"2025-07-01"},{"$f":"DATE(YEAR(V403),MONTH(V403)+1,1)","v":"2025-10-01"},{"$f":"DATE(YEAR(W403),MONTH(W403)+1,1)","v":"2026-01-01"},{"$f":"DATE(YEAR(X403),MONTH(X403)+1,1)","v":"2026-04-01"},{"$f":"DATE(YEAR(Y403),MONTH(Y403)+1,1)","v":"2026-07-01"},{"$f":"DATE(YEAR(Z403),MONTH(Z403)+1,1)","v":"2026-10-01"},{"$f":"DATE(YEAR(AA403),MONTH(AA403)+1,1)","v":"2027-01-01"},{"$f":"DATE(YEAR(AB403),MONTH(AB403)+1,1)","v":"2027-04-01"},{"$f":"DATE(YEAR(AC403),MONTH(AC403)+1,1)","v":"2027-07-01"},{"$f":"DATE(YEAR(AD403),MONTH(AD403)+1,1)","v":"2027-10-01"},{"$f":"DATE(YEAR(AE403),MONTH(AE403)+1,1)","v":"2028-01-01"},{"$f":"DATE(YEAR(AF403),MONTH(AF403)+1,1)","v":"2028-04-01"},{"$f":"DATE(YEAR(AG403),MONTH(AG403)+1,1)","v":"2028-07-01"},{"$f":"DATE(YEAR(AH403),MONTH(AH403)+1,1)","v":"2028-10-01"},{"$f":"DATE(YEAR(AI403),MONTH(AI403)+1,1)","v":"2029-01-01"},{"$f":"DATE(YEAR(AJ403),MONTH(AJ403)+1,1)","v":"2029-04-01"},{"$f":"DATE(YEAR(AK403),MONTH(AK403)+1,1)","v":"2029-07-01"},{"$f":"DATE(YEAR(AL403),MONTH(AL403)+1,1)","v":"2029-10-01"},{"$f":"DATE(YEAR(AM403),MONTH(AM403)+1,1)","v":"2030-01-01"},{"$f":"DATE(YEAR(AN403),MONTH(AN403)+1,1)","v":"2030-04-01"},{"$f":"DATE(YEAR(AO403),MONTH(AO403)+1,1)","v":"2030-07-01"},{"$f":"DATE(YEAR(AP403),MONTH(AP403)+1,1)","v":"2030-10-01"},{"$f":"DATE(YEAR(AQ403),MONTH(AQ403)+1,1)","v":"2031-01-01"},{"$f":"DATE(YEAR(AR403),MONTH(AR403)+1,1)","v":"2031-04-01"},{"$f":"DATE(YEAR(AS403),MONTH(AS403)+1,1)","v":"2031-07-01"},{"$f":"DATE(YEAR(AT403),MONTH(AT403)+1,1)","v":"2031-10-01"},{"$f":"DATE(YEAR(AU403),MONTH(AU403)+1,1)","v":"2032-01-01"},{"$f":"DATE(YEAR(AV403),MONTH(AV403)+1,1)","v":"2032-04-01"},{"$f":"DATE(YEAR(AW403),MONTH(AW403)+1,1)","v":"2032-07-01"},{"$f":"DATE(YEAR(AX403),MONTH(AX403)+1,1)","v":"2032-10-01"},{"$f":"DATE(YEAR(AY403),MONTH(AY403)+1,1)","v":"2033-01-01"},{"$f":"DATE(YEAR(AZ403),MONTH(AZ403)+1,1)","v":"2033-04-01"},{"$f":"DATE(YEAR(BA403),MONTH(BA403)+1,1)","v":"2033-07-01"},{"$f":"DATE(YEAR(BB403),MONTH(BB403)+1,1)","v":"2033-10-01"},{"$f":"DATE(YEAR(BC403),MONTH(BC403)+1,1)","v":"2034-01-01"},{"$f":"DATE(YEAR(BD403),MONTH(BD403)+1,1)","v":"2034-04-01"},{"$f":"DATE(YEAR(BE403),MONTH(BE403)+1,1)","v":"2034-07-01"},{"$f":"DATE(YEAR(BF403),MONTH(BF403)+1,1)","v":"2034-10-01"},{"$f":"DATE(YEAR(BG403),MONTH(BG403)+1,1)","v":"2035-01-01"},{"$f":"DATE(YEAR(BH403),MONTH(BH403)+1,1)","v":"2035-04-01"},{"$f":"DATE(YEAR(BI403),MONTH(BI403)+1,1)","v":"2035-07-01"}]
[null,null,{"$f":"DATE(YEAR(C402),MONTH(C402)+2,1)","v":"2020-12-01"},"2021-03-01","2021-06-01","2021-09-01","2021-12-01","2022-03-01","2022-06-01","2022-09-01","2022-12-01","2023-03-01","2023-06-01","2023-09-01","2023-12-01","2024-03-01","2024-06-01","2024-09-01","2024-12-01","2025-03-01","2025-06-01","2025-09-01","2025-12-01","2026-03-01","2026-06-01","2026-09-01","2026-12-01","2027-03-01","2027-06-01","2027-09-01","2027-12-01","2028-03-01","2028-06-01","2028-09-01","2028-12-01","2029-03-01","2029-06-01","2029-09-01","2029-12-01","2030-03-01","2030-06-01","2030-09-01","2030-12-01","2031-03-01","2031-06-01","2031-09-01","2031-12-01","2032-03-01","2032-06-01","2032-09-01","2032-12-01","2033-03-01","2033-06-01","2033-09-01","2033-12-01","2034-03-01","2034-06-01","2034-09-01","2034-12-01","2035-03-01","2035-06-01","2035-09-01"]
["Quantity bid (GWh/day)"]
[]
["Base",null,0,0,0,0,0,0,0,0,0,0,0,0,0,0,0,0,0,0,0,0,0,0,0,0,0,0,0,0,0,0,0,0,0,0,0,0,0,0,0,0,0,0,0,0,0,0,0,0,0,0,0,0,0,0,0,0,0,0,0,0]
[null,"Step 1",0,0,0,0,0,0,0,0,0,0,0,0,0,0,0,0,0,0,0,0,0,0,0,0,0,0,0,0,0,0,0,0,0,0,0,0,0,0,0,0,0,0,0,0,0,0,0,0,0,0,0,0,0,0,0,0,0,0,0,0]
[null,"Step 2",0,0,0,0,0,0,0,0,0,0,0,0,0,0,0,0,0,0,0,0,0,0,0,0,0,0,0,0,0,0,0,0,0,0,0,0,0,0,0,0,0,0,0,0,0,0,0,0,0,0,0,0,0,0,0,0,0,0,0,0]
[null,"Step 3",0,0,0,0,0,0,0,0,0,0,0,0,0,0,0,0,0,0,0,0,0,0,0,0,0,0,0,0,0,0,0,0,0,0,0,0,0,0,0,0,0,0,0,0,0,0,0,0,0,0,0,0,0,0,0,0,0,0,0,0]
[null,"Step 4",0,0,0,0,0,0,0,0,0,0,0,0,0,0,0,0,0,0,0,0,0,0,0,0,0,0,0,0,0,0,0,0,0,0,0,0,0,0,0,0,0,0,0,0,0,0,0,0,0,0,0,0,0,0,0,0,0,0,0,0]
[null,"Step 5",0,0,0,0,0,0,0,0,0,0,0,0,0,0,0,0,0,0,0,0,0,0,0,0,0,0,0,0,0,0,0,0,0,0,0,0,0,0,0,0,0,0,0,0,0,0,0,0,0,0,0,0,0,0,0,0,0,0,0,0]
[null,"Step 6",0,0,0,0,0,0,0,0,0,0,0,0,0,0,0,0,0,0,0,0,0,0,0,0,0,0,0,0,0,0,0,0,0,0,0,0,0,0,0,0,0,0,0,0,0,0,0,0,0,0,0,0,0,0,0,0,0,0,0,0]
[null,"Step 7",0,0,0,0,0,0,0,0,0,0,0,0,0,0,0,0,0,0,0,0,0,0,0,0,0,0,0,0,0,0,0,0,0,0,0,0,0,0,0,0,0,0,0,0,0,0,0,0,0,0,0,0,0,0,0,0,0,0,0,0]
[null,"Step 8",0,0,0,0,0,0,0,0,0,0,0,0,0,0,0,0,0,0,0,0,0,0,0,0,0,0,0,0,0,0,0,0,0,0,0,0,0,0,0,0,0,0,0,0,0,0,0,0,0,0,0,0,0,0,0,0,0,0,0,0]
[null,"Step 9",0,0,0,0,0,0,0,0,0,0,0,0,0,0,0,0,0,0,0,0,0,0,0,0,0,0,0,0,0,0,0,0,0,0,0,0,0,0,0,0,0,0,0,0,0,0,0,0,0,0,0,0,0,0,0,0,0,0,0,0]
[null,"Step 10",0,0,0,0,0,0,0,0,0,0,0,0,0,0,0,0,0,0,0,0,0,0,0,0,0,0,0,0,0,0,0,0,0,0,0,0,0,0,0,0,0,0,0,0,0,0,0,0,0,0,0,0,0,0,0,0,0,0,0,0]
[null,"Step 11",0,0,0,0,0,0,0,0,0,0,0,0,0,0,0,0,0,0,0,0,0,0,0,0,0,0,0,0,0,0,0,0,0,0,0,0,0,0,0,0,0,0,0,0,0,0,0,0,0,0,0,0,0,0,0,0,0,0,0,0]
[null,"Step 12",0,0,0,0,0,0,0,0,0,0,0,0,0,0,0,0,0,0,0,0,0,0,0,0,0,0,0,0,0,0,0,0,0,0,0,0,0,0,0,0,0,0,0,0,0,0,0,0,0,0,0,0,0,0,0,0,0,0,0,0]
[null,"Step 13",0,0,0,0,0,0,0,0,0,0,0,0,0,0,0,0,0,0,0,0,0,0,0,0,0,0,0,0,0,0,0,0,0,0,0,0,0,0,0,0,0,0,0,0,0,0,0,0,0,0,0,0,0,0,0,0,0,0,0,0]
[null,"Step 14",0,0,0,0,0,0,0,0,0,0,0,0,0,0,0,0,0,0,0,0,0,0,0,0,0,0,0,0,0,0,0,0,0,0,0,0,0,0,0,0,0,0,0,0,0,0,0,0,0,0,0,0,0,0,0,0,0,0,0,0]
[null,"Step 15",0,0,0,0,0,0,0,0,0,0,0,0,0,0,0,0,0,0,0,0,0,0,0,0,0,0,0,0,0,0,0,0,0,0,0,0,0,0,0,0,0,0,0,0,0,0,0,0,0,0,0,0,0,0,0,0,0,0,0,0]
[null,"Step 16",0,0,0,0,0,0,0,0,0,0,0,0,0,0,0,0,0,0,0,0,0,0,0,0,0,0,0,0,0,0,0,0,0,0,0,0,0,0,0,0,0,0,0,0,0,0,0,0,0,0,0,0,0,0,0,0,0,0,0,0]
[null,"Step 17",0,0,0,0,0,0,0,0,0,0,0,0,0,0,0,0,0,0,0,0,0,0,0,0,0,0,0,0,0,0,0,0,0,0,0,0,0,0,0,0,0,0,0,0,0,0,0,0,0,0,0,0,0,0,0,0,0,0,0,0]
[null,"Step 18",0,0,0,0,0,0,0,0,0,0,0,0,0,0,0,0,0,0,0,0,0,0,0,0,0,0,0,0,0,0,0,0,0,0,0,0,0,0,0,0,0,0,0,0,0,0,0,0,0,0,0,0,0,0,0,0,0,0,0,0]
[null,"Step 19",0,0,0,0,0,0,0,0,0,0,0,0,0,0,0,0,0,0,0,0,0,0,0,0,0,0,0,0,0,0,0,0,0,0,0,0,0,0,0,0,0,0,0,0,0,0,0,0,0,0,0,0,0,0,0,0,0,0,0,0]
[null,"Step 20",0,0,0,0,0,0,0,0,0,0,0,0,0,0,0,0,0,0,0,0,0,0,0,0,0,0,0,0,0,0,0,0,0,0,0,0,0,0,0,0,0,0,0,0,0,0,0,0,0,0,0,0,0,0,0,0,0,0,0,0]
[]
["Avonmouth"]
[]
["Quarter",null,{"$f":"First_quarter","v":"2020-10-01"},{"$f":"DATE(YEAR(C431),MONTH(C431)+1,1)","v":"2021-01-01"},{"$f":"DATE(YEAR(D431),MONTH(D431)+1,1)","v":"2021-04-01"},{"$f":"DATE(YEAR(E431),MONTH(E431)+1,1)","v":"2021-07-01"},{"$f":"DATE(YEAR(F431),MONTH(F431)+1,1)","v":"2021-10-01"},{"$f":"DATE(YEAR(G431),MONTH(G431)+1,1)","v":"2022-01-01"},{"$f":"DATE(YEAR(H431),MONTH(H431)+1,1)","v":"2022-04-01"},{"$f":"DATE(YEAR(I431),MONTH(I431)+1,1)","v":"2022-07-01"},{"$f":"DATE(YEAR(J431),MONTH(J431)+1,1)","v":"2022-10-01"},{"$f":"DATE(YEAR(K431),MONTH(K431)+1,1)","v":"2023-01-01"},{"$f":"DATE(YEAR(L431),MONTH(L431)+1,1)","v":"2023-04-01"},{"$f":"DATE(YEAR(M431),MONTH(M431)+1,1)","v":"2023-07-01"},{"$f":"DATE(YEAR(N431),MONTH(N431)+1,1)","v":"2023-10-01"},{"$f":"DATE(YEAR(O431),MONTH(O431)+1,1)","v":"2024-01-01"},{"$f":"DATE(YEAR(P431),MONTH(P431)+1,1)","v":"2024-04-01"},{"$f":"DATE(YEAR(Q431),MONTH(Q431)+1,1)","v":"2024-07-01"},{"$f":"DATE(YEAR(R431),MONTH(R431)+1,1)","v":"2024-10-01"},{"$f":"DATE(YEAR(S431),MONTH(S431)+1,1)","v":"2025-01-01"},{"$f":"DATE(YEAR(T431),MONTH(T431)+1,1)","v":"2025-04-01"},{"$f":"DATE(YEAR(U431),MONTH(U431)+1,1)","v":"2025-07-01"},{"$f":"DATE(YEAR(V431),MONTH(V431)+1,1)","v":"2025-10-01"},{"$f":"DATE(YEAR(W431),MONTH(W431)+1,1)","v":"2026-01-01"},{"$f":"DATE(YEAR(X431),MONTH(X431)+1,1)","v":"2026-04-01"},{"$f":"DATE(YEAR(Y431),MONTH(Y431)+1,1)","v":"2026-07-01"},{"$f":"DATE(YEAR(Z431),MONTH(Z431)+1,1)","v":"2026-10-01"},{"$f":"DATE(YEAR(AA431),MONTH(AA431)+1,1)","v":"2027-01-01"},{"$f":"DATE(YEAR(AB431),MONTH(AB431)+1,1)","v":"2027-04-01"},{"$f":"DATE(YEAR(AC431),MONTH(AC431)+1,1)","v":"2027-07-01"},{"$f":"DATE(YEAR(AD431),MONTH(AD431)+1,1)","v":"2027-10-01"},{"$f":"DATE(YEAR(AE431),MONTH(AE431)+1,1)","v":"2028-01-01"},{"$f":"DATE(YEAR(AF431),MONTH(AF431)+1,1)","v":"2028-04-01"},{"$f":"DATE(YEAR(AG431),MONTH(AG431)+1,1)","v":"2028-07-01"},{"$f":"DATE(YEAR(AH431),MONTH(AH431)+1,1)","v":"2028-10-01"},{"$f":"DATE(YEAR(AI431),MONTH(AI431)+1,1)","v":"2029-01-01"},{"$f":"DATE(YEAR(AJ431),MONTH(AJ431)+1,1)","v":"2029-04-01"},{"$f":"DATE(YEAR(AK431),MONTH(AK431)+1,1)","v":"2029-07-01"},{"$f":"DATE(YEAR(AL431),MONTH(AL431)+1,1)","v":"2029-10-01"},{"$f":"DATE(YEAR(AM431),MONTH(AM431)+1,1)","v":"2030-01-01"},{"$f":"DATE(YEAR(AN431),MONTH(AN431)+1,1)","v":"2030-04-01"},{"$f":"DATE(YEAR(AO431),MONTH(AO431)+1,1)","v":"2030-07-01"},{"$f":"DATE(YEAR(AP431),MONTH(AP431)+1,1)","v":"2030-10-01"},{"$f":"DATE(YEAR(AQ431),MONTH(AQ431)+1,1)","v":"2031-01-01"},{"$f":"DATE(YEAR(AR431),MONTH(AR431)+1,1)","v":"2031-04-01"},{"$f":"DATE(YEAR(AS431),MONTH(AS431)+1,1)","v":"2031-07-01"},{"$f":"DATE(YEAR(AT431),MONTH(AT431)+1,1)","v":"2031-10-01"},{"$f":"DATE(YEAR(AU431),MONTH(AU431)+1,1)","v":"2032-01-01"},{"$f":"DATE(YEAR(AV431),MONTH(AV431)+1,1)","v":"2032-04-01"},{"$f":"DATE(YEAR(AW431),MONTH(AW431)+1,1)","v":"2032-07-01"},{"$f":"DATE(YEAR(AX431),MONTH(AX431)+1,1)","v":"2032-10-01"},{"$f":"DATE(YEAR(AY431),MONTH(AY431)+1,1)","v":"2033-01-01"},{"$f":"DATE(YEAR(AZ431),MONTH(AZ431)+1,1)","v":"2033-04-01"},{"$f":"DATE(YEAR(BA431),MONTH(BA431)+1,1)","v":"2033-07-01"},{"$f":"DATE(YEAR(BB431),MONTH(BB431)+1,1)","v":"2033-10-01"},{"$f":"DATE(YEAR(BC431),MONTH(BC431)+1,1)","v":"2034-01-01"},{"$f":"DATE(YEAR(BD431),MONTH(BD431)+1,1)","v":"2034-04-01"},{"$f":"DATE(YEAR(BE431),MONTH(BE431)+1,1)","v":"2034-07-01"},{"$f":"DATE(YEAR(BF431),MONTH(BF431)+1,1)","v":"2034-10-01"},{"$f":"DATE(YEAR(BG431),MONTH(BG431)+1,1)","v":"2035-01-01"},{"$f":"DATE(YEAR(BH431),MONTH(BH431)+1,1)","v":"2035-04-01"},{"$f":"DATE(YEAR(BI431),MONTH(BI431)+1,1)","v":"2035-07-01"}]
[null,null,{"$f":"DATE(YEAR(C430),MONTH(C430)+2,1)","v":"2020-12-01"},"2021-03-01","2021-06-01","2021-09-01","2021-12-01","2022-03-01","2022-06-01","2022-09-01","2022-12-01","2023-03-01","2023-06-01","2023-09-01","2023-12-01","2024-03-01","2024-06-01","2024-09-01","2024-12-01","2025-03-01","2025-06-01","2025-09-01","2025-12-01","2026-03-01","2026-06-01","2026-09-01","2026-12-01","2027-03-01","2027-06-01","2027-09-01","2027-12-01","2028-03-01","2028-06-01","2028-09-01","2028-12-01","2029-03-01","2029-06-01","2029-09-01","2029-12-01","2030-03-01","2030-06-01","2030-09-01","2030-12-01","2031-03-01","2031-06-01","2031-09-01","2031-12-01","2032-03-01","2032-06-01","2032-09-01","2032-12-01","2033-03-01","2033-06-01","2033-09-01","2033-12-01","2034-03-01","2034-06-01","2034-09-01","2034-12-01","2035-03-01","2035-06-01","2035-09-01"]
["Quantity bid (GWh/day)"]
[]
["Base",null,0,0,0,0,0,0,0,0,0,0,0,0,0,0,0,0,0,0,0,0,0,0,0,0,0,0,0,0,0,0,0,0,0,0,0,0,0,0,0,0,0,0,0,0,0,0,0,0,0,0,0,0,0,0,0,0,0,0,0,0]
[null,"Step 1",0,0,0,0,0,0,0,0,0,0,0,0,0,0,0,0,0,0,0,0,0,0,0,0,0,0,0,0,0,0,0,0,0,0,0,0,0,0,0,0,0,0,0,0,0,0,0,0,0,0,0,0,0,0,0,0,0,0,0,0]
[null,"Step 2",0,0,0,0,0,0,0,0,0,0,0,0,0,0,0,0,0,0,0,0,0,0,0,0,0,0,0,0,0,0,0,0,0,0,0,0,0,0,0,0,0,0,0,0,0,0,0,0,0,0,0,0,0,0,0,0,0,0,0,0]
[null,"Step 3",0,0,0,0,0,0,0,0,0,0,0,0,0,0,0,0,0,0,0,0,0,0,0,0,0,0,0,0,0,0,0,0,0,0,0,0,0,0,0,0,0,0,0,0,0,0,0,0,0,0,0,0,0,0,0,0,0,0,0,0]
[null,"Step 4",0,0,0,0,0,0,0,0,0,0,0,0,0,0,0,0,0,0,0,0,0,0,0,0,0,0,0,0,0,0,0,0,0,0,0,0,0,0,0,0,0,0,0,0,0,0,0,0,0,0,0,0,0,0,0,0,0,0,0,0]
[null,"Step 5",0,0,0,0,0,0,0,0,0,0,0,0,0,0,0,0,0,0,0,0,0,0,0,0,0,0,0,0,0,0,0,0,0,0,0,0,0,0,0,0,0,0,0,0,0,0,0,0,0,0,0,0,0,0,0,0,0,0,0,0]
[null,"Step 6",0,0,0,0,0,0,0,0,0,0,0,0,0,0,0,0,0,0,0,0,0,0,0,0,0,0,0,0,0,0,0,0,0,0,0,0,0,0,0,0,0,0,0,0,0,0,0,0,0,0,0,0,0,0,0,0,0,0,0,0]
[null,"Step 7",0,0,0,0,0,0,0,0,0,0,0,0,0,0,0,0,0,0,0,0,0,0,0,0,0,0,0,0,0,0,0,0,0,0,0,0,0,0,0,0,0,0,0,0,0,0,0,0,0,0,0,0,0,0,0,0,0,0,0,0]
[null,"Step 8",0,0,0,0,0,0,0,0,0,0,0,0,0,0,0,0,0,0,0,0,0,0,0,0,0,0,0,0,0,0,0,0,0,0,0,0,0,0,0,0,0,0,0,0,0,0,0,0,0,0,0,0,0,0,0,0,0,0,0,0]
[null,"Step 9",0,0,0,0,0,0,0,0,0,0,0,0,0,0,0,0,0,0,0,0,0,0,0,0,0,0,0,0,0,0,0,0,0,0,0,0,0,0,0,0,0,0,0,0,0,0,0,0,0,0,0,0,0,0,0,0,0,0,0,0]
[null,"Step 10",0,0,0,0,0,0,0,0,0,0,0,0,0,0,0,0,0,0,0,0,0,0,0,0,0,0,0,0,0,0,0,0,0,0,0,0,0,0,0,0,0,0,0,0,0,0,0,0,0,0,0,0,0,0,0,0,0,0,0,0]
[null,"Step 11",0,0,0,0,0,0,0,0,0,0,0,0,0,0,0,0,0,0,0,0,0,0,0,0,0,0,0,0,0,0,0,0,0,0,0,0,0,0,0,0,0,0,0,0,0,0,0,0,0,0,0,0,0,0,0,0,0,0,0,0]
[null,"Step 12",0,0,0,0,0,0,0,0,0,0,0,0,0,0,0,0,0,0,0,0,0,0,0,0,0,0,0,0,0,0,0,0,0,0,0,0,0,0,0,0,0,0,0,0,0,0,0,0,0,0,0,0,0,0,0,0,0,0,0,0]
[null,"Step 13",0,0,0,0,0,0,0,0,0,0,0,0,0,0,0,0,0,0,0,0,0,0,0,0,0,0,0,0,0,0,0,0,0,0,0,0,0,0,0,0,0,0,0,0,0,0,0,0,0,0,0,0,0,0,0,0,0,0,0,0]
[null,"Step 14",0,0,0,0,0,0,0,0,0,0,0,0,0,0,0,0,0,0,0,0,0,0,0,0,0,0,0,0,0,0,0,0,0,0,0,0,0,0,0,0,0,0,0,0,0,0,0,0,0,0,0,0,0,0,0,0,0,0,0,0]
[null,"Step 15",0,0,0,0,0,0,0,0,0,0,0,0,0,0,0,0,0,0,0,0,0,0,0,0,0,0,0,0,0,0,0,0,0,0,0,0,0,0,0,0,0,0,0,0,0,0,0,0,0,0,0,0,0,0,0,0,0,0,0,0]
[null,"Step 16",0,0,0,0,0,0,0,0,0,0,0,0,0,0,0,0,0,0,0,0,0,0,0,0,0,0,0,0,0,0,0,0,0,0,0,0,0,0,0,0,0,0,0,0,0,0,0,0,0,0,0,0,0,0,0,0,0,0,0,0]
[null,"Step 17",0,0,0,0,0,0,0,0,0,0,0,0,0,0,0,0,0,0,0,0,0,0,0,0,0,0,0,0,0,0,0,0,0,0,0,0,0,0,0,0,0,0,0,0,0,0,0,0,0,0,0,0,0,0,0,0,0,0,0,0]
[null,"Step 18",0,0,0,0,0,0,0,0,0,0,0,0,0,0,0,0,0,0,0,0,0,0,0,0,0,0,0,0,0,0,0,0,0,0,0,0,0,0,0,0,0,0,0,0,0,0,0,0,0,0,0,0,0,0,0,0,0,0,0,0]
[null,"Step 19",0,0,0,0,0,0,0,0,0,0,0,0,0,0,0,0,0,0,0,0,0,0,0,0,0,0,0,0,0,0,0,0,0,0,0,0,0,0,0,0,0,0,0,0,0,0,0,0,0,0,0,0,0,0,0,0,0,0,0,0]
[null,"Step 20",0,0,0,0,0,0,0,0,0,0,0,0,0,0,0,0,0,0,0,0,0,0,0,0,0,0,0,0,0,0,0,0,0,0,0,0,0,0,0,0,0,0,0,0,0,0,0,0,0,0,0,0,0,0,0,0,0,0,0,0]
[]
["Dynevor Arms"]
[]
["Quarter",null,{"$f":"First_quarter","v":"2020-10-01"},{"$f":"DATE(YEAR(C459),MONTH(C459)+1,1)","v":"2021-01-01"},{"$f":"DATE(YEAR(D459),MONTH(D459)+1,1)","v":"2021-04-01"},{"$f":"DATE(YEAR(E459),MONTH(E459)+1,1)","v":"2021-07-01"},{"$f":"DATE(YEAR(F459),MONTH(F459)+1,1)","v":"2021-10-01"},{"$f":"DATE(YEAR(G459),MONTH(G459)+1,1)","v":"2022-01-01"},{"$f":"DATE(YEAR(H459),MONTH(H459)+1,1)","v":"2022-04-01"},{"$f":"DATE(YEAR(I459),MONTH(I459)+1,1)","v":"2022-07-01"},{"$f":"DATE(YEAR(J459),MONTH(J459)+1,1)","v":"2022-10-01"},{"$f":"DATE(YEAR(K459),MONTH(K459)+1,1)","v":"2023-01-01"},{"$f":"DATE(YEAR(L459),MONTH(L459)+1,1)","v":"2023-04-01"},{"$f":"DATE(YEAR(M459),MONTH(M459)+1,1)","v":"2023-07-01"},{"$f":"DATE(YEAR(N459),MONTH(N459)+1,1)","v":"2023-10-01"},{"$f":"DATE(YEAR(O459),MONTH(O459)+1,1)","v":"2024-01-01"},{"$f":"DATE(YEAR(P459),MONTH(P459)+1,1)","v":"2024-04-01"},{"$f":"DATE(YEAR(Q459),MONTH(Q459)+1,1)","v":"2024-07-01"},{"$f":"DATE(YEAR(R459),MONTH(R459)+1,1)","v":"2024-10-01"},{"$f":"DATE(YEAR(S459),MONTH(S459)+1,1)","v":"2025-01-01"},{"$f":"DATE(YEAR(T459),MONTH(T459)+1,1)","v":"2025-04-01"},{"$f":"DATE(YEAR(U459),MONTH(U459)+1,1)","v":"2025-07-01"},{"$f":"DATE(YEAR(V459),MONTH(V459)+1,1)","v":"2025-10-01"},{"$f":"DATE(YEAR(W459),MONTH(W459)+1,1)","v":"2026-01-01"},{"$f":"DATE(YEAR(X459),MONTH(X459)+1,1)","v":"2026-04-01"},{"$f":"DATE(YEAR(Y459),MONTH(Y459)+1,1)","v":"2026-07-01"},{"$f":"DATE(YEAR(Z459),MONTH(Z459)+1,1)","v":"2026-10-01"},{"$f":"DATE(YEAR(AA459),MONTH(AA459)+1,1)","v":"2027-01-01"},{"$f":"DATE(YEAR(AB459),MONTH(AB459)+1,1)","v":"2027-04-01"},{"$f":"DATE(YEAR(AC459),MONTH(AC459)+1,1)","v":"2027-07-01"},{"$f":"DATE(YEAR(AD459),MONTH(AD459)+1,1)","v":"2027-10-01"},{"$f":"DATE(YEAR(AE459),MONTH(AE459)+1,1)","v":"2028-01-01"},{"$f":"DATE(YEAR(AF459),MONTH(AF459)+1,1)","v":"2028-04-01"},{"$f":"DATE(YEAR(AG459),MONTH(AG459)+1,1)","v":"2028-07-01"},{"$f":"DATE(YEAR(AH459),MONTH(AH459)+1,1)","v":"2028-10-01"},{"$f":"DATE(YEAR(AI459),MONTH(AI459)+1,1)","v":"2029-01-01"},{"$f":"DATE(YEAR(AJ459),MONTH(AJ459)+1,1)","v":"2029-04-01"},{"$f":"DATE(YEAR(AK459),MONTH(AK459)+1,1)","v":"2029-07-01"},{"$f":"DATE(YEAR(AL459),MONTH(AL459)+1,1)","v":"2029-10-01"},{"$f":"DATE(YEAR(AM459),MONTH(AM459)+1,1)","v":"2030-01-01"},{"$f":"DATE(YEAR(AN459),MONTH(AN459)+1,1)","v":"2030-04-01"},{"$f":"DATE(YEAR(AO459),MONTH(AO459)+1,1)","v":"2030-07-01"},{"$f":"DATE(YEAR(AP459),MONTH(AP459)+1,1)","v":"2030-10-01"},{"$f":"DATE(YEAR(AQ459),MONTH(AQ459)+1,1)","v":"2031-01-01"},{"$f":"DATE(YEAR(AR459),MONTH(AR459)+1,1)","v":"2031-04-01"},{"$f":"DATE(YEAR(AS459),MONTH(AS459)+1,1)","v":"2031-07-01"},{"$f":"DATE(YEAR(AT459),MONTH(AT459)+1,1)","v":"2031-10-01"},{"$f":"DATE(YEAR(AU459),MONTH(AU459)+1,1)","v":"2032-01-01"},{"$f":"DATE(YEAR(AV459),MONTH(AV459)+1,1)","v":"2032-04-01"},{"$f":"DATE(YEAR(AW459),MONTH(AW459)+1,1)","v":"2032-07-01"},{"$f":"DATE(YEAR(AX459),MONTH(AX459)+1,1)","v":"2032-10-01"},{"$f":"DATE(YEAR(AY459),MONTH(AY459)+1,1)","v":"2033-01-01"},{"$f":"DATE(YEAR(AZ459),MONTH(AZ459)+1,1)","v":"2033-04-01"},{"$f":"DATE(YEAR(BA459),MONTH(BA459)+1,1)","v":"2033-07-01"},{"$f":"DATE(YEAR(BB459),MONTH(BB459)+1,1)","v":"2033-10-01"},{"$f":"DATE(YEAR(BC459),MONTH(BC459)+1,1)","v":"2034-01-01"},{"$f":"DATE(YEAR(BD459),MONTH(BD459)+1,1)","v":"2034-04-01"},{"$f":"DATE(YEAR(BE459),MONTH(BE459)+1,1)","v":"2034-07-01"},{"$f":"DATE(YEAR(BF459),MONTH(BF459)+1,1)","v":"2034-10-01"},{"$f":"DATE(YEAR(BG459),MONTH(BG459)+1,1)","v":"2035-01-01"},{"$f":"DATE(YEAR(BH459),MONTH(BH459)+1,1)","v":"2035-04-01"},{"$f":"DATE(YEAR(BI459),MONTH(BI459)+1,1)","v":"2035-07-01"}]
[null,null,{"$f":"DATE(YEAR(C458),MONTH(C458)+2,1)","v":"2020-12-01"},"2021-03-01","2021-06-01","2021-09-01","2021-12-01","2022-03-01","2022-06-01","2022-09-01","2022-12-01","2023-03-01","2023-06-01","2023-09-01","2023-12-01","2024-03-01","2024-06-01","2024-09-01","2024-12-01","2025-03-01","2025-06-01","2025-09-01","2025-12-01","2026-03-01","2026-06-01","2026-09-01","2026-12-01","2027-03-01","2027-06-01","2027-09-01","2027-12-01","2028-03-01","2028-06-01","2028-09-01","2028-12-01","2029-03-01","2029-06-01","2029-09-01","2029-12-01","2030-03-01","2030-06-01","2030-09-01","2030-12-01","2031-03-01","2031-06-01","2031-09-01","2031-12-01","2032-03-01","2032-06-01","2032-09-01","2032-12-01","2033-03-01","2033-06-01","2033-09-01","2033-12-01","2034-03-01","2034-06-01","2034-09-01","2034-12-01","2035-03-01","2035-06-01","2035-09-01"]
["Quantity bid (GWh/day)"]
[]
["Base",null,0,0,0,0,0,0,0,0,0,0,0,0,0,0,0,0,0,0,0,0,0,0,0,0,0,0,0,0,0,0,0,0,0,0,0,0,0,0,0,0,0,0,0,0,0,0,0,0,0,0,0,0,0,0,0,0,0,0,0,0]
[null,"Step 1",0,0,0,0,0,0,0,0,0,0,0,0,0,0,0,0,0,0,0,0,0,0,0,0,0,0,0,0,0,0,0,0,0,0,0,0,0,0,0,0,0,0,0,0,0,0,0,0,0,0,0,0,0,0,0,0,0,0,0,0]
[null,"Step 2",0,0,0,0,0,0,0,0,0,0,0,0,0,0,0,0,0,0,0,0,0,0,0,0,0,0,0,0,0,0,0,0,0,0,0,0,0,0,0,0,0,0,0,0,0,0,0,0,0,0,0,0,0,0,0,0,0,0,0,0]
[null,"Step 3",0,0,0,0,0,0,0,0,0,0,0,0,0,0,0,0,0,0,0,0,0,0,0,0,0,0,0,0,0,0,0,0,0,0,0,0,0,0,0,0,0,0,0,0,0,0,0,0,0,0,0,0,0,0,0,0,0,0,0,0]
[null,"Step 4",0,0,0,0,0,0,0,0,0,0,0,0,0,0,0,0,0,0,0,0,0,0,0,0,0,0,0,0,0,0,0,0,0,0,0,0,0,0,0,0,0,0,0,0,0,0,0,0,0,0,0,0,0,0,0,0,0,0,0,0]
[null,"Step 5",0,0,0,0,0,0,0,0,0,0,0,0,0,0,0,0,0,0,0,0,0,0,0,0,0,0,0,0,0,0,0,0,0,0,0,0,0,0,0,0,0,0,0,0,0,0,0,0,0,0,0,0,0,0,0,0,0,0,0,0]
[null,"Step 6",0,0,0,0,0,0,0,0,0,0,0,0,0,0,0,0,0,0,0,0,0,0,0,0,0,0,0,0,0,0,0,0,0,0,0,0,0,0,0,0,0,0,0,0,0,0,0,0,0,0,0,0,0,0,0,0,0,0,0,0]
[null,"Step 7",0,0,0,0,0,0,0,0,0,0,0,0,0,0,0,0,0,0,0,0,0,0,0,0,0,0,0,0,0,0,0,0,0,0,0,0,0,0,0,0,0,0,0,0,0,0,0,0,0,0,0,0,0,0,0,0,0,0,0,0]
[null,"Step 8",0,0,0,0,0,0,0,0,0,0,0,0,0,0,0,0,0,0,0,0,0,0,0,0,0,0,0,0,0,0,0,0,0,0,0,0,0,0,0,0,0,0,0,0,0,0,0,0,0,0,0,0,0,0,0,0,0,0,0,0]
[null,"Step 9",0,0,0,0,0,0,0,0,0,0,0,0,0,0,0,0,0,0,0,0,0,0,0,0,0,0,0,0,0,0,0,0,0,0,0,0,0,0,0,0,0,0,0,0,0,0,0,0,0,0,0,0,0,0,0,0,0,0,0,0]
[null,"Step 10",0,0,0,0,0,0,0,0,0,0,0,0,0,0,0,0,0,0,0,0,0,0,0,0,0,0,0,0,0,0,0,0,0,0,0,0,0,0,0,0,0,0,0,0,0,0,0,0,0,0,0,0,0,0,0,0,0,0,0,0]
[null,"Step 11",0,0,0,0,0,0,0,0,0,0,0,0,0,0,0,0,0,0,0,0,0,0,0,0,0,0,0,0,0,0,0,0,0,0,0,0,0,0,0,0,0,0,0,0,0,0,0,0,0,0,0,0,0,0,0,0,0,0,0,0]
[null,"Step 12",0,0,0,0,0,0,0,0,0,0,0,0,0,0,0,0,0,0,0,0,0,0,0,0,0,0,0,0,0,0,0,0,0,0,0,0,0,0,0,0,0,0,0,0,0,0,0,0,0,0,0,0,0,0,0,0,0,0,0,0]
[null,"Step 13",0,0,0,0,0,0,0,0,0,0,0,0,0,0,0,0,0,0,0,0,0,0,0,0,0,0,0,0,0,0,0,0,0,0,0,0,0,0,0,0,0,0,0,0,0,0,0,0,0,0,0,0,0,0,0,0,0,0,0,0]
[null,"Step 14",0,0,0,0,0,0,0,0,0,0,0,0,0,0,0,0,0,0,0,0,0,0,0,0,0,0,0,0,0,0,0,0,0,0,0,0,0,0,0,0,0,0,0,0,0,0,0,0,0,0,0,0,0,0,0,0,0,0,0,0]
[null,"Step 15",0,0,0,0,0,0,0,0,0,0,0,0,0,0,0,0,0,0,0,0,0,0,0,0,0,0,0,0,0,0,0,0,0,0,0,0,0,0,0,0,0,0,0,0,0,0,0,0,0,0,0,0,0,0,0,0,0,0,0,0]
[null,"Step 16",0,0,0,0,0,0,0,0,0,0,0,0,0,0,0,0,0,0,0,0,0,0,0,0,0,0,0,0,0,0,0,0,0,0,0,0,0,0,0,0,0,0,0,0,0,0,0,0,0,0,0,0,0,0,0,0,0,0,0,0]
[null,"Step 17",0,0,0,0,0,0,0,0,0,0,0,0,0,0,0,0,0,0,0,0,0,0,0,0,0,0,0,0,0,0,0,0,0,0,0,0,0,0,0,0,0,0,0,0,0,0,0,0,0,0,0,0,0,0,0,0,0,0,0,0]
[null,"Step 18",0,0,0,0,0,0,0,0,0,0,0,0,0,0,0,0,0,0,0,0,0,0,0,0,0,0,0,0,0,0,0,0,0,0,0,0,0,0,0,0,0,0,0,0,0,0,0,0,0,0,0,0,0,0,0,0,0,0,0,0]
[null,"Step 19",0,0,0,0,0,0,0,0,0,0,0,0,0,0,0,0,0,0,0,0,0,0,0,0,0,0,0,0,0,0,0,0,0,0,0,0,0,0,0,0,0,0,0,0,0,0,0,0,0,0,0,0,0,0,0,0,0,0,0,0]
[null,"Step 20",0,0,0,0,0,0,0,0,0,0,0,0,0,0,0,0,0,0,0,0,0,0,0,0,0,0,0,0,0,0,0,0,0,0,0,0,0,0,0,0,0,0,0,0,0,0,0,0,0,0,0,0,0,0,0,0,0,0,0,0]
[]
["Isle of Grain"]
[]
["Quarter",null,{"$f":"First_quarter","v":"2020-10-01"},{"$f":"DATE(YEAR(C487),MONTH(C487)+1,1)","v":"2021-01-01"},{"$f":"DATE(YEAR(D487),MONTH(D487)+1,1)","v":"2021-04-01"},{"$f":"DATE(YEAR(E487),MONTH(E487)+1,1)","v":"2021-07-01"},{"$f":"DATE(YEAR(F487),MONTH(F487)+1,1)","v":"2021-10-01"},{"$f":"DATE(YEAR(G487),MONTH(G487)+1,1)","v":"2022-01-01"},{"$f":"DATE(YEAR(H487),MONTH(H487)+1,1)","v":"2022-04-01"},{"$f":"DATE(YEAR(I487),MONTH(I487)+1,1)","v":"2022-07-01"},{"$f":"DATE(YEAR(J487),MONTH(J487)+1,1)","v":"2022-10-01"},{"$f":"DATE(YEAR(K487),MONTH(K487)+1,1)","v":"2023-01-01"},{"$f":"DATE(YEAR(L487),MONTH(L487)+1,1)","v":"2023-04-01"},{"$f":"DATE(YEAR(M487),MONTH(M487)+1,1)","v":"2023-07-01"},{"$f":"DATE(YEAR(N487),MONTH(N487)+1,1)","v":"2023-10-01"},{"$f":"DATE(YEAR(O487),MONTH(O487)+1,1)","v":"2024-01-01"},{"$f":"DATE(YEAR(P487),MONTH(P487)+1,1)","v":"2024-04-01"},{"$f":"DATE(YEAR(Q487),MONTH(Q487)+1,1)","v":"2024-07-01"},{"$f":"DATE(YEAR(R487),MONTH(R487)+1,1)","v":"2024-10-01"},{"$f":"DATE(YEAR(S487),MONTH(S487)+1,1)","v":"2025-01-01"},{"$f":"DATE(YEAR(T487),MONTH(T487)+1,1)","v":"2025-04-01"},{"$f":"DATE(YEAR(U487),MONTH(U487)+1,1)","v":"2025-07-01"},{"$f":"DATE(YEAR(V487),MONTH(V487)+1,1)","v":"2025-10-01"},{"$f":"DATE(YEAR(W487),MONTH(W487)+1,1)","v":"2026-01-01"},{"$f":"DATE(YEAR(X487),MONTH(X487)+1,1)","v":"2026-04-01"},{"$f":"DATE(YEAR(Y487),MONTH(Y487)+1,1)","v":"2026-07-01"},{"$f":"DATE(YEAR(Z487),MONTH(Z487)+1,1)","v":"2026-10-01"},{"$f":"DATE(YEAR(AA487),MONTH(AA487)+1,1)","v":"2027-01-01"},{"$f":"DATE(YEAR(AB487),MONTH(AB487)+1,1)","v":"2027-04-01"},{"$f":"DATE(YEAR(AC487),MONTH(AC487)+1,1)","v":"2027-07-01"},{"$f":"DATE(YEAR(AD487),MONTH(AD487)+1,1)","v":"2027-10-01"},{"$f":"DATE(YEAR(AE487),MONTH(AE487)+1,1)","v":"2028-01-01"},{"$f":"DATE(YEAR(AF487),MONTH(AF487)+1,1)","v":"2028-04-01"},{"$f":"DATE(YEAR(AG487),MONTH(AG487)+1,1)","v":"2028-07-01"},{"$f":"DATE(YEAR(AH487),MONTH(AH487)+1,1)","v":"2028-10-01"},{"$f":"DATE(YEAR(AI487),MONTH(AI487)+1,1)","v":"2029-01-01"},{"$f":"DATE(YEAR(AJ487),MONTH(AJ487)+1,1)","v":"2029-04-01"},{"$f":"DATE(YEAR(AK487),MONTH(AK487)+1,1)","v":"2029-07-01"},{"$f":"DATE(YEAR(AL487),MONTH(AL487)+1,1)","v":"2029-10-01"},{"$f":"DATE(YEAR(AM487),MONTH(AM487)+1,1)","v":"2030-01-01"},{"$f":"DATE(YEAR(AN487),MONTH(AN487)+1,1)","v":"2030-04-01"},{"$f":"DATE(YEAR(AO487),MONTH(AO487)+1,1)","v":"2030-07-01"},{"$f":"DATE(YEAR(AP487),MONTH(AP487)+1,1)","v":"2030-10-01"},{"$f":"DATE(YEAR(AQ487),MONTH(AQ487)+1,1)","v":"2031-01-01"},{"$f":"DATE(YEAR(AR487),MONTH(AR487)+1,1)","v":"2031-04-01"},{"$f":"DATE(YEAR(AS487),MONTH(AS487)+1,1)","v":"2031-07-01"},{"$f":"DATE(YEAR(AT487),MONTH(AT487)+1,1)","v":"2031-10-01"},{"$f":"DATE(YEAR(AU487),MONTH(AU487)+1,1)","v":"2032-01-01"},{"$f":"DATE(YEAR(AV487),MONTH(AV487)+1,1)","v":"2032-04-01"},{"$f":"DATE(YEAR(AW487),MONTH(AW487)+1,1)","v":"2032-07-01"},{"$f":"DATE(YEAR(AX487),MONTH(AX487)+1,1)","v":"2032-10-01"},{"$f":"DATE(YEAR(AY487),MONTH(AY487)+1,1)","v":"2033-01-01"},{"$f":"DATE(YEAR(AZ487),MONTH(AZ487)+1,1)","v":"2033-04-01"},{"$f":"DATE(YEAR(BA487),MONTH(BA487)+1,1)","v":"2033-07-01"},{"$f":"DATE(YEAR(BB487),MONTH(BB487)+1,1)","v":"2033-10-01"},{"$f":"DATE(YEAR(BC487),MONTH(BC487)+1,1)","v":"2034-01-01"},{"$f":"DATE(YEAR(BD487),MONTH(BD487)+1,1)","v":"2034-04-01"},{"$f":"DATE(YEAR(BE487),MONTH(BE487)+1,1)","v":"2034-07-01"},{"$f":"DATE(YEAR(BF487),MONTH(BF487)+1,1)","v":"2034-10-01"},{"$f":"DATE(YEAR(BG487),MONTH(BG487)+1,1)","v":"2035-01-01"},{"$f":"DATE(YEAR(BH487),MONTH(BH487)+1,1)","v":"2035-04-01"},{"$f":"DATE(YEAR(BI487),MONTH(BI487)+1,1)","v":"2035-07-01"}]
[null,null,{"$f":"DATE(YEAR(C486),MONTH(C486)+2,1)","v":"2020-12-01"},"2021-03-01","2021-06-01","2021-09-01","2021-12-01","2022-03-01","2022-06-01","2022-09-01","2022-12-01","2023-03-01","2023-06-01","2023-09-01","2023-12-01","2024-03-01","2024-06-01","2024-09-01","2024-12-01","2025-03-01","2025-06-01","2025-09-01","2025-12-01","2026-03-01","2026-06-01","2026-09-01","2026-12-01","2027-03-01","2027-06-01","2027-09-01","2027-12-01","2028-03-01","2028-06-01","2028-09-01","2028-12-01","2029-03-01","2029-06-01","2029-09-01","2029-12-01","2030-03-01","2030-06-01","2030-09-01","2030-12-01","2031-03-01","2031-06-01","2031-09-01","2031-12-01","2032-03-01","2032-06-01","2032-09-01","2032-12-01","2033-03-01","2033-06-01","2033-09-01","2033-12-01","2034-03-01","2034-06-01","2034-09-01","2034-12-01","2035-03-01","2035-06-01","2035-09-01"]
["Quantity bid (GWh/day)"]
[]
["Base",null,0,0,0,0,0,0,0,0,0,0,0,0,0,0,0,0,0,0,0,0,0,0,0,0,0,0,0,0,0,0,0,0,0,0,0,0,0,0,0,0,0,0,0,0,0,0,0,0,0,0,0,0,0,0,0,0,0,0,0,0]
[null,"Step 1",0,0,0,0,0,0,0,0,0,0,0,0,0,0,0,0,0,0,0,0,0,0,0,0,0,0,0,0,0,0,0,0,0,0,0,0,0,0,0,0,0,0,0,0,0,0,0,0,0,0,0,0,0,0,0,0,0,0,0,0]
[null,"Step 2",0,0,0,0,0,0,0,0,0,0,0,0,0,0,0,0,0,0,0,0,0,0,0,0,0,0,0,0,0,0,0,0,0,0,0,0,0,0,0,0,0,0,0,0,0,0,0,0,0,0,0,0,0,0,0,0,0,0,0,0]
[null,"Step 3",0,0,0,0,0,0,0,0,0,0,0,0,0,0,0,0,0,0,0,0,0,0,0,0,0,0,0,0,0,0,0,0,0,0,0,0,0,0,0,0,0,0,0,0,0,0,0,0,0,0,0,0,0,0,0,0,0,0,0,0]
[null,"Step 4",0,0,0,0,0,0,0,0,0,0,0,0,0,0,0,0,0,0,0,0,0,0,0,0,0,0,0,0,0,0,0,0,0,0,0,0,0,0,0,0,0,0,0,0,0,0,0,0,0,0,0,0,0,0,0,0,0,0,0,0]
[null,"Step 5",0,0,0,0,0,0,0,0,0,0,0,0,0,0,0,0,0,0,0,0,0,0,0,0,0,0,0,0,0,0,0,0,0,0,0,0,0,0,0,0,0,0,0,0,0,0,0,0,0,0,0,0,0,0,0,0,0,0,0,0]
[null,"Step 6",0,0,0,0,0,0,0,0,0,0,0,0,0,0,0,0,0,0,0,0,0,0,0,0,0,0,0,0,0,0,0,0,0,0,0,0,0,0,0,0,0,0,0,0,0,0,0,0,0,0,0,0,0,0,0,0,0,0,0,0]
[null,"Step 7",0,0,0,0,0,0,0,0,0,0,0,0,0,0,0,0,0,0,0,0,0,0,0,0,0,0,0,0,0,0,0,0,0,0,0,0,0,0,0,0,0,0,0,0,0,0,0,0,0,0,0,0,0,0,0,0,0,0,0,0]
[null,"Step 8",0,0,0,0,0,0,0,0,0,0,0,0,0,0,0,0,0,0,0,0,0,0,0,0,0,0,0,0,0,0,0,0,0,0,0,0,0,0,0,0,0,0,0,0,0,0,0,0,0,0,0,0,0,0,0,0,0,0,0,0]
[null,"Step 9",0,0,0,0,0,0,0,0,0,0,0,0,0,0,0,0,0,0,0,0,0,0,0,0,0,0,0,0,0,0,0,0,0,0,0,0,0,0,0,0,0,0,0,0,0,0,0,0,0,0,0,0,0,0,0,0,0,0,0,0]
[null,"Step 10",0,0,0,0,0,0,0,0,0,0,0,0,0,0,0,0,0,0,0,0,0,0,0,0,0,0,0,0,0,0,0,0,0,0,0,0,0,0,0,0,0,0,0,0,0,0,0,0,0,0,0,0,0,0,0,0,0,0,0,0]
[null,"Step 11",0,0,0,0,0,0,0,0,0,0,0,0,0,0,0,0,0,0,0,0,0,0,0,0,0,0,0,0,0,0,0,0,0,0,0,0,0,0,0,0,0,0,0,0,0,0,0,0,0,0,0,0,0,0,0,0,0,0,0,0]
[null,"Step 12",0,0,0,0,0,0,0,0,0,0,0,0,0,0,0,0,0,0,0,0,0,0,0,0,0,0,0,0,0,0,0,0,0,0,0,0,0,0,0,0,0,0,0,0,0,0,0,0,0,0,0,0,0,0,0,0,0,0,0,0]
[null,"Step 13",0,0,0,0,0,0,0,0,0,0,0,0,0,0,0,0,0,0,0,0,0,0,0,0,0,0,0,0,0,0,0,0,0,0,0,0,0,0,0,0,0,0,0,0,0,0,0,0,0,0,0,0,0,0,0,0,0,0,0,0]
[null,"Step 14",0,0,0,0,0,0,0,0,0,0,0,0,0,0,0,0,0,0,0,0,0,0,0,0,0,0,0,0,0,0,0,0,0,0,0,0,0,0,0,0,0,0,0,0,0,0,0,0,0,0,0,0,0,0,0,0,0,0,0,0]
[null,"Step 15",0,0,0,0,0,0,0,0,0,0,0,0,0,0,0,0,0,0,0,0,0,0,0,0,0,0,0,0,0,0,0,0,0,0,0,0,0,0,0,0,0,0,0,0,0,0,0,0,0,0,0,0,0,0,0,0,0,0,0,0]
[null,"Step 16",0,0,0,0,0,0,0,0,0,0,0,0,0,0,0,0,0,0,0,0,0,0,0,0,0,0,0,0,0,0,0,0,0,0,0,0,0,0,0,0,0,0,0,0,0,0,0,0,0,0,0,0,0,0,0,0,0,0,0,0]
[null,"Step 17",0,0,0,0,0,0,0,0,0,0,0,0,0,0,0,0,0,0,0,0,0,0,0,0,0,0,0,0,0,0,0,0,0,0,0,0,0,0,0,0,0,0,0,0,0,0,0,0,0,0,0,0,0,0,0,0,0,0,0,0]
[null,"Step 18",0,0,0,0,0,0,0,0,0,0,0,0,0,0,0,0,0,0,0,0,0,0,0,0,0,0,0,0,0,0,0,0,0,0,0,0,0,0,0,0,0,0,0,0,0,0,0,0,0,0,0,0,0,0,0,0,0,0,0,0]
[null,"Step 19",0,0,0,0,0,0,0,0,0,0,0,0,0,0,0,0,0,0,0,0,0,0,0,0,0,0,0,0,0,0,0,0,0,0,0,0,0,0,0,0,0,0,0,0,0,0,0,0,0,0,0,0,0,0,0,0,0,0,0,0]
[null,"Step 20",0,0,0,0,0,0,0,0,0,0,0,0,0,0,0,0,0,0,0,0,0,0,0,0,0,0,0,0,0,0,0,0,0,0,0,0,0,0,0,0,0,0,0,0,0,0,0,0,0,0,0,0,0,0,0,0,0,0,0,0]
[]
["Barton Stacey"]
[]
["Quarter",null,{"$f":"First_quarter","v":"2020-10-01"},{"$f":"DATE(YEAR(C515),MONTH(C515)+1,1)","v":"2021-01-01"},{"$f":"DATE(YEAR(D515),MONTH(D515)+1,1)","v":"2021-04-01"},{"$f":"DATE(YEAR(E515),MONTH(E515)+1,1)","v":"2021-07-01"},{"$f":"DATE(YEAR(F515),MONTH(F515)+1,1)","v":"2021-10-01"},{"$f":"DATE(YEAR(G515),MONTH(G515)+1,1)","v":"2022-01-01"},{"$f":"DATE(YEAR(H515),MONTH(H515)+1,1)","v":"2022-04-01"},{"$f":"DATE(YEAR(I515),MONTH(I515)+1,1)","v":"2022-07-01"},{"$f":"DATE(YEAR(J515),MONTH(J515)+1,1)","v":"2022-10-01"},{"$f":"DATE(YEAR(K515),MONTH(K515)+1,1)","v":"2023-01-01"},{"$f":"DATE(YEAR(L515),MONTH(L515)+1,1)","v":"2023-04-01"},{"$f":"DATE(YEAR(M515),MONTH(M515)+1,1)","v":"2023-07-01"},{"$f":"DATE(YEAR(N515),MONTH(N515)+1,1)","v":"2023-10-01"},{"$f":"DATE(YEAR(O515),MONTH(O515)+1,1)","v":"2024-01-01"},{"$f":"DATE(YEAR(P515),MONTH(P515)+1,1)","v":"2024-04-01"},{"$f":"DATE(YEAR(Q515),MONTH(Q515)+1,1)","v":"2024-07-01"},{"$f":"DATE(YEAR(R515),MONTH(R515)+1,1)","v":"2024-10-01"},{"$f":"DATE(YEAR(S515),MONTH(S515)+1,1)","v":"2025-01-01"},{"$f":"DATE(YEAR(T515),MONTH(T515)+1,1)","v":"2025-04-01"},{"$f":"DATE(YEAR(U515),MONTH(U515)+1,1)","v":"2025-07-01"},{"$f":"DATE(YEAR(V515),MONTH(V515)+1,1)","v":"2025-10-01"},{"$f":"DATE(YEAR(W515),MONTH(W515)+1,1)","v":"2026-01-01"},{"$f":"DATE(YEAR(X515),MONTH(X515)+1,1)","v":"2026-04-01"},{"$f":"DATE(YEAR(Y515),MONTH(Y515)+1,1)","v":"2026-07-01"},{"$f":"DATE(YEAR(Z515),MONTH(Z515)+1,1)","v":"2026-10-01"},{"$f":"DATE(YEAR(AA515),MONTH(AA515)+1,1)","v":"2027-01-01"},{"$f":"DATE(YEAR(AB515),MONTH(AB515)+1,1)","v":"2027-04-01"},{"$f":"DATE(YEAR(AC515),MONTH(AC515)+1,1)","v":"2027-07-01"},{"$f":"DATE(YEAR(AD515),MONTH(AD515)+1,1)","v":"2027-10-01"},{"$f":"DATE(YEAR(AE515),MONTH(AE515)+1,1)","v":"2028-01-01"},{"$f":"DATE(YEAR(AF515),MONTH(AF515)+1,1)","v":"2028-04-01"},{"$f":"DATE(YEAR(AG515),MONTH(AG515)+1,1)","v":"2028-07-01"},{"$f":"DATE(YEAR(AH515),MONTH(AH515)+1,1)","v":"2028-10-01"},{"$f":"DATE(YEAR(AI515),MONTH(AI515)+1,1)","v":"2029-01-01"},{"$f":"DATE(YEAR(AJ515),MONTH(AJ515)+1,1)","v":"2029-04-01"},{"$f":"DATE(YEAR(AK515),MONTH(AK515)+1,1)","v":"2029-07-01"},{"$f":"DATE(YEAR(AL515),MONTH(AL515)+1,1)","v":"2029-10-01"},{"$f":"DATE(YEAR(AM515),MONTH(AM515)+1,1)","v":"2030-01-01"},{"$f":"DATE(YEAR(AN515),MONTH(AN515)+1,1)","v":"2030-04-01"},{"$f":"DATE(YEAR(AO515),MONTH(AO515)+1,1)","v":"2030-07-01"},{"$f":"DATE(YEAR(AP515),MONTH(AP515)+1,1)","v":"2030-10-01"},{"$f":"DATE(YEAR(AQ515),MONTH(AQ515)+1,1)","v":"2031-01-01"},{"$f":"DATE(YEAR(AR515),MONTH(AR515)+1,1)","v":"2031-04-01"},{"$f":"DATE(YEAR(AS515),MONTH(AS515)+1,1)","v":"2031-07-01"},{"$f":"DATE(YEAR(AT515),MONTH(AT515)+1,1)","v":"2031-10-01"},{"$f":"DATE(YEAR(AU515),MONTH(AU515)+1,1)","v":"2032-01-01"},{"$f":"DATE(YEAR(AV515),MONTH(AV515)+1,1)","v":"2032-04-01"},{"$f":"DATE(YEAR(AW515),MONTH(AW515)+1,1)","v":"2032-07-01"},{"$f":"DATE(YEAR(AX515),MONTH(AX515)+1,1)","v":"2032-10-01"},{"$f":"DATE(YEAR(AY515),MONTH(AY515)+1,1)","v":"2033-01-01"},{"$f":"DATE(YEAR(AZ515),MONTH(AZ515)+1,1)","v":"2033-04-01"},{"$f":"DATE(YEAR(BA515),MONTH(BA515)+1,1)","v":"2033-07-01"},{"$f":"DATE(YEAR(BB515),MONTH(BB515)+1,1)","v":"2033-10-01"},{"$f":"DATE(YEAR(BC515),MONTH(BC515)+1,1)","v":"2034-01-01"},{"$f":"DATE(YEAR(BD515),MONTH(BD515)+1,1)","v":"2034-04-01"},{"$f":"DATE(YEAR(BE515),MONTH(BE515)+1,1)","v":"2034-07-01"},{"$f":"DATE(YEAR(BF515),MONTH(BF515)+1,1)","v":"2034-10-01"},{"$f":"DATE(YEAR(BG515),MONTH(BG515)+1,1)","v":"2035-01-01"},{"$f":"DATE(YEAR(BH515),MONTH(BH515)+1,1)","v":"2035-04-01"},{"$f":"DATE(YEAR(BI515),MONTH(BI515)+1,1)","v":"2035-07-01"}]
[null,null,{"$f":"DATE(YEAR(C514),MONTH(C514)+2,1)","v":"2020-12-01"},"2021-03-01","2021-06-01","2021-09-01","2021-12-01","2022-03-01","2022-06-01","2022-09-01","2022-12-01","2023-03-01","2023-06-01","2023-09-01","2023-12-01","2024-03-01","2024-06-01","2024-09-01","2024-12-01","2025-03-01","2025-06-01","2025-09-01","2025-12-01","2026-03-01","2026-06-01","2026-09-01","2026-12-01","2027-03-01","2027-06-01","2027-09-01","2027-12-01","2028-03-01","2028-06-01","2028-09-01","2028-12-01","2029-03-01","2029-06-01","2029-09-01","2029-12-01","2030-03-01","2030-06-01","2030-09-01","2030-12-01","2031-03-01","2031-06-01","2031-09-01","2031-12-01","2032-03-01","2032-06-01","2032-09-01","2032-12-01","2033-03-01","2033-06-01","2033-09-01","2033-12-01","2034-03-01","2034-06-01","2034-09-01","2034-12-01","2035-03-01","2035-06-01","2035-09-01"]
["Quantity bid (GWh/day)"]
[]
["Base",null,0,0,0,0,0,0,0,0,0,0,0,0,0,0,0,0,0,0,0,0,0,0,0,0,0,0,0,0,0,0,0,0,0,0,0,0,0,0,0,0,0,0,0,0,0,0,0,0,0,0,0,0,0,0,0,0,0,0,0,0]
[null,"Step 1",0,0,0,0,0,0,0,0,0,0,0,0,0,0,0,0,0,0,0,0,0,0,0,0,0,0,0,0,0,0,0,0,0,0,0,0,0,0,0,0,0,0,0,0,0,0,0,0,0,0,0,0,0,0,0,0,0,0,0,0]
[null,"Step 2",0,0,0,0,0,0,0,0,0,0,0,0,0,0,0,0,0,0,0,0,0,0,0,0,0,0,0,0,0,0,0,0,0,0,0,0,0,0,0,0,0,0,0,0,0,0,0,0,0,0,0,0,0,0,0,0,0,0,0,0]
[null,"Step 3",0,0,0,0,0,0,0,0,0,0,0,0,0,0,0,0,0,0,0,0,0,0,0,0,0,0,0,0,0,0,0,0,0,0,0,0,0,0,0,0,0,0,0,0,0,0,0,0,0,0,0,0,0,0,0,0,0,0,0,0]
[null,"Step 4",0,0,0,0,0,0,0,0,0,0,0,0,0,0,0,0,0,0,0,0,0,0,0,0,0,0,0,0,0,0,0,0,0,0,0,0,0,0,0,0,0,0,0,0,0,0,0,0,0,0,0,0,0,0,0,0,0,0,0,0]
[null,"Step 5",0,0,0,0,0,0,0,0,0,0,0,0,0,0,0,0,0,0,0,0,0,0,0,0,0,0,0,0,0,0,0,0,0,0,0,0,0,0,0,0,0,0,0,0,0,0,0,0,0,0,0,0,0,0,0,0,0,0,0,0]
[null,"Step 6",0,0,0,0,0,0,0,0,0,0,0,0,0,0,0,0,0,0,0,0,0,0,0,0,0,0,0,0,0,0,0,0,0,0,0,0,0,0,0,0,0,0,0,0,0,0,0,0,0,0,0,0,0,0,0,0,0,0,0,0]
[null,"Step 7",0,0,0,0,0,0,0,0,0,0,0,0,0,0,0,0,0,0,0,0,0,0,0,0,0,0,0,0,0,0,0,0,0,0,0,0,0,0,0,0,0,0,0,0,0,0,0,0,0,0,0,0,0,0,0,0,0,0,0,0]
[null,"Step 8",0,0,0,0,0,0,0,0,0,0,0,0,0,0,0,0,0,0,0,0,0,0,0,0,0,0,0,0,0,0,0,0,0,0,0,0,0,0,0,0,0,0,0,0,0,0,0,0,0,0,0,0,0,0,0,0,0,0,0,0]
[null,"Step 9",0,0,0,0,0,0,0,0,0,0,0,0,0,0,0,0,0,0,0,0,0,0,0,0,0,0,0,0,0,0,0,0,0,0,0,0,0,0,0,0,0,0,0,0,0,0,0,0,0,0,0,0,0,0,0,0,0,0,0,0]
[null,"Step 10",0,0,0,0,0,0,0,0,0,0,0,0,0,0,0,0,0,0,0,0,0,0,0,0,0,0,0,0,0,0,0,0,0,0,0,0,0,0,0,0,0,0,0,0,0,0,0,0,0,0,0,0,0,0,0,0,0,0,0,0]
[null,"Step 11",0,0,0,0,0,0,0,0,0,0,0,0,0,0,0,0,0,0,0,0,0,0,0,0,0,0,0,0,0,0,0,0,0,0,0,0,0,0,0,0,0,0,0,0,0,0,0,0,0,0,0,0,0,0,0,0,0,0,0,0]
[null,"Step 12",0,0,0,0,0,0,0,0,0,0,0,0,0,0,0,0,0,0,0,0,0,0,0,0,0,0,0,0,0,0,0,0,0,0,0,0,0,0,0,0,0,0,0,0,0,0,0,0,0,0,0,0,0,0,0,0,0,0,0,0]
[null,"Step 13",0,0,0,0,0,0,0,0,0,0,0,0,0,0,0,0,0,0,0,0,0,0,0,0,0,0,0,0,0,0,0,0,0,0,0,0,0,0,0,0,0,0,0,0,0,0,0,0,0,0,0,0,0,0,0,0,0,0,0,0]
[null,"Step 14",0,0,0,0,0,0,0,0,0,0,0,0,0,0,0,0,0,0,0,0,0,0,0,0,0,0,0,0,0,0,0,0,0,0,0,0,0,0,0,0,0,0,0,0,0,0,0,0,0,0,0,0,0,0,0,0,0,0,0,0]
[null,"Step 15",0,0,0,0,0,0,0,0,0,0,0,0,0,0,0,0,0,0,0,0,0,0,0,0,0,0,0,0,0,0,0,0,0,0,0,0,0,0,0,0,0,0,0,0,0,0,0,0,0,0,0,0,0,0,0,0,0,0,0,0]
[null,"Step 16",0,0,0,0,0,0,0,0,0,0,0,0,0,0,0,0,0,0,0,0,0,0,0,0,0,0,0,0,0,0,0,0,0,0,0,0,0,0,0,0,0,0,0,0,0,0,0,0,0,0,0,0,0,0,0,0,0,0,0,0]
[null,"Step 17",0,0,0,0,0,0,0,0,0,0,0,0,0,0,0,0,0,0,0,0,0,0,0,0,0,0,0,0,0,0,0,0,0,0,0,0,0,0,0,0,0,0,0,0,0,0,0,0,0,0,0,0,0,0,0,0,0,0,0,0]
[null,"Step 18",0,0,0,0,0,0,0,0,0,0,0,0,0,0,0,0,0,0,0,0,0,0,0,0,0,0,0,0,0,0,0,0,0,0,0,0,0,0,0,0,0,0,0,0,0,0,0,0,0,0,0,0,0,0,0,0,0,0,0,0]
[null,"Step 19",0,0,0,0,0,0,0,0,0,0,0,0,0,0,0,0,0,0,0,0,0,0,0,0,0,0,0,0,0,0,0,0,0,0,0,0,0,0,0,0,0,0,0,0,0,0,0,0,0,0,0,0,0,0,0,0,0,0,0,0]
[null,"Step 20",0,0,0,0,0,0,0,0,0,0,0,0,0,0,0,0,0,0,0,0,0,0,0,0,0,0,0,0,0,0,0,0,0,0,0,0,0,0,0,0,0,0,0,0,0,0,0,0,0,0,0,0,0,0,0,0,0,0,0,0]
[]
["Garton"]
[]
["Quarter",null,{"$f":"First_quarter","v":"2020-10-01"},{"$f":"DATE(YEAR(C543),MONTH(C543)+1,1)","v":"2021-01-01"},{"$f":"DATE(YEAR(D543),MONTH(D543)+1,1)","v":"2021-04-01"},{"$f":"DATE(YEAR(E543),MONTH(E543)+1,1)","v":"2021-07-01"},{"$f":"DATE(YEAR(F543),MONTH(F543)+1,1)","v":"2021-10-01"},{"$f":"DATE(YEAR(G543),MONTH(G543)+1,1)","v":"2022-01-01"},{"$f":"DATE(YEAR(H543),MONTH(H543)+1,1)","v":"2022-04-01"},{"$f":"DATE(YEAR(I543),MONTH(I543)+1,1)","v":"2022-07-01"},{"$f":"DATE(YEAR(J543),MONTH(J543)+1,1)","v":"2022-10-01"},{"$f":"DATE(YEAR(K543),MONTH(K543)+1,1)","v":"2023-01-01"},{"$f":"DATE(YEAR(L543),MONTH(L543)+1,1)","v":"2023-04-01"},{"$f":"DATE(YEAR(M543),MONTH(M543)+1,1)","v":"2023-07-01"},{"$f":"DATE(YEAR(N543),MONTH(N543)+1,1)","v":"2023-10-01"},{"$f":"DATE(YEAR(O543),MONTH(O543)+1,1)","v":"2024-01-01"},{"$f":"DATE(YEAR(P543),MONTH(P543)+1,1)","v":"2024-04-01"},{"$f":"DATE(YEAR(Q543),MONTH(Q543)+1,1)","v":"2024-07-01"},{"$f":"DATE(YEAR(R543),MONTH(R543)+1,1)","v":"2024-10-01"},{"$f":"DATE(YEAR(S543),MONTH(S543)+1,1)","v":"2025-01-01"},{"$f":"DATE(YEAR(T543),MONTH(T543)+1,1)","v":"2025-04-01"},{"$f":"DATE(YEAR(U543),MONTH(U543)+1,1)","v":"2025-07-01"},{"$f":"DATE(YEAR(V543),MONTH(V543)+1,1)","v":"2025-10-01"},{"$f":"DATE(YEAR(W543),MONTH(W543)+1,1)","v":"2026-01-01"},{"$f":"DATE(YEAR(X543),MONTH(X543)+1,1)","v":"2026-04-01"},{"$f":"DATE(YEAR(Y543),MONTH(Y543)+1,1)","v":"2026-07-01"},{"$f":"DATE(YEAR(Z543),MONTH(Z543)+1,1)","v":"2026-10-01"},{"$f":"DATE(YEAR(AA543),MONTH(AA543)+1,1)","v":"2027-01-01"},{"$f":"DATE(YEAR(AB543),MONTH(AB543)+1,1)","v":"2027-04-01"},{"$f":"DATE(YEAR(AC543),MONTH(AC543)+1,1)","v":"2027-07-01"},{"$f":"DATE(YEAR(AD543),MONTH(AD543)+1,1)","v":"2027-10-01"},{"$f":"DATE(YEAR(AE543),MONTH(AE543)+1,1)","v":"2028-01-01"},{"$f":"DATE(YEAR(AF543),MONTH(AF543)+1,1)","v":"2028-04-01"},{"$f":"DATE(YEAR(AG543),MONTH(AG543)+1,1)","v":"2028-07-01"},{"$f":"DATE(YEAR(AH543),MONTH(AH543)+1,1)","v":"2028-10-01"},{"$f":"DATE(YEAR(AI543),MONTH(AI543)+1,1)","v":"2029-01-01"},{"$f":"DATE(YEAR(AJ543),MONTH(AJ543)+1,1)","v":"2029-04-01"},{"$f":"DATE(YEAR(AK543),MONTH(AK543)+1,1)","v":"2029-07-01"},{"$f":"DATE(YEAR(AL543),MONTH(AL543)+1,1)","v":"2029-10-01"},{"$f":"DATE(YEAR(AM543),MONTH(AM543)+1,1)","v":"2030-01-01"},{"$f":"DATE(YEAR(AN543),MONTH(AN543)+1,1)","v":"2030-04-01"},{"$f":"DATE(YEAR(AO543),MONTH(AO543)+1,1)","v":"2030-07-01"},{"$f":"DATE(YEAR(AP543),MONTH(AP543)+1,1)","v":"2030-10-01"},{"$f":"DATE(YEAR(AQ543),MONTH(AQ543)+1,1)","v":"2031-01-01"},{"$f":"DATE(YEAR(AR543),MONTH(AR543)+1,1)","v":"2031-04-01"},{"$f":"DATE(YEAR(AS543),MONTH(AS543)+1,1)","v":"2031-07-01"},{"$f":"DATE(YEAR(AT543),MONTH(AT543)+1,1)","v":"2031-10-01"},{"$f":"DATE(YEAR(AU543),MONTH(AU543)+1,1)","v":"2032-01-01"},{"$f":"DATE(YEAR(AV543),MONTH(AV543)+1,1)","v":"2032-04-01"},{"$f":"DATE(YEAR(AW543),MONTH(AW543)+1,1)","v":"2032-07-01"},{"$f":"DATE(YEAR(AX543),MONTH(AX543)+1,1)","v":"2032-10-01"},{"$f":"DATE(YEAR(AY543),MONTH(AY543)+1,1)","v":"2033-01-01"},{"$f":"DATE(YEAR(AZ543),MONTH(AZ543)+1,1)","v":"2033-04-01"},{"$f":"DATE(YEAR(BA543),MONTH(BA543)+1,1)","v":"2033-07-01"},{"$f":"DATE(YEAR(BB543),MONTH(BB543)+1,1)","v":"2033-10-01"},{"$f":"DATE(YEAR(BC543),MONTH(BC543)+1,1)","v":"2034-01-01"},{"$f":"DATE(YEAR(BD543),MONTH(BD543)+1,1)","v":"2034-04-01"},{"$f":"DATE(YEAR(BE543),MONTH(BE543)+1,1)","v":"2034-07-01"},{"$f":"DATE(YEAR(BF543),MONTH(BF543)+1,1)","v":"2034-10-01"},{"$f":"DATE(YEAR(BG543),MONTH(BG543)+1,1)","v":"2035-01-01"},{"$f":"DATE(YEAR(BH543),MONTH(BH543)+1,1)","v":"2035-04-01"},{"$f":"DATE(YEAR(BI543),MONTH(BI543)+1,1)","v":"2035-07-01"}]
[null,null,{"$f":"DATE(YEAR(C542),MONTH(C542)+2,1)","v":"2020-12-01"},"2021-03-01","2021-06-01","2021-09-01","2021-12-01","2022-03-01","2022-06-01","2022-09-01","2022-12-01","2023-03-01","2023-06-01","2023-09-01","2023-12-01","2024-03-01","2024-06-01","2024-09-01","2024-12-01","2025-03-01","2025-06-01","2025-09-01","2025-12-01","2026-03-01","2026-06-01","2026-09-01","2026-12-01","2027-03-01","2027-06-01","2027-09-01","2027-12-01","2028-03-01","2028-06-01","2028-09-01","2028-12-01","2029-03-01","2029-06-01","2029-09-01","2029-12-01","2030-03-01","2030-06-01","2030-09-01","2030-12-01","2031-03-01","2031-06-01","2031-09-01","2031-12-01","2032-03-01","2032-06-01","2032-09-01","2032-12-01","2033-03-01","2033-06-01","2033-09-01","2033-12-01","2034-03-01","2034-06-01","2034-09-01","2034-12-01","2035-03-01","2035-06-01","2035-09-01"]
["Quantity bid (GWh/day)"]
[]
["Base",null,0,0,0,0,0,0,0,0,0,0,0,0,0,0,0,0,0,0,0,0,0,0,0,0,0,0,0,0,0,0,0,0,0,0,0,0,0,0,0,0,0,0,0,0,0,0,0,0,0,0,0,0,0,0,0,0,0,0,0,0]
[null,"Step 1",0,0,0,0,0,0,0,0,0,0,0,0,0,0,0,0,0,0,0,0,0,0,0,0,0,0,0,0,0,0,0,0,0,0,0,0,0,0,0,0,0,0,0,0,0,0,0,0,0,0,0,0,0,0,0,0,0,0,0,0]
[null,"Step 2",0,0,0,0,0,0,0,0,0,0,0,0,0,0,0,0,0,0,0,0,0,0,0,0,0,0,0,0,0,0,0,0,0,0,0,0,0,0,0,0,0,0,0,0,0,0,0,0,0,0,0,0,0,0,0,0,0,0,0,0]
[null,"Step 3",0,0,0,0,0,0,0,0,0,0,0,0,0,0,0,0,0,0,0,0,0,0,0,0,0,0,0,0,0,0,0,0,0,0,0,0,0,0,0,0,0,0,0,0,0,0,0,0,0,0,0,0,0,0,0,0,0,0,0,0]
[null,"Step 4",0,0,0,0,0,0,0,0,0,0,0,0,0,0,0,0,0,0,0,0,0,0,0,0,0,0,0,0,0,0,0,0,0,0,0,0,0,0,0,0,0,0,0,0,0,0,0,0,0,0,0,0,0,0,0,0,0,0,0,0]
[null,"Step 5",0,0,0,0,0,0,0,0,0,0,0,0,0,0,0,0,0,0,0,0,0,0,0,0,0,0,0,0,0,0,0,0,0,0,0,0,0,0,0,0,0,0,0,0,0,0,0,0,0,0,0,0,0,0,0,0,0,0,0,0]
[null,"Step 6",0,0,0,0,0,0,0,0,0,0,0,0,0,0,0,0,0,0,0,0,0,0,0,0,0,0,0,0,0,0,0,0,0,0,0,0,0,0,0,0,0,0,0,0,0,0,0,0,0,0,0,0,0,0,0,0,0,0,0,0]
[null,"Step 7",0,0,0,0,0,0,0,0,0,0,0,0,0,0,0,0,0,0,0,0,0,0,0,0,0,0,0,0,0,0,0,0,0,0,0,0,0,0,0,0,0,0,0,0,0,0,0,0,0,0,0,0,0,0,0,0,0,0,0,0]
[null,"Step 8",0,0,0,0,0,0,0,0,0,0,0,0,0,0,0,0,0,0,0,0,0,0,0,0,0,0,0,0,0,0,0,0,0,0,0,0,0,0,0,0,0,0,0,0,0,0,0,0,0,0,0,0,0,0,0,0,0,0,0,0]
[null,"Step 9",0,0,0,0,0,0,0,0,0,0,0,0,0,0,0,0,0,0,0,0,0,0,0,0,0,0,0,0,0,0,0,0,0,0,0,0,0,0,0,0,0,0,0,0,0,0,0,0,0,0,0,0,0,0,0,0,0,0,0,0]
[null,"Step 10",0,0,0,0,0,0,0,0,0,0,0,0,0,0,0,0,0,0,0,0,0,0,0,0,0,0,0,0,0,0,0,0,0,0,0,0,0,0,0,0,0,0,0,0,0,0,0,0,0,0,0,0,0,0,0,0,0,0,0,0]
[null,"Step 11",0,0,0,0,0,0,0,0,0,0,0,0,0,0,0,0,0,0,0,0,0,0,0,0,0,0,0,0,0,0,0,0,0,0,0,0,0,0,0,0,0,0,0,0,0,0,0,0,0,0,0,0,0,0,0,0,0,0,0,0]
[null,"Step 12",0,0,0,0,0,0,0,0,0,0,0,0,0,0,0,0,0,0,0,0,0,0,0,0,0,0,0,0,0,0,0,0,0,0,0,0,0,0,0,0,0,0,0,0,0,0,0,0,0,0,0,0,0,0,0,0,0,0,0,0]
[null,"Step 13",0,0,0,0,0,0,0,0,0,0,0,0,0,0,0,0,0,0,0,0,0,0,0,0,0,0,0,0,0,0,0,0,0,0,0,0,0,0,0,0,0,0,0,0,0,0,0,0,0,0,0,0,0,0,0,0,0,0,0,0]
[null,"Step 14",0,0,0,0,0,0,0,0,0,0,0,0,0,0,0,0,0,0,0,0,0,0,0,0,0,0,0,0,0,0,0,0,0,0,0,0,0,0,0,0,0,0,0,0,0,0,0,0,0,0,0,0,0,0,0,0,0,0,0,0]
[null,"Step 15",0,0,0,0,0,0,0,0,0,0,0,0,0,0,0,0,0,0,0,0,0,0,0,0,0,0,0,0,0,0,0,0,0,0,0,0,0,0,0,0,0,0,0,0,0,0,0,0,0,0,0,0,0,0,0,0,0,0,0,0]
[null,"Step 16",0,0,0,0,0,0,0,0,0,0,0,0,0,0,0,0,0,0,0,0,0,0,0,0,0,0,0,0,0,0,0,0,0,0,0,0,0,0,0,0,0,0,0,0,0,0,0,0,0,0,0,0,0,0,0,0,0,0,0,0]
[null,"Step 17",0,0,0,0,0,0,0,0,0,0,0,0,0,0,0,0,0,0,0,0,0,0,0,0,0,0,0,0,0,0,0,0,0,0,0,0,0,0,0,0,0,0,0,0,0,0,0,0,0,0,0,0,0,0,0,0,0,0,0,0]
[null,"Step 18",0,0,0,0,0,0,0,0,0,0,0,0,0,0,0,0,0,0,0,0,0,0,0,0,0,0,0,0,0,0,0,0,0,0,0,0,0,0,0,0,0,0,0,0,0,0,0,0,0,0,0,0,0,0,0,0,0,0,0,0]
[null,"Step 19",0,0,0,0,0,0,0,0,0,0,0,0,0,0,0,0,0,0,0,0,0,0,0,0,0,0,0,0,0,0,0,0,0,0,0,0,0,0,0,0,0,0,0,0,0,0,0,0,0,0,0,0,0,0,0,0,0,0,0,0]
[null,"Step 20",0,0,0,0,0,0,0,0,0,0,0,0,0,0,0,0,0,0,0,0,0,0,0,0,0,0,0,0,0,0,0,0,0,0,0,0,0,0,0,0,0,0,0,0,0,0,0,0,0,0,0,0,0,0,0,0,0,0,0,0]
[]
["Milford Haven"]
[]
["Quarter",null,{"$f":"First_quarter","v":"2020-10-01"},{"$f":"DATE(YEAR(C571),MONTH(C571)+1,1)","v":"2021-01-01"},{"$f":"DATE(YEAR(D571),MONTH(D571)+1,1)","v":"2021-04-01"},{"$f":"DATE(YEAR(E571),MONTH(E571)+1,1)","v":"2021-07-01"},{"$f":"DATE(YEAR(F571),MONTH(F571)+1,1)","v":"2021-10-01"},{"$f":"DATE(YEAR(G571),MONTH(G571)+1,1)","v":"2022-01-01"},{"$f":"DATE(YEAR(H571),MONTH(H571)+1,1)","v":"2022-04-01"},{"$f":"DATE(YEAR(I571),MONTH(I571)+1,1)","v":"2022-07-01"},{"$f":"DATE(YEAR(J571),MONTH(J571)+1,1)","v":"2022-10-01"},{"$f":"DATE(YEAR(K571),MONTH(K571)+1,1)","v":"2023-01-01"},{"$f":"DATE(YEAR(L571),MONTH(L571)+1,1)","v":"2023-04-01"},{"$f":"DATE(YEAR(M571),MONTH(M571)+1,1)","v":"2023-07-01"},{"$f":"DATE(YEAR(N571),MONTH(N571)+1,1)","v":"2023-10-01"},{"$f":"DATE(YEAR(O571),MONTH(O571)+1,1)","v":"2024-01-01"},{"$f":"DATE(YEAR(P571),MONTH(P571)+1,1)","v":"2024-04-01"},{"$f":"DATE(YEAR(Q571),MONTH(Q571)+1,1)","v":"2024-07-01"},{"$f":"DATE(YEAR(R571),MONTH(R571)+1,1)","v":"2024-10-01"},{"$f":"DATE(YEAR(S571),MONTH(S571)+1,1)","v":"2025-01-01"},{"$f":"DATE(YEAR(T571),MONTH(T571)+1,1)","v":"2025-04-01"},{"$f":"DATE(YEAR(U571),MONTH(U571)+1,1)","v":"2025-07-01"},{"$f":"DATE(YEAR(V571),MONTH(V571)+1,1)","v":"2025-10-01"},{"$f":"DATE(YEAR(W571),MONTH(W571)+1,1)","v":"2026-01-01"},{"$f":"DATE(YEAR(X571),MONTH(X571)+1,1)","v":"2026-04-01"},{"$f":"DATE(YEAR(Y571),MONTH(Y571)+1,1)","v":"2026-07-01"},{"$f":"DATE(YEAR(Z571),MONTH(Z571)+1,1)","v":"2026-10-01"},{"$f":"DATE(YEAR(AA571),MONTH(AA571)+1,1)","v":"2027-01-01"},{"$f":"DATE(YEAR(AB571),MONTH(AB571)+1,1)","v":"2027-04-01"},{"$f":"DATE(YEAR(AC571),MONTH(AC571)+1,1)","v":"2027-07-01"},{"$f":"DATE(YEAR(AD571),MONTH(AD571)+1,1)","v":"2027-10-01"},{"$f":"DATE(YEAR(AE571),MONTH(AE571)+1,1)","v":"2028-01-01"},{"$f":"DATE(YEAR(AF571),MONTH(AF571)+1,1)","v":"2028-04-01"},{"$f":"DATE(YEAR(AG571),MONTH(AG571)+1,1)","v":"2028-07-01"},{"$f":"DATE(YEAR(AH571),MONTH(AH571)+1,1)","v":"2028-10-01"},{"$f":"DATE(YEAR(AI571),MONTH(AI571)+1,1)","v":"2029-01-01"},{"$f":"DATE(YEAR(AJ571),MONTH(AJ571)+1,1)","v":"2029-04-01"},{"$f":"DATE(YEAR(AK571),MONTH(AK571)+1,1)","v":"2029-07-01"},{"$f":"DATE(YEAR(AL571),MONTH(AL571)+1,1)","v":"2029-10-01"},{"$f":"DATE(YEAR(AM571),MONTH(AM571)+1,1)","v":"2030-01-01"},{"$f":"DATE(YEAR(AN571),MONTH(AN571)+1,1)","v":"2030-04-01"},{"$f":"DATE(YEAR(AO571),MONTH(AO571)+1,1)","v":"2030-07-01"},{"$f":"DATE(YEAR(AP571),MONTH(AP571)+1,1)","v":"2030-10-01"},{"$f":"DATE(YEAR(AQ571),MONTH(AQ571)+1,1)","v":"2031-01-01"},{"$f":"DATE(YEAR(AR571),MONTH(AR571)+1,1)","v":"2031-04-01"},{"$f":"DATE(YEAR(AS571),MONTH(AS571)+1,1)","v":"2031-07-01"},{"$f":"DATE(YEAR(AT571),MONTH(AT571)+1,1)","v":"2031-10-01"},{"$f":"DATE(YEAR(AU571),MONTH(AU571)+1,1)","v":"2032-01-01"},{"$f":"DATE(YEAR(AV571),MONTH(AV571)+1,1)","v":"2032-04-01"},{"$f":"DATE(YEAR(AW571),MONTH(AW571)+1,1)","v":"2032-07-01"},{"$f":"DATE(YEAR(AX571),MONTH(AX571)+1,1)","v":"2032-10-01"},{"$f":"DATE(YEAR(AY571),MONTH(AY571)+1,1)","v":"2033-01-01"},{"$f":"DATE(YEAR(AZ571),MONTH(AZ571)+1,1)","v":"2033-04-01"},{"$f":"DATE(YEAR(BA571),MONTH(BA571)+1,1)","v":"2033-07-01"},{"$f":"DATE(YEAR(BB571),MONTH(BB571)+1,1)","v":"2033-10-01"},{"$f":"DATE(YEAR(BC571),MONTH(BC571)+1,1)","v":"2034-01-01"},{"$f":"DATE(YEAR(BD571),MONTH(BD571)+1,1)","v":"2034-04-01"},{"$f":"DATE(YEAR(BE571),MONTH(BE571)+1,1)","v":"2034-07-01"},{"$f":"DATE(YEAR(BF571),MONTH(BF571)+1,1)","v":"2034-10-01"},{"$f":"DATE(YEAR(BG571),MONTH(BG571)+1,1)","v":"2035-01-01"},{"$f":"DATE(YEAR(BH571),MONTH(BH571)+1,1)","v":"2035-04-01"},{"$f":"DATE(YEAR(BI571),MONTH(BI571)+1,1)","v":"2035-07-01"}]
[null,null,{"$f":"DATE(YEAR(C570),MONTH(C570)+2,1)","v":"2020-12-01"},"2021-03-01","2021-06-01","2021-09-01","2021-12-01","2022-03-01","2022-06-01","2022-09-01","2022-12-01","2023-03-01","2023-06-01","2023-09-01","2023-12-01","2024-03-01","2024-06-01","2024-09-01","2024-12-01","2025-03-01","2025-06-01","2025-09-01","2025-12-01","2026-03-01","2026-06-01","2026-09-01","2026-12-01","2027-03-01","2027-06-01","2027-09-01","2027-12-01","2028-03-01","2028-06-01","2028-09-01","2028-12-01","2029-03-01","2029-06-01","2029-09-01","2029-12-01","2030-03-01","2030-06-01","2030-09-01","2030-12-01","2031-03-01","2031-06-01","2031-09-01","2031-12-01","2032-03-01","2032-06-01","2032-09-01","2032-12-01","2033-03-01","2033-06-01","2033-09-01","2033-12-01","2034-03-01","2034-06-01","2034-09-01","2034-12-01","2035-03-01","2035-06-01","2035-09-01"]
["Quantity bid (GWh/day)"]
[]
["Base"]
[null,"Step 1"]
[null,"Step 2"]
[null,"Step 3"]
[null,"Step 4"]
[null,"Step 5"]
[null,"Step 6"]
[null,"Step 7"]
[null,"Step 8"]
[null,"Step 9"]
[null,"Step 10"]
[null,"Step 11"]
[null,"Step 12"]
[null,"Step 13"]
[null,"Step 14"]
[null,"Step 15"]
[null,"Step 16"]
[null,"Step 17"]
[null,"Step 18"]
[null,"Step 19"]
[null,"Step 20"]
[]
["Fleetwood"]
[]
["Quarter",null,{"$f":"First_quarter","v":"2020-10-01"},{"$f":"DATE(YEAR(C599),MONTH(C599)+1,1)","v":"2021-01-01"},{"$f":"DATE(YEAR(D599),MONTH(D599)+1,1)","v":"2021-04-01"},{"$f":"DATE(YEAR(E599),MONTH(E599)+1,1)","v":"2021-07-01"},{"$f":"DATE(YEAR(F599),MONTH(F599)+1,1)","v":"2021-10-01"},{"$f":"DATE(YEAR(G599),MONTH(G599)+1,1)","v":"2022-01-01"},{"$f":"DATE(YEAR(H599),MONTH(H599)+1,1)","v":"2022-04-01"},{"$f":"DATE(YEAR(I599),MONTH(I599)+1,1)","v":"2022-07-01"},{"$f":"DATE(YEAR(J599),MONTH(J599)+1,1)","v":"2022-10-01"},{"$f":"DATE(YEAR(K599),MONTH(K599)+1,1)","v":"2023-01-01"},{"$f":"DATE(YEAR(L599),MONTH(L599)+1,1)","v":"2023-04-01"},{"$f":"DATE(YEAR(M599),MONTH(M599)+1,1)","v":"2023-07-01"},{"$f":"DATE(YEAR(N599),MONTH(N599)+1,1)","v":"2023-10-01"},{"$f":"DATE(YEAR(O599),MONTH(O599)+1,1)","v":"2024-01-01"},{"$f":"DATE(YEAR(P599),MONTH(P599)+1,1)","v":"2024-04-01"},{"$f":"DATE(YEAR(Q599),MONTH(Q599)+1,1)","v":"2024-07-01"},{"$f":"DATE(YEAR(R599),MONTH(R599)+1,1)","v":"2024-10-01"},{"$f":"DATE(YEAR(S599),MONTH(S599)+1,1)","v":"2025-01-01"},{"$f":"DATE(YEAR(T599),MONTH(T599)+1,1)","v":"2025-04-01"},{"$f":"DATE(YEAR(U599),MONTH(U599)+1,1)","v":"2025-07-01"},{"$f":"DATE(YEAR(V599),MONTH(V599)+1,1)","v":"2025-10-01"},{"$f":"DATE(YEAR(W599),MONTH(W599)+1,1)","v":"2026-01-01"},{"$f":"DATE(YEAR(X599),MONTH(X599)+1,1)","v":"2026-04-01"},{"$f":"DATE(YEAR(Y599),MONTH(Y599)+1,1)","v":"2026-07-01"},{"$f":"DATE(YEAR(Z599),MONTH(Z599)+1,1)","v":"2026-10-01"},{"$f":"DATE(YEAR(AA599),MONTH(AA599)+1,1)","v":"2027-01-01"},{"$f":"DATE(YEAR(AB599),MONTH(AB599)+1,1)","v":"2027-04-01"},{"$f":"DATE(YEAR(AC599),MONTH(AC599)+1,1)","v":"2027-07-01"},{"$f":"DATE(YEAR(AD599),MONTH(AD599)+1,1)","v":"2027-10-01"},{"$f":"DATE(YEAR(AE599),MONTH(AE599)+1,1)","v":"2028-01-01"},{"$f":"DATE(YEAR(AF599),MONTH(AF599)+1,1)","v":"2028-04-01"},{"$f":"DATE(YEAR(AG599),MONTH(AG599)+1,1)","v":"2028-07-01"},{"$f":"DATE(YEAR(AH599),MONTH(AH599)+1,1)","v":"2028-10-01"},{"$f":"DATE(YEAR(AI599),MONTH(AI599)+1,1)","v":"2029-01-01"},{"$f":"DATE(YEAR(AJ599),MONTH(AJ599)+1,1)","v":"2029-04-01"},{"$f":"DATE(YEAR(AK599),MONTH(AK599)+1,1)","v":"2029-07-01"},{"$f":"DATE(YEAR(AL599),MONTH(AL599)+1,1)","v":"2029-10-01"},{"$f":"DATE(YEAR(AM599),MONTH(AM599)+1,1)","v":"2030-01-01"},{"$f":"DATE(YEAR(AN599),MONTH(AN599)+1,1)","v":"2030-04-01"},{"$f":"DATE(YEAR(AO599),MONTH(AO599)+1,1)","v":"2030-07-01"},{"$f":"DATE(YEAR(AP599),MONTH(AP599)+1,1)","v":"2030-10-01"},{"$f":"DATE(YEAR(AQ599),MONTH(AQ599)+1,1)","v":"2031-01-01"},{"$f":"DATE(YEAR(AR599),MONTH(AR599)+1,1)","v":"2031-04-01"},{"$f":"DATE(YEAR(AS599),MONTH(AS599)+1,1)","v":"2031-07-01"},{"$f":"DATE(YEAR(AT599),MONTH(AT599)+1,1)","v":"2031-10-01"},{"$f":"DATE(YEAR(AU599),MONTH(AU599)+1,1)","v":"2032-01-01"},{"$f":"DATE(YEAR(AV599),MONTH(AV599)+1,1)","v":"2032-04-01"},{"$f":"DATE(YEAR(AW599),MONTH(AW599)+1,1)","v":"2032-07-01"},{"$f":"DATE(YEAR(AX599),MONTH(AX599)+1,1)","v":"2032-10-01"},{"$f":"DATE(YEAR(AY599),MONTH(AY599)+1,1)","v":"2033-01-01"},{"$f":"DATE(YEAR(AZ599),MONTH(AZ599)+1,1)","v":"2033-04-01"},{"$f":"DATE(YEAR(BA599),MONTH(BA599)+1,1)","v":"2033-07-01"},{"$f":"DATE(YEAR(BB599),MONTH(BB599)+1,1)","v":"2033-10-01"},{"$f":"DATE(YEAR(BC599),MONTH(BC599)+1,1)","v":"2034-01-01"},{"$f":"DATE(YEAR(BD599),MONTH(BD599)+1,1)","v":"2034-04-01"},{"$f":"DATE(YEAR(BE599),MONTH(BE599)+1,1)","v":"2034-07-01"},{"$f":"DATE(YEAR(BF599),MONTH(BF599)+1,1)","v":"2034-10-01"},{"$f":"DATE(YEAR(BG599),MONTH(BG599)+1,1)","v":"2035-01-01"},{"$f":"DATE(YEAR(BH599),MONTH(BH599)+1,1)","v":"2035-04-01"},{"$f":"DATE(YEAR(BI599),MONTH(BI599)+1,1)","v":"2035-07-01"}]
[null,null,{"$f":"DATE(YEAR(C598),MONTH(C598)+2,1)","v":"2020-12-01"},"2021-03-01",{"$f":"DATE(YEAR(E598),MONTH(E598)+2,1)","v":"2021-06-01"},"2021-09-01","2021-12-01","2022-03-01","2022-06-01",{"$f":"DATE(YEAR(J598),MONTH(J598)+2,1)","v":"2022-09-01"},"2022-12-01","2023-03-01","2023-06-01","2023-09-01","2023-12-01","2024-03-01","2024-06-01","2024-09-01","2024-12-01","2025-03-01","2025-06-01","2025-09-01","2025-12-01","2026-03-01","2026-06-01","2026-09-01","2026-12-01","2027-03-01","2027-06-01","2027-09-01","2027-12-01","2028-03-01","2028-06-01","2028-09-01","2028-12-01","2029-03-01","2029-06-01","2029-09-01","2029-12-01","2030-03-01","2030-06-01","2030-09-01","2030-12-01","2031-03-01","2031-06-01","2031-09-01","2031-12-01","2032-03-01","2032-06-01","2032-09-01","2032-12-01","2033-03-01","2033-06-01","2033-09-01","2033-12-01","2034-03-01","2034-06-01","2034-09-01","2034-12-01","2035-03-01","2035-06-01","2035-09-01"]
["Quantity bid (GWh/day)"]
[]
["Base",null,0,0,0,0,0,0,0,0,0,0,0,0,0,0,0,0,0,0,0,0,0,0,0,0,0,0,0,0,0,0,0,0,0,0,0,0,0,0,0,0,0,0,0,0,0,0,0,0,0,0,0,0,0,0,0,0,0,0,0,0]
[null,"Step 1",0,0,0,0,0,0,0,0,0,0,0,0,0,0,0,0,0,0,0,0,0,0,0,0,0,0,0,0,0,0,0,0,0,0,0,0,0,0,0,0,0,0,0,0,0,0,0,0,0,0,0,0,0,0,0,0,0,0,0,0]
[null,"Step 2",0,0,0,0,0,0,0,0,0,0,0,0,0,0,0,0,0,0,0,0,0,0,0,0,0,0,0,0,0,0,0,0,0,0,0,0,0,0,0,0,0,0,0,0,0,0,0,0,0,0,0,0,0,0,0,0,0,0,0,0]
[null,"Step 3",0,0,0,0,0,0,0,0,0,0,0,0,0,0,0,0,0,0,0,0,0,0,0,0,0,0,0,0,0,0,0,0,0,0,0,0,0,0,0,0,0,0,0,0,0,0,0,0,0,0,0,0,0,0,0,0,0,0,0,0]
[null,"Step 4",0,0,0,0,0,0,0,0,0,0,0,0,0,0,0,0,0,0,0,0,0,0,0,0,0,0,0,0,0,0,0,0,0,0,0,0,0,0,0,0,0,0,0,0,0,0,0,0,0,0,0,0,0,0,0,0,0,0,0,0]
[null,"Step 5",0,0,0,0,0,0,0,0,0,0,0,0,0,0,0,0,0,0,0,0,0,0,0,0,0,0,0,0,0,0,0,0,0,0,0,0,0,0,0,0,0,0,0,0,0,0,0,0,0,0,0,0,0,0,0,0,0,0,0,0]
[null,"Step 6",0,0,0,0,0,0,0,0,0,0,0,0,0,0,0,0,0,0,0,0,0,0,0,0,0,0,0,0,0,0,0,0,0,0,0,0,0,0,0,0,0,0,0,0,0,0,0,0,0,0,0,0,0,0,0,0,0,0,0,0]
[null,"Step 7",0,0,0,0,0,0,0,0,0,0,0,0,0,0,0,0,0,0,0,0,0,0,0,0,0,0,0,0,0,0,0,0,0,0,0,0,0,0,0,0,0,0,0,0,0,0,0,0,0,0,0,0,0,0,0,0,0,0,0,0]
[null,"Step 8",0,0,0,0,0,0,0,0,0,0,0,0,0,0,0,0,0,0,0,0,0,0,0,0,0,0,0,0,0,0,0,0,0,0,0,0,0,0,0,0,0,0,0,0,0,0,0,0,0,0,0,0,0,0,0,0,0,0,0,0]
[null,"Step 9",0,0,0,0,0,0,0,0,0,0,0,0,0,0,0,0,0,0,0,0,0,0,0,0,0,0,0,0,0,0,0,0,0,0,0,0,0,0,0,0,0,0,0,0,0,0,0,0,0,0,0,0,0,0,0,0,0,0,0,0]
[null,"Step 10",0,0,0,0,0,0,0,0,0,0,0,0,0,0,0,0,0,0,0,0,0,0,0,0,0,0,0,0,0,0,0,0,0,0,0,0,0,0,0,0,0,0,0,0,0,0,0,0,0,0,0,0,0,0,0,0,0,0,0,0]
[null,"Step 11",0,0,0,0,0,0,0,0,0,0,0,0,0,0,0,0,0,0,0,0,0,0,0,0,0,0,0,0,0,0,0,0,0,0,0,0,0,0,0,0,0,0,0,0,0,0,0,0,0,0,0,0,0,0,0,0,0,0,0,0]
[null,"Step 12",0,0,0,0,0,0,0,0,0,0,0,0,0,0,0,0,0,0,0,0,0,0,0,0,0,0,0,0,0,0,0,0,0,0,0,0,0,0,0,0,0,0,0,0,0,0,0,0,0,0,0,0,0,0,0,0,0,0,0,0]
[null,"Step 13",0,0,0,0,0,0,0,0,0,0,0,0,0,0,0,0,0,0,0,0,0,0,0,0,0,0,0,0,0,0,0,0,0,0,0,0,0,0,0,0,0,0,0,0,0,0,0,0,0,0,0,0,0,0,0,0,0,0,0,0]
[null,"Step 14",0,0,0,0,0,0,0,0,0,0,0,0,0,0,0,0,0,0,0,0,0,0,0,0,0,0,0,0,0,0,0,0,0,0,0,0,0,0,0,0,0,0,0,0,0,0,0,0,0,0,0,0,0,0,0,0,0,0,0,0]
[null,"Step 15",0,0,0,0,0,0,0,0,0,0,0,0,0,0,0,0,0,0,0,0,0,0,0,0,0,0,0,0,0,0,0,0,0,0,0,0,0,0,0,0,0,0,0,0,0,0,0,0,0,0,0,0,0,0,0,0,0,0,0,0]
[null,"Step 16",0,0,0,0,0,0,0,0,0,0,0,0,0,0,0,0,0,0,0,0,0,0,0,0,0,0,0,0,0,0,0,0,0,0,0,0,0,0,0,0,0,0,0,0,0,0,0,0,0,0,0,0,0,0,0,0,0,0,0,0]
[null,"Step 17",0,0,0,0,0,0,0,0,0,0,0,0,0,0,0,0,0,0,0,0,0,0,0,0,0,0,0,0,0,0,0,0,0,0,0,0,0,0,0,0,0,0,0,0,0,0,0,0,0,0,0,0,0,0,0,0,0,0,0,0]
[null,"Step 18",0,0,0,0,0,0,0,0,0,0,0,0,0,0,0,0,0,0,0,0,0,0,0,0,0,0,0,0,0,0,0,0,0,0,0,0,0,0,0,0,0,0,0,0,0,0,0,0,0,0,0,0,0,0,0,0,0,0,0,0]
[null,"Step 19",0,0,0,0,0,0,0,0,0,0,0,0,0,0,0,0,0,0,0,0,0,0,0,0,0,0,0,0,0,0,0,0,0,0,0,0,0,0,0,0,0,0,0,0,0,0,0,0,0,0,0,0,0,0,0,0,0,0,0,0]
[null,"Step 20",0,0,0,0,0,0,0,0,0,0,0,0,0,0,0,0,0,0,0,0,0,0,0,0,0,0,0,0,0,0,0,0,0,0,0,0,0,0,0,0,0,0,0,0,0,0,0,0,0,0,0,0,0,0,0,0,0,0,0,0]
[]
["Portland"]
[]
["Quarter",null,{"$f":"First_quarter","v":"2020-10-01"},{"$f":"DATE(YEAR(C627),MONTH(C627)+1,1)","v":"2021-01-01"},{"$f":"DATE(YEAR(D627),MONTH(D627)+1,1)","v":"2021-04-01"},{"$f":"DATE(YEAR(E627),MONTH(E627)+1,1)","v":"2021-07-01"},{"$f":"DATE(YEAR(F627),MONTH(F627)+1,1)","v":"2021-10-01"},{"$f":"DATE(YEAR(G627),MONTH(G627)+1,1)","v":"2022-01-01"},{"$f":"DATE(YEAR(H627),MONTH(H627)+1,1)","v":"2022-04-01"},{"$f":"DATE(YEAR(I627),MONTH(I627)+1,1)","v":"2022-07-01"},{"$f":"DATE(YEAR(J627),MONTH(J627)+1,1)","v":"2022-10-01"},{"$f":"DATE(YEAR(K627),MONTH(K627)+1,1)","v":"2023-01-01"},{"$f":"DATE(YEAR(L627),MONTH(L627)+1,1)","v":"2023-04-01"},{"$f":"DATE(YEAR(M627),MONTH(M627)+1,1)","v":"2023-07-01"},{"$f":"DATE(YEAR(N627),MONTH(N627)+1,1)","v":"2023-10-01"},{"$f":"DATE(YEAR(O627),MONTH(O627)+1,1)","v":"2024-01-01"},{"$f":"DATE(YEAR(P627),MONTH(P627)+1,1)","v":"2024-04-01"},{"$f":"DATE(YEAR(Q627),MONTH(Q627)+1,1)","v":"2024-07-01"},{"$f":"DATE(YEAR(R627),MONTH(R627)+1,1)","v":"2024-10-01"},{"$f":"DATE(YEAR(S627),MONTH(S627)+1,1)","v":"2025-01-01"},{"$f":"DATE(YEAR(T627),MONTH(T627)+1,1)","v":"2025-04-01"},{"$f":"DATE(YEAR(U627),MONTH(U627)+1,1)","v":"2025-07-01"},{"$f":"DATE(YEAR(V627),MONTH(V627)+1,1)","v":"2025-10-01"},{"$f":"DATE(YEAR(W627),MONTH(W627)+1,1)","v":"2026-01-01"},{"$f":"DATE(YEAR(X627),MONTH(X627)+1,1)","v":"2026-04-01"},{"$f":"DATE(YEAR(Y627),MONTH(Y627)+1,1)","v":"2026-07-01"},{"$f":"DATE(YEAR(Z627),MONTH(Z627)+1,1)","v":"2026-10-01"},{"$f":"DATE(YEAR(AA627),MONTH(AA627)+1,1)","v":"2027-01-01"},{"$f":"DATE(YEAR(AB627),MONTH(AB627)+1,1)","v":"2027-04-01"},{"$f":"DATE(YEAR(AC627),MONTH(AC627)+1,1)","v":"2027-07-01"},{"$f":"DATE(YEAR(AD627),MONTH(AD627)+1,1)","v":"2027-10-01"},{"$f":"DATE(YEAR(AE627),MONTH(AE627)+1,1)","v":"2028-01-01"},{"$f":"DATE(YEAR(AF627),MONTH(AF627)+1,1)","v":"2028-04-01"},{"$f":"DATE(YEAR(AG627),MONTH(AG627)+1,1)","v":"2028-07-01"},{"$f":"DATE(YEAR(AH627),MONTH(AH627)+1,1)","v":"2028-10-01"},{"$f":"DATE(YEAR(AI627),MONTH(AI627)+1,1)","v":"2029-01-01"},{"$f":"DATE(YEAR(AJ627),MONTH(AJ627)+1,1)","v":"2029-04-01"},{"$f":"DATE(YEAR(AK627),MONTH(AK627)+1,1)","v":"2029-07-01"},{"$f":"DATE(YEAR(AL627),MONTH(AL627)+1,1)","v":"2029-10-01"},{"$f":"DATE(YEAR(AM627),MONTH(AM627)+1,1)","v":"2030-01-01"},{"$f":"DATE(YEAR(AN627),MONTH(AN627)+1,1)","v":"2030-04-01"},{"$f":"DATE(YEAR(AO627),MONTH(AO627)+1,1)","v":"2030-07-01"},{"$f":"DATE(YEAR(AP627),MONTH(AP627)+1,1)","v":"2030-10-01"},{"$f":"DATE(YEAR(AQ627),MONTH(AQ627)+1,1)","v":"2031-01-01"},{"$f":"DATE(YEAR(AR627),MONTH(AR627)+1,1)","v":"2031-04-01"},{"$f":"DATE(YEAR(AS627),MONTH(AS627)+1,1)","v":"2031-07-01"},{"$f":"DATE(YEAR(AT627),MONTH(AT627)+1,1)","v":"2031-10-01"},{"$f":"DATE(YEAR(AU627),MONTH(AU627)+1,1)","v":"2032-01-01"},{"$f":"DATE(YEAR(AV627),MONTH(AV627)+1,1)","v":"2032-04-01"},{"$f":"DATE(YEAR(AW627),MONTH(AW627)+1,1)","v":"2032-07-01"},{"$f":"DATE(YEAR(AX627),MONTH(AX627)+1,1)","v":"2032-10-01"},{"$f":"DATE(YEAR(AY627),MONTH(AY627)+1,1)","v":"2033-01-01"},{"$f":"DATE(YEAR(AZ627),MONTH(AZ627)+1,1)","v":"2033-04-01"},{"$f":"DATE(YEAR(BA627),MONTH(BA627)+1,1)","v":"2033-07-01"},{"$f":"DATE(YEAR(BB627),MONTH(BB627)+1,1)","v":"2033-10-01"},{"$f":"DATE(YEAR(BC627),MONTH(BC627)+1,1)","v":"2034-01-01"},{"$f":"DATE(YEAR(BD627),MONTH(BD627)+1,1)","v":"2034-04-01"},{"$f":"DATE(YEAR(BE627),MONTH(BE627)+1,1)","v":"2034-07-01"},{"$f":"DATE(YEAR(BF627),MONTH(BF627)+1,1)","v":"2034-10-01"},{"$f":"DATE(YEAR(BG627),MONTH(BG627)+1,1)","v":"2035-01-01"},{"$f":"DATE(YEAR(BH627),MONTH(BH627)+1,1)","v":"2035-04-01"},{"$f":"DATE(YEAR(BI627),MONTH(BI627)+1,1)","v":"2035-07-01"}]
[null,null,{"$f":"DATE(YEAR(C626),MONTH(C626)+2,1)","v":"2020-12-01"},"2021-03-01","2021-06-01","2021-09-01","2021-12-01","2022-03-01","2022-06-01","2022-09-01","2022-12-01","2023-03-01","2023-06-01","2023-09-01","2023-12-01","2024-03-01","2024-06-01","2024-09-01","2024-12-01","2025-03-01","2025-06-01","2025-09-01","2025-12-01","2026-03-01","2026-06-01","2026-09-01","2026-12-01","2027-03-01","2027-06-01","2027-09-01","2027-12-01","2028-03-01","2028-06-01","2028-09-01","2028-12-01","2029-03-01","2029-06-01","2029-09-01","2029-12-01","2030-03-01","2030-06-01","2030-09-01","2030-12-01","2031-03-01","2031-06-01","2031-09-01","2031-12-01","2032-03-01","2032-06-01","2032-09-01","2032-12-01","2033-03-01","2033-06-01","2033-09-01","2033-12-01","2034-03-01","2034-06-01","2034-09-01","2034-12-01","2035-03-01","2035-06-01","2035-09-01"]
["Quantity bid (GWh/day)"]
[]
["Base",null,0,0,0,0,0,0,0,0,0,0,0,0,0,0,0,0,0,0,0,0,0,0,0,0,0,0,0,0,0,0,0,0,0,0,0,0,0,0,0,0,0,0,0,0,0,0,0,0,0,0,0,0,0,0,0,0,0,0,0,0]
[null,"Step 1",0,0,0,0,0,0,0,0,0,0,0,0,0,0,0,0,0,0,0,0,0,0,0,0,0,0,0,0,0,0,0,0,0,0,0,0,0,0,0,0,0,0,0,0,0,0,0,0,0,0,0,0,0,0,0,0,0,0,0,0]
[null,"Step 2",0,0,0,0,0,0,0,0,0,0,0,0,0,0,0,0,0,0,0,0,0,0,0,0,0,0,0,0,0,0,0,0,0,0,0,0,0,0,0,0,0,0,0,0,0,0,0,0,0,0,0,0,0,0,0,0,0,0,0,0]
[null,"Step 3",0,0,0,0,0,0,0,0,0,0,0,0,0,0,0,0,0,0,0,0,0,0,0,0,0,0,0,0,0,0,0,0,0,0,0,0,0,0,0,0,0,0,0,0,0,0,0,0,0,0,0,0,0,0,0,0,0,0,0,0]
[null,"Step 4",0,0,0,0,0,0,0,0,0,0,0,0,0,0,0,0,0,0,0,0,0,0,0,0,0,0,0,0,0,0,0,0,0,0,0,0,0,0,0,0,0,0,0,0,0,0,0,0,0,0,0,0,0,0,0,0,0,0,0,0]
[null,"Step 5",0,0,0,0,0,0,0,0,0,0,0,0,0,0,0,0,0,0,0,0,0,0,0,0,0,0,0,0,0,0,0,0,0,0,0,0,0,0,0,0,0,0,0,0,0,0,0,0,0,0,0,0,0,0,0,0,0,0,0,0]
[null,"Step 6",0,0,0,0,0,0,0,0,0,0,0,0,0,0,0,0,0,0,0,0,0,0,0,0,0,0,0,0,0,0,0,0,0,0,0,0,0,0,0,0,0,0,0,0,0,0,0,0,0,0,0,0,0,0,0,0,0,0,0,0]
[null,"Step 7",0,0,0,0,0,0,0,0,0,0,0,0,0,0,0,0,0,0,0,0,0,0,0,0,0,0,0,0,0,0,0,0,0,0,0,0,0,0,0,0,0,0,0,0,0,0,0,0,0,0,0,0,0,0,0,0,0,0,0,0]
[null,"Step 8",0,0,0,0,0,0,0,0,0,0,0,0,0,0,0,0,0,0,0,0,0,0,0,0,0,0,0,0,0,0,0,0,0,0,0,0,0,0,0,0,0,0,0,0,0,0,0,0,0,0,0,0,0,0,0,0,0,0,0,0]
[null,"Step 9",0,0,0,0,0,0,0,0,0,0,0,0,0,0,0,0,0,0,0,0,0,0,0,0,0,0,0,0,0,0,0,0,0,0,0,0,0,0,0,0,0,0,0,0,0,0,0,0,0,0,0,0,0,0,0,0,0,0,0,0]
[null,"Step 10",0,0,0,0,0,0,0,0,0,0,0,0,0,0,0,0,0,0,0,0,0,0,0,0,0,0,0,0,0,0,0,0,0,0,0,0,0,0,0,0,0,0,0,0,0,0,0,0,0,0,0,0,0,0,0,0,0,0,0,0]
[null,"Step 11",0,0,0,0,0,0,0,0,0,0,0,0,0,0,0,0,0,0,0,0,0,0,0,0,0,0,0,0,0,0,0,0,0,0,0,0,0,0,0,0,0,0,0,0,0,0,0,0,0,0,0,0,0,0,0,0,0,0,0,0]
[null,"Step 12",0,0,0,0,0,0,0,0,0,0,0,0,0,0,0,0,0,0,0,0,0,0,0,0,0,0,0,0,0,0,0,0,0,0,0,0,0,0,0,0,0,0,0,0,0,0,0,0,0,0,0,0,0,0,0,0,0,0,0,0]
[null,"Step 13",0,0,0,0,0,0,0,0,0,0,0,0,0,0,0,0,0,0,0,0,0,0,0,0,0,0,0,0,0,0,0,0,0,0,0,0,0,0,0,0,0,0,0,0,0,0,0,0,0,0,0,0,0,0,0,0,0,0,0,0]
[null,"Step 14",0,0,0,0,0,0,0,0,0,0,0,0,0,0,0,0,0,0,0,0,0,0,0,0,0,0,0,0,0,0,0,0,0,0,0,0,0,0,0,0,0,0,0,0,0,0,0,0,0,0,0,0,0,0,0,0,0,0,0,0]
[null,"Step 15",0,0,0,0,0,0,0,0,0,0,0,0,0,0,0,0,0,0,0,0,0,0,0,0,0,0,0,0,0,0,0,0,0,0,0,0,0,0,0,0,0,0,0,0,0,0,0,0,0,0,0,0,0,0,0,0,0,0,0,0]
[null,"Step 16",0,0,0,0,0,0,0,0,0,0,0,0,0,0,0,0,0,0,0,0,0,0,0,0,0,0,0,0,0,0,0,0,0,0,0,0,0,0,0,0,0,0,0,0,0,0,0,0,0,0,0,0,0,0,0,0,0,0,0,0]
[null,"Step 17",0,0,0,0,0,0,0,0,0,0,0,0,0,0,0,0,0,0,0,0,0,0,0,0,0,0,0,0,0,0,0,0,0,0,0,0,0,0,0,0,0,0,0,0,0,0,0,0,0,0,0,0,0,0,0,0,0,0,0,0]
[null,"Step 18",0,0,0,0,0,0,0,0,0,0,0,0,0,0,0,0,0,0,0,0,0,0,0,0,0,0,0,0,0,0,0,0,0,0,0,0,0,0,0,0,0,0,0,0,0,0,0,0,0,0,0,0,0,0,0,0,0,0,0,0]
[null,"Step 19",0,0,0,0,0,0,0,0,0,0,0,0,0,0,0,0,0,0,0,0,0,0,0,0,0,0,0,0,0,0,0,0,0,0,0,0,0,0,0,0,0,0,0,0,0,0,0,0,0,0,0,0,0,0,0,0,0,0,0,0]
[null,"Step 20",0,0,0,0,0,0,0,0,0,0,0,0,0,0,0,0,0,0,0,0,0,0,0,0,0,0,0,0,0,0,0,0,0,0,0,0,0,0,0,0,0,0,0,0,0,0,0,0,0,0,0,0,0,0,0,0,0,0,0,0]
[]
["Caythorpe"]
[]
["Quarter",null,{"$f":"First_quarter","v":"2020-10-01"},{"$f":"DATE(YEAR(C655),MONTH(C655)+1,1)","v":"2021-01-01"},{"$f":"DATE(YEAR(D655),MONTH(D655)+1,1)","v":"2021-04-01"},{"$f":"DATE(YEAR(E655),MONTH(E655)+1,1)","v":"2021-07-01"},{"$f":"DATE(YEAR(F655),MONTH(F655)+1,1)","v":"2021-10-01"},{"$f":"DATE(YEAR(G655),MONTH(G655)+1,1)","v":"2022-01-01"},{"$f":"DATE(YEAR(H655),MONTH(H655)+1,1)","v":"2022-04-01"},{"$f":"DATE(YEAR(I655),MONTH(I655)+1,1)","v":"2022-07-01"},{"$f":"DATE(YEAR(J655),MONTH(J655)+1,1)","v":"2022-10-01"},{"$f":"DATE(YEAR(K655),MONTH(K655)+1,1)","v":"2023-01-01"},{"$f":"DATE(YEAR(L655),MONTH(L655)+1,1)","v":"2023-04-01"},{"$f":"DATE(YEAR(M655),MONTH(M655)+1,1)","v":"2023-07-01"},{"$f":"DATE(YEAR(N655),MONTH(N655)+1,1)","v":"2023-10-01"},{"$f":"DATE(YEAR(O655),MONTH(O655)+1,1)","v":"2024-01-01"},{"$f":"DATE(YEAR(P655),MONTH(P655)+1,1)","v":"2024-04-01"},{"$f":"DATE(YEAR(Q655),MONTH(Q655)+1,1)","v":"2024-07-01"},{"$f":"DATE(YEAR(R655),MONTH(R655)+1,1)","v":"2024-10-01"},{"$f":"DATE(YEAR(S655),MONTH(S655)+1,1)","v":"2025-01-01"},{"$f":"DATE(YEAR(T655),MONTH(T655)+1,1)","v":"2025-04-01"},{"$f":"DATE(YEAR(U655),MONTH(U655)+1,1)","v":"2025-07-01"},{"$f":"DATE(YEAR(V655),MONTH(V655)+1,1)","v":"2025-10-01"},{"$f":"DATE(YEAR(W655),MONTH(W655)+1,1)","v":"2026-01-01"},{"$f":"DATE(YEAR(X655),MONTH(X655)+1,1)","v":"2026-04-01"},{"$f":"DATE(YEAR(Y655),MONTH(Y655)+1,1)","v":"2026-07-01"},{"$f":"DATE(YEAR(Z655),MONTH(Z655)+1,1)","v":"2026-10-01"},{"$f":"DATE(YEAR(AA655),MONTH(AA655)+1,1)","v":"2027-01-01"},{"$f":"DATE(YEAR(AB655),MONTH(AB655)+1,1)","v":"2027-04-01"},{"$f":"DATE(YEAR(AC655),MONTH(AC655)+1,1)","v":"2027-07-01"},{"$f":"DATE(YEAR(AD655),MONTH(AD655)+1,1)","v":"2027-10-01"},{"$f":"DATE(YEAR(AE655),MONTH(AE655)+1,1)","v":"2028-01-01"},{"$f":"DATE(YEAR(AF655),MONTH(AF655)+1,1)","v":"2028-04-01"},{"$f":"DATE(YEAR(AG655),MONTH(AG655)+1,1)","v":"2028-07-01"},{"$f":"DATE(YEAR(AH655),MONTH(AH655)+1,1)","v":"2028-10-01"},{"$f":"DATE(YEAR(AI655),MONTH(AI655)+1,1)","v":"2029-01-01"},{"$f":"DATE(YEAR(AJ655),MONTH(AJ655)+1,1)","v":"2029-04-01"},{"$f":"DATE(YEAR(AK655),MONTH(AK655)+1,1)","v":"2029-07-01"},{"$f":"DATE(YEAR(AL655),MONTH(AL655)+1,1)","v":"2029-10-01"},{"$f":"DATE(YEAR(AM655),MONTH(AM655)+1,1)","v":"2030-01-01"},{"$f":"DATE(YEAR(AN655),MONTH(AN655)+1,1)","v":"2030-04-01"},{"$f":"DATE(YEAR(AO655),MONTH(AO655)+1,1)","v":"2030-07-01"},{"$f":"DATE(YEAR(AP655),MONTH(AP655)+1,1)","v":"2030-10-01"},{"$f":"DATE(YEAR(AQ655),MONTH(AQ655)+1,1)","v":"2031-01-01"},{"$f":"DATE(YEAR(AR655),MONTH(AR655)+1,1)","v":"2031-04-01"},{"$f":"DATE(YEAR(AS655),MONTH(AS655)+1,1)","v":"2031-07-01"},{"$f":"DATE(YEAR(AT655),MONTH(AT655)+1,1)","v":"2031-10-01"},{"$f":"DATE(YEAR(AU655),MONTH(AU655)+1,1)","v":"2032-01-01"},{"$f":"DATE(YEAR(AV655),MONTH(AV655)+1,1)","v":"2032-04-01"},{"$f":"DATE(YEAR(AW655),MONTH(AW655)+1,1)","v":"2032-07-01"},{"$f":"DATE(YEAR(AX655),MONTH(AX655)+1,1)","v":"2032-10-01"},{"$f":"DATE(YEAR(AY655),MONTH(AY655)+1,1)","v":"2033-01-01"},{"$f":"DATE(YEAR(AZ655),MONTH(AZ655)+1,1)","v":"2033-04-01"},{"$f":"DATE(YEAR(BA655),MONTH(BA655)+1,1)","v":"2033-07-01"},{"$f":"DATE(YEAR(BB655),MONTH(BB655)+1,1)","v":"2033-10-01"},{"$f":"DATE(YEAR(BC655),MONTH(BC655)+1,1)","v":"2034-01-01"},{"$f":"DATE(YEAR(BD655),MONTH(BD655)+1,1)","v":"2034-04-01"},{"$f":"DATE(YEAR(BE655),MONTH(BE655)+1,1)","v":"2034-07-01"},{"$f":"DATE(YEAR(BF655),MONTH(BF655)+1,1)","v":"2034-10-01"},{"$f":"DATE(YEAR(BG655),MONTH(BG655)+1,1)","v":"2035-01-01"},{"$f":"DATE(YEAR(BH655),MONTH(BH655)+1,1)","v":"2035-04-01"},{"$f":"DATE(YEAR(BI655),MONTH(BI655)+1,1)","v":"2035-07-01"}]
[null,null,{"$f":"DATE(YEAR(C654),MONTH(C654)+2,1)","v":"2020-12-01"},"2021-03-01","2021-06-01","2021-09-01","2021-12-01","2022-03-01","2022-06-01","2022-09-01","2022-12-01","2023-03-01","2023-06-01","2023-09-01","2023-12-01","2024-03-01","2024-06-01","2024-09-01","2024-12-01","2025-03-01","2025-06-01","2025-09-01","2025-12-01","2026-03-01","2026-06-01","2026-09-01","2026-12-01","2027-03-01","2027-06-01","2027-09-01","2027-12-01","2028-03-01","2028-06-01","2028-09-01","2028-12-01","2029-03-01","2029-06-01","2029-09-01","2029-12-01","2030-03-01","2030-06-01","2030-09-01","2030-12-01","2031-03-01","2031-06-01","2031-09-01","2031-12-01","2032-03-01","2032-06-01","2032-09-01","2032-12-01","2033-03-01","2033-06-01","2033-09-01","2033-12-01","2034-03-01","2034-06-01","2034-09-01","2034-12-01","2035-03-01","2035-06-01","2035-09-01"]
["Quantity bid (GWh/day)"]
[]
["Base",null,0,0,0,0,0,0,0,0,0,0,0,0,0,0,0,0,0,0,0,0,0,0,0,0,0,0,0,0,0,0,0,0,0,0,0,0,0,0,0,0,0,0,0,0,0,0,0,0,0,0,0,0,0,0,0,0,0,0,0,0]
[null,"Step 1",0,0,0,0,0,0,0,0,0,0,0,0,0,0,0,0,0,0,0,0,0,0,0,0,0,0,0,0,0,0,0,0,0,0,0,0,0,0,0,0,0,0,0,0,0,0,0,0,0,0,0,0,0,0,0,0,0,0,0,0]
[null,"Step 2",0,0,0,0,0,0,0,0,0,0,0,0,0,0,0,0,0,0,0,0,0,0,0,0,0,0,0,0,0,0,0,0,0,0,0,0,0,0,0,0,0,0,0,0,0,0,0,0,0,0,0,0,0,0,0,0,0,0,0,0]
[null,"Step 3",0,0,0,0,0,0,0,0,0,0,0,0,0,0,0,0,0,0,0,0,0,0,0,0,0,0,0,0,0,0,0,0,0,0,0,0,0,0,0,0,0,0,0,0,0,0,0,0,0,0,0,0,0,0,0,0,0,0,0,0]
[null,"Step 4",0,0,0,0,0,0,0,0,0,0,0,0,0,0,0,0,0,0,0,0,0,0,0,0,0,0,0,0,0,0,0,0,0,0,0,0,0,0,0,0,0,0,0,0,0,0,0,0,0,0,0,0,0,0,0,0,0,0,0,0]
[null,"Step 5",0,0,0,0,0,0,0,0,0,0,0,0,0,0,0,0,0,0,0,0,0,0,0,0,0,0,0,0,0,0,0,0,0,0,0,0,0,0,0,0,0,0,0,0,0,0,0,0,0,0,0,0,0,0,0,0,0,0,0,0]
[null,"Step 6",0,0,0,0,0,0,0,0,0,0,0,0,0,0,0,0,0,0,0,0,0,0,0,0,0,0,0,0,0,0,0,0,0,0,0,0,0,0,0,0,0,0,0,0,0,0,0,0,0,0,0,0,0,0,0,0,0,0,0,0]
[null,"Step 7",0,0,0,0,0,0,0,0,0,0,0,0,0,0,0,0,0,0,0,0,0,0,0,0,0,0,0,0,0,0,0,0,0,0,0,0,0,0,0,0,0,0,0,0,0,0,0,0,0,0,0,0,0,0,0,0,0,0,0,0]
[null,"Step 8",0,0,0,0,0,0,0,0,0,0,0,0,0,0,0,0,0,0,0,0,0,0,0,0,0,0,0,0,0,0,0,0,0,0,0,0,0,0,0,0,0,0,0,0,0,0,0,0,0,0,0,0,0,0,0,0,0,0,0,0]
[null,"Step 9",0,0,0,0,0,0,0,0,0,0,0,0,0,0,0,0,0,0,0,0,0,0,0,0,0,0,0,0,0,0,0,0,0,0,0,0,0,0,0,0,0,0,0,0,0,0,0,0,0,0,0,0,0,0,0,0,0,0,0,0]
[null,"Step 10",0,0,0,0,0,0,0,0,0,0,0,0,0,0,0,0,0,0,0,0,0,0,0,0,0,0,0,0,0,0,0,0,0,0,0,0,0,0,0,0,0,0,0,0,0,0,0,0,0,0,0,0,0,0,0,0,0,0,0,0]
[null,"Step 11",0,0,0,0,0,0,0,0,0,0,0,0,0,0,0,0,0,0,0,0,0,0,0,0,0,0,0,0,0,0,0,0,0,0,0,0,0,0,0,0,0,0,0,0,0,0,0,0,0,0,0,0,0,0,0,0,0,0,0,0]
[null,"Step 12",0,0,0,0,0,0,0,0,0,0,0,0,0,0,0,0,0,0,0,0,0,0,0,0,0,0,0,0,0,0,0,0,0,0,0,0,0,0,0,0,0,0,0,0,0,0,0,0,0,0,0,0,0,0,0,0,0,0,0,0]
[null,"Step 13",0,0,0,0,0,0,0,0,0,0,0,0,0,0,0,0,0,0,0,0,0,0,0,0,0,0,0,0,0,0,0,0,0,0,0,0,0,0,0,0,0,0,0,0,0,0,0,0,0,0,0,0,0,0,0,0,0,0,0,0]
[null,"Step 14",0,0,0,0,0,0,0,0,0,0,0,0,0,0,0,0,0,0,0,0,0,0,0,0,0,0,0,0,0,0,0,0,0,0,0,0,0,0,0,0,0,0,0,0,0,0,0,0,0,0,0,0,0,0,0,0,0,0,0,0]
[null,"Step 15",0,0,0,0,0,0,0,0,0,0,0,0,0,0,0,0,0,0,0,0,0,0,0,0,0,0,0,0,0,0,0,0,0,0,0,0,0,0,0,0,0,0,0,0,0,0,0,0,0,0,0,0,0,0,0,0,0,0,0,0]
[null,"Step 16",0,0,0,0,0,0,0,0,0,0,0,0,0,0,0,0,0,0,0,0,0,0,0,0,0,0,0,0,0,0,0,0,0,0,0,0,0,0,0,0,0,0,0,0,0,0,0,0,0,0,0,0,0,0,0,0,0,0,0,0]
[null,"Step 17",0,0,0,0,0,0,0,0,0,0,0,0,0,0,0,0,0,0,0,0,0,0,0,0,0,0,0,0,0,0,0,0,0,0,0,0,0,0,0,0,0,0,0,0,0,0,0,0,0,0,0,0,0,0,0,0,0,0,0,0]
[null,"Step 18",0,0,0,0,0,0,0,0,0,0,0,0,0,0,0,0,0,0,0,0,0,0,0,0,0,0,0,0,0,0,0,0,0,0,0,0,0,0,0,0,0,0,0,0,0,0,0,0,0,0,0,0,0,0,0,0,0,0,0,0]
[null,"Step 19",0,0,0,0,0,0,0,0,0,0,0,0,0,0,0,0,0,0,0,0,0,0,0,0,0,0,0,0,0,0,0,0,0,0,0,0,0,0,0,0,0,0,0,0,0,0,0,0,0,0,0,0,0,0,0,0,0,0,0,0]
[null,"Step 20",0,0,0,0,0,0,0,0,0,0,0,0,0,0,0,0,0,0,0,0,0,0,0,0,0,0,0,0,0,0,0,0,0,0,0,0,0,0,0,0,0,0,0,0,0,0,0,0,0,0,0,0,0,0,0,0,0,0,0,0]
[]
["Canonbie"]
[]
["Quarter",null,{"$f":"First_quarter","v":"2020-10-01"},{"$f":"DATE(YEAR(C683),MONTH(C683)+1,1)","v":"2021-01-01"},{"$f":"DATE(YEAR(D683),MONTH(D683)+1,1)","v":"2021-04-01"},{"$f":"DATE(YEAR(E683),MONTH(E683)+1,1)","v":"2021-07-01"},{"$f":"DATE(YEAR(F683),MONTH(F683)+1,1)","v":"2021-10-01"},{"$f":"DATE(YEAR(G683),MONTH(G683)+1,1)","v":"2022-01-01"},{"$f":"DATE(YEAR(H683),MONTH(H683)+1,1)","v":"2022-04-01"},{"$f":"DATE(YEAR(I683),MONTH(I683)+1,1)","v":"2022-07-01"},{"$f":"DATE(YEAR(J683),MONTH(J683)+1,1)","v":"2022-10-01"},{"$f":"DATE(YEAR(K683),MONTH(K683)+1,1)","v":"2023-01-01"},{"$f":"DATE(YEAR(L683),MONTH(L683)+1,1)","v":"2023-04-01"},{"$f":"DATE(YEAR(M683),MONTH(M683)+1,1)","v":"2023-07-01"},{"$f":"DATE(YEAR(N683),MONTH(N683)+1,1)","v":"2023-10-01"},{"$f":"DATE(YEAR(O683),MONTH(O683)+1,1)","v":"2024-01-01"},{"$f":"DATE(YEAR(P683),MONTH(P683)+1,1)","v":"2024-04-01"},{"$f":"DATE(YEAR(Q683),MONTH(Q683)+1,1)","v":"2024-07-01"},{"$f":"DATE(YEAR(R683),MONTH(R683)+1,1)","v":"2024-10-01"},{"$f":"DATE(YEAR(S683),MONTH(S683)+1,1)","v":"2025-01-01"},{"$f":"DATE(YEAR(T683),MONTH(T683)+1,1)","v":"2025-04-01"},{"$f":"DATE(YEAR(U683),MONTH(U683)+1,1)","v":"2025-07-01"},{"$f":"DATE(YEAR(V683),MONTH(V683)+1,1)","v":"2025-10-01"},{"$f":"DATE(YEAR(W683),MONTH(W683)+1,1)","v":"2026-01-01"},{"$f":"DATE(YEAR(X683),MONTH(X683)+1,1)","v":"2026-04-01"},{"$f":"DATE(YEAR(Y683),MONTH(Y683)+1,1)","v":"2026-07-01"},{"$f":"DATE(YEAR(Z683),MONTH(Z683)+1,1)","v":"2026-10-01"},{"$f":"DATE(YEAR(AA683),MONTH(AA683)+1,1)","v":"2027-01-01"},{"$f":"DATE(YEAR(AB683),MONTH(AB683)+1,1)","v":"2027-04-01"},{"$f":"DATE(YEAR(AC683),MONTH(AC683)+1,1)","v":"2027-07-01"},{"$f":"DATE(YEAR(AD683),MONTH(AD683)+1,1)","v":"2027-10-01"},{"$f":"DATE(YEAR(AE683),MONTH(AE683)+1,1)","v":"2028-01-01"},{"$f":"DATE(YEAR(AF683),MONTH(AF683)+1,1)","v":"2028-04-01"},{"$f":"DATE(YEAR(AG683),MONTH(AG683)+1,1)","v":"2028-07-01"},{"$f":"DATE(YEAR(AH683),MONTH(AH683)+1,1)","v":"2028-10-01"},{"$f":"DATE(YEAR(AI683),MONTH(AI683)+1,1)","v":"2029-01-01"},{"$f":"DATE(YEAR(AJ683),MONTH(AJ683)+1,1)","v":"2029-04-01"},{"$f":"DATE(YEAR(AK683),MONTH(AK683)+1,1)","v":"2029-07-01"},{"$f":"DATE(YEAR(AL683),MONTH(AL683)+1,1)","v":"2029-10-01"},{"$f":"DATE(YEAR(AM683),MONTH(AM683)+1,1)","v":"2030-01-01"},{"$f":"DATE(YEAR(AN683),MONTH(AN683)+1,1)","v":"2030-04-01"},{"$f":"DATE(YEAR(AO683),MONTH(AO683)+1,1)","v":"2030-07-01"},{"$f":"DATE(YEAR(AP683),MONTH(AP683)+1,1)","v":"2030-10-01"},{"$f":"DATE(YEAR(AQ683),MONTH(AQ683)+1,1)","v":"2031-01-01"},{"$f":"DATE(YEAR(AR683),MONTH(AR683)+1,1)","v":"2031-04-01"},{"$f":"DATE(YEAR(AS683),MONTH(AS683)+1,1)","v":"2031-07-01"},{"$f":"DATE(YEAR(AT683),MONTH(AT683)+1,1)","v":"2031-10-01"},{"$f":"DATE(YEAR(AU683),MONTH(AU683)+1,1)","v":"2032-01-01"},{"$f":"DATE(YEAR(AV683),MONTH(AV683)+1,1)","v":"2032-04-01"},{"$f":"DATE(YEAR(AW683),MONTH(AW683)+1,1)","v":"2032-07-01"},{"$f":"DATE(YEAR(AX683),MONTH(AX683)+1,1)","v":"2032-10-01"},{"$f":"DATE(YEAR(AY683),MONTH(AY683)+1,1)","v":"2033-01-01"},{"$f":"DATE(YEAR(AZ683),MONTH(AZ683)+1,1)","v":"2033-04-01"},{"$f":"DATE(YEAR(BA683),MONTH(BA683)+1,1)","v":"2033-07-01"},{"$f":"DATE(YEAR(BB683),MONTH(BB683)+1,1)","v":"2033-10-01"},{"$f":"DATE(YEAR(BC683),MONTH(BC683)+1,1)","v":"2034-01-01"},{"$f":"DATE(YEAR(BD683),MONTH(BD683)+1,1)","v":"2034-04-01"},{"$f":"DATE(YEAR(BE683),MONTH(BE683)+1,1)","v":"2034-07-01"},{"$f":"DATE(YEAR(BF683),MONTH(BF683)+1,1)","v":"2034-10-01"},{"$f":"DATE(YEAR(BG683),MONTH(BG683)+1,1)","v":"2035-01-01"},{"$f":"DATE(YEAR(BH683),MONTH(BH683)+1,1)","v":"2035-04-01"},{"$f":"DATE(YEAR(BI683),MONTH(BI683)+1,1)","v":"2035-07-01"}]
[null,null,{"$f":"DATE(YEAR(C682),MONTH(C682)+2,1)","v":"2020-12-01"},"2021-03-01","2021-06-01","2021-09-01","2021-12-01","2022-03-01","2022-06-01","2022-09-01","2022-12-01","2023-03-01","2023-06-01","2023-09-01","2023-12-01","2024-03-01","2024-06-01","2024-09-01","2024-12-01","2025-03-01","2025-06-01","2025-09-01","2025-12-01","2026-03-01","2026-06-01","2026-09-01","2026-12-01","2027-03-01","2027-06-01","2027-09-01","2027-12-01","2028-03-01","2028-06-01","2028-09-01","2028-12-01","2029-03-01","2029-06-01","2029-09-01","2029-12-01","2030-03-01","2030-06-01","2030-09-01","2030-12-01","2031-03-01","2031-06-01","2031-09-01","2031-12-01","2032-03-01","2032-06-01","2032-09-01","2032-12-01","2033-03-01","2033-06-01","2033-09-01","2033-12-01","2034-03-01","2034-06-01","2034-09-01","2034-12-01","2035-03-01","2035-06-01","2035-09-01"]
["Quantity bid (GWh/day)"]
[]
["Base",null,0,0,0,0,0,0,0,0,0,0,0,0,0,0,0,0,0,0,0,0,0,0,0,0,0,0,0,0,0,0,0,0,0,0,0,0,0,0,0,0,0,0,0,0,0,0,0,0,0,0,0,0,0,0,0,0,0,0,0,0]
[null,"Step 1",0,0,0,0,0,0,0,0,0,0,0,0,0,0,0,0,0,0,0,0,0,0,0,0,0,0,0,0,0,0,0,0,0,0,0,0,0,0,0,0,0,0,0,0,0,0,0,0,0,0,0,0,0,0,0,0,0,0,0,0]
[null,"Step 2",0,0,0,0,0,0,0,0,0,0,0,0,0,0,0,0,0,0,0,0,0,0,0,0,0,0,0,0,0,0,0,0,0,0,0,0,0,0,0,0,0,0,0,0,0,0,0,0,0,0,0,0,0,0,0,0,0,0,0,0]
[null,"Step 3",0,0,0,0,0,0,0,0,0,0,0,0,0,0,0,0,0,0,0,0,0,0,0,0,0,0,0,0,0,0,0,0,0,0,0,0,0,0,0,0,0,0,0,0,0,0,0,0,0,0,0,0,0,0,0,0,0,0,0,0]
[null,"Step 4",0,0,0,0,0,0,0,0,0,0,0,0,0,0,0,0,0,0,0,0,0,0,0,0,0,0,0,0,0,0,0,0,0,0,0,0,0,0,0,0,0,0,0,0,0,0,0,0,0,0,0,0,0,0,0,0,0,0,0,0]
[null,"Step 5",0,0,0,0,0,0,0,0,0,0,0,0,0,0,0,0,0,0,0,0,0,0,0,0,0,0,0,0,0,0,0,0,0,0,0,0,0,0,0,0,0,0,0,0,0,0,0,0,0,0,0,0,0,0,0,0,0,0,0,0]
[null,"Step 6",0,0,0,0,0,0,0,0,0,0,0,0,0,0,0,0,0,0,0,0,0,0,0,0,0,0,0,0,0,0,0,0,0,0,0,0,0,0,0,0,0,0,0,0,0,0,0,0,0,0,0,0,0,0,0,0,0,0,0,0]
[null,"Step 7",0,0,0,0,0,0,0,0,0,0,0,0,0,0,0,0,0,0,0,0,0,0,0,0,0,0,0,0,0,0,0,0,0,0,0,0,0,0,0,0,0,0,0,0,0,0,0,0,0,0,0,0,0,0,0,0,0,0,0,0]
[null,"Step 8",0,0,0,0,0,0,0,0,0,0,0,0,0,0,0,0,0,0,0,0,0,0,0,0,0,0,0,0,0,0,0,0,0,0,0,0,0,0,0,0,0,0,0,0,0,0,0,0,0,0,0,0,0,0,0,0,0,0,0,0]
[null,"Step 9",0,0,0,0,0,0,0,0,0,0,0,0,0,0,0,0,0,0,0,0,0,0,0,0,0,0,0,0,0,0,0,0,0,0,0,0,0,0,0,0,0,0,0,0,0,0,0,0,0,0,0,0,0,0,0,0,0,0,0,0]
[null,"Step 10",0,0,0,0,0,0,0,0,0,0,0,0,0,0,0,0,0,0,0,0,0,0,0,0,0,0,0,0,0,0,0,0,0,0,0,0,0,0,0,0,0,0,0,0,0,0,0,0,0,0,0,0,0,0,0,0,0,0,0,0]
[null,"Step 11",0,0,0,0,0,0,0,0,0,0,0,0,0,0,0,0,0,0,0,0,0,0,0,0,0,0,0,0,0,0,0,0,0,0,0,0,0,0,0,0,0,0,0,0,0,0,0,0,0,0,0,0,0,0,0,0,0,0,0,0]
[null,"Step 12",0,0,0,0,0,0,0,0,0,0,0,0,0,0,0,0,0,0,0,0,0,0,0,0,0,0,0,0,0,0,0,0,0,0,0,0,0,0,0,0,0,0,0,0,0,0,0,0,0,0,0,0,0,0,0,0,0,0,0,0]
[null,"Step 13",0,0,0,0,0,0,0,0,0,0,0,0,0,0,0,0,0,0,0,0,0,0,0,0,0,0,0,0,0,0,0,0,0,0,0,0,0,0,0,0,0,0,0,0,0,0,0,0,0,0,0,0,0,0,0,0,0,0,0,0]
[null,"Step 14",0,0,0,0,0,0,0,0,0,0,0,0,0,0,0,0,0,0,0,0,0,0,0,0,0,0,0,0,0,0,0,0,0,0,0,0,0,0,0,0,0,0,0,0,0,0,0,0,0,0,0,0,0,0,0,0,0,0,0,0]
[null,"Step 15",0,0,0,0,0,0,0,0,0,0,0,0,0,0,0,0,0,0,0,0,0,0,0,0,0,0,0,0,0,0,0,0,0,0,0,0,0,0,0,0,0,0,0,0,0,0,0,0,0,0,0,0,0,0,0,0,0,0,0,0]
[null,"Step 16",0,0,0,0,0,0,0,0,0,0,0,0,0,0,0,0,0,0,0,0,0,0,0,0,0,0,0,0,0,0,0,0,0,0,0,0,0,0,0,0,0,0,0,0,0,0,0,0,0,0,0,0,0,0,0,0,0,0,0,0]
[null,"Step 17",0,0,0,0,0,0,0,0,0,0,0,0,0,0,0,0,0,0,0,0,0,0,0,0,0,0,0,0,0,0,0,0,0,0,0,0,0,0,0,0,0,0,0,0,0,0,0,0,0,0,0,0,0,0,0,0,0,0,0,0]
[null,"Step 18",0,0,0,0,0,0,0,0,0,0,0,0,0,0,0,0,0,0,0,0,0,0,0,0,0,0,0,0,0,0,0,0,0,0,0,0,0,0,0,0,0,0,0,0,0,0,0,0,0,0,0,0,0,0,0,0,0,0,0,0]
[null,"Step 19",0,0,0,0,0,0,0,0,0,0,0,0,0,0,0,0,0,0,0,0,0,0,0,0,0,0,0,0,0,0,0,0,0,0,0,0,0,0,0,0,0,0,0,0,0,0,0,0,0,0,0,0,0,0,0,0,0,0,0,0]
[null,"Step 20",0,0,0,0,0,0,0,0,0,0,0,0,0,0,0,0,0,0,0,0,0,0,0,0,0,0,0,0,0,0,0,0,0,0,0,0,0,0,0,0,0,0,0,0,0,0,0,0,0,0,0,0,0,0,0,0,0,0,0,0]
[]
["Murrow"]
[]
["Quarter",null,{"$f":"First_quarter","v":"2020-10-01"},{"$f":"DATE(YEAR(C711),MONTH(C711)+1,1)","v":"2021-01-01"},{"$f":"DATE(YEAR(D711),MONTH(D711)+1,1)","v":"2021-04-01"},{"$f":"DATE(YEAR(E711),MONTH(E711)+1,1)","v":"2021-07-01"},{"$f":"DATE(YEAR(F711),MONTH(F711)+1,1)","v":"2021-10-01"},{"$f":"DATE(YEAR(G711),MONTH(G711)+1,1)","v":"2022-01-01"},{"$f":"DATE(YEAR(H711),MONTH(H711)+1,1)","v":"2022-04-01"},{"$f":"DATE(YEAR(I711),MONTH(I711)+1,1)","v":"2022-07-01"},{"$f":"DATE(YEAR(J711),MONTH(J711)+1,1)","v":"2022-10-01"},{"$f":"DATE(YEAR(K711),MONTH(K711)+1,1)","v":"2023-01-01"},{"$f":"DATE(YEAR(L711),MONTH(L711)+1,1)","v":"2023-04-01"},{"$f":"DATE(YEAR(M711),MONTH(M711)+1,1)","v":"2023-07-01"},{"$f":"DATE(YEAR(N711),MONTH(N711)+1,1)","v":"2023-10-01"},{"$f":"DATE(YEAR(O711),MONTH(O711)+1,1)","v":"2024-01-01"},{"$f":"DATE(YEAR(P711),MONTH(P711)+1,1)","v":"2024-04-01"},{"$f":"DATE(YEAR(Q711),MONTH(Q711)+1,1)","v":"2024-07-01"},{"$f":"DATE(YEAR(R711),MONTH(R711)+1,1)","v":"2024-10-01"},{"$f":"DATE(YEAR(S711),MONTH(S711)+1,1)","v":"2025-01-01"},{"$f":"DATE(YEAR(T711),MONTH(T711)+1,1)","v":"2025-04-01"},{"$f":"DATE(YEAR(U711),MONTH(U711)+1,1)","v":"2025-07-01"},{"$f":"DATE(YEAR(V711),MONTH(V711)+1,1)","v":"2025-10-01"},{"$f":"DATE(YEAR(W711),MONTH(W711)+1,1)","v":"2026-01-01"},{"$f":"DATE(YEAR(X711),MONTH(X711)+1,1)","v":"2026-04-01"},{"$f":"DATE(YEAR(Y711),MONTH(Y711)+1,1)","v":"2026-07-01"},{"$f":"DATE(YEAR(Z711),MONTH(Z711)+1,1)","v":"2026-10-01"},{"$f":"DATE(YEAR(AA711),MONTH(AA711)+1,1)","v":"2027-01-01"},{"$f":"DATE(YEAR(AB711),MONTH(AB711)+1,1)","v":"2027-04-01"},{"$f":"DATE(YEAR(AC711),MONTH(AC711)+1,1)","v":"2027-07-01"},{"$f":"DATE(YEAR(AD711),MONTH(AD711)+1,1)","v":"2027-10-01"},{"$f":"DATE(YEAR(AE711),MONTH(AE711)+1,1)","v":"2028-01-01"},{"$f":"DATE(YEAR(AF711),MONTH(AF711)+1,1)","v":"2028-04-01"},{"$f":"DATE(YEAR(AG711),MONTH(AG711)+1,1)","v":"2028-07-01"},{"$f":"DATE(YEAR(AH711),MONTH(AH711)+1,1)","v":"2028-10-01"},{"$f":"DATE(YEAR(AI711),MONTH(AI711)+1,1)","v":"2029-01-01"},{"$f":"DATE(YEAR(AJ711),MONTH(AJ711)+1,1)","v":"2029-04-01"},{"$f":"DATE(YEAR(AK711),MONTH(AK711)+1,1)","v":"2029-07-01"},{"$f":"DATE(YEAR(AL711),MONTH(AL711)+1,1)","v":"2029-10-01"},{"$f":"DATE(YEAR(AM711),MONTH(AM711)+1,1)","v":"2030-01-01"},{"$f":"DATE(YEAR(AN711),MONTH(AN711)+1,1)","v":"2030-04-01"},{"$f":"DATE(YEAR(AO711),MONTH(AO711)+1,1)","v":"2030-07-01"},{"$f":"DATE(YEAR(AP711),MONTH(AP711)+1,1)","v":"2030-10-01"},{"$f":"DATE(YEAR(AQ711),MONTH(AQ711)+1,1)","v":"2031-01-01"},{"$f":"DATE(YEAR(AR711),MONTH(AR711)+1,1)","v":"2031-04-01"},{"$f":"DATE(YEAR(AS711),MONTH(AS711)+1,1)","v":"2031-07-01"},{"$f":"DATE(YEAR(AT711),MONTH(AT711)+1,1)","v":"2031-10-01"},{"$f":"DATE(YEAR(AU711),MONTH(AU711)+1,1)","v":"2032-01-01"},{"$f":"DATE(YEAR(AV711),MONTH(AV711)+1,1)","v":"2032-04-01"},{"$f":"DATE(YEAR(AW711),MONTH(AW711)+1,1)","v":"2032-07-01"},{"$f":"DATE(YEAR(AX711),MONTH(AX711)+1,1)","v":"2032-10-01"},{"$f":"DATE(YEAR(AY711),MONTH(AY711)+1,1)","v":"2033-01-01"},{"$f":"DATE(YEAR(AZ711),MONTH(AZ711)+1,1)","v":"2033-04-01"},{"$f":"DATE(YEAR(BA711),MONTH(BA711)+1,1)","v":"2033-07-01"},{"$f":"DATE(YEAR(BB711),MONTH(BB711)+1,1)","v":"2033-10-01"},{"$f":"DATE(YEAR(BC711),MONTH(BC711)+1,1)","v":"2034-01-01"},{"$f":"DATE(YEAR(BD711),MONTH(BD711)+1,1)","v":"2034-04-01"},{"$f":"DATE(YEAR(BE711),MONTH(BE711)+1,1)","v":"2034-07-01"},{"$f":"DATE(YEAR(BF711),MONTH(BF711)+1,1)","v":"2034-10-01"},{"$f":"DATE(YEAR(BG711),MONTH(BG711)+1,1)","v":"2035-01-01"},{"$f":"DATE(YEAR(BH711),MONTH(BH711)+1,1)","v":"2035-04-01"},{"$f":"DATE(YEAR(BI711),MONTH(BI711)+1,1)","v":"2035-07-01"}]
[null,null,{"$f":"DATE(YEAR(C710),MONTH(C710)+2,1)","v":"2020-12-01"},"2021-03-01","2021-06-01","2021-09-01","2021-12-01","2022-03-01","2022-06-01","2022-09-01","2022-12-01","2023-03-01","2023-06-01","2023-09-01","2023-12-01","2024-03-01","2024-06-01","2024-09-01","2024-12-01","2025-03-01","2025-06-01","2025-09-01","2025-12-01","2026-03-01","2026-06-01","2026-09-01","2026-12-01","2027-03-01","2027-06-01","2027-09-01","2027-12-01","2028-03-01","2028-06-01","2028-09-01","2028-12-01","2029-03-01","2029-06-01","2029-09-01","2029-12-01","2030-03-01","2030-06-01","2030-09-01","2030-12-01","2031-03-01","2031-06-01","2031-09-01","2031-12-01","2032-03-01","2032-06-01","2032-09-01","2032-12-01","2033-03-01","2033-06-01","2033-09-01","2033-12-01","2034-03-01","2034-06-01","2034-09-01","2034-12-01","2035-03-01","2035-06-01","2035-09-01"]
["Quantity bid (GWh/day)"]
[]
["Base",null,0,0,0,0,0,0,0,0,0,0,0,0,0,0,0,0,0,0,0,0,0,0,0,0,0,0,0,0,0,0,0,0,0,0,0,0,0,0,0,0,0,0,0,0,0,0,0,0,0,0,0,0,0,0,0,0,0,0,0,0]
[null,"Step 1",0,0,0,0,0,0,0,0,0,0,0,0,0,0,0,0,0,0,0,0,0,0,0,0,0,0,0,0,0,0,0,0,0,0,0,0,0,0,0,0,0,0,0,0,0,0,0,0,0,0,0,0,0,0,0,0,0,0,0,0]
[null,"Step 2",0,0,0,0,0,0,0,0,0,0,0,0,0,0,0,0,0,0,0,0,0,0,0,0,0,0,0,0,0,0,0,0,0,0,0,0,0,0,0,0,0,0,0,0,0,0,0,0,0,0,0,0,0,0,0,0,0,0,0,0]
[null,"Step 3",0,0,0,0,0,0,0,0,0,0,0,0,0,0,0,0,0,0,0,0,0,0,0,0,0,0,0,0,0,0,0,0,0,0,0,0,0,0,0,0,0,0,0,0,0,0,0,0,0,0,0,0,0,0,0,0,0,0,0,0]
[null,"Step 4",0,0,0,0,0,0,0,0,0,0,0,0,0,0,0,0,0,0,0,0,0,0,0,0,0,0,0,0,0,0,0,0,0,0,0,0,0,0,0,0,0,0,0,0,0,0,0,0,0,0,0,0,0,0,0,0,0,0,0,0]
[null,"Step 5",0,0,0,0,0,0,0,0,0,0,0,0,0,0,0,0,0,0,0,0,0,0,0,0,0,0,0,0,0,0,0,0,0,0,0,0,0,0,0,0,0,0,0,0,0,0,0,0,0,0,0,0,0,0,0,0,0,0,0,0]
[null,"Step 6",0,0,0,0,0,0,0,0,0,0,0,0,0,0,0,0,0,0,0,0,0,0,0,0,0,0,0,0,0,0,0,0,0,0,0,0,0,0,0,0,0,0,0,0,0,0,0,0,0,0,0,0,0,0,0,0,0,0,0,0]
[null,"Step 7",0,0,0,0,0,0,0,0,0,0,0,0,0,0,0,0,0,0,0,0,0,0,0,0,0,0,0,0,0,0,0,0,0,0,0,0,0,0,0,0,0,0,0,0,0,0,0,0,0,0,0,0,0,0,0,0,0,0,0,0]
[null,"Step 8",0,0,0,0,0,0,0,0,0,0,0,0,0,0,0,0,0,0,0,0,0,0,0,0,0,0,0,0,0,0,0,0,0,0,0,0,0,0,0,0,0,0,0,0,0,0,0,0,0,0,0,0,0,0,0,0,0,0,0,0]
[null,"Step 9",0,0,0,0,0,0,0,0,0,0,0,0,0,0,0,0,0,0,0,0,0,0,0,0,0,0,0,0,0,0,0,0,0,0,0,0,0,0,0,0,0,0,0,0,0,0,0,0,0,0,0,0,0,0,0,0,0,0,0,0]
[null,"Step 10",0,0,0,0,0,0,0,0,0,0,0,0,0,0,0,0,0,0,0,0,0,0,0,0,0,0,0,0,0,0,0,0,0,0,0,0,0,0,0,0,0,0,0,0,0,0,0,0,0,0,0,0,0,0,0,0,0,0,0,0]
[null,"Step 11",0,0,0,0,0,0,0,0,0,0,0,0,0,0,0,0,0,0,0,0,0,0,0,0,0,0,0,0,0,0,0,0,0,0,0,0,0,0,0,0,0,0,0,0,0,0,0,0,0,0,0,0,0,0,0,0,0,0,0,0]
[null,"Step 12",0,0,0,0,0,0,0,0,0,0,0,0,0,0,0,0,0,0,0,0,0,0,0,0,0,0,0,0,0,0,0,0,0,0,0,0,0,0,0,0,0,0,0,0,0,0,0,0,0,0,0,0,0,0,0,0,0,0,0,0]
[null,"Step 13",0,0,0,0,0,0,0,0,0,0,0,0,0,0,0,0,0,0,0,0,0,0,0,0,0,0,0,0,0,0,0,0,0,0,0,0,0,0,0,0,0,0,0,0,0,0,0,0,0,0,0,0,0,0,0,0,0,0,0,0]
[null,"Step 14",0,0,0,0,0,0,0,0,0,0,0,0,0,0,0,0,0,0,0,0,0,0,0,0,0,0,0,0,0,0,0,0,0,0,0,0,0,0,0,0,0,0,0,0,0,0,0,0,0,0,0,0,0,0,0,0,0,0,0,0]
[null,"Step 15",0,0,0,0,0,0,0,0,0,0,0,0,0,0,0,0,0,0,0,0,0,0,0,0,0,0,0,0,0,0,0,0,0,0,0,0,0,0,0,0,0,0,0,0,0,0,0,0,0,0,0,0,0,0,0,0,0,0,0,0]
[null,"Step 16",0,0,0,0,0,0,0,0,0,0,0,0,0,0,0,0,0,0,0,0,0,0,0,0,0,0,0,0,0,0,0,0,0,0,0,0,0,0,0,0,0,0,0,0,0,0,0,0,0,0,0,0,0,0,0,0,0,0,0,0]
[null,"Step 17",0,0,0,0,0,0,0,0,0,0,0,0,0,0,0,0,0,0,0,0,0,0,0,0,0,0,0,0,0,0,0,0,0,0,0,0,0,0,0,0,0,0,0,0,0,0,0,0,0,0,0,0,0,0,0,0,0,0,0,0]
[null,"Step 18",0,0,0,0,0,0,0,0,0,0,0,0,0,0,0,0,0,0,0,0,0,0,0,0,0,0,0,0,0,0,0,0,0,0,0,0,0,0,0,0,0,0,0,0,0,0,0,0,0,0,0,0,0,0,0,0,0,0,0,0]
[null,"Step 19",0,0,0,0,0,0,0,0,0,0,0,0,0,0,0,0,0,0,0,0,0,0,0,0,0,0,0,0,0,0,0,0,0,0,0,0,0,0,0,0,0,0,0,0,0,0,0,0,0,0,0,0,0,0,0,0,0,0,0,0]
[null,"Step 20",0,0,0,0,0,0,0,0,0,0,0,0,0,0,0,0,0,0,0,0,0,0,0,0,0,0,0,0,0,0,0,0,0,0,0,0,0,0,0,0,0,0,0,0,0,0,0,0,0,0,0,0,0,0,0,0,0,0,0,0]

{"sheet":"CapacitySteps","index":2,"n_rows":47,"n_cols":24,"rows_kept":47,"cut":false,"hidden":false,"merged":[]}
[null,null,"Bacton","Easington","Theddlethorpe","St. Fergus","Teesside","Barrow","Hatfield Moor (Storage)","Hatfield Moor (Onshore)","Wytch Farm","Burton Point","Hole House Farm","Cheshire","Hornsea","Glenmavis","Partington","Avonmouth","Dynevor Arms","Isle of Grain","Barton Stacey","Garton","Milford Haven","Fleetwood"]
[null,"Baseline",{"$f":"Control!C70","v":485.6},{"$f":"Control!D70","v":1407.15},{"$f":"Control!E70","v":610.70000000000005},{"$f":"Control!F70","v":1670.7},{"$f":"Control!G70","v":445.09},{"$f":"Control!H70","v":340.01},{"$f":"Control!I70","v":25.3},{"$f":"Control!J70","v":25.3},{"$f":"Control!K70","v":3.3},{"$f":"Control!L70","v":73.5},{"$f":"Control!M70","v":296.60000000000002},{"$f":"Control!N70","v":542.70000000000005},{"$f":"Control!O70","v":233.1},{"$f":"Control!P70","v":99},{"$f":"Control!Q70","v":215},{"$f":"Control!R70","v":179.3},{"$f":"Control!S70","v":49},{"$f":"Control!T70","v":699.68},{"$f":"Control!U70","v":172.6},{"$f":"Control!V70","v":420},{"$f":"Control!W70","v":950},{"$f":"Control!X70","v":650}]
[null,"p1",{"$f":"C$2+(ROW(B3)-ROW(B$2))*Control!C$69*Control!C$70","v":497.74},{"$f":"D$2+(ROW(C3)-ROW(C$2))*Control!D$69*Control!D$70","v":1442.3287500000001},{"$f":"E$2+(ROW(D3)-ROW(D$2))*Control!E$69*Control!E$70","v":625.96750000000009},{"$f":"F$2+(ROW(E3)-ROW(E$2))*Control!F$69*Control!F$70","v":1712.4675},{"$f":"G$2+(ROW(F3)-ROW(F$2))*Control!G$69*Control!G$70","v":456.21724999999998},{"$f":"H$2+(ROW(G3)-ROW(G$2))*Control!H$69*Control!H$70","v":348.51024999999998},{"$f":"I$2+(ROW(H3)-ROW(H$2))*Control!I$69*Control!I$70","v":27.830000000000002},{"$f":"J$2+(ROW(I3)-ROW(I$2))*Control!J$69*Control!J$70","v":27.830000000000002},{"$f":"K$2+(ROW(J3)-ROW(J$2))*Control!K$69*Control!K$70","v":3.63},{"$f":"L$2+(ROW(K3)-ROW(K$2))*Control!L$69*Control!L$70","v":80.849999999999994},{"$f":"M$2+(ROW(L3)-ROW(L$2))*Control!M$69*Control!M$70","v":311.59999900000003},{"$f":"N$2+(ROW(M3)-ROW(M$2))*Control!N$69*Control!N$70","v":556.26750000000004},{"$f":"O$2+(ROW(N3)-ROW(N$2))*Control!O$69*Control!O$70","v":248.099999},{"$f":"P$2+(ROW(O3)-ROW(O$2))*Control!P$69*Control!P$70","v":108.9},{"$f":"Q$2+(ROW(P3)-ROW(P$2))*Control!Q$69*Control!Q$70","v":229.99625},{"$f":"R$2+(ROW(Q3)-ROW(Q$2))*Control!R$69*Control!R$70","v":194.30143333333334},{"$f":"S$2+(ROW(R3)-ROW(R$2))*Control!S$69*Control!S$70","v":53.9},{"$f":"T$2+(ROW(S3)-ROW(S$2))*Control!T$69*Control!T$70","v":717.17199999999991},{"$f":"U$2+(ROW(T3)-ROW(T$2))*Control!U$69*Control!U$70","v":187.60000000000002},{"$f":"V$2+(ROW(U3)-ROW(U$2))*Control!V$69*Control!V$70","v":430.5},{"$f":"W$2+(ROW(V3)-ROW(V$2))*Control!W$69*Control!W$70","v":973.75},{"$f":"X$2+(ROW(W3)-ROW(W$2))*Control!X$69*Control!X$70","v":666.25}]
[null,"p2",{"$f":"C$2+(ROW(B4)-ROW(B$2))*Control!C$69*Control!C$70","v":509.88},{"$f":"D$2+(ROW(C4)-ROW(C$2))*Control!D$69*Control!D$70","v":1477.5075000000002},{"$f":"E$2+(ROW(D4)-ROW(D$2))*Control!E$69*Control!E$70","v":641.23500000000001},{"$f":"F$2+(ROW(E4)-ROW(E$2))*Control!F$69*Control!F$70","v":1754.2350000000001},{"$f":"G$2+(ROW(F4)-ROW(F$2))*Control!G$69*Control!G$70","v":467.34449999999998},{"$f":"H$2+(ROW(G4)-ROW(G$2))*Control!H$69*Control!H$70","v":357.01049999999998},{"$f":"I$2+(ROW(H4)-ROW(H$2))*Control!I$69*Control!I$70","v":30.36},{"$f":"J$2+(ROW(I4)-ROW(I$2))*Control!J$69*Control!J$70","v":30.36},{"$f":"K$2+(ROW(J4)-ROW(J$2))*Control!K$69*Control!K$70","v":3.96},{"$f":"L$2+(ROW(K4)-ROW(K$2))*Control!L$69*Control!L$70","v":88.2},{"$f":"M$2+(ROW(L4)-ROW(L$2))*Control!M$69*Control!M$70","v":326.59999800000003},{"$f":"N$2+(ROW(M4)-ROW(M$2))*Control!N$69*Control!N$70","v":569.83500000000004},{"$f":"O$2+(ROW(N4)-ROW(N$2))*Control!O$69*Control!O$70","v":263.09999799999997},{"$f":"P$2+(ROW(O4)-ROW(O$2))*Control!P$69*Control!P$70","v":118.8},{"$f":"Q$2+(ROW(P4)-ROW(P$2))*Control!Q$69*Control!Q$70","v":244.99250000000001},{"$f":"R$2+(ROW(Q4)-ROW(Q$2))*Control!R$69*Control!R$70","v":209.30286666666669},{"$f":"S$2+(ROW(R4)-ROW(R$2))*Control!S$69*Control!S$70","v":58.8},{"$f":"T$2+(ROW(S4)-ROW(S$2))*Control!T$69*Control!T$70","v":734.66399999999999},{"$f":"U$2+(ROW(T4)-ROW(T$2))*Control!U$69*Control!U$70","v":202.60000000000008},{"$f":"V$2+(ROW(U4)-ROW(U$2))*Control!V$69*Control!V$70","v":441},{"$f":"W$2+(ROW(V4)-ROW(V$2))*Control!W$69*Control!W$70","v":997.5},{"$f":"X$2+(ROW(W4)-ROW(W$2))*Control!X$69*Control!X$70","v":682.5}]
[null,"p3",{"$f":"C$2+(ROW(B5)-ROW(B$2))*Control!C$69*Control!C$70","v":522.02},{"$f":"D$2+(ROW(C5)-ROW(C$2))*Control!D$69*Control!D$70","v":1512.6862500000002},{"$f":"E$2+(ROW(D5)-ROW(D$2))*Control!E$69*Control!E$70","v":656.50250000000005},{"$f":"F$2+(ROW(E5)-ROW(E$2))*Control!F$69*Control!F$70","v":1796.0025000000001},{"$f":"G$2+(ROW(F5)-ROW(F$2))*Control!G$69*Control!G$70","v":478.47174999999999},{"$f":"H$2+(ROW(G5)-ROW(G$2))*Control!H$69*Control!H$70","v":365.51074999999997},{"$f":"I$2+(ROW(H5)-ROW(H$2))*Control!I$69*Control!I$70","v":32.89},{"$f":"J$2+(ROW(I5)-ROW(I$2))*Control!J$69*Control!J$70","v":32.89},{"$f":"K$2+(ROW(J5)-ROW(J$2))*Control!K$69*Control!K$70","v":4.29},{"$f":"L$2+(ROW(K5)-ROW(K$2))*Control!L$69*Control!L$70","v":95.550000000000011},{"$f":"M$2+(ROW(L5)-ROW(L$2))*Control!M$69*Control!M$70","v":341.59999700000003},{"$f":"N$2+(ROW(M5)-ROW(M$2))*Control!N$69*Control!N$70","v":583.40250000000003},{"$f":"O$2+(ROW(N5)-ROW(N$2))*Control!O$69*Control!O$70","v":278.09999700000003},{"$f":"P$2+(ROW(O5)-ROW(O$2))*Control!P$69*Control!P$70","v":128.69999999999999},{"$f":"Q$2+(ROW(P5)-ROW(P$2))*Control!Q$69*Control!Q$70","v":259.98874999999998},{"$f":"R$2+(ROW(Q5)-ROW(Q$2))*Control!R$69*Control!R$70","v":224.30430000000001},{"$f":"S$2+(ROW(R5)-ROW(R$2))*Control!S$69*Control!S$70","v":63.7},{"$f":"T$2+(ROW(S5)-ROW(S$2))*Control!T$69*Control!T$70","v":752.15599999999995},{"$f":"U$2+(ROW(T5)-ROW(T$2))*Control!U$69*Control!U$70","v":217.60000000000011},{"$f":"V$2+(ROW(U5)-ROW(U$2))*Control!V$69*Control!V$70","v":451.5},{"$f":"W$2+(ROW(V5)-ROW(V$2))*Control!W$69*Control!W$70","v":1021.25},{"$f":"X$2+(ROW(W5)-ROW(W$2))*Control!X$69*Control!X$70","v":698.75}]
[null,"p4",{"$f":"C$2+(ROW(B6)-ROW(B$2))*Control!C$69*Control!C$70","v":534.16000000000008},{"$f":"D$2+(ROW(C6)-ROW(C$2))*Control!D$69*Control!D$70","v":1547.865},{"$f":"E$2+(ROW(D6)-ROW(D$2))*Control!E$69*Control!E$70","v":671.7700000000001},{"$f":"F$2+(ROW(E6)-ROW(E$2))*Control!F$69*Control!F$70","v":1837.77},{"$f":"G$2+(ROW(F6)-ROW(F$2))*Control!G$69*Control!G$70","v":489.59899999999999},{"$f":"H$2+(ROW(G6)-ROW(G$2))*Control!H$69*Control!H$70","v":374.01099999999997},{"$f":"I$2+(ROW(H6)-ROW(H$2))*Control!I$69*Control!I$70","v":35.42},{"$f":"J$2+(ROW(I6)-ROW(I$2))*Control!J$69*Control!J$70","v":35.42},{"$f":"K$2+(ROW(J6)-ROW(J$2))*Control!K$69*Control!K$70","v":4.62},{"$f":"L$2+(ROW(K6)-ROW(K$2))*Control!L$69*Control!L$70","v":102.9},{"$f":"M$2+(ROW(L6)-ROW(L$2))*Control!M$69*Control!M$70","v":356.59999600000003},{"$f":"N$2+(ROW(M6)-ROW(M$2))*Control!N$69*Control!N$70","v":596.97},{"$f":"O$2+(ROW(N6)-ROW(N$2))*Control!O$69*Control!O$70","v":293.09999599999998},{"$f":"P$2+(ROW(O6)-ROW(O$2))*Control!P$69*Control!P$70","v":138.6},{"$f":"Q$2+(ROW(P6)-ROW(P$2))*Control!Q$69*Control!Q$70","v":274.98500000000001},{"$f":"R$2+(ROW(Q6)-ROW(Q$2))*Control!R$69*Control!R$70","v":239.30573333333336},{"$f":"S$2+(ROW(R6)-ROW(R$2))*Control!S$69*Control!S$70","v":68.599999999999994},{"$f":"T$2+(ROW(S6)-ROW(S$2))*Control!T$69*Control!T$70","v":769.64799999999991},{"$f":"U$2+(ROW(T6)-ROW(T$2))*Control!U$69*Control!U$70","v":232.60000000000014},{"$f":"V$2+(ROW(U6)-ROW(U$2))*Control!V$69*Control!V$70","v":462},{"$f":"W$2+(ROW(V6)-ROW(V$2))*Control!W$69*Control!W$70","v":1045},{"$f":"X$2+(ROW(W6)-ROW(W$2))*Control!X$69*Control!X$70","v":715}]
[null,"p5",{"$f":"C$2+(ROW(B7)-ROW(B$2))*Control!C$69*Control!C$70","v":546.30000000000007},{"$f":"D$2+(ROW(C7)-ROW(C$2))*Control!D$69*Control!D$70","v":1583.04375},{"$f":"E$2+(ROW(D7)-ROW(D$2))*Control!E$69*Control!E$70","v":687.03750000000002},{"$f":"F$2+(ROW(E7)-ROW(E$2))*Control!F$69*Control!F$70","v":1879.5375000000001},{"$f":"G$2+(ROW(F7)-ROW(F$2))*Control!G$69*Control!G$70","v":500.72624999999999},{"$f":"H$2+(ROW(G7)-ROW(G$2))*Control!H$69*Control!H$70","v":382.51125000000002},{"$f":"I$2+(ROW(H7)-ROW(H$2))*Control!I$69*Control!I$70","v":37.950000000000003},{"$f":"J$2+(ROW(I7)-ROW(I$2))*Control!J$69*Control!J$70","v":37.950000000000003},{"$f":"K$2+(ROW(J7)-ROW(J$2))*Control!K$69*Control!K$70","v":4.9499999999999993},{"$f":"L$2+(ROW(K7)-ROW(K$2))*Control!L$69*Control!L$70","v":110.25},{"$f":"M$2+(ROW(L7)-ROW(L$2))*Control!M$69*Control!M$70","v":371.59999500000004},{"$f":"N$2+(ROW(M7)-ROW(M$2))*Control!N$69*Control!N$70","v":610.53750000000002},{"$f":"O$2+(ROW(N7)-ROW(N$2))*Control!O$69*Control!O$70","v":308.09999499999998},{"$f":"P$2+(ROW(O7)-ROW(O$2))*Control!P$69*Control!P$70","v":148.5},{"$f":"Q$2+(ROW(P7)-ROW(P$2))*Control!Q$69*Control!Q$70","v":289.98124999999999},{"$f":"R$2+(ROW(Q7)-ROW(Q$2))*Control!R$69*Control!R$70","v":254.30716666666669},{"$f":"S$2+(ROW(R7)-ROW(R$2))*Control!S$69*Control!S$70","v":73.5},{"$f":"T$2+(ROW(S7)-ROW(S$2))*Control!T$69*Control!T$70","v":787.14},{"$f":"U$2+(ROW(T7)-ROW(T$2))*Control!U$69*Control!U$70","v":247.60000000000016},{"$f":"V$2+(ROW(U7)-ROW(U$2))*Control!V$69*Control!V$70","v":472.5},{"$f":"W$2+(ROW(V7)-ROW(V$2))*Control!W$69*Control!W$70","v":1068.75},{"$f":"X$2+(ROW(W7)-ROW(W$2))*Control!X$69*Control!X$70","v":731.25}]
[null,"p6",{"$f":"C$2+(ROW(B8)-ROW(B$2))*Control!C$69*Control!C$70","v":558.44000000000005},{"$f":"D$2+(ROW(C8)-ROW(C$2))*Control!D$69*Control!D$70","v":1618.2225000000001},{"$f":"E$2+(ROW(D8)-ROW(D$2))*Control!E$69*Control!E$70","v":702.30500000000006},{"$f":"F$2+(ROW(E8)-ROW(E$2))*Control!F$69*Control!F$70","v":1921.3050000000001},{"$f":"G$2+(ROW(F8)-ROW(F$2))*Control!G$69*Control!G$70","v":511.8535},{"$f":"H$2+(ROW(G8)-ROW(G$2))*Control!H$69*Control!H$70","v":391.01150000000001},null,null,null,null,null,{"$f":"N$2+(ROW(M8)-ROW(M$2))*Control!N$69*Control!N$70","v":624.10500000000002},{"$f":"O$2+(ROW(N8)-ROW(N$2))*Control!O$69*Control!O$70","v":323.09999400000004},null,{"$f":"Q$2+(ROW(P8)-ROW(P$2))*Control!Q$69*Control!Q$70","v":304.97750000000002},{"$f":"R$2+(ROW(Q8)-ROW(Q$2))*Control!R$69*Control!R$70","v":269.30860000000001},null,{"$f":"T$2+(ROW(S8)-ROW(S$2))*Control!T$69*Control!T$70","v":804.63199999999995},{"$f":"U$2+(ROW(T8)-ROW(T$2))*Control!U$69*Control!U$70","v":262.60000000000019},{"$f":"V$2+(ROW(U8)-ROW(U$2))*Control!V$69*Control!V$70","v":483},{"$f":"W$2+(ROW(V8)-ROW(V$2))*Control!W$69*Control!W$70","v":1092.5},{"$f":"X$2+(ROW(W8)-ROW(W$2))*Control!X$69*Control!X$70","v":747.5}]
[null,"p7",{"$f":"C$2+(ROW(B9)-ROW(B$2))*Control!C$69*Control!C$70","v":570.58000000000004},{"$f":"D$2+(ROW(C9)-ROW(C$2))*Control!D$69*Control!D$70","v":1653.4012500000001},{"$f":"E$2+(ROW(D9)-ROW(D$2))*Control!E$69*Control!E$70","v":717.5725000000001},{"$f":"F$2+(ROW(E9)-ROW(E$2))*Control!F$69*Control!F$70","v":1963.0725000000002},{"$f":"G$2+(ROW(F9)-ROW(F$2))*Control!G$69*Control!G$70","v":522.98074999999994},{"$f":"H$2+(ROW(G9)-ROW(G$2))*Control!H$69*Control!H$70","v":399.51175000000001},null,null,null,null,null,{"$f":"N$2+(ROW(M9)-ROW(M$2))*Control!N$69*Control!N$70","v":637.67250000000001},{"$f":"O$2+(ROW(N9)-ROW(N$2))*Control!O$69*Control!O$70","v":338.09999300000004},null,null,null,null,{"$f":"T$2+(ROW(S9)-ROW(S$2))*Control!T$69*Control!T$70","v":822.12399999999991},null,{"$f":"V$2+(ROW(U9)-ROW(U$2))*Control!V$69*Control!V$70","v":493.5},{"$f":"W$2+(ROW(V9)-ROW(V$2))*Control!W$69*Control!W$70","v":1116.25},{"$f":"X$2+(ROW(W9)-ROW(W$2))*Control!X$69*Control!X$70","v":763.75}]
[null,"p8",{"$f":"C$2+(ROW(B10)-ROW(B$2))*Control!C$69*Control!C$70","v":582.72},{"$f":"D$2+(ROW(C10)-ROW(C$2))*Control!D$69*Control!D$70","v":1688.5800000000002},{"$f":"E$2+(ROW(D10)-ROW(D$2))*Control!E$69*Control!E$70","v":732.84},{"$f":"F$2+(ROW(E10)-ROW(E$2))*Control!F$69*Control!F$70","v":2004.8400000000001},{"$f":"G$2+(ROW(F10)-ROW(F$2))*Control!G$69*Control!G$70","v":534.10799999999995},{"$f":"H$2+(ROW(G10)-ROW(G$2))*Control!H$69*Control!H$70","v":408.012},null,null,null,null,null,{"$f":"N$2+(ROW(M10)-ROW(M$2))*Control!N$69*Control!N$70","v":651.24},{"$f":"O$2+(ROW(N10)-ROW(N$2))*Control!O$69*Control!O$70","v":353.09999199999999},null,null,null,null,{"$f":"T$2+(ROW(S10)-ROW(S$2))*Control!T$69*Control!T$70","v":839.61599999999999},null,{"$f":"V$2+(ROW(U10)-ROW(U$2))*Control!V$69*Control!V$70","v":504},{"$f":"W$2+(ROW(V10)-ROW(V$2))*Control!W$69*Control!W$70","v":1140},{"$f":"X$2+(ROW(W10)-ROW(W$2))*Control!X$69*Control!X$70","v":780}]
[null,"p9",{"$f":"C$2+(ROW(B11)-ROW(B$2))*Control!C$69*Control!C$70","v":594.86},{"$f":"D$2+(ROW(C11)-ROW(C$2))*Control!D$69*Control!D$70","v":1723.7587500000002},{"$f":"E$2+(ROW(D11)-ROW(D$2))*Control!E$69*Control!E$70","v":748.10750000000007},{"$f":"F$2+(ROW(E11)-ROW(E$2))*Control!F$69*Control!F$70","v":2046.6075000000001},{"$f":"G$2+(ROW(F11)-ROW(F$2))*Control!G$69*Control!G$70","v":545.23524999999995},{"$f":"H$2+(ROW(G11)-ROW(G$2))*Control!H$69*Control!H$70","v":416.51224999999999},null,null,null,null,null,{"$f":"N$2+(ROW(M11)-ROW(M$2))*Control!N$69*Control!N$70","v":664.80750000000012},null,null,null,null,null,{"$f":"T$2+(ROW(S11)-ROW(S$2))*Control!T$69*Control!T$70","v":857.10799999999995},null,{"$f":"V$2+(ROW(U11)-ROW(U$2))*Control!V$69*Control!V$70","v":514.5},{"$f":"W$2+(ROW(V11)-ROW(V$2))*Control!W$69*Control!W$70","v":1163.75},{"$f":"X$2+(ROW(W11)-ROW(W$2))*Control!X$69*Control!X$70","v":796.25}]
[null,"p10",{"$f":"C$2+(ROW(B12)-ROW(B$2))*Control!C$69*Control!C$70","v":607},{"$f":"D$2+(ROW(C12)-ROW(C$2))*Control!D$69*Control!D$70","v":1758.9375},{"$f":"E$2+(ROW(D12)-ROW(D$2))*Control!E$69*Control!E$70","v":763.375},{"$f":"F$2+(ROW(E12)-ROW(E$2))*Control!F$69*Control!F$70","v":2088.375},{"$f":"G$2+(ROW(F12)-ROW(F$2))*Control!G$69*Control!G$70","v":556.36249999999995},{"$f":"H$2+(ROW(G12)-ROW(G$2))*Control!H$69*Control!H$70","v":425.01249999999999},null,null,null,null,null,{"$f":"N$2+(ROW(M12)-ROW(M$2))*Control!N$69*Control!N$70","v":678.375},null,null,null,null,null,{"$f":"T$2+(ROW(S12)-ROW(S$2))*Control!T$69*Control!T$70","v":874.59999999999991},null,{"$f":"V$2+(ROW(U12)-ROW(U$2))*Control!V$69*Control!V$70","v":525},{"$f":"W$2+(ROW(V12)-ROW(V$2))*Control!W$69*Control!W$70","v":1187.5},{"$f":"X$2+(ROW(W12)-ROW(W$2))*Control!X$69*Control!X$70","v":812.5}]
[null,"p11",{"$f":"C$2+(ROW(B13)-ROW(B$2))*Control!C$69*Control!C$70","v":619.1400000000001},{"$f":"D$2+(ROW(C13)-ROW(C$2))*Control!D$69*Control!D$70","v":1794.11625},{"$f":"E$2+(ROW(D13)-ROW(D$2))*Control!E$69*Control!E$70","v":778.64250000000004},{"$f":"F$2+(ROW(E13)-ROW(E$2))*Control!F$69*Control!F$70","v":2130.1424999999999},{"$f":"G$2+(ROW(F13)-ROW(F$2))*Control!G$69*Control!G$70","v":567.48974999999996},{"$f":"H$2+(ROW(G13)-ROW(G$2))*Control!H$69*Control!H$70","v":433.51274999999998},null,null,null,null,null,{"$f":"N$2+(ROW(M13)-ROW(M$2))*Control!N$69*Control!N$70","v":691.94250000000011},null,null,null,null,null,{"$f":"T$2+(ROW(S13)-ROW(S$2))*Control!T$69*Control!T$70","v":892.09199999999998},null,{"$f":"V$2+(ROW(U13)-ROW(U$2))*Control!V$69*Control!V$70","v":535.5},{"$f":"W$2+(ROW(V13)-ROW(V$2))*Control!W$69*Control!W$70","v":1211.25},{"$f":"X$2+(ROW(W13)-ROW(W$2))*Control!X$69*Control!X$70","v":828.75}]
[null,"p12",{"$f":"C$2+(ROW(B14)-ROW(B$2))*Control!C$69*Control!C$70","v":631.28000000000009},{"$f":"D$2+(ROW(C14)-ROW(C$2))*Control!D$69*Control!D$70","v":1829.2950000000001},{"$f":"E$2+(ROW(D14)-ROW(D$2))*Control!E$69*Control!E$70","v":793.91000000000008},{"$f":"F$2+(ROW(E14)-ROW(E$2))*Control!F$69*Control!F$70","v":2171.9100000000003},{"$f":"G$2+(ROW(F14)-ROW(F$2))*Control!G$69*Control!G$70","v":578.61699999999996},{"$f":"H$2+(ROW(G14)-ROW(G$2))*Control!H$69*Control!H$70","v":442.01300000000003},null,null,null,null,null,{"$f":"N$2+(ROW(M14)-ROW(M$2))*Control!N$69*Control!N$70","v":705.5100000000001},null,null,null,null,null,{"$f":"T$2+(ROW(S14)-ROW(S$2))*Control!T$69*Control!T$70","v":909.58399999999995},null,{"$f":"V$2+(ROW(U14)-ROW(U$2))*Control!V$69*Control!V$70","v":546},{"$f":"W$2+(ROW(V14)-ROW(V$2))*Control!W$69*Control!W$70","v":1235},{"$f":"X$2+(ROW(W14)-ROW(W$2))*Control!X$69*Control!X$70","v":845}]
[null,"p13",{"$f":"C$2+(ROW(B15)-ROW(B$2))*Control!C$69*Control!C$70","v":643.42000000000007},{"$f":"D$2+(ROW(C15)-ROW(C$2))*Control!D$69*Control!D$70","v":1864.4737500000001},{"$f":"E$2+(ROW(D15)-ROW(D$2))*Control!E$69*Control!E$70","v":809.17750000000001},{"$f":"F$2+(ROW(E15)-ROW(E$2))*Control!F$69*Control!F$70","v":2213.6775000000002},{"$f":"G$2+(ROW(F15)-ROW(F$2))*Control!G$69*Control!G$70","v":589.74424999999997},{"$f":"H$2+(ROW(G15)-ROW(G$2))*Control!H$69*Control!H$70","v":450.51324999999997},null,null,null,null,null,{"$f":"N$2+(ROW(M15)-ROW(M$2))*Control!N$69*Control!N$70","v":719.0775000000001},null,null,null,null,null,{"$f":"T$2+(ROW(S15)-ROW(S$2))*Control!T$69*Control!T$70","v":927.07599999999991},null,{"$f":"V$2+(ROW(U15)-ROW(U$2))*Control!V$69*Control!V$70","v":556.5},{"$f":"W$2+(ROW(V15)-ROW(V$2))*Control!W$69*Control!W$70","v":1258.75},{"$f":"X$2+(ROW(W15)-ROW(W$2))*Control!X$69*Control!X$70","v":861.25}]
[null,"p14",{"$f":"C$2+(ROW(B16)-ROW(B$2))*Control!C$69*Control!C$70","v":655.56000000000006},{"$f":"D$2+(ROW(C16)-ROW(C$2))*Control!D$69*Control!D$70","v":1899.6525000000001},{"$f":"E$2+(ROW(D16)-ROW(D$2))*Control!E$69*Control!E$70","v":824.44500000000005},{"$f":"F$2+(ROW(E16)-ROW(E$2))*Control!F$69*Control!F$70","v":2255.4450000000002},{"$f":"G$2+(ROW(F16)-ROW(F$2))*Control!G$69*Control!G$70","v":600.87149999999997},{"$f":"H$2+(ROW(G16)-ROW(G$2))*Control!H$69*Control!H$70","v":459.01350000000002},null,null,null,null,null,{"$f":"N$2+(ROW(M16)-ROW(M$2))*Control!N$69*Control!N$70","v":732.6450000000001},null,null,null,null,null,{"$f":"T$2+(ROW(S16)-ROW(S$2))*Control!T$69*Control!T$70","v":944.56799999999998},null,{"$f":"V$2+(ROW(U16)-ROW(U$2))*Control!V$69*Control!V$70","v":567},{"$f":"W$2+(ROW(V16)-ROW(V$2))*Control!W$69*Control!W$70","v":1282.5},{"$f":"X$2+(ROW(W16)-ROW(W$2))*Control!X$69*Control!X$70","v":877.5}]
[null,"p15",{"$f":"C$2+(ROW(B17)-ROW(B$2))*Control!C$69*Control!C$70","v":667.7},{"$f":"D$2+(ROW(C17)-ROW(C$2))*Control!D$69*Control!D$70","v":1934.8312500000002},{"$f":"E$2+(ROW(D17)-ROW(D$2))*Control!E$69*Control!E$70","v":839.71250000000009},{"$f":"F$2+(ROW(E17)-ROW(E$2))*Control!F$69*Control!F$70","v":2297.2125000000001},{"$f":"G$2+(ROW(F17)-ROW(F$2))*Control!G$69*Control!G$70","v":611.99874999999997},{"$f":"H$2+(ROW(G17)-ROW(G$2))*Control!H$69*Control!H$70","v":467.51374999999996},null,null,null,null,null,{"$f":"N$2+(ROW(M17)-ROW(M$2))*Control!N$69*Control!N$70","v":746.21250000000009},null,null,null,null,null,{"$f":"T$2+(ROW(S17)-ROW(S$2))*Control!T$69*Control!T$70","v":962.06},null,{"$f":"V$2+(ROW(U17)-ROW(U$2))*Control!V$69*Control!V$70","v":577.5},{"$f":"W$2+(ROW(V17)-ROW(V$2))*Control!W$69*Control!W$70","v":1306.25},{"$f":"X$2+(ROW(W17)-ROW(W$2))*Control!X$69*Control!X$70","v":893.75}]
[null,"p16",{"$f":"C$2+(ROW(B18)-ROW(B$2))*Control!C$69*Control!C$70","v":679.84},{"$f":"D$2+(ROW(C18)-ROW(C$2))*Control!D$69*Control!D$70","v":1970.0100000000002},{"$f":"E$2+(ROW(D18)-ROW(D$2))*Control!E$69*Control!E$70","v":854.98},{"$f":"F$2+(ROW(E18)-ROW(E$2))*Control!F$69*Control!F$70","v":2338.98},{"$f":"G$2+(ROW(F18)-ROW(F$2))*Control!G$69*Control!G$70","v":623.12599999999998},{"$f":"H$2+(ROW(G18)-ROW(G$2))*Control!H$69*Control!H$70","v":476.01400000000001},null,null,null,null,null,{"$f":"N$2+(ROW(M18)-ROW(M$2))*Control!N$69*Control!N$70","v":759.78000000000009},null,null,null,null,null,{"$f":"T$2+(ROW(S18)-ROW(S$2))*Control!T$69*Control!T$70","v":979.55199999999991},null,{"$f":"V$2+(ROW(U18)-ROW(U$2))*Control!V$69*Control!V$70","v":588},{"$f":"W$2+(ROW(V18)-ROW(V$2))*Control!W$69*Control!W$70","v":1330},{"$f":"X$2+(ROW(W18)-ROW(W$2))*Control!X$69*Control!X$70","v":910}]
[null,"p17",{"$f":"C$2+(ROW(B19)-ROW(B$2))*Control!C$69*Control!C$70","v":691.98},{"$f":"D$2+(ROW(C19)-ROW(C$2))*Control!D$69*Control!D$70","v":2005.1887500000003},{"$f":"E$2+(ROW(D19)-ROW(D$2))*Control!E$69*Control!E$70","v":870.24750000000017},{"$f":"F$2+(ROW(E19)-ROW(E$2))*Control!F$69*Control!F$70","v":2380.7475000000004},{"$f":"G$2+(ROW(F19)-ROW(F$2))*Control!G$69*Control!G$70","v":634.25324999999998},{"$f":"H$2+(ROW(G19)-ROW(G$2))*Control!H$69*Control!H$70","v":484.51425},null,null,null,null,null,{"$f":"N$2+(ROW(M19)-ROW(M$2))*Control!N$69*Control!N$70","v":773.34750000000008},null,null,null,null,null,{"$f":"T$2+(ROW(S19)-ROW(S$2))*Control!T$69*Control!T$70","v":997.04399999999998},null,{"$f":"V$2+(ROW(U19)-ROW(U$2))*Control!V$69*Control!V$70","v":598.5},{"$f":"W$2+(ROW(V19)-ROW(V$2))*Control!W$69*Control!W$70","v":1353.75},{"$f":"X$2+(ROW(W19)-ROW(W$2))*Control!X$69*Control!X$70","v":926.25}]
[null,"p18",{"$f":"C$2+(ROW(B20)-ROW(B$2))*Control!C$69*Control!C$70","v":704.12},{"$f":"D$2+(ROW(C20)-ROW(C$2))*Control!D$69*Control!D$70","v":2040.3675000000003},{"$f":"E$2+(ROW(D20)-ROW(D$2))*Control!E$69*Control!E$70","v":885.5150000000001},{"$f":"F$2+(ROW(E20)-ROW(E$2))*Control!F$69*Control!F$70","v":2422.5150000000003},{"$f":"G$2+(ROW(F20)-ROW(F$2))*Control!G$69*Control!G$70","v":645.38049999999998},{"$f":"H$2+(ROW(G20)-ROW(G$2))*Control!H$69*Control!H$70","v":493.0145},null,null,null,null,null,{"$f":"N$2+(ROW(M20)-ROW(M$2))*Control!N$69*Control!N$70","v":786.91500000000008},null,null,null,null,null,{"$f":"T$2+(ROW(S20)-ROW(S$2))*Control!T$69*Control!T$70","v":1014.5359999999999},null,{"$f":"V$2+(ROW(U20)-ROW(U$2))*Control!V$69*Control!V$70","v":609},{"$f":"W$2+(ROW(V20)-ROW(V$2))*Control!W$69*Control!W$70","v":1377.5},{"$f":"X$2+(ROW(W20)-ROW(W$2))*Control!X$69*Control!X$70","v":942.5}]
[null,"p19",{"$f":"C$2+(ROW(B21)-ROW(B$2))*Control!C$69*Control!C$70","v":716.26},{"$f":"D$2+(ROW(C21)-ROW(C$2))*Control!D$69*Control!D$70","v":2075.5462500000003},{"$f":"E$2+(ROW(D21)-ROW(D$2))*Control!E$69*Control!E$70","v":900.78250000000003},{"$f":"F$2+(ROW(E21)-ROW(E$2))*Control!F$69*Control!F$70","v":2464.2825000000003},{"$f":"G$2+(ROW(F21)-ROW(F$2))*Control!G$69*Control!G$70","v":656.50774999999999},{"$f":"H$2+(ROW(G21)-ROW(G$2))*Control!H$69*Control!H$70","v":501.51474999999999},null,null,null,null,null,{"$f":"N$2+(ROW(M21)-ROW(M$2))*Control!N$69*Control!N$70","v":800.48250000000007},null,null,null,null,null,{"$f":"T$2+(ROW(S21)-ROW(S$2))*Control!T$69*Control!T$70","v":1032.028},null,{"$f":"V$2+(ROW(U21)-ROW(U$2))*Control!V$69*Control!V$70","v":619.5},{"$f":"W$2+(ROW(V21)-ROW(V$2))*Control!W$69*Control!W$70","v":1401.25},{"$f":"X$2+(ROW(W21)-ROW(W$2))*Control!X$69*Control!X$70","v":958.75}]
[null,"p20",{"$f":"C$2+(ROW(B22)-ROW(B$2))*Control!C$69*Control!C$70","v":728.40000000000009},{"$f":"D$2+(ROW(C22)-ROW(C$2))*Control!D$69*Control!D$70","v":2110.7250000000004},{"$f":"E$2+(ROW(D22)-ROW(D$2))*Control!E$69*Control!E$70","v":916.05000000000007},{"$f":"F$2+(ROW(E22)-ROW(E$2))*Control!F$69*Control!F$70","v":2506.0500000000002},{"$f":"G$2+(ROW(F22)-ROW(F$2))*Control!G$69*Control!G$70","v":667.63499999999999},{"$f":"H$2+(ROW(G22)-ROW(G$2))*Control!H$69*Control!H$70","v":510.01499999999999},null,null,null,null,null,{"$f":"N$2+(ROW(M22)-ROW(M$2))*Control!N$69*Control!N$70","v":814.05000000000007},null,null,null,null,null,{"$f":"T$2+(ROW(S22)-ROW(S$2))*Control!T$69*Control!T$70","v":1049.52},null,{"$f":"V$2+(ROW(U22)-ROW(U$2))*Control!V$69*Control!V$70","v":630},{"$f":"W$2+(ROW(V22)-ROW(V$2))*Control!W$69*Control!W$70","v":1425},{"$f":"X$2+(ROW(W22)-ROW(W$2))*Control!X$69*Control!X$70","v":975}]
[null,null,{"$f":"MAX(C3:C22)-C2","v":242.80000000000007},{"$f":"MAX(D3:D22)-D2","v":703.57500000000027},305.35000000000002,835.35000000000014,222.54500000000002,170.005,12.650000000000002,12.650000000000002,1.6499999999999995,36.75,74.999995000000013,271.35000000000002,119.99999199999999,49.5,89.97750000000002,90.008600000000001,24.5,349.84000000000003,90.000000000000199,210,475,325]
[]
[]
[null,"Bacton",485.6,"Bacton",485.6]
[null,"Easington",703.57500000000005,"Barrow",{"$f":"VLOOKUP(D27,$B$26:$C$47,2,FALSE)","v":154.55000000000001}]
[null,"Theddlethorpe",305.35000000000002,"Easington",703.57500000000005]
[null,"St. Fergus",835.35,"St. Fergus",835.35]
[null,"Teesside",180.65,"Teesside",180.65]
[null,"Barrow",154.55000000000001,"Theddlethorpe",305.35000000000002]
[null,"Hatfield Moor (Storage)",7.6,"Glenmavis",74.954999999999998]
[null,"Hatfield Moor (Onshore)",7.6,"Partington",90]
[null,"Wytch Farm",1.65,"Avonmouth",90]
[null,"Burton Point",36.75,"Isle of Grain",464.24]
[null,"Hole House Farm",65.8,"Dynevor Arms",42]
[null,"Cheshire",271.35000000000002,"Hornsea",119.988]
[null,"Hornsea",119.988,"Hatfield Moor (Storage)",7.6]
[null,"Glenmavis",74.954999999999998,"Hatfield Moor (Onshore)",7.6]
[null,"Partington",90,"Cheshire",271.35000000000002]
[null,"Avonmouth",90,"Hole House Farm",65.8]
[null,"Dynevor Arms",42,"Wytch Farm",1.65]
[null,"Isle of Grain",464.24,"Burton Point",36.75]
[null,"Barton Stacey",90,"Garton",500]
[null,"Garton",500,"Milford Haven",475]
[null,"Milford Haven",475,"Barton Stacey",90]
[null,"Fleetwood",650,"Fleetwood",650]

{"sheet":"Licence Info","index":3,"n_rows":166,"n_cols":127,"rows_kept":166,"cut":false,"hidden":false,"merged":[]}
["Licence Info"]
[]
[]
[null,"Initial NTS SO Baseline Entry Capacity (GWh/day)"]
[null,null,null,null,null,null,null,null,"Note new baselines"]
[null,"From","2002-04-01",{"$f":"DATE(YEAR(C7),MONTH(C7)+1,1)","v":"2003-04-01"},"2004-04-01","2005-04-01","2006-04-01","2007-04-01","2008-04-01","2009-04-01","2010-04-01","2011-04-01","2012-04-01",{"$f":"DATE(YEAR(M7),MONTH(M7)+1,1)","v":"2013-04-01"},{"$f":"DATE(YEAR(N7),MONTH(N7)+1,1)","v":"2014-04-01"},{"$f":"DATE(YEAR(O7),MONTH(O7)+1,1)","v":"2015-04-01"}]
[null,"To",{"$f":"DATE(YEAR(C6),MONTH(C6)+11,1)","v":"2003-03-01"},"2004-03-01","2005-03-01","2006-03-01","2007-03-01","2008-03-01","2009-03-01","2010-03-01","2011-03-01","2012-03-01","2013-03-01",{"$f":"DATE(YEAR(N6),MONTH(N6)+11,1)","v":"2014-03-01"},{"$f":"DATE(YEAR(O6),MONTH(O6)+11,1)","v":"2015-03-01"},{"$f":"DATE(YEAR(P6),MONTH(P6)+11,1)","v":"2016-03-01"}]
[]
[null,"ASEPs"]
[null,"Bacton",1374,1481,1655,1745,1745,1783.4,1783.4,1783.4,1783.4,1783.4,1783.4,1783.4,1783.4,485.6]
[null,"Barrow",731,711,711,712,712,309.10000000000002,309.10000000000002,309.10000000000002,309.10000000000002,309.10000000000002,309.10000000000002,309.10000000000002,309.10000000000002,309.10000000000002]
[null,"Easington",995,887,1027,1062,1062,1062,1062,1062,1062,1062,1062,1062,1062,1062]
[null,"St. Fergus",1520,1549,1628,1648,1677,1670.7,1670.7,1670.7,1670.7,1670.7,1670.7,1670.7,1670.7,1670.7]
[null,"Teesside",819,741,751,761,761,361.3,476,476,476,476,476,476,476,476]
[null,"Theddlethorpe",682,565,791,848,848,610.70000000000005,610.70000000000005,610.70000000000005,610.70000000000005,610.70000000000005,610.70000000000005,610.70000000000005,610.70000000000005,610.70000000000005]
[null,"Glenmavis",99,99,99,99,99,28.5,99,99,99,99,99,99,99,99]
[null,"Partington",215,215,215,215,215,174.6,215,215,215,215,215,215,215,215]
[null,"Avonmouth",149,149,149,149,149,179.3,179.3,179.3,179.3,179.3,179.3,179.3,179.3,179.3]
[null,"Isle of Grain",218,218,218,218,218,175,218,218,218,218,218,218,218,464.24]
[null,"Dynevor Arms",50,50,50,50,50,8,49,49,49,49,49,49,49,49]
[null,"Hornsea",175,175,175,175,175,164.1,175,175,175,175,175,175,175,175]
[null,"Hatfield Moor (Storage)",54,54,54,54,54,14.9,25,25,25,25,25,25,25,25]
[null,"Hatfield Moor (Onshore)",1,1,1,1,1,0.3,0.3,0.3,0.3,0.3,0.3,0.3,0.3,0.3]
[null,"Cheshire",0,0,107,161,214,285.89999999999998,285.89999999999998,285.89999999999998,285.89999999999998,285.89999999999998,285.89999999999998,285.89999999999998,285.89999999999998,285.89999999999998]
[null,"Hole House Farm",26,26,26,26,26,131.6,131.6,131.6,131.6,131.6,131.6,131.6,131.6,131.6]
[null,"Wytch Farm",3.2,3.2,3.2,3.2,3.2,3.3,3.3,3.3,3.3,3.3,3.3,3.3,3.3,3.3]
[null,"Burton Point",55,55,55,55,55,73.5,73.5,73.5,73.5,73.5,73.5,73.5,73.5,73.5]
[null,"Barton Stacey",0,0,0,0,0,82.6,82.6,82.6,82.6,82.6,172.6,172.6,172.6,172.6]
[null,"Garton",0,0,0,0,0,0,0,0,0,0,420,420,420,420]
[null,"Milford Haven",0,0,0,0,0,0,0,0,0,0,0,0,0,0]
[null,"Fleetwood",0,0,0,0,0,0,0,0,0,0,0,0,0,0]
[null,"Caythorpe",0,0,0,0,0,0,0,0,0,0,0,0,0,0]
[null,"Canonbie",0,0,0,0,0,0,0,0,0,0,0,0,0,0]
[null,"Murrow",0,0,0,0,0,0,0,0,0,0,0,0,0,0]
[]
["In Quarters:-",null,null,null,null,null,null,null,null,null,null,null,null,"New baselines"]
[null,null,"2004-07-01",{"$f":"DATE(YEAR(C38),MONTH(C38)+1,1)","v":"2004-10-01"},"2005-01-01","2005-04-01","2005-07-01","2005-10-01","2006-01-01","2006-04-01","2006-07-01","2006-10-01","2007-01-01","2007-04-01","2007-07-01","2007-10-01","2008-01-01","2008-04-01","2008-07-01","2008-10-01","2009-01-01","2009-04-01","2009-07-01","2009-10-01","2010-01-01","2010-04-01","2010-07-01","2010-10-01","2011-01-01","2011-04-01","2011-07-01","2011-10-01","2012-01-01","2012-04-01","2012-07-01","2012-10-01","2013-01-01","2013-04-01","2013-07-01","2013-10-01","2014-01-01","2014-04-01","2014-07-01","2014-10-01","2015-01-01","2015-04-01","2015-07-01","2015-10-01","2016-01-01","2016-04-01","2016-07-01","2016-10-01","2017-01-01","2017-04-01","2017-07-01","2017-10-01","2018-01-01","2018-04-01","2018-07-01","2018-10-01","2019-01-01","2019-04-01","2019-07-01","2019-10-01","2020-01-01","2020-04-01",{"$f":"DATE(YEAR(BN38),MONTH(BN38)+1,1)","v":"2020-07-01"},"2020-10-01","2021-01-01","2021-04-01","2021-07-01","2021-10-01","2022-01-01","2022-04-01","2022-07-01","2022-10-01","2023-01-01","2023-04-01","2023-07-01","2023-10-01","2024-01-01",{"$f":"DATE(YEAR(CC38),MONTH(CC38)+1,1)","v":"2024-04-01"},"2024-07-01","2024-10-01","2025-01-01","2025-04-01","2025-07-01","2025-10-01","2026-01-01","2026-04-01","2026-07-01",{"$f":"DATE(YEAR(CM38),MONTH(CM38)+1,1)","v":"2026-10-01"},"2027-01-01","2027-04-01","2027-07-01","2027-10-01","2028-01-01","2028-04-01","2028-07-01",{"$f":"DATE(YEAR(CU38),MONTH(CU38)+1,1)","v":"2028-10-01"},{"$f":"DATE(YEAR(CV38),MONTH(CV38)+1,1)","v":"2029-01-01"},{"$f":"DATE(YEAR(CW38),MONTH(CW38)+1,1)","v":"2029-04-01"},{"$f":"DATE(YEAR(CX38),MONTH(CX38)+1,1)","v":"2029-07-01"},{"$f":"DATE(YEAR(CY38),MONTH(CY38)+1,1)","v":"2029-10-01"},{"$f":"DATE(YEAR(CZ38),MONTH(CZ38)+1,1)","v":"2030-01-01"},"2030-04-01","2030-07-01","2030-10-01","2031-01-01","2031-04-01","2031-07-01",{"$f":"DATE(YEAR(DG38),MONTH(DG38)+1,1)","v":"2031-10-01"},{"$f":"DATE(YEAR(DH38),MONTH(DH38)+1,1)","v":"2032-01-01"},{"$f":"DATE(YEAR(DI38),MONTH(DI38)+1,1)","v":"2032-04-01"},{"$f":"DATE(YEAR(DJ38),MONTH(DJ38)+1,1)","v":"2032-07-01"},{"$f":"DATE(YEAR(DK38),MONTH(DK38)+1,1)","v":"2032-10-01"},{"$f":"DATE(YEAR(DL38),MONTH(DL38)+1,1)","v":"2033-01-01"},{"$f":"DATE(YEAR(DM38),MONTH(DM38)+1,1)","v":"2033-04-01"},{"$f":"DATE(YEAR(DN38),MONTH(DN38)+1,1)","v":"2033-07-01"},{"$f":"DATE(YEAR(DO38),MONTH(DO38)+1,1)","v":"2033-10-01"},{"$f":"DATE(YEAR(DP38),MONTH(DP38)+1,1)","v":"2034-01-01"},{"$f":"DATE(YEAR(DQ38),MONTH(DQ38)+1,1)","v":"2034-04-01"},{"$f":"DATE(YEAR(DR38),MONTH(DR38)+1,1)","v":"2034-07-01"},{"$f":"DATE(YEAR(DS38),MONTH(DS38)+1,1)","v":"2034-10-01"},{"$f":"DATE(YEAR(DT38),MONTH(DT38)+1,1)","v":"2035-01-01"},{"$f":"DATE(YEAR(DU38),MONTH(DU38)+1,1)","v":"2035-04-01"},{"$f":"DATE(YEAR(DV38),MONTH(DV38)+1,1)","v":"2035-07-01"}]
[null,null,{"$f":"DATE(YEAR(C37),MONTH(C37)+2,1)","v":"2004-09-01"},"2004-12-01","2005-03-01","2005-06-01","2005-09-01","2005-12-01","2006-03-01","2006-06-01","2006-09-01","2006-12-01","2007-03-01","2007-06-01","2007-09-01","2007-12-01","2008-03-01","2008-06-01","2008-09-01","2008-12-01","2009-03-01","2009-06-01","2009-09-01","2009-12-01","2010-03-01","2010-06-01","2010-09-01","2010-12-01","2011-03-01","2011-06-01","2011-09-01","2011-12-01","2012-03-01","2012-06-01","2012-09-01","2012-12-01","2013-03-01","2013-06-01","2013-09-01","2013-12-01","2014-03-01","2014-06-01","2014-09-01","2014-12-01","2015-03-01","2015-06-01","2015-09-01","2015-12-01","2016-03-01","2016-06-01","2016-09-01","2016-12-01","2017-03-01","2017-06-01","2017-09-01","2017-12-01","2018-03-01","2018-06-01","2018-09-01","2018-12-01","2019-03-01","2019-06-01","2019-09-01","2019-12-01","2020-03-01","2020-06-01",{"$f":"DATE(YEAR(BO37),MONTH(BO37)+2,1)","v":"2020-09-01"},"2020-12-01","2021-03-01","2021-06-01","2021-09-01","2021-12-01","2022-03-01","2022-06-01","2022-09-01","2022-12-01","2023-03-01","2023-06-01","2023-09-01","2023-12-01","2024-03-01",{"$f":"DATE(YEAR(CD37),MONTH(CD37)+2,1)","v":"2024-06-01"},"2024-09-01","2024-12-01","2025-03-01","2025-06-01","2025-09-01","2025-12-01","2026-03-01",{"$f":"DATE(YEAR(CL37),MONTH(CL37)+2,1)","v":"2026-06-01"},"2026-09-01","2026-12-01","2027-03-01","2027-06-01","2027-09-01","2027-12-01",{"$f":"DATE(YEAR(CS37),MONTH(CS37)+2,1)","v":"2028-03-01"},"2028-06-01","2028-09-01","2028-12-01","2029-03-01","2029-06-01","2029-09-01",{"$f":"DATE(YEAR(CZ37),MONTH(CZ37)+2,1)","v":"2029-12-01"},{"$f":"DATE(YEAR(DA37),MONTH(DA37)+2,1)","v":"2030-03-01"},"2030-06-01","2030-09-01","2030-12-01","2031-03-01","2031-06-01","2031-09-01",{"$f":"DATE(YEAR(DH37),MONTH(DH37)+2,1)","v":"2031-12-01"},"2032-03-01","2032-06-01","2032-09-01",{"$f":"DATE(YEAR(DL37),MONTH(DL37)+2,1)","v":"2032-12-01"},"2033-03-01","2033-06-01","2033-09-01",{"$f":"DATE(YEAR(DP37),MONTH(DP37)+2,1)","v":"2033-12-01"},"2034-03-01","2034-06-01","2034-09-01","2034-12-01","2035-03-01","2035-06-01","2035-09-01"]
[null,"ASEPs"]
[null,{"$f":"B10","v":"Bacton"},{"$f":"$E10","v":1655},1655,1655,{"$f":"$F10","v":1745},1745,1745,1745,{"$f":"$G10","v":1745},1745,1745,1745,{"$f":"$H10","v":1783.4},1783.4,1783.4,1783.4,{"$f":"$I10","v":1783.4},1783.4,1783.4,1783.4,1783.4,1783.4,1783.4,1783.4,1783.4,1783.4,1783.4,1783.4,1783.4,1783.4,1783.4,1783.4,1783.4,1783.4,1783.4,1783.4,1783.4,1783.4,1783.4,1783.4,1783.4,1783.4,1783.4,1783.4,1783.4,1783.4,{"$f":"$P10","v":485.6},{"$f":"$P10","v":485.6},485.6,485.6,485.6,485.6,485.6,{"$f":"BB40","v":485.6},485.6,485.6,485.6,485.6,485.6,485.6,485.6,485.6,485.6,485.6,485.6,485.6,485.6,485.6,485.6,485.6,485.6,485.6,485.6,485.6,485.6,485.6,485.6,485.6,485.6,485.6,485.6,485.6,485.6,485.6,485.6,485.6,485.6,485.6,485.6,485.6,485.6,485.6,485.6,485.6,485.6,485.6,485.6,485.6,485.6,485.6,485.6,485.6,485.6,485.6,485.6,485.6,485.6,485.6,485.6,485.6,485.6,485.6,485.6,485.6,485.6,485.6,485.6,{"$f":"DN40","v":485.6},{"$f":"DO40","v":485.6},{"$f":"DP40","v":485.6},{"$f":"DQ40","v":485.6},{"$f":"DR40","v":485.6},{"$f":"DS40","v":485.6},{"$f":"DT40","v":485.6},{"$f":"DU40","v":485.6},{"$f":"DV40","v":485.6}]
[null,{"$f":"B11","v":"Barrow"},711,711,711,712,712,712,712,712,712,712,712,309.10000000000002,309.10000000000002,309.10000000000002,309.10000000000002,309.10000000000002,309.10000000000002,309.10000000000002,309.10000000000002,309.10000000000002,309.10000000000002,309.10000000000002,309.10000000000002,309.10000000000002,309.10000000000002,309.10000000000002,309.10000000000002,309.10000000000002,309.10000000000002,309.10000000000002,309.10000000000002,309.10000000000002,309.10000000000002,309.10000000000002,309.10000000000002,309.10000000000002,309.10000000000002,309.10000000000002,309.10000000000002,309.10000000000002,309.10000000000002,309.10000000000002,309.10000000000002,309.10000000000002,309.10000000000002,{"$f":"$P11","v":309.10000000000002},309.10000000000002,309.10000000000002,309.10000000000002,309.10000000000002,309.10000000000002,309.10000000000002,309.10000000000002,309.10000000000002,309.10000000000002,309.10000000000002,309.10000000000002,309.10000000000002,309.10000000000002,309.10000000000002,309.10000000000002,309.10000000000002,309.10000000000002,309.10000000000002,309.10000000000002,309.10000000000002,309.10000000000002,309.10000000000002,309.10000000000002,309.10000000000002,309.10000000000002,309.10000000000002,309.10000000000002,309.10000000000002,309.10000000000002,309.10000000000002,309.10000000000002,309.10000000000002,309.10000000000002,309.10000000000002,309.10000000000002,309.10000000000002,309.10000000000002,309.10000000000002,309.10000000000002,309.10000000000002,309.10000000000002,309.10000000000002,309.10000000000002,309.10000000000002,309.10000000000002,309.10000000000002,309.10000000000002,309.10000000000002,309.10000000000002,309.10000000000002,309.10000000000002,309.10000000000002,309.10000000000002,309.10000000000002,309.10000000000002,309.10000000000002,309.10000000000002,309.10000000000002,309.10000000000002,309.10000000000002,309.10000000000002,309.10000000000002,309.10000000000002,309.10000000000002,309.10000000000002,309.10000000000002,309.10000000000002,309.10000000000002,309.10000000000002,309.10000000000002,309.10000000000002,309.10000000000002,309.10000000000002,309.10000000000002,309.10000000000002,309.10000000000002,309.10000000000002,309.10000000000002,309.10000000000002]
[null,"Easington",1027,1027,1027,1062,1062,1062,1062,1062,1062,1062,1062,1062,1062,1062,1062,1062,1062,1062,1062,1062,1062,1062,1062,1062,1062,1062,1062,1062,1062,1062,1062,1062,1062,1062,1062,1062,1062,1062,1062,1062,1062,1062,1062,1062,1062,1062,1062,1062,1062,1062,1062,{"$f":"$P12+345.15","v":1407.15},{"$f":"BB42","v":1407.15},1407.15,1407.15,1407.15,1407.15,1407.15,1407.15,1407.15,1407.15,1407.15,1407.15,1407.15,1407.15,1407.15,1407.15,1407.15,1407.15,1407.15,1407.15,1407.15,1407.15,1407.15,1407.15,1407.15,1407.15,1407.15,1407.15,1407.15,1407.15,1407.15,1407.15,1407.15,1407.15,1407.15,1407.15,1407.15,1407.15,1407.15,1407.15,1407.15,1407.15,1407.15,1407.15,1407.15,1407.15,1407.15,1407.15,1407.15,1407.15,1407.15,1407.15,1407.15,1407.15,1407.15,1407.15,1407.15,1407.15,1407.15,1407.15,1407.15,1407.15,1407.15,1407.15,1407.15,1407.15,1407.15,1407.15,1407.15,1407.15,1407.15,1407.15,1407.15,1407.15]
[null,"St. Fergus",1628,1628,1628,1648,1648,1648,1648,1677,1677,1677,1677,1670.7,1670.7,1670.7,1670.7,1670.7,1670.7,1670.7,1670.7,1670.7,1670.7,1670.7,1670.7,1670.7,1670.7,1670.7,1670.7,1670.7,1670.7,1670.7,1670.7,1670.7,1670.7,1670.7,1670.7,1670.7,1670.7,1670.7,1670.7,1670.7,1670.7,1670.7,1670.7,1670.7,1670.7,1670.7,1670.7,1670.7,1670.7,1670.7,1670.7,1670.7,{"$f":"BB43","v":1670.7},1670.7,1670.7,1670.7,1670.7,1670.7,1670.7,1670.7,1670.7,1670.7,1670.7,1670.7,1670.7,1670.7,1670.7,1670.7,1670.7,1670.7,1670.7,1670.7,1670.7,1670.7,1670.7,1670.7,1670.7,1670.7,1670.7,1670.7,1670.7,1670.7,1670.7,1670.7,1670.7,1670.7,1670.7,1670.7,1670.7,1670.7,1670.7,1670.7,1670.7,1670.7,1670.7,1670.7,1670.7,1670.7,1670.7,1670.7,1670.7,1670.7,1670.7,1670.7,1670.7,1670.7,1670.7,1670.7,1670.7,1670.7,1670.7,1670.7,1670.7,1670.7,1670.7,1670.7,1670.7,1670.7,1670.7,1670.7,1670.7,1670.7,1670.7,1670.7,1670.7]
[null,"Teesside",751,751,751,761,761,761,761,761,761,761,761,361.3,361.3,361.3,361.3,476,476,476,476,476,476,476,476,476,476,476,476,476,476,476,476,476,476,476,476,476,476,476,476,476,476,476,476,476,476,476,476,476,476,476,476,476,476,476,476,476,476,476,476,476,476,476,476,476,476,476,476,476,476,476,476,476,476,476,476,476,476,476,476,476,476,476,476,476,476,476,476,476,476,476,476,476,476,476,476,476,476,476,476,476,476,476,476,476,476,476,476,476,476,476,476,476,476,476,476,476,476,476,476,476,476,476,476,476,476]
[null,"Theddlethorpe",791,791,791,848,848,848,848,848,848,848,848,610.70000000000005,610.70000000000005,610.70000000000005,610.70000000000005,610.70000000000005,610.70000000000005,610.70000000000005,610.70000000000005,610.70000000000005,610.70000000000005,610.70000000000005,610.70000000000005,610.70000000000005,610.70000000000005,610.70000000000005,610.70000000000005,610.70000000000005,610.70000000000005,610.70000000000005,610.70000000000005,610.70000000000005,610.70000000000005,610.70000000000005,610.70000000000005,610.70000000000005,610.70000000000005,610.70000000000005,610.70000000000005,610.70000000000005,610.70000000000005,610.70000000000005,610.70000000000005,610.70000000000005,610.70000000000005,610.70000000000005,610.70000000000005,610.70000000000005,610.70000000000005,610.70000000000005,610.70000000000005,610.70000000000005,610.70000000000005,610.70000000000005,610.70000000000005,610.70000000000005,610.70000000000005,610.70000000000005,610.70000000000005,610.70000000000005,610.70000000000005,610.70000000000005,610.70000000000005,610.70000000000005,610.70000000000005,610.70000000000005,610.70000000000005,610.70000000000005,610.70000000000005,610.70000000000005,610.70000000000005,610.70000000000005,610.70000000000005,610.70000000000005,610.70000000000005,610.70000000000005,610.70000000000005,610.70000000000005,610.70000000000005,610.70000000000005,610.70000000000005,610.70000000000005,610.70000000000005,610.70000000000005,610.70000000000005,610.70000000000005,610.70000000000005,610.70000000000005,610.70000000000005,610.70000000000005,610.70000000000005,610.70000000000005,610.70000000000005,610.70000000000005,610.70000000000005,610.70000000000005,610.70000000000005,610.70000000000005,610.70000000000005,610.70000000000005,610.70000000000005,610.70000000000005,610.70000000000005,610.70000000000005,610.70000000000005,610.70000000000005,610.70000000000005,610.70000000000005,610.70000000000005,610.70000000000005,610.70000000000005,610.70000000000005,610.70000000000005,610.70000000000005,610.70000000000005,610.70000000000005,610.70000000000005,610.70000000000005,610.70000000000005,610.70000000000005,610.70000000000005,610.70000000000005,610.70000000000005,610.70000000000005,610.70000000000005]
[null,"Glenmavis",99,99,99,99,99,99,99,99,99,99,99,28.5,28.5,28.5,28.5,99,99,99,99,99,99,99,99,99,99,99,99,99,99,99,99,99,99,99,99,99,99,99,99,99,99,99,99,99,99,99,99,99,99,99,99,99,99,99,99,99,99,99,99,99,99,99,99,99,99,99,99,99,99,99,99,99,99,99,99,99,99,99,99,99,99,99,99,99,99,99,99,99,99,99,99,99,99,99,99,99,99,99,99,99,99,99,99,99,99,99,99,99,99,99,99,99,99,99,99,{"$f":"DM46","v":99},99,99,99,99,99,99,99,99,99]
[null,"Partington",215,215,215,215,215,215,215,215,215,215,215,174.6,174.6,174.6,174.6,215,215,215,215,215,215,215,215,215,215,215,215,215,215,215,215,215,215,215,215,215,215,215,215,215,215,215,215,215,215,215,215,215,215,215,215,215,{"$f":"BB47","v":215},215,215,215,215,215,215,215,215,215,215,215,215,215,215,215,215,215,215,215,215,215,215,215,215,215,215,215,215,215,215,215,215,215,215,215,215,215,215,215,215,215,215,215,215,215,215,215,215,215,215,215,215,215,215,215,215,215,215,215,215,215,215,215,215,215,215,215,215,215,215,215,215]
[null,"Avonmouth",149,149,149,149,149,149,149,149,149,149,149,179.3,179.3,179.3,179.3,179.3,179.3,179.3,179.3,179.3,179.3,179.3,179.3,179.3,179.3,179.3,179.3,179.3,179.3,179.3,{"$f":"$I18","v":179.3},179.3,179.3,179.3,179.3,179.3,179.3,179.3,179.3,179.3,179.3,179.3,179.3,179.3,179.3,179.3,179.3,179.3,179.3,179.3,179.3,179.3,179.3,179.3,179.3,179.3,179.3,179.3,179.3,179.3,179.3,179.3,179.3,179.3,179.3,179.3,179.3,179.3,179.3,179.3,179.3,179.3,179.3,179.3,179.3,179.3,179.3,179.3,179.3,179.3,179.3,179.3,179.3,179.3,179.3,179.3,179.3,179.3,179.3,179.3,179.3,179.3,179.3,179.3,179.3,179.3,179.3,179.3,179.3,179.3,179.3,179.3,179.3,179.3,179.3,179.3,179.3,179.3,179.3,179.3,179.3,179.3,179.3,179.3,179.3,179.3,179.3,179.3,179.3,179.3,179.3,179.3,179.3,179.3,179.3]
[null,"Isle of Grain",218,218,218,218,218,218,218,218,218,218,218,175,175,175,175,218,218,218,218,218,218,218,218,218,218,218,218,218,218,218,218,218,218,218,218,218,218,218,218,218,218,218,218,218,218,464.24,464.24,464.24,464.24,464.24,464.24,{"$f":"$P19+235.4","v":699.64},699.64,699.64,699.64,699.64,699.64,699.64,699.64,699.64,699.64,699.64,699.64,699.64,699.64,699.64,699.64,699.64,699.64,699.64,699.64,699.64,699.64,699.64,699.64,699.64,699.64,699.64,699.64,699.64,699.64,699.64,699.64,699.64,699.64,699.64,699.64,699.64,699.64,699.64,699.64,699.64,699.64,699.64,699.64,699.64,699.64,699.64,699.64,699.64,699.64,699.64,699.64,699.64,699.64,699.64,699.64,699.64,699.64,699.64,699.64,699.64,699.64,699.64,699.64,699.64,699.64,699.64,699.64,699.64,699.64,699.64,699.64,699.64,699.64]
[null,"Dynevor Arms",50,50,50,50,50,50,50,50,50,50,50,8,8,8,8,49,49,49,49,49,49,49,49,49,49,49,49,49,49,49,49,49,49,49,49,49,49,49,49,49,49,49,49,49,49,49,49,49,49,49,49,49,49,49,49,49,49,49,49,49,49,49,49,49,49,49,49,49,49,49,49,49,49,49,49,49,49,49,49,49,49,49,49,49,49,49,49,49,49,49,49,49,49,49,49,49,49,49,49,49,49,49,49,49,49,49,49,49,49,49,49,49,49,49,49,{"$f":"DM50","v":49},49,49,49,49,49,49,49,49,49]
[null,"Hornsea",175,175,175,175,175,175,175,175,175,175,175,164.1,164.1,164.1,164.1,175,175,175,175,175,175,175,175,175,175,175,175,175,175,175,175,175,175,175,175,175,175,175,175,175,175,175,175,175,175,175,175,175,175,175,175,{"$f":"$P21+58.1","v":233.1},{"$f":"BB51","v":233.1},233.1,233.1,233.1,233.1,233.1,233.1,233.1,233.1,233.1,233.1,233.1,233.1,233.1,233.1,233.1,233.1,233.1,233.1,233.1,233.1,233.1,233.1,233.1,233.1,233.1,233.1,233.1,233.1,233.1,233.1,233.1,233.1,233.1,233.1,233.1,233.1,233.1,233.1,233.1,233.1,233.1,233.1,233.1,233.1,233.1,233.1,233.1,233.1,233.1,233.1,233.1,233.1,233.1,233.1,233.1,233.1,233.1,233.1,233.1,233.1,233.1,233.1,233.1,233.1,233.1,233.1,233.1,233.1,233.1,233.1,233.1,233.1]
[null,"Hatfield Moor (Storage)",54,54,54,54,54,54,54,54,54,54,54,14.9,14.9,14.9,14.9,25,25,25,25,25,25,25,25,25,25,25,25,25,25,25,25,25,25,25,25,25,25,25,25,25,25,25,25,25,25,25,25,25,25,25,25,25,25,25,25,25,25,25,25,25,25,25,25,25,25,25,25,25,25,25,25,25,25,25,25,25,25,25,25,25,25,25,25,25,25,25,25,25,25,25,25,25,25,25,25,25,25,25,25,25,25,25,25,25,25,25,25,25,25,25,25,25,25,25,25,25,25,25,25,25,25,25,25,25,25]
[null,"Hatfield Moor (Onshore)",1,1,1,1,1,1,1,1,1,1,1,0.3,0.3,0.3,0.3,0.3,0.3,0.3,0.3,0.3,0.3,0.3,0.3,0.3,0.3,0.3,0.3,0.3,0.3,0.3,0.3,0.3,0.3,0.3,0.3,0.3,0.3,0.3,0.3,0.3,0.3,0.3,0.3,0.3,0.3,0.3,0.3,0.3,0.3,0.3,0.3,0.3,0.3,0.3,0.3,0.3,0.3,0.3,0.3,0.3,0.3,0.3,0.3,0.3,0.3,0.3,0.3,0.3,0.3,0.3,0.3,0.3,0.3,0.3,0.3,0.3,0.3,0.3,0.3,0.3,0.3,0.3,0.3,0.3,0.3,0.3,0.3,0.3,0.3,0.3,0.3,0.3,0.3,0.3,0.3,0.3,0.3,0.3,0.3,0.3,0.3,0.3,0.3,0.3,0.3,0.3,0.3,0.3,0.3,0.3,0.3,0.3,0.3,0.3,0.3,0.3,0.3,0.3,0.3,0.3,0.3,0.3,0.3,0.3,0.3]
[null,"Cheshire",107,107,107,161,161,161,161,214,214,214,214,285.89999999999998,285.89999999999998,285.89999999999998,285.89999999999998,285.89999999999998,285.89999999999998,285.89999999999998,285.89999999999998,285.89999999999998,285.89999999999998,285.89999999999998,285.89999999999998,285.89999999999998,285.89999999999998,285.89999999999998,285.89999999999998,285.89999999999998,285.89999999999998,285.89999999999998,285.89999999999998,285.89999999999998,285.89999999999998,285.89999999999998,285.89999999999998,285.89999999999998,285.89999999999998,285.89999999999998,285.89999999999998,285.89999999999998,285.89999999999998,285.89999999999998,285.89999999999998,285.89999999999998,285.89999999999998,285.89999999999998,285.89999999999998,285.89999999999998,285.89999999999998,285.89999999999998,285.89999999999998,{"$f":"$P24+192.6+64.2","v":542.70000000000005},542.70000000000005,542.70000000000005,542.70000000000005,542.70000000000005,542.70000000000005,542.70000000000005,542.70000000000005,542.70000000000005,542.70000000000005,542.70000000000005,542.70000000000005,542.70000000000005,542.70000000000005,542.70000000000005,542.70000000000005,542.70000000000005,542.70000000000005,542.70000000000005,542.70000000000005,542.70000000000005,542.70000000000005,542.70000000000005,542.70000000000005,542.70000000000005,542.70000000000005,542.70000000000005,542.70000000000005,542.70000000000005,542.70000000000005,542.70000000000005,542.70000000000005,542.70000000000005,542.70000000000005,542.70000000000005,542.70000000000005,542.70000000000005,542.70000000000005,542.70000000000005,542.70000000000005,542.70000000000005,542.70000000000005,542.70000000000005,542.70000000000005,542.70000000000005,542.70000000000005,542.70000000000005,542.70000000000005,542.70000000000005,542.70000000000005,542.70000000000005,542.70000000000005,542.70000000000005,542.70000000000005,542.70000000000005,542.70000000000005,542.70000000000005,542.70000000000005,542.70000000000005,542.70000000000005,542.70000000000005,542.70000000000005,542.70000000000005,542.70000000000005,{"$f":"DM54","v":542.70000000000005},542.70000000000005,542.70000000000005,542.70000000000005,542.70000000000005,542.70000000000005,542.70000000000005,542.70000000000005,542.70000000000005,542.70000000000005]
[null,"Hole House Farm",26,26,26,26,26,26,26,26,26,26,26,131.6,131.6,131.6,131.6,131.6,131.6,131.6,131.6,131.6,131.6,131.6,131.6,131.6,131.6,131.6,131.6,131.6,131.6,131.6,131.6,131.6,131.6,131.6,131.6,131.6,131.6,131.6,131.6,131.6,131.6,131.6,131.6,131.6,131.6,131.6,131.6,131.6,131.6,{"$f":"$P25+165","v":296.60000000000002},{"$f":"AZ55","v":296.60000000000002},296.60000000000002,296.60000000000002,296.60000000000002,296.60000000000002,296.60000000000002,296.60000000000002,296.60000000000002,296.60000000000002,296.60000000000002,296.60000000000002,296.60000000000002,296.60000000000002,296.60000000000002,296.60000000000002,296.60000000000002,296.60000000000002,296.60000000000002,296.60000000000002,296.60000000000002,296.60000000000002,296.60000000000002,296.60000000000002,296.60000000000002,296.60000000000002,296.60000000000002,296.60000000000002,296.60000000000002,296.60000000000002,296.60000000000002,296.60000000000002,296.60000000000002,296.60000000000002,296.60000000000002,296.60000000000002,296.60000000000002,296.60000000000002,296.60000000000002,296.60000000000002,296.60000000000002,296.60000000000002,296.60000000000002,296.60000000000002,296.60000000000002,296.60000000000002,296.60000000000002,296.60000000000002,296.60000000000002,296.60000000000002,296.60000000000002,296.60000000000002,296.60000000000002,296.60000000000002,296.60000000000002,296.60000000000002,296.60000000000002,296.60000000000002,296.60000000000002,296.60000000000002,296.60000000000002,296.60000000000002,296.60000000000002,296.60000000000002,296.60000000000002,{"$f":"DL55","v":296.60000000000002},296.60000000000002,296.60000000000002,296.60000000000002,296.60000000000002,296.60000000000002,296.60000000000002,296.60000000000002,296.60000000000002,296.60000000000002,296.60000000000002]
[null,"Wytch Farm",{"$f":"$E26","v":3.2},3.2,3.2,{"$f":"$F26","v":3.2},3.2,3.2,3.2,{"$f":"$G26","v":3.2},3.2,3.2,3.2,{"$f":"$H26","v":3.3},3.3,3.3,3.3,3.3,3.3,3.3,3.3,3.3,3.3,3.3,3.3,3.3,3.3,3.3,3.3,3.3,3.3,3.3,3.3,3.3,3.3,3.3,3.3,3.3,3.3,3.3,3.3,3.3,3.3,3.3,3.3,3.3,3.3,3.3,3.3,3.3,3.3,3.3,3.3,3.3,3.3,3.3,3.3,3.3,3.3,3.3,3.3,3.3,3.3,3.3,3.3,3.3,3.3,3.3,3.3,3.3,3.3,3.3,3.3,3.3,3.3,3.3,3.3,3.3,3.3,3.3,3.3,3.3,3.3,3.3,3.3,3.3,3.3,3.3,3.3,3.3,3.3,3.3,3.3,3.3,3.3,3.3,3.3,3.3,3.3,3.3,3.3,3.3,3.3,3.3,3.3,3.3,3.3,3.3,3.3,3.3,3.3,3.3,3.3,3.3,3.3,3.3,3.3,3.3,3.3,3.3,3.3,3.3,3.3,3.3,3.3,3.3,3.3]
[null,"Burton Point",55,55,55,55,55,55,55,55,55,55,55,73.5,73.5,73.5,73.5,{"$f":"$I27","v":73.5},73.5,73.5,73.5,73.5,73.5,73.5,73.5,73.5,73.5,73.5,73.5,73.5,73.5,73.5,73.5,73.5,73.5,73.5,73.5,73.5,73.5,73.5,73.5,73.5,73.5,73.5,73.5,73.5,73.5,{"$f":"$P27","v":73.5},73.5,73.5,73.5,73.5,73.5,73.5,73.5,73.5,73.5,73.5,73.5,73.5,73.5,73.5,73.5,73.5,73.5,73.5,73.5,73.5,73.5,73.5,73.5,73.5,73.5,73.5,73.5,73.5,73.5,73.5,73.5,73.5,73.5,73.5,73.5,73.5,73.5,73.5,73.5,73.5,73.5,73.5,73.5,73.5,73.5,73.5,73.5,73.5,73.5,73.5,73.5,73.5,73.5,73.5,73.5,73.5,73.5,73.5,73.5,73.5,73.5,73.5,73.5,73.5,73.5,73.5,73.5,73.5,73.5,73.5,73.5,73.5,73.5,73.5,73.5,73.5,73.5,73.5,73.5]
[null,"Barton Stacey",{"$f":"$E28","v":0},{"$f":"$E28","v":0},{"$f":"$E28","v":0},{"$f":"$F28","v":0},{"$f":"$F28","v":0},{"$f":"$F28","v":0},{"$f":"$F28","v":0},0,0,0,0,82.6,82.6,82.6,82.6,82.6,82.6,82.6,82.6,82.6,82.6,82.6,82.6,82.6,82.6,82.6,82.6,82.6,82.6,82.6,82.6,172.6,172.6,172.6,172.6,172.6,172.6,172.6,172.6,172.6,172.6,172.6,172.6,172.6,172.6,172.6,172.6,172.6,172.6,172.6,172.6,172.6,172.6,172.6,172.6,172.6,172.6,172.6,172.6,172.6,172.6,172.6,172.6,172.6,172.6,172.6,172.6,172.6,172.6,172.6,172.6,172.6,172.6,172.6,172.6,172.6,172.6,172.6,172.6,172.6,172.6,172.6,172.6,172.6,172.6,172.6,172.6,172.6,172.6,172.6,172.6,172.6,172.6,172.6,172.6,172.6,172.6,172.6,172.6,172.6,172.6,172.6,172.6,172.6,172.6,172.6,172.6,172.6,172.6,172.6,172.6,172.6,172.6,172.6,172.6,172.6,172.6,172.6,172.6,172.6,172.6,172.6,172.6,172.6,172.6]
[null,"Garton",{"$f":"$E29","v":0},0,0,{"$f":"$F29","v":0},0,0,0,0,0,0,0,0,0,0,0,0,0,0,0,0,0,0,0,0,0,0,0,0,0,0,0,420,420,420,420,420,420,420,420,420,420,420,420,420,420,420,420,420,420,420,420,420,420,420,420,420,420,{"$f":"BG59","v":420},420,420,420,420,420,420,420,420,420,420,420,420,420,420,420,420,420,420,420,420,420,420,420,420,420,420,420,420,420,420,420,420,420,420,420,420,420,420,420,420,420,420,420,420,420,420,420,420,420,420,420,420,420,420,420,420,420,420,420,420,420,420,420,420,420,420,420]
[null,"Milford Haven",0,0,0,0,0,0,0,0,0,0,0,0,0,0,0,0,0,0,0,0,0,0,0,0,0,0,0,0,0,0,0,0,0,0,0,0,0,0,0,0,0,0,0,0,0,0,0,0,0,0,0,950,{"$f":"BB60","v":950},950,950,950,950,950,950,950,950,950,950,950,950,950,950,950,950,950,950,950,950,950,950,950,950,950,950,950,950,950,950,950,950,950,950,950,950,950,950,950,950,950,950,950,950,950,950,950,950,950,950,950,950,950,950,950,950,950,950,950,950,950,950,950,950,950,950,950,950,950,950,950,950]
[null,"Fleetwood",0,0,0,0,0,0,0,{"$f":"$G31","v":0},{"$f":"$G31","v":0},{"$f":"$G31","v":0},{"$f":"$G31","v":0},0,0,0,0,0,0,0,0,0,0,0,0,0,0,0,0,0,0,0,0,0,0,0,0,0,0,0,0,0,0,0,0,0,0,0,0,0,0,0,0,650,650,650,350,350,350,350,350,350,350,350,350,350,350,350,350,350,350,350,350,350,350,350,350,350,350,350,350,350,350,350,350,350,350,350,350,350,350,350,350,350,350,350,350,350,350,350,350,350,350,350,350,350,350,350,350,350,350,350,350,350,350,350,350,350,350,350,350,350,350,350,350,350,350]
[null,"Caythorpe",0,0,0,0,0,0,0,0,0,0,0,0,0,0,0,0,0,0,0,0,0,0,0,0,0,0,0,0,0,0,0,0,0,0,0,0,0,0,0,0,0,0,0,0,0,0,0,0,0,90,{"$f":"AZ62","v":90},90,90,90,90,90,90,90,90,90,90,90,90,90,90,90,90,90,90,90,90,90,90,90,90,90,90,90,90,90,90,90,90,90,90,90,90,90,90,90,90,90,90,90,90,90,90,90,90,90,90,90,90,90,90,90,90,90,90,90,90,90,90,90,90,90,90,90,90,90,90,90,90,90,90]
[null,"Canonbie",0,0,0,0,0,0,0,0,0,0,0,0,0,0,0,0,0,0,0,0,0,0,0,0,0,0,0,0,0,0,0,0,0,0,0,0,0,0,0,0,0,0,0,0,0,0,0,0,0,0,0,0,0,0,0,0,0,0,0,0,0,0,0,0,0,0,0,0,0,0,0,0,0,0,0,0,0,0,0,0,0,0,0,0,0,0,0,0,0,0,0,0,0,0,0,0,0,0,0,0,0,0,0,0,0,0,0,0,0,0,0,0,0,0,0,0,0,0,0,0,0,0,0,0,0]
[null,"Murrow",0,0,0,0,0,0,0,0,0,0,0,0,0,0,0,0,0,0,0,0,0,0,0,0,0,0,0,0,0,0,0,0,0,0,0,0,0,0,0,0,0,0,0,0,0,0,0,0,0,0,0,0,{"$f":"BB64","v":0},{"$f":"BC64","v":0},{"$f":"BD64","v":0},{"$f":"BE64","v":0},{"$f":"BF64","v":0},{"$f":"BG64","v":0},{"$f":"BH64","v":0},{"$f":"BI64","v":0},{"$f":"BJ64","v":0},{"$f":"BK64","v":0},{"$f":"BL64","v":0},{"$f":"BM64","v":0},{"$f":"BN64","v":0},{"$f":"BO64","v":0},{"$f":"BP64","v":0},{"$f":"BQ64","v":0},{"$f":"BR64","v":0},{"$f":"BS64","v":0},{"$f":"BT64","v":0},{"$f":"BU64","v":0},{"$f":"BV64","v":0},{"$f":"BW64","v":0},{"$f":"BX64","v":0},{"$f":"BY64","v":0},{"$f":"BZ64","v":0},{"$f":"CA64","v":0},{"$f":"CB64","v":0},{"$f":"CC64","v":0},{"$f":"CD64","v":0},{"$f":"CE64","v":0},{"$f":"CF64","v":0},{"$f":"CG64","v":0},{"$f":"CH64","v":0},{"$f":"CI64","v":0},{"$f":"CJ64","v":0},{"$f":"CK64","v":0},{"$f":"CL64","v":0},{"$f":"CM64","v":0},{"$f":"CN64","v":0},{"$f":"CO64","v":0},{"$f":"CP64","v":0},{"$f":"CQ64","v":0},{"$f":"CR64","v":0},{"$f":"CS64","v":0},{"$f":"CT64","v":0},{"$f":"CU64","v":0},{"$f":"CV64","v":0},{"$f":"CW64","v":0},{"$f":"CX64","v":0},{"$f":"CY64","v":0},{"$f":"CZ64","v":0},{"$f":"DA64","v":0},{"$f":"DB64","v":0},{"$f":"DC64","v":0},{"$f":"DD64","v":0},{"$f":"DE64","v":0},{"$f":"DF64","v":0},{"$f":"DG64","v":0},{"$f":"DH64","v":0},{"$f":"DI64","v":0},{"$f":"DJ64","v":0},{"$f":"DK64","v":0},{"$f":"DL64","v":0},{"$f":"DM64","v":0},{"$f":"DN64","v":0},{"$f":"DO64","v":0},{"$f":"DP64","v":0},{"$f":"DQ64","v":0},{"$f":"DR64","v":0},{"$f":"DS64","v":0},{"$f":"DT64","v":0},{"$f":"DU64","v":0},{"$f":"DV64","v":0}]
[]
[]
[null,"Adjustments to obligated entry capacity for substitution"]
[]
[]
["In Quarters:-"]
[null,null,{"$f":"C37","v":"2004-07-01"},{"$f":"DATE(YEAR(C72),MONTH(C72)+1,1)","v":"2004-10-01"},{"$f":"DATE(YEAR(D72),MONTH(D72)+1,1)","v":"2005-01-01"},{"$f":"DATE(YEAR(E72),MONTH(E72)+1,1)","v":"2005-04-01"},{"$f":"DATE(YEAR(F72),MONTH(F72)+1,1)","v":"2005-07-01"},{"$f":"DATE(YEAR(G72),MONTH(G72)+1,1)","v":"2005-10-01"},{"$f":"DATE(YEAR(H72),MONTH(H72)+1,1)","v":"2006-01-01"},{"$f":"DATE(YEAR(I72),MONTH(I72)+1,1)","v":"2006-04-01"},{"$f":"DATE(YEAR(J72),MONTH(J72)+1,1)","v":"2006-07-01"},{"$f":"DATE(YEAR(K72),MONTH(K72)+1,1)","v":"2006-10-01"},{"$f":"DATE(YEAR(L72),MONTH(L72)+1,1)","v":"2007-01-01"},{"$f":"DATE(YEAR(M72),MONTH(M72)+1,1)","v":"2007-04-01"},{"$f":"DATE(YEAR(N72),MONTH(N72)+1,1)","v":"2007-07-01"},{"$f":"DATE(YEAR(O72),MONTH(O72)+1,1)","v":"2007-10-01"},{"$f":"DATE(YEAR(P72),MONTH(P72)+1,1)","v":"2008-01-01"},{"$f":"DATE(YEAR(Q72),MONTH(Q72)+1,1)","v":"2008-04-01"},{"$f":"DATE(YEAR(R72),MONTH(R72)+1,1)","v":"2008-07-01"},{"$f":"DATE(YEAR(S72),MONTH(S72)+1,1)","v":"2008-10-01"},{"$f":"DATE(YEAR(T72),MONTH(T72)+1,1)","v":"2009-01-01"},{"$f":"DATE(YEAR(U72),MONTH(U72)+1,1)","v":"2009-04-01"},{"$f":"DATE(YEAR(V72),MONTH(V72)+1,1)","v":"2009-07-01"},{"$f":"DATE(YEAR(W72),MONTH(W72)+1,1)","v":"2009-10-01"},{"$f":"DATE(YEAR(X72),MONTH(X72)+1,1)","v":"2010-01-01"},{"$f":"DATE(YEAR(Y72),MONTH(Y72)+1,1)","v":"2010-04-01"},{"$f":"DATE(YEAR(Z72),MONTH(Z72)+1,1)","v":"2010-07-01"},{"$f":"DATE(YEAR(AA72),MONTH(AA72)+1,1)","v":"2010-10-01"},{"$f":"DATE(YEAR(AB72),MONTH(AB72)+1,1)","v":"2011-01-01"},{"$f":"DATE(YEAR(AC72),MONTH(AC72)+1,1)","v":"2011-04-01"},{"$f":"DATE(YEAR(AD72),MONTH(AD72)+1,1)","v":"2011-07-01"},{"$f":"DATE(YEAR(AE72),MONTH(AE72)+1,1)","v":"2011-10-01"},{"$f":"DATE(YEAR(AF72),MONTH(AF72)+1,1)","v":"2012-01-01"},{"$f":"DATE(YEAR(AG72),MONTH(AG72)+1,1)","v":"2012-04-01"},{"$f":"DATE(YEAR(AH72),MONTH(AH72)+1,1)","v":"2012-07-01"},{"$f":"DATE(YEAR(AI72),MONTH(AI72)+1,1)","v":"2012-10-01"},{"$f":"DATE(YEAR(AJ72),MONTH(AJ72)+1,1)","v":"2013-01-01"},{"$f":"DATE(YEAR(AK72),MONTH(AK72)+1,1)","v":"2013-04-01"},{"$f":"DATE(YEAR(AL72),MONTH(AL72)+1,1)","v":"2013-07-01"},{"$f":"DATE(YEAR(AM72),MONTH(AM72)+1,1)","v":"2013-10-01"},{"$f":"DATE(YEAR(AN72),MONTH(AN72)+1,1)","v":"2014-01-01"},{"$f":"DATE(YEAR(AO72),MONTH(AO72)+1,1)","v":"2014-04-01"},{"$f":"DATE(YEAR(AP72),MONTH(AP72)+1,1)","v":"2014-07-01"},{"$f":"DATE(YEAR(AQ72),MONTH(AQ72)+1,1)","v":"2014-10-01"},{"$f":"DATE(YEAR(AR72),MONTH(AR72)+1,1)","v":"2015-01-01"},{"$f":"DATE(YEAR(AS72),MONTH(AS72)+1,1)","v":"2015-04-01"},{"$f":"DATE(YEAR(AT72),MONTH(AT72)+1,1)","v":"2015-07-01"},{"$f":"DATE(YEAR(AU72),MONTH(AU72)+1,1)","v":"2015-10-01"},{"$f":"DATE(YEAR(AV72),MONTH(AV72)+1,1)","v":"2016-01-01"},{"$f":"DATE(YEAR(AW72),MONTH(AW72)+1,1)","v":"2016-04-01"},{"$f":"DATE(YEAR(AX72),MONTH(AX72)+1,1)","v":"2016-07-01"},{"$f":"DATE(YEAR(AY72),MONTH(AY72)+1,1)","v":"2016-10-01"},{"$f":"DATE(YEAR(AZ72),MONTH(AZ72)+1,1)","v":"2017-01-01"},{"$f":"DATE(YEAR(BA72),MONTH(BA72)+1,1)","v":"2017-04-01"},{"$f":"DATE(YEAR(BB72),MONTH(BB72)+1,1)","v":"2017-07-01"},{"$f":"DATE(YEAR(BC72),MONTH(BC72)+1,1)","v":"2017-10-01"},{"$f":"DATE(YEAR(BD72),MONTH(BD72)+1,1)","v":"2018-01-01"},{"$f":"DATE(YEAR(BE72),MONTH(BE72)+1,1)","v":"2018-04-01"},{"$f":"DATE(YEAR(BF72),MONTH(BF72)+1,1)","v":"2018-07-01"},{"$f":"DATE(YEAR(BG72),MONTH(BG72)+1,1)","v":"2018-10-01"},{"$f":"DATE(YEAR(BH72),MONTH(BH72)+1,1)","v":"2019-01-01"},{"$f":"DATE(YEAR(BI72),MONTH(BI72)+1,1)","v":"2019-04-01"},{"$f":"DATE(YEAR(BJ72),MONTH(BJ72)+1,1)","v":"2019-07-01"},{"$f":"DATE(YEAR(BK72),MONTH(BK72)+1,1)","v":"2019-10-01"},{"$f":"DATE(YEAR(BL72),MONTH(BL72)+1,1)","v":"2020-01-01"},{"$f":"DATE(YEAR(BM72),MONTH(BM72)+1,1)","v":"2020-04-01"},{"$f":"DATE(YEAR(BN72),MONTH(BN72)+1,1)","v":"2020-07-01"},{"$f":"DATE(YEAR(BO72),MONTH(BO72)+1,1)","v":"2020-10-01"},{"$f":"DATE(YEAR(BP72),MONTH(BP72)+1,1)","v":"2021-01-01"},{"$f":"DATE(YEAR(BQ72),MONTH(BQ72)+1,1)","v":"2021-04-01"},{"$f":"DATE(YEAR(BR72),MONTH(BR72)+1,1)","v":"2021-07-01"},{"$f":"DATE(YEAR(BS72),MONTH(BS72)+1,1)","v":"2021-10-01"},{"$f":"DATE(YEAR(BT72),MONTH(BT72)+1,1)","v":"2022-01-01"},{"$f":"DATE(YEAR(BU72),MONTH(BU72)+1,1)","v":"2022-04-01"},{"$f":"DATE(YEAR(BV72),MONTH(BV72)+1,1)","v":"2022-07-01"},{"$f":"DATE(YEAR(BW72),MONTH(BW72)+1,1)","v":"2022-10-01"},{"$f":"DATE(YEAR(BX72),MONTH(BX72)+1,1)","v":"2023-01-01"},{"$f":"DATE(YEAR(BY72),MONTH(BY72)+1,1)","v":"2023-04-01"},{"$f":"DATE(YEAR(BZ72),MONTH(BZ72)+1,1)","v":"2023-07-01"},{"$f":"DATE(YEAR(CA72),MONTH(CA72)+1,1)","v":"2023-10-01"},{"$f":"DATE(YEAR(CB72),MONTH(CB72)+1,1)","v":"2024-01-01"},{"$f":"DATE(YEAR(CC72),MONTH(CC72)+1,1)","v":"2024-04-01"},{"$f":"DATE(YEAR(CD72),MONTH(CD72)+1,1)","v":"2024-07-01"},{"$f":"DATE(YEAR(CE72),MONTH(CE72)+1,1)","v":"2024-10-01"},{"$f":"DATE(YEAR(CF72),MONTH(CF72)+1,1)","v":"2025-01-01"},{"$f":"DATE(YEAR(CG72),MONTH(CG72)+1,1)","v":"2025-04-01"},{"$f":"DATE(YEAR(CH72),MONTH(CH72)+1,1)","v":"2025-07-01"},{"$f":"DATE(YEAR(CI72),MONTH(CI72)+1,1)","v":"2025-10-01"},{"$f":"DATE(YEAR(CJ72),MONTH(CJ72)+1,1)","v":"2026-01-01"},{"$f":"DATE(YEAR(CK72),MONTH(CK72)+1,1)","v":"2026-04-01"},{"$f":"DATE(YEAR(CL72),MONTH(CL72)+1,1)","v":"2026-07-01"},{"$f":"DATE(YEAR(CM72),MONTH(CM72)+1,1)","v":"2026-10-01"},{"$f":"DATE(YEAR(CN72),MONTH(CN72)+1,1)","v":"2027-01-01"},{"$f":"DATE(YEAR(CO72),MONTH(CO72)+1,1)","v":"2027-04-01"},{"$f":"DATE(YEAR(CP72),MONTH(CP72)+1,1)","v":"2027-07-01"},{"$f":"DATE(YEAR(CQ72),MONTH(CQ72)+1,1)","v":"2027-10-01"},{"$f":"DATE(YEAR(CR72),MONTH(CR72)+1,1)","v":"2028-01-01"},{"$f":"DATE(YEAR(CS72),MONTH(CS72)+1,1)","v":"2028-04-01"},{"$f":"DATE(YEAR(CT72),MONTH(CT72)+1,1)","v":"2028-07-01"},{"$f":"DATE(YEAR(CU72),MONTH(CU72)+1,1)","v":"2028-10-01"},{"$f":"DATE(YEAR(CV72),MONTH(CV72)+1,1)","v":"2029-01-01"},{"$f":"DATE(YEAR(CW72),MONTH(CW72)+1,1)","v":"2029-04-01"},{"$f":"DATE(YEAR(CX72),MONTH(CX72)+1,1)","v":"2029-07-01"},{"$f":"DATE(YEAR(CY72),MONTH(CY72)+1,1)","v":"2029-10-01"},{"$f":"DATE(YEAR(CZ72),MONTH(CZ72)+1,1)","v":"2030-01-01"},{"$f":"DATE(YEAR(DA72),MONTH(DA72)+1,1)","v":"2030-04-01"},{"$f":"DATE(YEAR(DB72),MONTH(DB72)+1,1)","v":"2030-07-01"},{"$f":"DATE(YEAR(DC72),MONTH(DC72)+1,1)","v":"2030-10-01"},{"$f":"DATE(YEAR(DD72),MONTH(DD72)+1,1)","v":"2031-01-01"},{"$f":"DATE(YEAR(DE72),MONTH(DE72)+1,1)","v":"2031-04-01"},{"$f":"DATE(YEAR(DF72),MONTH(DF72)+1,1)","v":"2031-07-01"},{"$f":"DATE(YEAR(DG72),MONTH(DG72)+1,1)","v":"2031-10-01"},{"$f":"DATE(YEAR(DH72),MONTH(DH72)+1,1)","v":"2032-01-01"},{"$f":"DATE(YEAR(DI72),MONTH(DI72)+1,1)","v":"2032-04-01"},{"$f":"DATE(YEAR(DJ72),MONTH(DJ72)+1,1)","v":"2032-07-01"},{"$f":"DATE(YEAR(DK72),MONTH(DK72)+1,1)","v":"2032-10-01"},{"$f":"DATE(YEAR(DL72),MONTH(DL72)+1,1)","v":"2033-01-01"},{"$f":"DATE(YEAR(DM72),MONTH(DM72)+1,1)","v":"2033-04-01"},{"$f":"DATE(YEAR(DN72),MONTH(DN72)+1,1)","v":"2033-07-01"},{"$f":"DATE(YEAR(DO72),MONTH(DO72)+1,1)","v":"2033-10-01"},{"$f":"DATE(YEAR(DP72),MONTH(DP72)+1,1)","v":"2034-01-01"},{"$f":"DATE(YEAR(DQ72),MONTH(DQ72)+1,1)","v":"2034-04-01"},{"$f":"DATE(YEAR(DR72),MONTH(DR72)+1,1)","v":"2034-07-01"},{"$f":"DATE(YEAR(DS72),MONTH(DS72)+1,1)","v":"2034-10-01"},{"$f":"DATE(YEAR(DT72),MONTH(DT72)+1,1)","v":"2035-01-01"},{"$f":"DATE(YEAR(DU72),MONTH(DU72)+1,1)","v":"2035-04-01"},{"$f":"DATE(YEAR(DV72),MONTH(DV72)+1,1)","v":"2035-07-01"}]
[null,null,{"$f":"DATE(YEAR(C71),MONTH(C71)+2,1)","v":"2004-09-01"},"2004-12-01","2005-03-01","2005-06-01","2005-09-01","2005-12-01","2006-03-01","2006-06-01","2006-09-01","2006-12-01","2007-03-01","2007-06-01","2007-09-01","2007-12-01","2008-03-01","2008-06-01","2008-09-01","2008-12-01","2009-03-01","2009-06-01","2009-09-01","2009-12-01","2010-03-01","2010-06-01","2010-09-01","2010-12-01","2011-03-01","2011-06-01","2011-09-01","2011-12-01","2012-03-01","2012-06-01","2012-09-01","2012-12-01","2013-03-01","2013-06-01","2013-09-01","2013-12-01","2014-03-01","2014-06-01","2014-09-01","2014-12-01","2015-03-01","2015-06-01","2015-09-01","2015-12-01","2016-03-01","2016-06-01","2016-09-01","2016-12-01","2017-03-01","2017-06-01","2017-09-01","2017-12-01","2018-03-01","2018-06-01","2018-09-01","2018-12-01","2019-03-01","2019-06-01","2019-09-01","2019-12-01","2020-03-01","2020-06-01",{"$f":"DATE(YEAR(BO71),MONTH(BO71)+2,1)","v":"2020-09-01"},"2020-12-01","2021-03-01","2021-06-01","2021-09-01","2021-12-01","2022-03-01","2022-06-01","2022-09-01","2022-12-01","2023-03-01","2023-06-01","2023-09-01","2023-12-01","2024-03-01","2024-06-01","2024-09-01","2024-12-01","2025-03-01","2025-06-01","2025-09-01","2025-12-01","2026-03-01","2026-06-01","2026-09-01","2026-12-01","2027-03-01","2027-06-01","2027-09-01","2027-12-01","2028-03-01","2028-06-01","2028-09-01",{"$f":"DATE(YEAR(CV71),MONTH(CV71)+2,1)","v":"2028-12-01"},{"$f":"DATE(YEAR(CW71),MONTH(CW71)+2,1)","v":"2029-03-01"},{"$f":"DATE(YEAR(CX71),MONTH(CX71)+2,1)","v":"2029-06-01"},{"$f":"DATE(YEAR(CY71),MONTH(CY71)+2,1)","v":"2029-09-01"},{"$f":"DATE(YEAR(CZ71),MONTH(CZ71)+2,1)","v":"2029-12-01"},{"$f":"DATE(YEAR(DA71),MONTH(DA71)+2,1)","v":"2030-03-01"},"2030-06-01","2030-09-01","2030-12-01","2031-03-01","2031-06-01","2031-09-01",{"$f":"DATE(YEAR(DH71),MONTH(DH71)+2,1)","v":"2031-12-01"},"2032-03-01","2032-06-01","2032-09-01",{"$f":"DATE(YEAR(DL71),MONTH(DL71)+2,1)","v":"2032-12-01"},"2033-03-01","2033-06-01","2033-09-01",{"$f":"DATE(YEAR(DP71),MONTH(DP71)+2,1)","v":"2033-12-01"},"2034-03-01","2034-06-01","2034-09-01","2034-12-01","2035-03-01","2035-06-01","2035-09-01"]
[null,"ASEPs"]
[null,{"$f":"B40","v":"Bacton"}]
[null,{"$f":"B41","v":"Barrow"},null,null,null,null,null,null,null,null,null,null,null,null,null,null,null,null,null,null,null,null,null,null,null,null,null,null,null,null,null,null,null,null,null,null,null,null,null,null,null,null,null,null,30.91,30.91,30.91,30.91,30.91,30.91,30.91,30.91,30.91,30.91,30.91,30.91,30.91,30.91,30.91,30.91,30.91,30.91,30.91,30.91,30.91,30.91,30.91,30.91,30.91,30.91,30.91,30.91,30.91,30.91,30.91,30.91,30.91,30.91,30.91,30.91,30.91,30.91,30.91,30.91,30.91,30.91,30.91,30.91,30.91,30.91,30.91,30.91,30.91,30.91,30.91,30.91,30.91,30.91,30.91,30.91,30.91,30.91,30.91,30.91,30.91,30.91,30.91,30.91,30.91,30.91,30.91,30.91,30.91,30.91,30.91,30.91,30.91,30.91,30.91,30.91,30.91,30.91,30.91,30.91,30.91,30.91,30.91]
[null,"Easington"]
[null,"St. Fergus"]
[null,"Teesside",null,null,null,null,null,null,null,null,null,null,null,null,null,null,null,null,null,null,null,null,null,null,null,null,null,null,null,null,null,null,null,null,null,null,null,null,null,null,null,null,null,null,-30.91,-30.91,-30.91,-30.91,-30.91,-30.91,-30.91,-30.91,-30.91,-30.91,-30.91,-30.91,-30.91,-30.91,-30.91,-30.91,-30.91,-30.91,-30.91,-30.91,-30.91,-30.91,-30.91,-30.91,-30.91,-30.91,-30.91,-30.91,-30.91,-30.91,-30.91,-30.91,-30.91,-30.91,-30.91,-30.91,-30.91,-30.91,-30.91,-30.91,-30.91,-30.91,-30.91,-30.91,-30.91,-30.91,-30.91,-30.91,-30.91,-30.91,-30.91,-30.91,-30.91,-30.91,-30.91,-30.91,-30.91,-30.91,-30.91,-30.91,-30.91,-30.91,-30.91,-30.91,-30.91,-30.91,-30.91,-30.91,-30.91,-30.91,-30.91,-30.91,-30.91,-30.91,-30.91,-30.91,-30.91,-30.91,-30.91,-30.91,-30.91,-30.91,-30.91]
[null,"Theddlethorpe"]
[null,"Glenmavis"]
[null,"Partington"]
[null,"Avonmouth"]
[null,"Isle of Grain"]
[null,"Dynevor Arms"]
[null,"Hornsea"]
[null,"Hatfield Moor (Storage)"]
[null,"Hatfield Moor (Onshore)"]
[null,"Cheshire"]
[null,"Hole House Farm"]
[null,"Wytch Farm"]
[null,"Burton Point"]
[null,"Barton Stacey"]
[null,"Garton"]
[null,"Milford Haven"]
[null,"Fleetwood"]
[null,"Caythorpe"]
[null,"Canonbie"]
[null,"Murrow"]
[]
[]
[null,"Obligated incremental entry capacity, excluding substitution"]
[]
[]
["In Quarters:-"]
[null,null,"2004-07-01",{"$f":"DATE(YEAR(C106),MONTH(C106)+1,1)","v":"2004-10-01"},"2005-01-01","2005-04-01","2005-07-01","2005-10-01","2006-01-01","2006-04-01","2006-07-01","2006-10-01","2007-01-01","2007-04-01","2007-07-01","2007-10-01","2008-01-01","2008-04-01","2008-07-01","2008-10-01","2009-01-01","2009-04-01","2009-07-01","2009-10-01","2010-01-01","2010-04-01","2010-07-01","2010-10-01","2011-01-01","2011-04-01","2011-07-01","2011-10-01","2012-01-01","2012-04-01","2012-07-01","2012-10-01","2013-01-01","2013-04-01","2013-07-01","2013-10-01","2014-01-01","2014-04-01","2014-07-01","2014-10-01","2015-01-01","2015-04-01","2015-07-01","2015-10-01","2016-01-01","2016-04-01","2016-07-01","2016-10-01","2017-01-01","2017-04-01","2017-07-01","2017-10-01","2018-01-01","2018-04-01","2018-07-01","2018-10-01","2019-01-01","2019-04-01","2019-07-01","2019-10-01","2020-01-01","2020-04-01","2020-07-01",{"$f":"DATE(YEAR(BO106),MONTH(BO106)+1,1)","v":"2020-10-01"},"2021-01-01","2021-04-01","2021-07-01","2021-10-01","2022-01-01","2022-04-01","2022-07-01","2022-10-01","2023-01-01","2023-04-01","2023-07-01","2023-10-01","2024-01-01","2024-04-01","2024-07-01","2024-10-01","2025-01-01","2025-04-01","2025-07-01","2025-10-01","2026-01-01","2026-04-01","2026-07-01","2026-10-01","2027-01-01","2027-04-01","2027-07-01","2027-10-01","2028-01-01","2028-04-01","2028-07-01",{"$f":"DATE(YEAR(CU106),MONTH(CU106)+1,1)","v":"2028-10-01"},{"$f":"DATE(YEAR(CV106),MONTH(CV106)+1,1)","v":"2029-01-01"},{"$f":"DATE(YEAR(CW106),MONTH(CW106)+1,1)","v":"2029-04-01"},{"$f":"DATE(YEAR(CX106),MONTH(CX106)+1,1)","v":"2029-07-01"},{"$f":"DATE(YEAR(CY106),MONTH(CY106)+1,1)","v":"2029-10-01"},{"$f":"DATE(YEAR(CZ106),MONTH(CZ106)+1,1)","v":"2030-01-01"},"2030-04-01","2030-07-01","2030-10-01","2031-01-01","2031-04-01","2031-07-01","2031-10-01","2032-01-01","2032-04-01","2032-07-01","2032-10-01","2033-01-01","2033-04-01","2033-07-01",{"$f":"DATE(YEAR(DO106),MONTH(DO106)+1,1)","v":"2033-10-01"},{"$f":"DATE(YEAR(DP106),MONTH(DP106)+1,1)","v":"2034-01-01"},{"$f":"DATE(YEAR(DQ106),MONTH(DQ106)+1,1)","v":"2034-04-01"},{"$f":"DATE(YEAR(DR106),MONTH(DR106)+1,1)","v":"2034-07-01"},{"$f":"DATE(YEAR(DS106),MONTH(DS106)+1,1)","v":"2034-10-01"},{"$f":"DATE(YEAR(DT106),MONTH(DT106)+1,1)","v":"2035-01-01"},{"$f":"DATE(YEAR(DU106),MONTH(DU106)+1,1)","v":"2035-04-01"},{"$f":"DATE(YEAR(DV106),MONTH(DV106)+1,1)","v":"2035-07-01"}]
[null,null,{"$f":"DATE(YEAR(C105),MONTH(C105)+2,1)","v":"2004-09-01"},"2004-12-01","2005-03-01","2005-06-01","2005-09-01","2005-12-01","2006-03-01","2006-06-01","2006-09-01","2006-12-01","2007-03-01","2007-06-01","2007-09-01","2007-12-01","2008-03-01","2008-06-01","2008-09-01","2008-12-01","2009-03-01","2009-06-01","2009-09-01","2009-12-01","2010-03-01","2010-06-01","2010-09-01","2010-12-01","2011-03-01","2011-06-01","2011-09-01","2011-12-01","2012-03-01","2012-06-01","2012-09-01","2012-12-01","2013-03-01","2013-06-01","2013-09-01","2013-12-01","2014-03-01","2014-06-01","2014-09-01","2014-12-01","2015-03-01","2015-06-01","2015-09-01","2015-12-01","2016-03-01","2016-06-01","2016-09-01","2016-12-01","2017-03-01","2017-06-01","2017-09-01","2017-12-01","2018-03-01","2018-06-01","2018-09-01","2018-12-01","2019-03-01","2019-06-01","2019-09-01","2019-12-01","2020-03-01","2020-06-01",{"$f":"DATE(YEAR(BO105),MONTH(BO105)+2,1)","v":"2020-09-01"},"2020-12-01","2021-03-01","2021-06-01","2021-09-01","2021-12-01","2022-03-01","2022-06-01","2022-09-01","2022-12-01","2023-03-01","2023-06-01","2023-09-01","2023-12-01","2024-03-01","2024-06-01","2024-09-01","2024-12-01","2025-03-01","2025-06-01","2025-09-01","2025-12-01","2026-03-01","2026-06-01","2026-09-01","2026-12-01","2027-03-01","2027-06-01","2027-09-01","2027-12-01","2028-03-01","2028-06-01","2028-09-01",{"$f":"DATE(YEAR(CV105),MONTH(CV105)+2,1)","v":"2028-12-01"},{"$f":"DATE(YEAR(CW105),MONTH(CW105)+2,1)","v":"2029-03-01"},{"$f":"DATE(YEAR(CX105),MONTH(CX105)+2,1)","v":"2029-06-01"},{"$f":"DATE(YEAR(CY105),MONTH(CY105)+2,1)","v":"2029-09-01"},{"$f":"DATE(YEAR(CZ105),MONTH(CZ105)+2,1)","v":"2029-12-01"},{"$f":"DATE(YEAR(DA105),MONTH(DA105)+2,1)","v":"2030-03-01"},"2030-06-01","2030-09-01","2030-12-01","2031-03-01","2031-06-01","2031-09-01","2031-12-01","2032-03-01","2032-06-01","2032-09-01","2032-12-01","2033-03-01","2033-06-01","2033-09-01",{"$f":"DATE(YEAR(DP105),MONTH(DP105)+2,1)","v":"2033-12-01"},"2034-03-01","2034-06-01","2034-09-01","2034-12-01","2035-03-01","2035-06-01","2035-09-01"]
[null,"ASEPs"]
[null,{"$f":"B40","v":"Bacton"}]
[null,{"$f":"B41","v":"Barrow"}]
[null,"Easington",null,null,null,null,null,null,null,null,null,null,null,null,null,null,null,null,null,null,null,null,null,345.15,345.15,345.15,345.15,345.15,345.15,345.15,345.15,345.15,345.15,345.15,345.15,345.15,345.15,345.15,345.15,345.15,345.15,345.15,345.15,345.15,345.15,345.15,345.15,345.15,345.15,345.15,345.15,345.15,345.15]
[null,"St. Fergus"]
[null,"Teesside"]
[null,"Theddlethorpe"]
[null,"Glenmavis"]
[null,"Partington"]
[null,"Avonmouth"]
[null,"Isle of Grain",null,null,null,null,null,null,null,null,null,null,null,null,null,null,null,null,null,235.44,235.44,235.44,235.44,235.44,235.44,235.44,235.44,481.68,481.68,481.68,481.68,481.68,481.68,481.68,481.68,481.68,481.68,481.68,481.68,481.68,481.68,481.68,481.68,481.68,481.68,481.68,481.68,235.4,235.4,235.4,235.4,235.4,235.4]
[null,"Dynevor Arms"]
[null,"Hornsea",null,null,null,null,null,null,null,null,null,null,null,null,null,null,null,null,null,null,null,null,null,null,58.1,58.1,58.1,58.1,58.1,58.1,58.1,58.1,58.1,58.1,58.1,58.1,58.1,58.1,58.1,58.1,58.1,58.1,58.1,58.1,58.1,58.1,58.1,58.1,58.1,58.1,58.1,58.1,58.1]
[null,"Hatfield Moor (Storage)"]
[null,"Hatfield Moor (Onshore)"]
[null,"Cheshire",null,null,null,null,null,null,null,null,null,null,null,null,null,null,null,null,null,null,null,null,null,null,null,null,null,64.2,64.2,64.2,64.2,64.2,{"$f":"64.2+192.6","v":256.8},{"$f":"64.2+192.6","v":256.8},256.8,256.8,256.8,256.8,256.8,256.8,256.8,256.8,256.8,256.8,256.8,256.8,256.8,256.8,256.8,256.8,256.8,256.8,256.8]
[null,"Hole House Farm",null,null,null,null,null,null,null,null,null,null,null,null,null,null,null,null,null,null,null,null,null,null,null,null,null,null,null,null,null,165,165,165,165,165,165,165,165,165,165,165,165,165,165,165,165,165,165,165,165]
[null,"Wytch Farm"]
[null,"Burton Point"]
[null,"Barton Stacey",null,null,null,null,null,null,null,90,90,90,90,90,90,90,90,90,90,90,90,90,90,90,90,90,90,90,90,90,90,90,90,0,0,0,0,0,0,0,0,0,0,0,0,0,0,0,0,0,0,0,0]
[null,"Garton",null,null,null,null,null,null,null,null,null,420,420,420,420,420,420,420,420,420,420,420,420,420,420,420,420,420,420,420,420,420,420,0,0,0,0,0,0,0,0,0,0,0,0,0,0,0,0,0,0,0,0]
[null,"Milford Haven",null,null,null,null,null,null,null,null,null,null,null,null,null,650,650,650,650,650,950,950,950,950,950,950,950,950,950,950,950,950,950,950,950,950,950,950,950,950,950,950,950,950,950,950,950,950,950,950,950,950,950]
[null,"Fleetwood",null,null,null,null,null,null,null,null,null,null,null,null,null,null,null,null,null,null,null,null,null,null,null,null,null,650,650,650,650,650,650,650,650,650,650,650,650,650,650,650,650,650,650,650,650,650,650,650,650,650,650]
[null,"Caythorpe",null,null,null,null,null,null,null,null,null,null,null,null,null,null,null,null,null,null,null,null,null,null,null,null,null,null,null,null,null,90,90,90,90,90,90,90,90,90,90,90,90,90,90,90,90,90,90,90,90]
[null,"Canonbie"]
[null,"Murrow"]
[]
[]
[null,"Quantity to offer in QSEC"]
[]
[]
["In Quarters:-"]
[null,null,"2004-07-01",{"$f":"DATE(YEAR(C140),MONTH(C140)+1,1)","v":"2004-10-01"},"2005-01-01","2005-04-01","2005-07-01","2005-10-01","2006-01-01","2006-04-01","2006-07-01","2006-10-01","2007-01-01","2007-04-01","2007-07-01","2007-10-01","2008-01-01","2008-04-01","2008-07-01","2008-10-01","2009-01-01","2009-04-01","2009-07-01","2009-10-01","2010-01-01","2010-04-01","2010-07-01","2010-10-01","2011-01-01","2011-04-01","2011-07-01","2011-10-01","2012-01-01","2012-04-01","2012-07-01","2012-10-01","2013-01-01","2013-04-01","2013-07-01","2013-10-01","2014-01-01","2014-04-01","2014-07-01","2014-10-01","2015-01-01","2015-04-01","2015-07-01","2015-10-01","2016-01-01","2016-04-01","2016-07-01","2016-10-01","2017-01-01","2017-04-01","2017-07-01","2017-10-01","2018-01-01","2018-04-01","2018-07-01","2018-10-01","2019-01-01","2019-04-01","2019-07-01","2019-10-01","2020-01-01","2020-04-01","2020-07-01",{"$f":"DATE(YEAR(BO140),MONTH(BO140)+1,1)","v":"2020-10-01"},"2021-01-01","2021-04-01","2021-07-01","2021-10-01","2022-01-01","2022-04-01","2022-07-01","2022-10-01","2023-01-01","2023-04-01","2023-07-01","2023-10-01","2024-01-01","2024-04-01","2024-07-01","2024-10-01","2025-01-01","2025-04-01","2025-07-01","2025-10-01","2026-01-01","2026-04-01","2026-07-01","2026-10-01","2027-01-01","2027-04-01","2027-07-01","2027-10-01","2028-01-01","2028-04-01","2028-07-01",{"$f":"DATE(YEAR(CU140),MONTH(CU140)+1,1)","v":"2028-10-01"},{"$f":"DATE(YEAR(CV140),MONTH(CV140)+1,1)","v":"2029-01-01"},{"$f":"DATE(YEAR(CW140),MONTH(CW140)+1,1)","v":"2029-04-01"},{"$f":"DATE(YEAR(CX140),MONTH(CX140)+1,1)","v":"2029-07-01"},{"$f":"DATE(YEAR(CY140),MONTH(CY140)+1,1)","v":"2029-10-01"},{"$f":"DATE(YEAR(CZ140),MONTH(CZ140)+1,1)","v":"2030-01-01"},"2030-04-01","2030-07-01","2030-10-01","2031-01-01","2031-04-01","2031-07-01","2031-10-01","2032-01-01","2032-04-01","2032-07-01",{"$f":"DATE(YEAR(DK140),MONTH(DK140)+1,1)","v":"2032-10-01"},{"$f":"DATE(YEAR(DL140),MONTH(DL140)+1,1)","v":"2033-01-01"},{"$f":"DATE(YEAR(DM140),MONTH(DM140)+1,1)","v":"2033-04-01"},{"$f":"DATE(YEAR(DN140),MONTH(DN140)+1,1)","v":"2033-07-01"},{"$f":"DATE(YEAR(DO140),MONTH(DO140)+1,1)","v":"2033-10-01"},{"$f":"DATE(YEAR(DP140),MONTH(DP140)+1,1)","v":"2034-01-01"},{"$f":"DATE(YEAR(DQ140),MONTH(DQ140)+1,1)","v":"2034-04-01"},{"$f":"DATE(YEAR(DR140),MONTH(DR140)+1,1)","v":"2034-07-01"},{"$f":"DATE(YEAR(DS140),MONTH(DS140)+1,1)","v":"2034-10-01"},{"$f":"DATE(YEAR(DT140),MONTH(DT140)+1,1)","v":"2035-01-01"},{"$f":"DATE(YEAR(DU140),MONTH(DU140)+1,1)","v":"2035-04-01"},"2035-07-01"]
[null,null,{"$f":"DATE(YEAR(C139),MONTH(C139)+2,1)","v":"2004-09-01"},"2004-12-01","2005-03-01","2005-06-01","2005-09-01","2005-12-01","2006-03-01","2006-06-01","2006-09-01","2006-12-01","2007-03-01","2007-06-01","2007-09-01","2007-12-01","2008-03-01","2008-06-01","2008-09-01","2008-12-01","2009-03-01","2009-06-01","2009-09-01","2009-12-01","2010-03-01","2010-06-01","2010-09-01","2010-12-01","2011-03-01","2011-06-01","2011-09-01","2011-12-01","2012-03-01","2012-06-01","2012-09-01","2012-12-01","2013-03-01","2013-06-01","2013-09-01","2013-12-01","2014-03-01","2014-06-01","2014-09-01","2014-12-01","2015-03-01","2015-06-01","2015-09-01","2015-12-01","2016-03-01","2016-06-01","2016-09-01","2016-12-01","2017-03-01","2017-06-01","2017-09-01","2017-12-01","2018-03-01","2018-06-01","2018-09-01","2018-12-01","2019-03-01","2019-06-01","2019-09-01","2019-12-01","2020-03-01","2020-06-01",{"$f":"DATE(YEAR(BO139),MONTH(BO139)+2,1)","v":"2020-09-01"},"2020-12-01","2021-03-01","2021-06-01","2021-09-01","2021-12-01","2022-03-01","2022-06-01","2022-09-01","2022-12-01","2023-03-01","2023-06-01","2023-09-01","2023-12-01","2024-03-01","2024-06-01","2024-09-01","2024-12-01","2025-03-01","2025-06-01","2025-09-01","2025-12-01","2026-03-01","2026-06-01","2026-09-01","2026-12-01","2027-03-01","2027-06-01","2027-09-01","2027-12-01","2028-03-01","2028-06-01","2028-09-01",{"$f":"DATE(YEAR(CV139),MONTH(CV139)+2,1)","v":"2028-12-01"},{"$f":"DATE(YEAR(CW139),MONTH(CW139)+2,1)","v":"2029-03-01"},{"$f":"DATE(YEAR(CX139),MONTH(CX139)+2,1)","v":"2029-06-01"},{"$f":"DATE(YEAR(CY139),MONTH(CY139)+2,1)","v":"2029-09-01"},{"$f":"DATE(YEAR(CZ139),MONTH(CZ139)+2,1)","v":"2029-12-01"},{"$f":"DATE(YEAR(DA139),MONTH(DA139)+2,1)","v":"2030-03-01"},"2030-06-01","2030-09-01","2030-12-01","2031-03-01","2031-06-01","2031-09-01","2031-12-01","2032-03-01","2032-06-01","2032-09-01",{"$f":"DATE(YEAR(DL139),MONTH(DL139)+2,1)","v":"2032-12-01"},"2033-03-01","2033-06-01","2033-09-01","2033-12-01","2034-03-01","2034-06-01","2034-09-01","2034-12-01","2035-03-01","2035-06-01","2035-09-01"]
[null,"ASEPs"]
[null,{"$f":"B74","v":"Bacton"},{"$f":"0.9*(C40+C74)+C108","v":1489.5},{"$f":"0.9*(D40+D74)+D108","v":1489.5},1489.5,1570.5,1570.5,1570.5,1570.5,1570.5,1570.5,1570.5,1570.5,1605.0600000000002,1605.0600000000002,1605.0600000000002,1605.0600000000002,1605.0600000000002,1605.0600000000002,1605.0600000000002,1605.0600000000002,1605.0600000000002,1605.0600000000002,1605.0600000000002,1605.0600000000002,1605.0600000000002,1605.0600000000002,1605.0600000000002,1605.0600000000002,1605.0600000000002,1605.0600000000002,1605.0600000000002,1605.0600000000002,1605.0600000000002,1605.0600000000002,1605.0600000000002,1605.0600000000002,1605.0600000000002,1605.0600000000002,1605.0600000000002,1605.0600000000002,1605.0600000000002,1605.0600000000002,1605.0600000000002,1605.0600000000002,1605.0600000000002,1605.0600000000002,437.04,437.04,437.04,437.04,437.04,437.04,437.04,437.04,437.04,437.04,437.04,437.04,437.04,437.04,437.04,437.04,437.04,437.04,437.04,437.04,{"$f":"0.9*(BP40+BP74)+BP108","v":437.04},437.04,437.04,437.04,437.04,437.04,437.04,437.04,437.04,437.04,437.04,437.04,437.04,437.04,437.04,437.04,437.04,437.04,437.04,437.04,437.04,437.04,437.04,437.04,437.04,437.04,437.04,437.04,437.04,437.04,437.04,437.04,437.04,437.04,437.04,437.04,437.04,437.04,437.04,437.04,437.04,437.04,437.04,437.04,437.04,437.04,437.04,437.04,{"$f":"0.9*(DL40+DL74)+DL108","v":437.04},437.04,437.04,437.04,437.04,437.04,437.04,437.04,437.04,437.04,437.04,437.04]
[null,{"$f":"B75","v":"Barrow"},{"$f":"0.9*(C41+C75)+C109","v":639.9},639.9,639.9,640.80000000000007,640.80000000000007,640.80000000000007,640.80000000000007,640.80000000000007,640.80000000000007,640.80000000000007,640.80000000000007,278.19000000000005,278.19000000000005,278.19000000000005,278.19000000000005,278.19000000000005,278.19000000000005,278.19000000000005,278.19000000000005,278.19000000000005,278.19000000000005,278.19000000000005,278.19000000000005,278.19000000000005,278.19000000000005,278.19000000000005,278.19000000000005,278.19000000000005,278.19000000000005,278.19000000000005,278.19000000000005,278.19000000000005,278.19000000000005,278.19000000000005,278.19000000000005,278.19000000000005,278.19000000000005,278.19000000000005,278.19000000000005,278.19000000000005,278.19000000000005,278.19000000000005,306.00900000000007,306.00900000000007,306.00900000000007,306.00900000000007,306.00900000000007,306.00900000000007,306.00900000000007,306.00900000000007,306.00900000000007,306.00900000000007,306.00900000000007,306.00900000000007,306.00900000000007,306.00900000000007,306.00900000000007,306.00900000000007,306.00900000000007,306.00900000000007,306.00900000000007,306.00900000000007,306.00900000000007,306.00900000000007,306.00900000000007,306.00900000000007,306.00900000000007,306.00900000000007,306.00900000000007,306.00900000000007,306.00900000000007,306.00900000000007,306.00900000000007,306.00900000000007,306.00900000000007,306.00900000000007,306.00900000000007,306.00900000000007,306.00900000000007,306.00900000000007,306.00900000000007,306.00900000000007,306.00900000000007,306.00900000000007,306.00900000000007,306.00900000000007,306.00900000000007,306.00900000000007,306.00900000000007,306.00900000000007,306.00900000000007,306.00900000000007,306.00900000000007,306.00900000000007,306.00900000000007,306.00900000000007,306.00900000000007,306.00900000000007,306.00900000000007,306.00900000000007,306.00900000000007,306.00900000000007,306.00900000000007,306.00900000000007,306.00900000000007,306.00900000000007,306.00900000000007,306.00900000000007,306.00900000000007,306.00900000000007,306.00900000000007,306.00900000000007,306.00900000000007,306.00900000000007,306.00900000000007,306.00900000000007,306.00900000000007,306.00900000000007,306.00900000000007,306.00900000000007,306.00900000000007,306.00900000000007,306.00900000000007,306.00900000000007,306.00900000000007]
[null,"Easington",924.30000000000007,924.30000000000007,924.30000000000007,955.80000000000007,955.80000000000007,955.80000000000007,955.80000000000007,955.80000000000007,955.80000000000007,955.80000000000007,955.80000000000007,955.80000000000007,955.80000000000007,955.80000000000007,955.80000000000007,955.80000000000007,955.80000000000007,955.80000000000007,955.80000000000007,955.80000000000007,955.80000000000007,1300.95,1300.95,1300.95,1300.95,1300.95,1300.95,1300.95,1300.95,1300.95,1300.95,1300.95,1300.95,1300.95,1300.95,1300.95,1300.95,1300.95,1300.95,1300.95,1300.95,1300.95,1300.95,1300.95,1300.95,1300.95,1300.95,1300.95,1300.95,1300.95,1300.95,1266.4350000000002,1266.4350000000002,1266.4350000000002,1266.4350000000002,1266.4350000000002,1266.4350000000002,1266.4350000000002,1266.4350000000002,1266.4350000000002,1266.4350000000002,1266.4350000000002,1266.4350000000002,1266.4350000000002,1266.4350000000002,1266.4350000000002,1266.4350000000002,1266.4350000000002,1266.4350000000002,1266.4350000000002,1266.4350000000002,1266.4350000000002,1266.4350000000002,1266.4350000000002,1266.4350000000002,1266.4350000000002,1266.4350000000002,1266.4350000000002,1266.4350000000002,1266.4350000000002,1266.4350000000002,1266.4350000000002,1266.4350000000002,1266.4350000000002,1266.4350000000002,1266.4350000000002,1266.4350000000002,1266.4350000000002,1266.4350000000002,1266.4350000000002,1266.4350000000002,1266.4350000000002,1266.4350000000002,1266.4350000000002,1266.4350000000002,1266.4350000000002,1266.4350000000002,1266.4350000000002,1266.4350000000002,1266.4350000000002,1266.4350000000002,1266.4350000000002,1266.4350000000002,1266.4350000000002,1266.4350000000002,1266.4350000000002,1266.4350000000002,1266.4350000000002,1266.4350000000002,1266.4350000000002,1266.4350000000002,1266.4350000000002,1266.4350000000002,1266.4350000000002,1266.4350000000002,1266.4350000000002,1266.4350000000002,1266.4350000000002,1266.4350000000002,1266.4350000000002,1266.4350000000002,1266.4350000000002,1266.4350000000002,1266.4350000000002,1266.4350000000002]
[null,"St. Fergus",1465.2,1465.2,1465.2,1483.2,1483.2,1483.2,1483.2,1509.3,1509.3,1509.3,1509.3,1503.63,1503.63,1503.63,1503.63,1503.63,1503.63,1503.63,1503.63,1503.63,1503.63,1503.63,1503.63,1503.63,1503.63,1503.63,1503.63,1503.63,1503.63,1503.63,1503.63,1503.63,1503.63,1503.63,1503.63,1503.63,1503.63,1503.63,1503.63,1503.63,1503.63,1503.63,1503.63,1503.63,1503.63,1503.63,1503.63,1503.63,1503.63,1503.63,1503.63,1503.63,1503.63,1503.63,1503.63,1503.63,1503.63,1503.63,1503.63,1503.63,1503.63,1503.63,1503.63,1503.63,1503.63,1503.63,1503.63,1503.63,1503.63,1503.63,1503.63,1503.63,1503.63,1503.63,1503.63,1503.63,1503.63,1503.63,1503.63,1503.63,1503.63,1503.63,1503.63,1503.63,1503.63,1503.63,1503.63,1503.63,1503.63,1503.63,1503.63,1503.63,1503.63,1503.63,1503.63,1503.63,1503.63,1503.63,1503.63,1503.63,1503.63,1503.63,1503.63,1503.63,1503.63,1503.63,1503.63,1503.63,1503.63,1503.63,1503.63,1503.63,1503.63,1503.63,1503.63,1503.63,1503.63,1503.63,1503.63,1503.63,1503.63,1503.63,1503.63,1503.63,1503.63]
[null,"Teesside",675.9,675.9,675.9,684.9,684.9,684.9,684.9,684.9,684.9,684.9,684.9,325.17,325.17,325.17,325.17,428.40000000000003,428.40000000000003,428.40000000000003,428.40000000000003,428.40000000000003,428.40000000000003,428.40000000000003,428.40000000000003,428.40000000000003,428.40000000000003,428.40000000000003,428.40000000000003,428.40000000000003,428.40000000000003,428.40000000000003,{"$f":"0.9*(AG44+AG78)+AG112","v":428.40000000000003},428.40000000000003,428.40000000000003,428.40000000000003,428.40000000000003,428.40000000000003,428.40000000000003,428.40000000000003,428.40000000000003,428.40000000000003,428.40000000000003,428.40000000000003,400.58099999999996,400.58099999999996,400.58099999999996,400.58099999999996,400.58099999999996,400.58099999999996,400.58099999999996,400.58099999999996,400.58099999999996,400.58099999999996,400.58099999999996,400.58099999999996,400.58099999999996,400.58099999999996,400.58099999999996,400.58099999999996,400.58099999999996,400.58099999999996,400.58099999999996,400.58099999999996,400.58099999999996,400.58099999999996,400.58099999999996,400.58099999999996,400.58099999999996,400.58099999999996,400.58099999999996,400.58099999999996,400.58099999999996,400.58099999999996,400.58099999999996,400.58099999999996,400.58099999999996,400.58099999999996,400.58099999999996,400.58099999999996,400.58099999999996,400.58099999999996,400.58099999999996,400.58099999999996,400.58099999999996,400.58099999999996,400.58099999999996,400.58099999999996,400.58099999999996,400.58099999999996,400.58099999999996,400.58099999999996,400.58099999999996,400.58099999999996,400.58099999999996,400.58099999999996,400.58099999999996,400.58099999999996,400.58099999999996,400.58099999999996,400.58099999999996,400.58099999999996,400.58099999999996,400.58099999999996,400.58099999999996,400.58099999999996,400.58099999999996,400.58099999999996,400.58099999999996,400.58099999999996,400.58099999999996,400.58099999999996,400.58099999999996,400.58099999999996,400.58099999999996,400.58099999999996,400.58099999999996,400.58099999999996,400.58099999999996,400.58099999999996,400.58099999999996,400.58099999999996,400.58099999999996,400.58099999999996,400.58099999999996,400.58099999999996,400.58099999999996]
[null,"Theddlethorpe",711.9,711.9,711.9,763.2,763.2,763.2,763.2,763.2,763.2,763.2,763.2,549.63000000000011,549.63000000000011,549.63000000000011,549.63000000000011,549.63000000000011,{"$f":"0.9*(S45+S79)+S113","v":549.63000000000011},549.63000000000011,549.63000000000011,549.63000000000011,549.63000000000011,549.63000000000011,549.63000000000011,549.63000000000011,549.63000000000011,549.63000000000011,549.63000000000011,549.63000000000011,549.63000000000011,549.63000000000011,549.63000000000011,549.63000000000011,549.63000000000011,549.63000000000011,549.63000000000011,549.63000000000011,549.63000000000011,549.63000000000011,549.63000000000011,549.63000000000011,549.63000000000011,549.63000000000011,549.63000000000011,549.63000000000011,549.63000000000011,549.63000000000011,549.63000000000011,549.63000000000011,549.63000000000011,549.63000000000011,549.63000000000011,549.63000000000011,549.63000000000011,549.63000000000011,549.63000000000011,549.63000000000011,549.63000000000011,549.63000000000011,549.63000000000011,549.63000000000011,549.63000000000011,549.63000000000011,549.63000000000011,549.63000000000011,549.63000000000011,549.63000000000011,549.63000000000011,549.63000000000011,549.63000000000011,549.63000000000011,549.63000000000011,549.63000000000011,549.63000000000011,549.63000000000011,549.63000000000011,549.63000000000011,549.63000000000011,549.63000000000011,549.63000000000011,549.63000000000011,549.63000000000011,549.63000000000011,549.63000000000011,549.63000000000011,549.63000000000011,549.63000000000011,549.63000000000011,549.63000000000011,549.63000000000011,549.63000000000011,549.63000000000011,549.63000000000011,549.63000000000011,549.63000000000011,549.63000000000011,549.63000000000011,549.63000000000011,549.63000000000011,549.63000000000011,549.63000000000011,549.63000000000011,549.63000000000011,549.63000000000011,549.63000000000011,549.63000000000011,549.63000000000011,549.63000000000011,549.63000000000011,549.63000000000011,{"$f":"0.9*(DH45+DH79)+DH113","v":549.63000000000011},549.63000000000011,549.63000000000011,549.63000000000011,{"$f":"0.9*(DL45+DL79)+DL113","v":549.63000000000011},549.63000000000011,549.63000000000011,549.63000000000011,549.63000000000011,549.63000000000011,549.63000000000011,549.63000000000011,549.63000000000011,549.63000000000011,549.63000000000011,549.63000000000011]
[null,"Glenmavis",89.100000000000009,89.100000000000009,89.100000000000009,89.100000000000009,89.100000000000009,89.100000000000009,89.100000000000009,89.100000000000009,89.100000000000009,89.100000000000009,89.100000000000009,25.650000000000002,25.650000000000002,25.650000000000002,25.650000000000002,89.100000000000009,89.100000000000009,89.100000000000009,89.100000000000009,89.100000000000009,89.100000000000009,89.100000000000009,89.100000000000009,89.100000000000009,89.100000000000009,89.100000000000009,89.100000000000009,89.100000000000009,89.100000000000009,89.100000000000009,89.100000000000009,89.100000000000009,89.100000000000009,89.100000000000009,89.100000000000009,89.100000000000009,89.100000000000009,89.100000000000009,89.100000000000009,89.100000000000009,89.100000000000009,89.100000000000009,89.100000000000009,89.100000000000009,89.100000000000009,89.100000000000009,89.100000000000009,89.100000000000009,89.100000000000009,89.100000000000009,89.100000000000009,89.100000000000009,89.100000000000009,89.100000000000009,89.100000000000009,89.100000000000009,89.100000000000009,89.100000000000009,89.100000000000009,89.100000000000009,89.100000000000009,89.100000000000009,89.100000000000009,89.100000000000009,89.100000000000009,89.100000000000009,89.100000000000009,89.100000000000009,89.100000000000009,89.100000000000009,89.100000000000009,89.100000000000009,89.100000000000009,89.100000000000009,89.100000000000009,89.100000000000009,89.100000000000009,89.100000000000009,89.100000000000009,89.100000000000009,89.100000000000009,89.100000000000009,89.100000000000009,89.100000000000009,89.100000000000009,89.100000000000009,89.100000000000009,89.100000000000009,89.100000000000009,89.100000000000009,89.100000000000009,89.100000000000009,89.100000000000009,89.100000000000009,{"$f":"0.9*(CS46+CS80)+CS114","v":89.100000000000009},89.100000000000009,89.100000000000009,89.100000000000009,89.100000000000009,89.100000000000009,89.100000000000009,89.100000000000009,89.100000000000009,89.100000000000009,89.100000000000009,89.100000000000009,89.100000000000009,89.100000000000009,89.100000000000009,89.100000000000009,89.100000000000009,89.100000000000009,89.100000000000009,{"$f":"0.9*(DL46+DL80)+DL114","v":89.100000000000009},89.100000000000009,89.100000000000009,89.100000000000009,89.100000000000009,89.100000000000009,89.100000000000009,89.100000000000009,89.100000000000009,89.100000000000009,89.100000000000009,89.100000000000009]
[null,"Partington",193.5,193.5,193.5,193.5,193.5,193.5,193.5,193.5,193.5,193.5,193.5,157.13999999999999,157.13999999999999,157.13999999999999,157.13999999999999,193.5,193.5,193.5,193.5,193.5,193.5,193.5,193.5,193.5,193.5,193.5,193.5,193.5,193.5,193.5,193.5,193.5,193.5,193.5,193.5,193.5,193.5,193.5,193.5,193.5,193.5,193.5,193.5,193.5,193.5,193.5,193.5,193.5,193.5,193.5,193.5,193.5,193.5,193.5,193.5,193.5,193.5,193.5,193.5,193.5,193.5,193.5,193.5,193.5,193.5,193.5,193.5,193.5,193.5,193.5,193.5,193.5,193.5,193.5,193.5,193.5,193.5,193.5,193.5,193.5,193.5,193.5,193.5,193.5,193.5,193.5,193.5,193.5,193.5,193.5,193.5,193.5,193.5,193.5,193.5,193.5,193.5,193.5,193.5,193.5,193.5,193.5,193.5,193.5,193.5,193.5,193.5,193.5,193.5,193.5,193.5,193.5,193.5,{"$f":"0.9*(DL47+DL81)+DL115","v":193.5},193.5,193.5,193.5,193.5,193.5,193.5,193.5,193.5,193.5,193.5,193.5]
[null,"Avonmouth",134.1,134.1,134.1,134.1,134.1,134.1,134.1,134.1,134.1,134.1,134.1,161.37,161.37,161.37,161.37,161.37,161.37,161.37,161.37,161.37,161.37,161.37,161.37,161.37,161.37,161.37,161.37,161.37,161.37,161.37,161.37,161.37,161.37,161.37,161.37,161.37,161.37,161.37,161.37,161.37,161.37,161.37,161.37,161.37,161.37,161.37,161.37,161.37,161.37,161.37,161.37,161.37,161.37,161.37,161.37,161.37,161.37,161.37,161.37,161.37,161.37,161.37,161.37,161.37,161.37,161.37,161.37,161.37,161.37,161.37,161.37,161.37,161.37,161.37,161.37,161.37,161.37,161.37,161.37,161.37,161.37,161.37,161.37,161.37,161.37,161.37,161.37,161.37,161.37,161.37,161.37,161.37,161.37,161.37,161.37,161.37,161.37,161.37,161.37,161.37,161.37,161.37,161.37,161.37,161.37,161.37,161.37,161.37,161.37,161.37,161.37,161.37,161.37,{"$f":"0.9*(DL48+DL82)+DL116","v":161.37},161.37,161.37,161.37,161.37,161.37,161.37,161.37,161.37,161.37,161.37,161.37]
[null,"Isle of Grain",196.20000000000002,196.20000000000002,196.20000000000002,196.20000000000002,196.20000000000002,196.20000000000002,196.20000000000002,196.20000000000002,196.20000000000002,196.20000000000002,196.20000000000002,157.5,157.5,157.5,157.5,196.20000000000002,196.20000000000002,431.64,431.64,431.64,431.64,431.64,431.64,431.64,431.64,677.88,677.88,677.88,677.88,677.88,677.88,677.88,677.88,677.88,677.88,677.88,677.88,677.88,677.88,677.88,677.88,677.88,677.88,677.88,677.88,653.21600000000001,653.21600000000001,653.21600000000001,653.21600000000001,653.21600000000001,653.21600000000001,629.67600000000004,629.67600000000004,629.67600000000004,629.67600000000004,629.67600000000004,629.67600000000004,629.67600000000004,629.67600000000004,629.67600000000004,629.67600000000004,629.67600000000004,629.67600000000004,629.67600000000004,629.67600000000004,629.67600000000004,629.67600000000004,629.67600000000004,629.67600000000004,629.67600000000004,629.67600000000004,629.67600000000004,629.67600000000004,629.67600000000004,629.67600000000004,629.67600000000004,629.67600000000004,629.67600000000004,629.67600000000004,629.67600000000004,629.67600000000004,629.67600000000004,629.67600000000004,629.67600000000004,629.67600000000004,629.67600000000004,629.67600000000004,629.67600000000004,629.67600000000004,629.67600000000004,629.67600000000004,629.67600000000004,629.67600000000004,629.67600000000004,629.67600000000004,629.67600000000004,629.67600000000004,629.67600000000004,629.67600000000004,629.67600000000004,629.67600000000004,629.67600000000004,629.67600000000004,629.67600000000004,629.67600000000004,629.67600000000004,629.67600000000004,629.67600000000004,629.67600000000004,629.67600000000004,629.67600000000004,629.67600000000004,629.67600000000004,{"$f":"0.9*(DL49+DL83)+DL117","v":629.67600000000004},629.67600000000004,629.67600000000004,629.67600000000004,629.67600000000004,629.67600000000004,629.67600000000004,629.67600000000004,629.67600000000004,629.67600000000004,629.67600000000004,629.67600000000004]
[null,"Dynevor Arms",45,45,45,45,45,45,45,45,45,45,45,7.2,7.2,7.2,7.2,44.1,{"$f":"0.9*(S50+S84)+S118","v":44.1},44.1,44.1,44.1,44.1,44.1,44.1,44.1,44.1,44.1,44.1,44.1,44.1,44.1,44.1,44.1,44.1,44.1,44.1,44.1,44.1,44.1,44.1,44.1,44.1,44.1,44.1,44.1,44.1,44.1,44.1,44.1,44.1,44.1,44.1,44.1,44.1,44.1,44.1,44.1,44.1,44.1,44.1,44.1,44.1,44.1,44.1,44.1,44.1,44.1,44.1,44.1,44.1,44.1,44.1,44.1,44.1,44.1,44.1,44.1,44.1,44.1,44.1,44.1,44.1,44.1,44.1,44.1,44.1,44.1,44.1,44.1,44.1,44.1,44.1,44.1,44.1,44.1,44.1,44.1,44.1,44.1,44.1,44.1,44.1,44.1,44.1,44.1,44.1,44.1,44.1,44.1,44.1,44.1,44.1,44.1,44.1,{"$f":"0.9*(DL50+DL84)+DL118","v":44.1},44.1,44.1,44.1,44.1,44.1,44.1,44.1,44.1,44.1,44.1,44.1]
[null,"Hornsea",157.5,157.5,157.5,157.5,157.5,157.5,157.5,157.5,157.5,157.5,157.5,147.69,147.69,147.69,147.69,157.5,157.5,157.5,157.5,157.5,157.5,157.5,215.6,215.6,215.6,215.6,215.6,215.6,215.6,215.6,215.6,215.6,215.6,215.6,215.6,215.6,215.6,215.6,215.6,215.6,215.6,215.6,215.6,215.6,215.6,215.6,215.6,215.6,215.6,215.6,215.6,209.79,209.79,209.79,209.79,209.79,209.79,209.79,209.79,209.79,209.79,209.79,209.79,209.79,209.79,209.79,209.79,209.79,209.79,209.79,209.79,209.79,209.79,209.79,209.79,209.79,209.79,209.79,209.79,209.79,209.79,209.79,209.79,209.79,209.79,209.79,209.79,209.79,209.79,209.79,209.79,209.79,209.79,209.79,209.79,209.79,209.79,209.79,209.79,209.79,209.79,209.79,209.79,209.79,209.79,209.79,209.79,209.79,209.79,209.79,209.79,209.79,209.79,{"$f":"0.9*(DL51+DL85)+DL119","v":209.79},209.79,209.79,209.79,209.79,209.79,209.79,209.79,209.79,209.79,209.79,209.79]
[null,"Hatfield Moor (Storage)",48.6,48.6,48.6,48.6,48.6,48.6,48.6,48.6,48.6,48.6,48.6,13.41,13.41,13.41,13.41,22.5,22.5,22.5,22.5,22.5,22.5,22.5,22.5,22.5,22.5,22.5,22.5,22.5,22.5,22.5,22.5,22.5,22.5,22.5,22.5,22.5,22.5,22.5,22.5,22.5,22.5,22.5,22.5,22.5,22.5,22.5,22.5,22.5,22.5,22.5,22.5,22.5,22.5,22.5,22.5,22.5,22.5,22.5,22.5,22.5,22.5,22.5,22.5,22.5,22.5,22.5,22.5,22.5,22.5,22.5,22.5,22.5,22.5,22.5,22.5,22.5,22.5,22.5,22.5,22.5,22.5,22.5,22.5,22.5,22.5,22.5,22.5,22.5,22.5,22.5,22.5,22.5,22.5,22.5,22.5,22.5,{"$f":"0.9*(CU52+CU86)+CU120","v":22.5},22.5,22.5,22.5,22.5,22.5,22.5,22.5,22.5,22.5,22.5,22.5,22.5,22.5,22.5,22.5,22.5,{"$f":"0.9*(DL52+DL86)+DL120","v":22.5},22.5,22.5,22.5,22.5,22.5,22.5,22.5,22.5,22.5,22.5,22.5]
[null,"Hatfield Moor (Onshore)",0.9,0.9,0.9,0.9,0.9,0.9,0.9,0.9,0.9,0.9,0.9,0.27,0.27,0.27,0.27,0.27,0.27,0.27,0.27,0.27,0.27,0.27,0.27,0.27,0.27,0.27,0.27,0.27,0.27,0.27,0.27,0.27,0.27,0.27,0.27,0.27,0.27,0.27,0.27,0.27,0.27,0.27,0.27,0.27,0.27,0.27,0.27,0.27,0.27,0.27,0.27,0.27,0.27,0.27,0.27,0.27,0.27,0.27,0.27,0.27,0.27,0.27,0.27,0.27,0.27,0.27,0.27,0.27,0.27,0.27,0.27,0.27,0.27,0.27,0.27,0.27,0.27,0.27,0.27,0.27,{"$f":"0.9*(CE53+CE87)+CE121","v":0.27},0.27,0.27,0.27,0.27,0.27,0.27,0.27,0.27,0.27,0.27,0.27,0.27,0.27,0.27,0.27,0.27,0.27,0.27,0.27,0.27,0.27,0.27,0.27,0.27,0.27,0.27,0.27,0.27,0.27,0.27,0.27,0.27,{"$f":"0.9*(DL53+DL87)+DL121","v":0.27},0.27,0.27,0.27,0.27,0.27,0.27,0.27,0.27,0.27,0.27,0.27]
[null,"Cheshire",96.3,96.3,96.3,144.9,144.9,144.9,144.9,192.6,192.6,192.6,192.6,257.31,257.31,257.31,257.31,257.31,257.31,257.31,257.31,257.31,257.31,257.31,257.31,257.31,257.31,321.51,321.51,321.51,321.51,321.51,514.11,514.11,514.11,514.11,514.11,514.11,514.11,514.11,514.11,514.11,514.11,514.11,514.11,514.11,514.11,514.11,514.11,514.11,514.11,514.11,514.11,488.43000000000006,488.43000000000006,488.43000000000006,488.43000000000006,488.43000000000006,488.43000000000006,488.43000000000006,488.43000000000006,488.43000000000006,{"$f":"0.9*(BK54+BK88)+BK122","v":488.43000000000006},488.43000000000006,488.43000000000006,488.43000000000006,488.43000000000006,488.43000000000006,488.43000000000006,488.43000000000006,488.43000000000006,488.43000000000006,488.43000000000006,488.43000000000006,488.43000000000006,488.43000000000006,488.43000000000006,488.43000000000006,488.43000000000006,488.43000000000006,488.43000000000006,488.43000000000006,488.43000000000006,488.43000000000006,488.43000000000006,488.43000000000006,488.43000000000006,488.43000000000006,488.43000000000006,488.43000000000006,488.43000000000006,488.43000000000006,488.43000000000006,488.43000000000006,488.43000000000006,488.43000000000006,488.43000000000006,488.43000000000006,488.43000000000006,488.43000000000006,488.43000000000006,488.43000000000006,488.43000000000006,488.43000000000006,488.43000000000006,488.43000000000006,488.43000000000006,488.43000000000006,488.43000000000006,488.43000000000006,488.43000000000006,488.43000000000006,488.43000000000006,488.43000000000006,488.43000000000006,{"$f":"0.9*(DL54+DL88)+DL122","v":488.43000000000006},488.43000000000006,488.43000000000006,488.43000000000006,488.43000000000006,488.43000000000006,488.43000000000006,488.43000000000006,488.43000000000006,488.43000000000006,488.43000000000006,488.43000000000006]
[null,"Hole House Farm",23.400000000000002,23.400000000000002,23.400000000000002,23.400000000000002,23.400000000000002,23.400000000000002,23.400000000000002,23.400000000000002,23.400000000000002,23.400000000000002,23.400000000000002,118.44,118.44,118.44,118.44,118.44,{"$f":"0.9*(S55+S89)+S123","v":118.44},118.44,118.44,118.44,118.44,118.44,118.44,118.44,118.44,118.44,118.44,118.44,118.44,283.44,283.44,283.44,283.44,283.44,283.44,283.44,283.44,283.44,283.44,283.44,283.44,283.44,283.44,283.44,283.44,283.44,283.44,283.44,283.44,266.94000000000005,266.94000000000005,266.94000000000005,266.94000000000005,266.94000000000005,266.94000000000005,266.94000000000005,266.94000000000005,266.94000000000005,266.94000000000005,266.94000000000005,266.94000000000005,266.94000000000005,266.94000000000005,266.94000000000005,266.94000000000005,266.94000000000005,266.94000000000005,266.94000000000005,266.94000000000005,266.94000000000005,266.94000000000005,266.94000000000005,266.94000000000005,266.94000000000005,266.94000000000005,266.94000000000005,266.94000000000005,266.94000000000005,266.94000000000005,266.94000000000005,266.94000000000005,266.94000000000005,266.94000000000005,266.94000000000005,266.94000000000005,266.94000000000005,266.94000000000005,266.94000000000005,266.94000000000005,266.94000000000005,266.94000000000005,266.94000000000005,266.94000000000005,266.94000000000005,266.94000000000005,266.94000000000005,266.94000000000005,266.94000000000005,266.94000000000005,266.94000000000005,266.94000000000005,266.94000000000005,266.94000000000005,266.94000000000005,266.94000000000005,266.94000000000005,266.94000000000005,266.94000000000005,266.94000000000005,266.94000000000005,266.94000000000005,266.94000000000005,266.94000000000005,{"$f":"0.9*(DL55+DL89)+DL123","v":266.94000000000005},266.94000000000005,266.94000000000005,266.94000000000005,266.94000000000005,266.94000000000005,266.94000000000005,266.94000000000005,266.94000000000005,266.94000000000005,266.94000000000005,266.94000000000005]
[null,"Wytch Farm",2.8800000000000003,2.8800000000000003,2.8800000000000003,2.8800000000000003,2.8800000000000003,2.8800000000000003,2.8800000000000003,2.8800000000000003,2.8800000000000003,2.8800000000000003,2.8800000000000003,2.9699999999999998,2.9699999999999998,2.9699999999999998,2.9699999999999998,2.9699999999999998,2.9699999999999998,2.9699999999999998,2.9699999999999998,2.9699999999999998,2.9699999999999998,2.9699999999999998,2.9699999999999998,2.9699999999999998,2.9699999999999998,2.9699999999999998,2.9699999999999998,2.9699999999999998,2.9699999999999998,2.9699999999999998,2.9699999999999998,2.9699999999999998,2.9699999999999998,2.9699999999999998,2.9699999999999998,2.9699999999999998,2.9699999999999998,2.9699999999999998,2.9699999999999998,2.9699999999999998,2.9699999999999998,2.9699999999999998,2.9699999999999998,2.9699999999999998,2.9699999999999998,2.9699999999999998,2.9699999999999998,2.9699999999999998,2.9699999999999998,2.9699999999999998,2.9699999999999998,2.9699999999999998,2.9699999999999998,2.9699999999999998,2.9699999999999998,2.9699999999999998,2.9699999999999998,2.9699999999999998,2.9699999999999998,2.9699999999999998,2.9699999999999998,2.9699999999999998,2.9699999999999998,2.9699999999999998,2.9699999999999998,2.9699999999999998,2.9699999999999998,2.9699999999999998,2.9699999999999998,2.9699999999999998,2.9699999999999998,2.9699999999999998,2.9699999999999998,2.9699999999999998,2.9699999999999998,2.9699999999999998,2.9699999999999998,2.9699999999999998,2.9699999999999998,2.9699999999999998,2.9699999999999998,2.9699999999999998,2.9699999999999998,2.9699999999999998,2.9699999999999998,2.9699999999999998,2.9699999999999998,2.9699999999999998,2.9699999999999998,2.9699999999999998,2.9699999999999998,2.9699999999999998,2.9699999999999998,2.9699999999999998,2.9699999999999998,2.9699999999999998,2.9699999999999998,2.9699999999999998,2.9699999999999998,2.9699999999999998,2.9699999999999998,2.9699999999999998,2.9699999999999998,2.9699999999999998,2.9699999999999998,2.9699999999999998,2.9699999999999998,2.9699999999999998,2.9699999999999998,2.9699999999999998,2.9699999999999998,2.9699999999999998,2.9699999999999998,{"$f":"0.9*(DL56+DL90)+DL124","v":2.9699999999999998},2.9699999999999998,2.9699999999999998,2.9699999999999998,2.9699999999999998,2.9699999999999998,2.9699999999999998,2.9699999999999998,2.9699999999999998,2.9699999999999998,2.9699999999999998,2.9699999999999998]
[null,"Burton Point",{"$f":"0.9*(C57+C91)+C125","v":49.5},49.5,49.5,49.5,49.5,49.5,49.5,49.5,49.5,49.5,49.5,66.150000000000006,66.150000000000006,66.150000000000006,66.150000000000006,66.150000000000006,66.150000000000006,66.150000000000006,66.150000000000006,66.150000000000006,66.150000000000006,66.150000000000006,66.150000000000006,66.150000000000006,66.150000000000006,66.150000000000006,66.150000000000006,66.150000000000006,66.150000000000006,66.150000000000006,66.150000000000006,66.150000000000006,66.150000000000006,66.150000000000006,66.150000000000006,66.150000000000006,66.150000000000006,66.150000000000006,66.150000000000006,66.150000000000006,66.150000000000006,66.150000000000006,66.150000000000006,66.150000000000006,66.150000000000006,66.150000000000006,66.150000000000006,66.150000000000006,66.150000000000006,66.150000000000006,66.150000000000006,66.150000000000006,66.150000000000006,66.150000000000006,66.150000000000006,66.150000000000006,66.150000000000006,66.150000000000006,66.150000000000006,66.150000000000006,66.150000000000006,66.150000000000006,66.150000000000006,66.150000000000006,66.150000000000006,66.150000000000006,66.150000000000006,66.150000000000006,66.150000000000006,66.150000000000006,66.150000000000006,66.150000000000006,66.150000000000006,66.150000000000006,66.150000000000006,66.150000000000006,66.150000000000006,66.150000000000006,66.150000000000006,66.150000000000006,66.150000000000006,66.150000000000006,66.150000000000006,66.150000000000006,66.150000000000006,66.150000000000006,66.150000000000006,66.150000000000006,66.150000000000006,66.150000000000006,66.150000000000006,66.150000000000006,66.150000000000006,66.150000000000006,66.150000000000006,66.150000000000006,66.150000000000006,66.150000000000006,66.150000000000006,66.150000000000006,66.150000000000006,66.150000000000006,66.150000000000006,66.150000000000006,66.150000000000006,66.150000000000006,66.150000000000006,66.150000000000006,66.150000000000006,66.150000000000006,66.150000000000006,66.150000000000006,66.150000000000006,{"$f":"0.9*(DL57+DL91)+DL125","v":66.150000000000006},66.150000000000006,66.150000000000006,66.150000000000006,66.150000000000006,66.150000000000006,66.150000000000006,66.150000000000006,66.150000000000006,66.150000000000006,66.150000000000006,66.150000000000006]
[null,"Barton Stacey",0,0,0,0,0,0,0,90,90,90,90,164.34,164.34,164.34,164.34,164.34,164.34,164.34,164.34,164.34,164.34,164.34,164.34,164.34,164.34,164.34,164.34,164.34,164.34,164.34,164.34,155.34,155.34,155.34,155.34,155.34,155.34,155.34,155.34,155.34,155.34,155.34,155.34,155.34,155.34,155.34,155.34,155.34,155.34,155.34,155.34,155.34,155.34,155.34,155.34,155.34,155.34,155.34,155.34,155.34,155.34,155.34,155.34,155.34,155.34,155.34,155.34,155.34,155.34,155.34,155.34,155.34,155.34,155.34,155.34,155.34,155.34,155.34,155.34,155.34,155.34,155.34,155.34,155.34,155.34,155.34,155.34,155.34,155.34,155.34,155.34,155.34,155.34,155.34,155.34,155.34,155.34,155.34,155.34,155.34,155.34,155.34,155.34,155.34,155.34,155.34,155.34,155.34,155.34,155.34,155.34,155.34,155.34,{"$f":"0.9*(DL58+DL92)+DL126","v":155.34},155.34,155.34,155.34,155.34,155.34,155.34,155.34,155.34,155.34,155.34,155.34]
[null,"Garton",0,0,0,0,0,0,0,0,0,420,420,420,420,420,420,420,420,420,420,420,420,420,420,420,420,420,420,420,420,420,420,378,378,378,378,378,378,378,378,378,378,378,378,378,378,378,378,378,378,378,378,378,378,378,378,378,378,378,378,378,378,378,378,378,378,378,378,378,378,378,378,378,378,378,378,378,378,378,378,378,378,378,378,378,378,378,{"$f":"0.9*(CK59+CK93)+CK127","v":378},378,378,378,378,378,378,378,378,378,378,378,378,378,378,378,378,378,378,378,378,378,378,378,378,378,378,{"$f":"0.9*(DL59+DL93)+DL127","v":378},378,378,378,378,378,378,378,378,378,378,378]
[null,"Milford Haven",0,0,0,0,0,0,0,0,0,0,0,0,0,650,650,650,650,650,950,950,950,950,950,950,950,950,950,950,950,950,950,950,950,950,950,950,950,950,950,950,950,950,950,950,950,950,950,950,950,950,950,855,855,855,855,855,855,855,855,855,855,855,855,{"$f":"0.9*(BN60+BN94)+BN128","v":855},855,855,855,855,855,855,855,855,855,855,855,855,855,855,855,855,855,855,855,855,855,855,855,855,855,855,855,855,855,855,855,855,855,855,855,855,855,855,855,855,855,855,855,855,855,855,855,855,855,{"$f":"0.9*(DL60+DL94)+DL128","v":855},855,855,855,855,855,855,855,855,855,855,855]
[null,"Fleetwood",{"$f":"0.9*(C61+C95)+C129","v":0},0,0,0,0,0,0,0,0,0,0,0,0,0,0,0,0,0,0,0,0,0,0,0,0,650,650,650,650,650,650,650,650,650,650,650,650,650,650,650,650,650,650,650,650,650,650,650,650,650,650,585,585,585,315,315,315,315,315,315,315,315,315,315,315,315,315,315,315,315,315,315,315,315,315,315,315,315,315,315,315,315,315,315,315,315,315,315,315,315,315,315,315,315,315,315,315,315,315,315,315,315,315,315,315,315,315,315,315,315,315,315,315,{"$f":"0.9*(DL61+DL95)+DL129","v":315},315,315,315,315,315,315,315,315,315,315,315]
[null,"Caythorpe",0,0,0,0,0,0,0,0,0,0,0,0,0,0,0,0,0,0,0,0,0,0,0,0,0,0,0,0,0,90,90,90,90,90,90,90,90,90,90,90,90,90,90,90,90,90,90,90,90,81,81,81,81,81,81,81,81,81,81,81,81,81,81,81,81,81,81,81,81,81,81,81,81,81,81,81,81,81,81,81,81,81,81,81,81,81,81,81,81,81,81,81,81,81,81,81,81,81,81,81,81,81,81,81,81,81,81,81,81,81,81,81,81,{"$f":"0.9*(DL62+DL96)+DL130","v":81},81,81,81,81,81,81,81,81,81,81,81]
[null,"Canonbie",0,0,0,0,0,0,0,0,0,0,0,0,0,0,0,0,0,0,0,0,0,0,0,0,0,0,0,0,0,0,0,0,0,0,0,0,0,0,0,0,0,0,0,0,0,0,0,0,0,0,0,0,0,0,0,0,0,0,0,0,0,0,0,0,0,0,0,0,0,0,0,0,0,0,0,0,0,0,0,0,0,0,0,0,0,0,0,0,0,0,0,0,0,0,0,0,0,0,0,0,0,0,0,0,0,0,0,0,0,0,0,0,0,{"$f":"0.9*(DL63+DL97)+DL131","v":0},0,0,0,0,0,0,0,0,0,0,0]
[null,"Murrow",null,null,null,null,null,null,null,null,null,null,null,null,null,null,null,null,null,null,null,null,null,null,null,null,null,null,null,null,null,null,null,null,null,null,null,null,null,null,null,null,null,null,null,null,null,null,null,null,null,null,null,null,null,null,null,null,null,null,null,0,0,0,0,0,0,0,0,0,0,0,0,0,0,0,0,0,0,0,0,0,0,0,0,0,0,0,0,0,0,0,0,0,0,0,0,0,0,0,0,0,0,0,0,0,0,0,0,0,0,0,0,0,0,0,0,0,0,0,0,0,0,0,0,0,0]